{"text_format":"1","workbook":"xlsx","n_sheets":3,"sheets":["DATAENTRY","SCORES","DROPDOWNS"],"not_rendered":{"charts":0,"images":3,"macros":1,"external_links":0,"defined_names":18,"comments":2,"pivot_tables":0},"unopened":[],"bounds":{"document_bytes":16777216,"sheet_cells":100000,"rows_first":2000,"rows_last":500,"rows_between":2000,"halvings":0,"cell_chars":16384,"cell_head_chars":4096},"cells_cut":0,"cells_raw":0,"read":"whole","date_system":"1900"}

{"sheet":"DATAENTRY","index":0,"n_rows":321,"n_cols":62,"rows_kept":321,"cut":false,"hidden":false,"merged":[[14,2,14,5],[15,2,15,9],[4,2,4,3],[6,6,6,7],[5,2,5,4],[7,2,7,4],[8,2,8,3],[6,2,6,4],[13,2,13,5]]}
[]
[]
[]
[]
[null,"ACU PERMIT # :","55150"]
[null,"ROUND TYPE :","Novice Beginners",null,null,null,null,null,null,null,null,null,null,null,null,null,null,null,null,null,null,null,null,null,null,null,null,null,null,null,null,null,null,null,null,null,null,null,null,null,null,null,null,null,null,null,null,null,null,null,"Instant Stats"]
[null,"NAME:","Manywells Winter Series",null,null,"RD:","RD 4"]
[null,"VENUE:","Rough Holden Farm Silsden",null,null,null,null,null,null,null,null,null,null,null,null,null,null,null,null,null,null,null,null,null,null,null,null,null,null,null,null,null,null,null,null,null,null,null,null,null,null,null,null,null,null,null,null,null,null,null,"0's","1's","2's","3's","5's","Mis"]
[null,"DATE:","2019-03-02",null,null,null,null,null,null,null,null,null,null,null,null,null,null,null,null,null,null,null,null,null,null,null,null,null,null,null,null,null,null,null,null,null,null,null,null,null,null,null,null,null,null,null,null,null,null,null,{"$f":"SUM(AZ22:AZ321)","v":944},224,101,159,204,0]
[null,"NO OF SECTIONS:",8,null,null,null,null,null,null,null,null,null,null,null,null,null,null,null,null,null,null,null,null,null,null,null,null,null,null,null,null,null,null,null,null,null,null,null,null,null,null,null,null,null,null,null,null,null,null,null,{"$f":"AY9/AY13","v":0.57843137254901966},{"$f":"AZ9/AY13","v":0.13725490196078433},{"$f":"BA9/AY13","v":6.1887254901960786E-2},{"$f":"BB9/AY13","v":9.7426470588235295E-2},{"$f":"BC9/AY13","v":0.125},{"$f":"BD9/AY13","v":0}]
[null,"NO OF LAPS :",4,null,null,null,null,null,null,null,null,null,null,null,null,null,null,null,null,null,null,null,null,null,null,null,null,null,null,null,null,null,null,null,null,null,null,null,null,null,null,null,null,null,null,null,null,null,null,null,"Entry Checksum"]
[null,"NO OF ENTRYS:",51]
[null,"MISSING SEC:",5,null,null,null,null,null,null,null,null,null,null,null,null,null,null,null,null,null,null,null,null,null,null,null,null,null,null,null,null,null,null,null,null,null,null,null,null,null,null,null,null,null,null,null,null,null,null,null,{"$f":"C10*C11*C12","v":1632},null,null,{"$f":"AY9+AZ9+BA9+BB9+BC9+BD9","v":1632}]
[null,"SEC:","Carina Carter"]
[null,"COC:","Jason Dunning (145307)"]
[null,"MSG:"]
[]
[]
[]
[]
[null,null,"CL POS","POS","NAME","NO","CB","CR","CL","BK","S1","S2","S3","S4","S5","S6","S7","S8","S9","S10","S11","S12","S13","S14","S15","S16","S17","S18","S19","S20","S21","S22","S23","S24","S25","S26","S27","S28","S29","S30","S31","S32","S33","S34","S35","S36","S37","S38","S39","S40","TOT",0,1,2,3,5,"M","% CMP","PTS"]
[null,null,1,1,"DAVID PETTY",74,"BD","HARD","NOV","BETA","0000","0000","0000","0000","0000","0000","0000","0000",null,null,null,null,null,null,null,null,null,null,null,null,null,null,null,null,null,null,null,null,null,null,null,null,null,null,null,null,null,null,null,null,{"$f":"BA22*1+BB22*2+BC22*3+BD22*5+BE22*$N$10","v":0},{"$f":"LEN(BH22)-LEN(SUBSTITUTE(BH22,\"0\",\"\"))","v":32},{"$f":"LEN(BH22)-LEN(SUBSTITUTE(BH22,\"1\",\"\"))","v":0},{"$f":"LEN(BH22)-LEN(SUBSTITUTE(BH22,\"2\",\"\"))","v":0},{"$f":"LEN(BH22)-LEN(SUBSTITUTE(BH22,\"3\",\"\"))","v":0},{"$f":"LEN(BH22)-LEN(SUBSTITUTE(BH22,\"5\",\"\"))","v":0},{"$f":"LEN(BH22)-LEN(SUBSTITUTE(BH22,\"*\",\"\"))","v":0},{"$f":"BJ22/BI22","v":1},20,{"$f":"CONCATENATE(K22,L22,M22,N22,O22,P22,Q22,R22,S22,T22,U22,V22,W22,X22,Y22,Z22,AA22,AB22,AC22,AD22,AE22,AF22,AG22,AH22,AI22,AJ22,AK22,AL22,AM22,AN22,AO22,AP22,AQ22,AR22,AS22,AT22,AU22,AV22,AW22,AX22)","v":"00000000000000000000000000000000"},{"$f":"$C$11*$C$10","v":32},{"$f":"AZ22+BA22+BB22+BC22+BD22","v":32}]
[null,null,2,2,"CHRIS JONES",41,"BD","HARD","NOV","SHERCO","0000","0000","0000","0000","0000","0000","0000","0100",null,null,null,null,null,null,null,null,null,null,null,null,null,null,null,null,null,null,null,null,null,null,null,null,null,null,null,null,null,null,null,null,{"$f":"BA23*1+BB23*2+BC23*3+BD23*5+BE23*$C$13","v":1},{"$f":"LEN(BH23)-LEN(SUBSTITUTE(BH23,\"0\",\"\"))","v":31},{"$f":"LEN(BH23)-LEN(SUBSTITUTE(BH23,\"1\",\"\"))","v":1},{"$f":"LEN(BH23)-LEN(SUBSTITUTE(BH23,\"2\",\"\"))","v":0},{"$f":"LEN(BH23)-LEN(SUBSTITUTE(BH23,\"3\",\"\"))","v":0},{"$f":"LEN(BH23)-LEN(SUBSTITUTE(BH23,\"5\",\"\"))","v":0},{"$f":"LEN(BH23)-LEN(SUBSTITUTE(BH23,\"*\",\"\"))","v":0},{"$f":"BJ23/BI23","v":1},17,"00000000000000000000000000000100",32,32]
[null,null,3,3,"TOM PEACOCK",75,"BD","HARD","NOV","BETA","0000","0021","0000","0000","0000","0000","0000","0000",null,null,null,null,null,null,null,null,null,null,null,null,null,null,null,null,null,null,null,null,null,null,null,null,null,null,null,null,null,null,null,null,{"$f":"BA24*1+BB24*2+BC24*3+BD24*5+BE24*$C$13","v":3},{"$f":"LEN(BH24)-LEN(SUBSTITUTE(BH24,\"0\",\"\"))","v":30},{"$f":"LEN(BH24)-LEN(SUBSTITUTE(BH24,\"1\",\"\"))","v":1},{"$f":"LEN(BH24)-LEN(SUBSTITUTE(BH24,\"2\",\"\"))","v":1},{"$f":"LEN(BH24)-LEN(SUBSTITUTE(BH24,\"3\",\"\"))","v":0},{"$f":"LEN(BH24)-LEN(SUBSTITUTE(BH24,\"5\",\"\"))","v":0},{"$f":"LEN(BH24)-LEN(SUBSTITUTE(BH24,\"*\",\"\"))","v":0},{"$f":"BJ24/BI24","v":1},15,"00000021000000000000000000000000",32,32]
[null,null,4,4,"ROBIN LUSCOMBE",70,"BD","HARD","NOV","TRIUMPH","0000","0100","0000","0000","1010","1000","0000","0100",null,null,null,null,null,null,null,null,null,null,null,null,null,null,null,null,null,null,null,null,null,null,null,null,null,null,null,null,null,null,null,null,{"$f":"BA25*1+BB25*2+BC25*3+BD25*5+BE25*$C$13","v":5},{"$f":"LEN(BH25)-LEN(SUBSTITUTE(BH25,\"0\",\"\"))","v":27},{"$f":"LEN(BH25)-LEN(SUBSTITUTE(BH25,\"1\",\"\"))","v":5},{"$f":"LEN(BH25)-LEN(SUBSTITUTE(BH25,\"2\",\"\"))","v":0},{"$f":"LEN(BH25)-LEN(SUBSTITUTE(BH25,\"3\",\"\"))","v":0},{"$f":"LEN(BH25)-LEN(SUBSTITUTE(BH25,\"5\",\"\"))","v":0},{"$f":"LEN(BH25)-LEN(SUBSTITUTE(BH25,\"*\",\"\"))","v":0},{"$f":"BJ25/BI25","v":1},13,"00000100000000001010100000000100",32,32]
[null,null,5,5,"BETHANIE DUNNING",46,"BD","HARD","NOV","BETA","0000","0001","0000","1000","0001","1110","0001","1000",null,null,null,null,null,null,null,null,null,null,null,null,null,null,null,null,null,null,null,null,null,null,null,null,null,null,null,null,null,null,null,null,{"$f":"BA26*1+BB26*2+BC26*3+BD26*5+BE26*$C$13","v":8},{"$f":"LEN(BH26)-LEN(SUBSTITUTE(BH26,\"0\",\"\"))","v":24},{"$f":"LEN(BH26)-LEN(SUBSTITUTE(BH26,\"1\",\"\"))","v":8},{"$f":"LEN(BH26)-LEN(SUBSTITUTE(BH26,\"2\",\"\"))","v":0},{"$f":"LEN(BH26)-LEN(SUBSTITUTE(BH26,\"3\",\"\"))","v":0},{"$f":"LEN(BH26)-LEN(SUBSTITUTE(BH26,\"5\",\"\"))","v":0},{"$f":"LEN(BH26)-LEN(SUBSTITUTE(BH26,\"*\",\"\"))","v":0},{"$f":"BJ26/BI26","v":1},11,"00000001000010000001111000011000",32,32]
[null,null,6,6,"DAVE LAMIN",42,"BD","HARD","NOV",null,"0000","2011","0000","0000","1012","0000","0000","0010",null,null,null,null,null,null,null,null,null,null,null,null,null,null,null,null,null,null,null,null,null,null,null,null,null,null,null,null,null,null,null,null,{"$f":"BA27*1+BB27*2+BC27*3+BD27*5+BE27*$C$13","v":9},{"$f":"LEN(BH27)-LEN(SUBSTITUTE(BH27,\"0\",\"\"))","v":25},{"$f":"LEN(BH27)-LEN(SUBSTITUTE(BH27,\"1\",\"\"))","v":5},{"$f":"LEN(BH27)-LEN(SUBSTITUTE(BH27,\"2\",\"\"))","v":2},{"$f":"LEN(BH27)-LEN(SUBSTITUTE(BH27,\"3\",\"\"))","v":0},{"$f":"LEN(BH27)-LEN(SUBSTITUTE(BH27,\"5\",\"\"))","v":0},{"$f":"LEN(BH27)-LEN(SUBSTITUTE(BH27,\"*\",\"\"))","v":0},{"$f":"BJ27/BI27","v":1},10,"00002011000000001012000000000010",32,32]
[null,null,7,7,"STEPHEN WILDE",49,"BD","HARD","NOV","MONT","0000","3102","0001","0100","0500","0110","0000","1001",null,null,null,null,null,null,null,null,null,null,null,null,null,null,null,null,null,null,null,null,null,null,null,null,null,null,null,null,null,null,null,null,{"$f":"BA28*1+BB28*2+BC28*3+BD28*5+BE28*$C$13","v":17},{"$f":"LEN(BH28)-LEN(SUBSTITUTE(BH28,\"0\",\"\"))","v":22},{"$f":"LEN(BH28)-LEN(SUBSTITUTE(BH28,\"1\",\"\"))","v":7},{"$f":"LEN(BH28)-LEN(SUBSTITUTE(BH28,\"2\",\"\"))","v":1},{"$f":"LEN(BH28)-LEN(SUBSTITUTE(BH28,\"3\",\"\"))","v":1},{"$f":"LEN(BH28)-LEN(SUBSTITUTE(BH28,\"5\",\"\"))","v":1},{"$f":"LEN(BH28)-LEN(SUBSTITUTE(BH28,\"*\",\"\"))","v":0},{"$f":"BJ28/BI28","v":1},9,"00003102000101000500011000001001",32,32]
[null,null,1,8,"OLIVER WINSTANLEY",45,"BD","HARD","A","BETA","0000","0001","0050","0300","0130","1101","0000","2100",null,null,null,null,null,null,null,null,null,null,null,null,null,null,null,null,null,null,null,null,null,null,null,null,null,null,null,null,null,null,null,null,{"$f":"BA29*1+BB29*2+BC29*3+BD29*5+BE29*$C$13","v":19},{"$f":"LEN(BH29)-LEN(SUBSTITUTE(BH29,\"0\",\"\"))","v":22},{"$f":"LEN(BH29)-LEN(SUBSTITUTE(BH29,\"1\",\"\"))","v":6},{"$f":"LEN(BH29)-LEN(SUBSTITUTE(BH29,\"2\",\"\"))","v":1},{"$f":"LEN(BH29)-LEN(SUBSTITUTE(BH29,\"3\",\"\"))","v":2},{"$f":"LEN(BH29)-LEN(SUBSTITUTE(BH29,\"5\",\"\"))","v":1},{"$f":"LEN(BH29)-LEN(SUBSTITUTE(BH29,\"*\",\"\"))","v":0},{"$f":"BJ29/BI29","v":1},20,"00000001005003000130110100002100",32,32]
[null,null,8,9,"NICK EAGLETON",13,"BD","HARD","NOV","YAM","0555","0000","0000","0000","0000","0000","0000","2012",null,null,null,null,null,null,null,null,null,null,null,null,null,null,null,null,null,null,null,null,null,null,null,null,null,null,null,null,null,null,null,null,{"$f":"BA30*1+BB30*2+BC30*3+BD30*5+BE30*$C$13","v":20},{"$f":"LEN(BH30)-LEN(SUBSTITUTE(BH30,\"0\",\"\"))","v":26},{"$f":"LEN(BH30)-LEN(SUBSTITUTE(BH30,\"1\",\"\"))","v":1},{"$f":"LEN(BH30)-LEN(SUBSTITUTE(BH30,\"2\",\"\"))","v":2},{"$f":"LEN(BH30)-LEN(SUBSTITUTE(BH30,\"3\",\"\"))","v":0},{"$f":"LEN(BH30)-LEN(SUBSTITUTE(BH30,\"5\",\"\"))","v":3},{"$f":"LEN(BH30)-LEN(SUBSTITUTE(BH30,\"*\",\"\"))","v":0},{"$f":"BJ30/BI30","v":1},8,"05550000000000000000000000002012",32,32]
[null,null,2,10,"ETHAN CHAPMAN",50,"BD","HARD","A","SCORPA","0000","1011","5000","2122","2010","0000","0000","0101",null,null,null,null,null,null,null,null,null,null,null,null,null,null,null,null,null,null,null,null,null,null,null,null,null,null,null,null,null,null,null,null,{"$f":"BA31*1+BB31*2+BC31*3+BD31*5+BE31*$C$13","v":20},{"$f":"LEN(BH31)-LEN(SUBSTITUTE(BH31,\"0\",\"\"))","v":20},{"$f":"LEN(BH31)-LEN(SUBSTITUTE(BH31,\"1\",\"\"))","v":7},{"$f":"LEN(BH31)-LEN(SUBSTITUTE(BH31,\"2\",\"\"))","v":4},{"$f":"LEN(BH31)-LEN(SUBSTITUTE(BH31,\"3\",\"\"))","v":0},{"$f":"LEN(BH31)-LEN(SUBSTITUTE(BH31,\"5\",\"\"))","v":1},{"$f":"LEN(BH31)-LEN(SUBSTITUTE(BH31,\"*\",\"\"))","v":0},{"$f":"BJ31/BI31","v":1},17,"00001011500021222010000000000101",32,32]
[null,null,9,11,"JAMES SMITH",43,"BD","HARD","NOV","BETA","0000","0031","5000","0000","1101","0510","0500","1010",null,null,null,null,null,null,null,null,null,null,null,null,null,null,null,null,null,null,null,null,null,null,null,null,null,null,null,null,null,null,null,null,{"$f":"BA32*1+BB32*2+BC32*3+BD32*5+BE32*$N$10","v":25},{"$f":"LEN(BH32)-LEN(SUBSTITUTE(BH32,\"0\",\"\"))","v":21},{"$f":"LEN(BH32)-LEN(SUBSTITUTE(BH32,\"1\",\"\"))","v":7},{"$f":"LEN(BH32)-LEN(SUBSTITUTE(BH32,\"2\",\"\"))","v":0},{"$f":"LEN(BH32)-LEN(SUBSTITUTE(BH32,\"3\",\"\"))","v":1},{"$f":"LEN(BH32)-LEN(SUBSTITUTE(BH32,\"5\",\"\"))","v":3},{"$f":"LEN(BH32)-LEN(SUBSTITUTE(BH32,\"*\",\"\"))","v":0},{"$f":"BJ32/BI32","v":1},7,"00000031500000001101051005001010",32,32]
[null,null,1,12,"MASON CARTER",51,"BD","HARD","B","BETA","0000","2210","0000","1110","0153","0000","0320","2130",null,null,null,null,null,null,null,null,null,null,null,null,null,null,null,null,null,null,null,null,null,null,null,null,null,null,null,null,null,null,null,null,{"$f":"BA33*1+BB33*2+BC33*3+BD33*5+BE33*$C$13","v":28},{"$f":"LEN(BH33)-LEN(SUBSTITUTE(BH33,\"0\",\"\"))","v":18},{"$f":"LEN(BH33)-LEN(SUBSTITUTE(BH33,\"1\",\"\"))","v":6},{"$f":"LEN(BH33)-LEN(SUBSTITUTE(BH33,\"2\",\"\"))","v":4},{"$f":"LEN(BH33)-LEN(SUBSTITUTE(BH33,\"3\",\"\"))","v":3},{"$f":"LEN(BH33)-LEN(SUBSTITUTE(BH33,\"5\",\"\"))","v":1},{"$f":"LEN(BH33)-LEN(SUBSTITUTE(BH33,\"*\",\"\"))","v":0},{"$f":"BJ33/BI33","v":1},20,"00002210000011100153000003202130",32,32]
[null,null,10,13,"NICK HAMMERTON",44,"BD","HARD","NOV","HONDA","0000","0352","0100","2110","0015","0050","0021","3011",null,null,null,null,null,null,null,null,null,null,null,null,null,null,null,null,null,null,null,null,null,null,null,null,null,null,null,null,null,null,null,null,{"$f":"BA34*1+BB34*2+BC34*3+BD34*5+BE34*$C$13","v":34},{"$f":"LEN(BH34)-LEN(SUBSTITUTE(BH34,\"0\",\"\"))","v":17},{"$f":"LEN(BH34)-LEN(SUBSTITUTE(BH34,\"1\",\"\"))","v":7},{"$f":"LEN(BH34)-LEN(SUBSTITUTE(BH34,\"2\",\"\"))","v":3},{"$f":"LEN(BH34)-LEN(SUBSTITUTE(BH34,\"3\",\"\"))","v":2},{"$f":"LEN(BH34)-LEN(SUBSTITUTE(BH34,\"5\",\"\"))","v":3},{"$f":"LEN(BH34)-LEN(SUBSTITUTE(BH34,\"*\",\"\"))","v":0},{"$f":"BJ34/BI34","v":1},6,"00000352010021100015005000213011",32,32]
[null,null,11,14,"ROB MURGATROYD",72,"BD","HARD","NOV","BETA","0000","1000","1022","2122","1111","1510","0050","3222",null,null,null,null,null,null,null,null,null,null,null,null,null,null,null,null,null,null,null,null,null,null,null,null,null,null,null,null,null,null,null,null,{"$f":"BA35*1+BB35*2+BC35*3+BD35*5+BE35*$C$13","v":38},{"$f":"LEN(BH35)-LEN(SUBSTITUTE(BH35,\"0\",\"\"))","v":12},{"$f":"LEN(BH35)-LEN(SUBSTITUTE(BH35,\"1\",\"\"))","v":9},{"$f":"LEN(BH35)-LEN(SUBSTITUTE(BH35,\"2\",\"\"))","v":8},{"$f":"LEN(BH35)-LEN(SUBSTITUTE(BH35,\"3\",\"\"))","v":1},{"$f":"LEN(BH35)-LEN(SUBSTITUTE(BH35,\"5\",\"\"))","v":2},{"$f":"LEN(BH35)-LEN(SUBSTITUTE(BH35,\"*\",\"\"))","v":0},{"$f":"BJ35/BI35","v":1},5,"00001000102221221111151000503222",32,32]
[null,null,12,15,"PETE HOLLINGWORTH",12,"BD","HARD","NOV","BETA","1000","0012","0000","3111","5503","5350","0000","2111",null,null,null,null,null,null,null,null,null,null,null,null,null,null,null,null,null,null,null,null,null,null,null,null,null,null,null,null,null,null,null,null,{"$f":"BA36*1+BB36*2+BC36*3+BD36*5+BE36*$C$13","v":41},{"$f":"LEN(BH36)-LEN(SUBSTITUTE(BH36,\"0\",\"\"))","v":15},{"$f":"LEN(BH36)-LEN(SUBSTITUTE(BH36,\"1\",\"\"))","v":8},{"$f":"LEN(BH36)-LEN(SUBSTITUTE(BH36,\"2\",\"\"))","v":2},{"$f":"LEN(BH36)-LEN(SUBSTITUTE(BH36,\"3\",\"\"))","v":3},{"$f":"LEN(BH36)-LEN(SUBSTITUTE(BH36,\"5\",\"\"))","v":4},{"$f":"LEN(BH36)-LEN(SUBSTITUTE(BH36,\"*\",\"\"))","v":0},{"$f":"BJ36/BI36","v":1},4,"10000012000031115503535000002111",32,32]
[null,null,13,16,"IAN BARRETT",48,"BD","HARD","NOV","SHER","0000","3310","0000","1023","5132","2511","1122","3311",null,null,null,null,null,null,null,null,null,null,null,null,null,null,null,null,null,null,null,null,null,null,null,null,null,null,null,null,null,null,null,null,{"$f":"BA37*1+BB37*2+BC37*3+BD37*5+BE37*$C$13","v":47},{"$f":"LEN(BH37)-LEN(SUBSTITUTE(BH37,\"0\",\"\"))","v":10},{"$f":"LEN(BH37)-LEN(SUBSTITUTE(BH37,\"1\",\"\"))","v":9},{"$f":"LEN(BH37)-LEN(SUBSTITUTE(BH37,\"2\",\"\"))","v":5},{"$f":"LEN(BH37)-LEN(SUBSTITUTE(BH37,\"3\",\"\"))","v":6},{"$f":"LEN(BH37)-LEN(SUBSTITUTE(BH37,\"5\",\"\"))","v":2},{"$f":"LEN(BH37)-LEN(SUBSTITUTE(BH37,\"*\",\"\"))","v":0},{"$f":"BJ37/BI37","v":1},3,"00003310000010235132251111223311",32,32]
[null,null,14,17,"HARRY WHITEOAK",71,"BD","HARD","NOV","GAS","0010","3223","0250","2132","3332","0300","3110","3322",null,null,null,null,null,null,null,null,null,null,null,null,null,null,null,null,null,null,null,null,null,null,null,null,null,null,null,null,null,null,null,null,{"$f":"BA38*1+BB38*2+BC38*3+BD38*5+BE38*$C$13","v":55},{"$f":"LEN(BH38)-LEN(SUBSTITUTE(BH38,\"0\",\"\"))","v":9},{"$f":"LEN(BH38)-LEN(SUBSTITUTE(BH38,\"1\",\"\"))","v":4},{"$f":"LEN(BH38)-LEN(SUBSTITUTE(BH38,\"2\",\"\"))","v":8},{"$f":"LEN(BH38)-LEN(SUBSTITUTE(BH38,\"3\",\"\"))","v":10},{"$f":"LEN(BH38)-LEN(SUBSTITUTE(BH38,\"5\",\"\"))","v":1},{"$f":"LEN(BH38)-LEN(SUBSTITUTE(BH38,\"*\",\"\"))","v":0},{"$f":"BJ38/BI38","v":1},2,"00103223025021323332030031103322",32,32]
[null,null,15,18,"GARY RUSHTON",47,"BD","HARD","NOV","VERT","0000","5531","0152","5121","0330","0211","2100","3333",null,null,null,null,null,null,null,null,null,null,null,null,null,null,null,null,null,null,null,null,null,null,null,null,null,null,null,null,null,null,null,null,{"$f":"BA39*1+BB39*2+BC39*3+BD39*5+BE39*$C$13","v":56},{"$f":"LEN(BH39)-LEN(SUBSTITUTE(BH39,\"0\",\"\"))","v":10},{"$f":"LEN(BH39)-LEN(SUBSTITUTE(BH39,\"1\",\"\"))","v":7},{"$f":"LEN(BH39)-LEN(SUBSTITUTE(BH39,\"2\",\"\"))","v":4},{"$f":"LEN(BH39)-LEN(SUBSTITUTE(BH39,\"3\",\"\"))","v":7},{"$f":"LEN(BH39)-LEN(SUBSTITUTE(BH39,\"5\",\"\"))","v":4},{"$f":"LEN(BH39)-LEN(SUBSTITUTE(BH39,\"*\",\"\"))","v":0},{"$f":"BJ39/BI39","v":1},1,"00005531015251210330021121003333",32,32]
[null,null,16,19,"LUCY AYRTON",73,"BD","HARD","NOV","TRS","0000","2310","1111","5330","3500","5331","2220","3313",null,null,null,null,null,null,null,null,null,null,null,null,null,null,null,null,null,null,null,null,null,null,null,null,null,null,null,null,null,null,null,null,{"$f":"BA40*1+BB40*2+BC40*3+BD40*5+BE40*$N$10","v":57},{"$f":"LEN(BH40)-LEN(SUBSTITUTE(BH40,\"0\",\"\"))","v":9},{"$f":"LEN(BH40)-LEN(SUBSTITUTE(BH40,\"1\",\"\"))","v":7},{"$f":"LEN(BH40)-LEN(SUBSTITUTE(BH40,\"2\",\"\"))","v":4},{"$f":"LEN(BH40)-LEN(SUBSTITUTE(BH40,\"3\",\"\"))","v":9},{"$f":"LEN(BH40)-LEN(SUBSTITUTE(BH40,\"5\",\"\"))","v":3},{"$f":"LEN(BH40)-LEN(SUBSTITUTE(BH40,\"*\",\"\"))","v":0},{"$f":"BJ40/BI40","v":1},0,"00002310111153303500533122203313",32,32]
[null,null,17,20,"ANDY COBB",39,"BD","HARD","NOV","MONT","5000","3333","0010","2323","3131","1131","3320","3333",null,null,null,null,null,null,null,null,null,null,null,null,null,null,null,null,null,null,null,null,null,null,null,null,null,null,null,null,null,null,null,null,{"$f":"BA41*1+BB41*2+BC41*3+BD41*5+BE41*$C$13","v":62},{"$f":"LEN(BH41)-LEN(SUBSTITUTE(BH41,\"0\",\"\"))","v":7},{"$f":"LEN(BH41)-LEN(SUBSTITUTE(BH41,\"1\",\"\"))","v":6},{"$f":"LEN(BH41)-LEN(SUBSTITUTE(BH41,\"2\",\"\"))","v":3},{"$f":"LEN(BH41)-LEN(SUBSTITUTE(BH41,\"3\",\"\"))","v":15},{"$f":"LEN(BH41)-LEN(SUBSTITUTE(BH41,\"5\",\"\"))","v":1},{"$f":"LEN(BH41)-LEN(SUBSTITUTE(BH41,\"*\",\"\"))","v":0},{"$f":"BJ41/BI41","v":1},0,"50003333001023233131113133203333",32,32]
[null,null,18,21,"CHRIS HARSLEY",77,"BD","HARD","NOV","VERT","5000","5021","5510","5332","2301","2300","1115","2113",null,null,null,null,null,null,null,null,null,null,null,null,null,null,null,null,null,null,null,null,null,null,null,null,null,null,null,null,null,null,null,null,{"$f":"BA42*1+BB42*2+BC42*3+BD42*5+BE42*$C$13","v":63},{"$f":"LEN(BH42)-LEN(SUBSTITUTE(BH42,\"0\",\"\"))","v":8},{"$f":"LEN(BH42)-LEN(SUBSTITUTE(BH42,\"1\",\"\"))","v":8},{"$f":"LEN(BH42)-LEN(SUBSTITUTE(BH42,\"2\",\"\"))","v":5},{"$f":"LEN(BH42)-LEN(SUBSTITUTE(BH42,\"3\",\"\"))","v":5},{"$f":"LEN(BH42)-LEN(SUBSTITUTE(BH42,\"5\",\"\"))","v":6},{"$f":"LEN(BH42)-LEN(SUBSTITUTE(BH42,\"*\",\"\"))","v":0},{"$f":"BJ42/BI42","v":1},0,"50005021551053322301230011152113",32,32]
[null,null,19,22,"JACK BROADHEAD",76,"BD","HARD","NOV","BULT","0555","3555","5555","5555","5555","5555","5555","5555",null,null,null,null,null,null,null,null,null,null,null,null,null,null,null,null,null,null,null,null,null,null,null,null,null,null,null,null,null,null,null,null,{"$f":"BA43*1+BB43*2+BC43*3+BD43*5+BE43*$C$13","v":153},{"$f":"LEN(BH43)-LEN(SUBSTITUTE(BH43,\"0\",\"\"))","v":1},{"$f":"LEN(BH43)-LEN(SUBSTITUTE(BH43,\"1\",\"\"))","v":0},{"$f":"LEN(BH43)-LEN(SUBSTITUTE(BH43,\"2\",\"\"))","v":0},{"$f":"LEN(BH43)-LEN(SUBSTITUTE(BH43,\"3\",\"\"))","v":1},{"$f":"LEN(BH43)-LEN(SUBSTITUTE(BH43,\"5\",\"\"))","v":30},{"$f":"LEN(BH43)-LEN(SUBSTITUTE(BH43,\"*\",\"\"))","v":0},{"$f":"BJ43/BI43","v":1},0,"05553555555555555555555555555555",32,32]
[null,null,1,1,"SHAUN LIGHTFOOT",17,"BD","50/50","NOV","BETA","0000","0000","1100","3100","0000","0000","5051","3321",null,null,null,null,null,null,null,null,null,null,null,null,null,null,null,null,null,null,null,null,null,null,null,null,null,null,null,null,null,null,null,null,{"$f":"BA44*1+BB44*2+BC44*3+BD44*5+BE44*$C$13","v":26},{"$f":"LEN(BH44)-LEN(SUBSTITUTE(BH44,\"0\",\"\"))","v":21},{"$f":"LEN(BH44)-LEN(SUBSTITUTE(BH44,\"1\",\"\"))","v":5},{"$f":"LEN(BH44)-LEN(SUBSTITUTE(BH44,\"2\",\"\"))","v":1},{"$f":"LEN(BH44)-LEN(SUBSTITUTE(BH44,\"3\",\"\"))","v":3},{"$f":"LEN(BH44)-LEN(SUBSTITUTE(BH44,\"5\",\"\"))","v":2},{"$f":"LEN(BH44)-LEN(SUBSTITUTE(BH44,\"*\",\"\"))","v":0},{"$f":"BJ44/BI44","v":1},20,"00000000110031000000000050513321",32,32]
[null,null,2,2,"JOSH SNOWDEN",9,"BD","50/50","NOV","BETA","0000","0000","1050","0000","0055","0000","0000","3251",null,null,null,null,null,null,null,null,null,null,null,null,null,null,null,null,null,null,null,null,null,null,null,null,null,null,null,null,null,null,null,null,{"$f":"BA45*1+BB45*2+BC45*3+BD45*5+BE45*$C$13","v":27},{"$f":"LEN(BH45)-LEN(SUBSTITUTE(BH45,\"0\",\"\"))","v":24},{"$f":"LEN(BH45)-LEN(SUBSTITUTE(BH45,\"1\",\"\"))","v":2},{"$f":"LEN(BH45)-LEN(SUBSTITUTE(BH45,\"2\",\"\"))","v":1},{"$f":"LEN(BH45)-LEN(SUBSTITUTE(BH45,\"3\",\"\"))","v":1},{"$f":"LEN(BH45)-LEN(SUBSTITUTE(BH45,\"5\",\"\"))","v":4},{"$f":"LEN(BH45)-LEN(SUBSTITUTE(BH45,\"*\",\"\"))","v":0},{"$f":"BJ45/BI45","v":1},17,"00000000105000000055000000003251",32,32]
[null,null,3,3,"CHRIS WATSON",1,"BD","50/50","NOV","BETA","0100","0000","1222","1102","1000","0000","1502","3232",null,null,null,null,null,null,null,null,null,null,null,null,null,null,null,null,null,null,null,null,null,null,null,null,null,null,null,null,null,null,null,null,{"$f":"BA46*1+BB46*2+BC46*3+BD46*5+BE46*$C$13","v":31},{"$f":"LEN(BH46)-LEN(SUBSTITUTE(BH46,\"0\",\"\"))","v":16},{"$f":"LEN(BH46)-LEN(SUBSTITUTE(BH46,\"1\",\"\"))","v":6},{"$f":"LEN(BH46)-LEN(SUBSTITUTE(BH46,\"2\",\"\"))","v":7},{"$f":"LEN(BH46)-LEN(SUBSTITUTE(BH46,\"3\",\"\"))","v":2},{"$f":"LEN(BH46)-LEN(SUBSTITUTE(BH46,\"5\",\"\"))","v":1},{"$f":"LEN(BH46)-LEN(SUBSTITUTE(BH46,\"*\",\"\"))","v":0},{"$f":"BJ46/BI46","v":1},15,"01000000122211021000000015023232",32,32]
[null,null,4,4,"ARRAN SHERWIN",14,"BD","50/50","B","BETA","3010","0000","0201","0000","5000","1000","5002","3533",null,null,null,null,null,null,null,null,null,null,null,null,null,null,null,null,null,null,null,null,null,null,null,null,null,null,null,null,null,null,null,null,{"$f":"BA47*1+BB47*2+BC47*3+BD47*5+BE47*$C$13","v":34},{"$f":"LEN(BH47)-LEN(SUBSTITUTE(BH47,\"0\",\"\"))","v":20},{"$f":"LEN(BH47)-LEN(SUBSTITUTE(BH47,\"1\",\"\"))","v":3},{"$f":"LEN(BH47)-LEN(SUBSTITUTE(BH47,\"2\",\"\"))","v":2},{"$f":"LEN(BH47)-LEN(SUBSTITUTE(BH47,\"3\",\"\"))","v":4},{"$f":"LEN(BH47)-LEN(SUBSTITUTE(BH47,\"5\",\"\"))","v":3},{"$f":"LEN(BH47)-LEN(SUBSTITUTE(BH47,\"*\",\"\"))","v":0},{"$f":"BJ47/BI47","v":1},13,"30100000020100005000100050023533",32,32]
[null,null,5,5,"HARRY SUTCLIFFE",22,"BD","50/50","B","BETA","2020","0000","0111","2100","0100","0000","3252","3233",null,null,null,null,null,null,null,null,null,null,null,null,null,null,null,null,null,null,null,null,null,null,null,null,null,null,null,null,null,null,null,null,{"$f":"BA48*1+BB48*2+BC48*3+BD48*5+BE48*$C$13","v":34},{"$f":"LEN(BH48)-LEN(SUBSTITUTE(BH48,\"0\",\"\"))","v":16},{"$f":"LEN(BH48)-LEN(SUBSTITUTE(BH48,\"1\",\"\"))","v":5},{"$f":"LEN(BH48)-LEN(SUBSTITUTE(BH48,\"2\",\"\"))","v":6},{"$f":"LEN(BH48)-LEN(SUBSTITUTE(BH48,\"3\",\"\"))","v":4},{"$f":"LEN(BH48)-LEN(SUBSTITUTE(BH48,\"5\",\"\"))","v":1},{"$f":"LEN(BH48)-LEN(SUBSTITUTE(BH48,\"*\",\"\"))","v":0},{"$f":"BJ48/BI48","v":1},11,"20200000011121000100000032523233",32,32]
[null,null,6,6,"DAVID MALLOY",10,"BD","50/50","NOV","GAS","0200","0100","1333","0232","0500","0000","5311","1333",null,null,null,null,null,null,null,null,null,null,null,null,null,null,null,null,null,null,null,null,null,null,null,null,null,null,null,null,null,null,null,null,{"$f":"BA49*1+BB49*2+BC49*3+BD49*5+BE49*$C$13","v":45},{"$f":"LEN(BH49)-LEN(SUBSTITUTE(BH49,\"0\",\"\"))","v":14},{"$f":"LEN(BH49)-LEN(SUBSTITUTE(BH49,\"1\",\"\"))","v":5},{"$f":"LEN(BH49)-LEN(SUBSTITUTE(BH49,\"2\",\"\"))","v":3},{"$f":"LEN(BH49)-LEN(SUBSTITUTE(BH49,\"3\",\"\"))","v":8},{"$f":"LEN(BH49)-LEN(SUBSTITUTE(BH49,\"5\",\"\"))","v":2},{"$f":"LEN(BH49)-LEN(SUBSTITUTE(BH49,\"*\",\"\"))","v":0},{"$f":"BJ49/BI49","v":1},10,"02000100133302320500000053111333",32,32]
[null,null,7,7,"FRANCESCA TATTERSALL",18,"BD","50/50","NOV","BETA","1000","0000","5213","0033","0000","0000","5353","3353",null,null,null,null,null,null,null,null,null,null,null,null,null,null,null,null,null,null,null,null,null,null,null,null,null,null,null,null,null,null,null,null,{"$f":"BA50*1+BB50*2+BC50*3+BD50*5+BE50*$C$13","v":48},{"$f":"LEN(BH50)-LEN(SUBSTITUTE(BH50,\"0\",\"\"))","v":17},{"$f":"LEN(BH50)-LEN(SUBSTITUTE(BH50,\"1\",\"\"))","v":2},{"$f":"LEN(BH50)-LEN(SUBSTITUTE(BH50,\"2\",\"\"))","v":1},{"$f":"LEN(BH50)-LEN(SUBSTITUTE(BH50,\"3\",\"\"))","v":8},{"$f":"LEN(BH50)-LEN(SUBSTITUTE(BH50,\"5\",\"\"))","v":4},{"$f":"LEN(BH50)-LEN(SUBSTITUTE(BH50,\"*\",\"\"))","v":0},{"$f":"BJ50/BI50","v":1},9,"10000000521300330000000053533353",32,32]
[null,null,8,8,"HARRISON LIGHTFOOT",16,"BD","50/50","C","BETA","3020","1000","1051","5003","0000","0000","5155","3333",null,null,null,null,null,null,null,null,null,null,null,null,null,null,null,null,null,null,null,null,null,null,null,null,null,null,null,null,null,null,null,null,{"$f":"BA51*1+BB51*2+BC51*3+BD51*5+BE51*$C$13","v":49},{"$f":"LEN(BH51)-LEN(SUBSTITUTE(BH51,\"0\",\"\"))","v":16},{"$f":"LEN(BH51)-LEN(SUBSTITUTE(BH51,\"1\",\"\"))","v":4},{"$f":"LEN(BH51)-LEN(SUBSTITUTE(BH51,\"2\",\"\"))","v":1},{"$f":"LEN(BH51)-LEN(SUBSTITUTE(BH51,\"3\",\"\"))","v":6},{"$f":"LEN(BH51)-LEN(SUBSTITUTE(BH51,\"5\",\"\"))","v":5},{"$f":"LEN(BH51)-LEN(SUBSTITUTE(BH51,\"*\",\"\"))","v":0},{"$f":"BJ51/BI51","v":1},8,"30201000105150030000000051553333",32,32]
[null,null,9,9,"NIGEL BARRETT",21,"BD","50/50","NOV","BETA","5512","0000","1310","3030","0000","0000","5555","5555",null,null,null,null,null,null,null,null,null,null,null,null,null,null,null,null,null,null,null,null,null,null,null,null,null,null,null,null,null,null,null,null,{"$f":"BA52*1+BB52*2+BC52*3+BD52*5+BE52*$C$13","v":64},{"$f":"LEN(BH52)-LEN(SUBSTITUTE(BH52,\"0\",\"\"))","v":15},{"$f":"LEN(BH52)-LEN(SUBSTITUTE(BH52,\"1\",\"\"))","v":3},{"$f":"LEN(BH52)-LEN(SUBSTITUTE(BH52,\"2\",\"\"))","v":1},{"$f":"LEN(BH52)-LEN(SUBSTITUTE(BH52,\"3\",\"\"))","v":3},{"$f":"LEN(BH52)-LEN(SUBSTITUTE(BH52,\"5\",\"\"))","v":10},{"$f":"LEN(BH52)-LEN(SUBSTITUTE(BH52,\"*\",\"\"))","v":0},{"$f":"BJ52/BI52","v":1},7,"55120000131030300000000055555555",32,32]
[null,null,10,10,"ANDY HUNTER",20,"BD","50/50","NOV","HONDA","5110","0000","5353","3050","3010","0100","5533","5555",null,null,null,null,null,null,null,null,null,null,null,null,null,null,null,null,null,null,null,null,null,null,null,null,null,null,null,null,null,null,null,null,{"$f":"BA53*1+BB53*2+BC53*3+BD53*5+BE53*$C$13","v":72},{"$f":"LEN(BH53)-LEN(SUBSTITUTE(BH53,\"0\",\"\"))","v":12},{"$f":"LEN(BH53)-LEN(SUBSTITUTE(BH53,\"1\",\"\"))","v":4},{"$f":"LEN(BH53)-LEN(SUBSTITUTE(BH53,\"2\",\"\"))","v":0},{"$f":"LEN(BH53)-LEN(SUBSTITUTE(BH53,\"3\",\"\"))","v":6},{"$f":"LEN(BH53)-LEN(SUBSTITUTE(BH53,\"5\",\"\"))","v":10},{"$f":"LEN(BH53)-LEN(SUBSTITUTE(BH53,\"*\",\"\"))","v":0},{"$f":"BJ53/BI53","v":1},6,"51100000535330503010010055335555",32,32]
[null,null,11,11,"MARTIN CLOUGH",15,"BD","50/50","NOV","BETA","3255","0000","5525","1000","0055","0005","5555","5555",null,null,null,null,null,null,null,null,null,null,null,null,null,null,null,null,null,null,null,null,null,null,null,null,null,null,null,null,null,null,null,null,{"$f":"BA54*1+BB54*2+BC54*3+BD54*5+BE54*$C$13","v":88},{"$f":"LEN(BH54)-LEN(SUBSTITUTE(BH54,\"0\",\"\"))","v":12},{"$f":"LEN(BH54)-LEN(SUBSTITUTE(BH54,\"1\",\"\"))","v":1},{"$f":"LEN(BH54)-LEN(SUBSTITUTE(BH54,\"2\",\"\"))","v":2},{"$f":"LEN(BH54)-LEN(SUBSTITUTE(BH54,\"3\",\"\"))","v":1},{"$f":"LEN(BH54)-LEN(SUBSTITUTE(BH54,\"5\",\"\"))","v":16},{"$f":"LEN(BH54)-LEN(SUBSTITUTE(BH54,\"*\",\"\"))","v":0},{"$f":"BJ54/BI54","v":1},5,"32550000552510000055000555555555",32,32]
[null,null,12,12,"GLEN HOLMES",24,"bd","50/50","NOV","BETA","0555","5555","5555","3555","5555","5555","5555","5555",null,null,null,null,null,null,null,null,null,null,null,null,null,null,null,null,null,null,null,null,null,null,null,null,null,null,null,null,null,null,null,null,{"$f":"BA55*1+BB55*2+BC55*3+BD55*5+BE55*$C$13","v":153},{"$f":"LEN(BH55)-LEN(SUBSTITUTE(BH55,\"0\",\"\"))","v":1},{"$f":"LEN(BH55)-LEN(SUBSTITUTE(BH55,\"1\",\"\"))","v":0},{"$f":"LEN(BH55)-LEN(SUBSTITUTE(BH55,\"2\",\"\"))","v":0},{"$f":"LEN(BH55)-LEN(SUBSTITUTE(BH55,\"3\",\"\"))","v":1},{"$f":"LEN(BH55)-LEN(SUBSTITUTE(BH55,\"5\",\"\"))","v":30},{"$f":"LEN(BH55)-LEN(SUBSTITUTE(BH55,\"*\",\"\"))","v":0},{"$f":"BJ55/BI55","v":1},4,"05555555555535555555555555555555",32,32]
[null,null,1,1,"IAN BRADLEY",64,"BD","EASY","NOV","BETA","0000","0000","0000","3101","0000","0000","0000","0000",null,null,null,null,null,null,null,null,null,null,null,null,null,null,null,null,null,null,null,null,null,null,null,null,null,null,null,null,null,null,null,null,{"$f":"BA56*1+BB56*2+BC56*3+BD56*5+BE56*$C$13","v":5},{"$f":"LEN(BH56)-LEN(SUBSTITUTE(BH56,\"0\",\"\"))","v":29},{"$f":"LEN(BH56)-LEN(SUBSTITUTE(BH56,\"1\",\"\"))","v":2},{"$f":"LEN(BH56)-LEN(SUBSTITUTE(BH56,\"2\",\"\"))","v":0},{"$f":"LEN(BH56)-LEN(SUBSTITUTE(BH56,\"3\",\"\"))","v":1},{"$f":"LEN(BH56)-LEN(SUBSTITUTE(BH56,\"5\",\"\"))","v":0},{"$f":"LEN(BH56)-LEN(SUBSTITUTE(BH56,\"*\",\"\"))","v":0},{"$f":"BJ56/BI56","v":1},20,"00000000000031010000000000000000",32,32]
[null,null,2,2,"JAMES CLOUGH",52,"BD","EASY","B","BETA","1000","0000","1500","0000","0000","0000","0000","0000",null,null,null,null,null,null,null,null,null,null,null,null,null,null,null,null,null,null,null,null,null,null,null,null,null,null,null,null,null,null,null,null,{"$f":"BA57*1+BB57*2+BC57*3+BD57*5+BE57*$C$13","v":7},{"$f":"LEN(BH57)-LEN(SUBSTITUTE(BH57,\"0\",\"\"))","v":29},{"$f":"LEN(BH57)-LEN(SUBSTITUTE(BH57,\"1\",\"\"))","v":2},{"$f":"LEN(BH57)-LEN(SUBSTITUTE(BH57,\"2\",\"\"))","v":0},{"$f":"LEN(BH57)-LEN(SUBSTITUTE(BH57,\"3\",\"\"))","v":0},{"$f":"LEN(BH57)-LEN(SUBSTITUTE(BH57,\"5\",\"\"))","v":1},{"$f":"LEN(BH57)-LEN(SUBSTITUTE(BH57,\"*\",\"\"))","v":0},{"$f":"BJ57/BI57","v":1},17,"10000000150000000000000000000000",32,32]
[null,null,3,3,"DAVID COCK",57,"BD","EASY","NOV","BETA","0000","0000","0000","2111","0000","0000","2000","0110",null,null,null,null,null,null,null,null,null,null,null,null,null,null,null,null,null,null,null,null,null,null,null,null,null,null,null,null,null,null,null,null,{"$f":"BA58*1+BB58*2+BC58*3+BD58*5+BE58*$C$13","v":9},{"$f":"LEN(BH58)-LEN(SUBSTITUTE(BH58,\"0\",\"\"))","v":25},{"$f":"LEN(BH58)-LEN(SUBSTITUTE(BH58,\"1\",\"\"))","v":5},{"$f":"LEN(BH58)-LEN(SUBSTITUTE(BH58,\"2\",\"\"))","v":2},{"$f":"LEN(BH58)-LEN(SUBSTITUTE(BH58,\"3\",\"\"))","v":0},{"$f":"LEN(BH58)-LEN(SUBSTITUTE(BH58,\"5\",\"\"))","v":0},{"$f":"LEN(BH58)-LEN(SUBSTITUTE(BH58,\"*\",\"\"))","v":0},{"$f":"BJ58/BI58","v":1},15,"00000000000021110000000020000110",32,32]
[null,null,4,4,"RICHARD WHITTAKER",66,"BD","EASY","NOV","BETA","0000","0000","0000","1100","2010","0000","0001","2100",null,null,null,null,null,null,null,null,null,null,null,null,null,null,null,null,null,null,null,null,null,null,null,null,null,null,null,null,null,null,null,null,{"$f":"BA59*1+BB59*2+BC59*3+BD59*5+BE59*$C$13","v":9},{"$f":"LEN(BH59)-LEN(SUBSTITUTE(BH59,\"0\",\"\"))","v":25},{"$f":"LEN(BH59)-LEN(SUBSTITUTE(BH59,\"1\",\"\"))","v":5},{"$f":"LEN(BH59)-LEN(SUBSTITUTE(BH59,\"2\",\"\"))","v":2},{"$f":"LEN(BH59)-LEN(SUBSTITUTE(BH59,\"3\",\"\"))","v":0},{"$f":"LEN(BH59)-LEN(SUBSTITUTE(BH59,\"5\",\"\"))","v":0},{"$f":"LEN(BH59)-LEN(SUBSTITUTE(BH59,\"*\",\"\"))","v":0},{"$f":"BJ59/BI59","v":1},13,"00000000000011002010000000012100",32,32]
[null,null,5,5,"ELLIOT COCK",58,"BD","EASY","B","BETA","0000","0010","0000","0001","0101","0000","0010","1120",null,null,null,null,null,null,null,null,null,null,null,null,null,null,null,null,null,null,null,null,null,null,null,null,null,null,null,null,null,null,null,null,{"$f":"BA60*1+BB60*2+BC60*3+BD60*5+BE60*$C$13","v":9},{"$f":"LEN(BH60)-LEN(SUBSTITUTE(BH60,\"0\",\"\"))","v":24},{"$f":"LEN(BH60)-LEN(SUBSTITUTE(BH60,\"1\",\"\"))","v":7},{"$f":"LEN(BH60)-LEN(SUBSTITUTE(BH60,\"2\",\"\"))","v":1},{"$f":"LEN(BH60)-LEN(SUBSTITUTE(BH60,\"3\",\"\"))","v":0},{"$f":"LEN(BH60)-LEN(SUBSTITUTE(BH60,\"5\",\"\"))","v":0},{"$f":"LEN(BH60)-LEN(SUBSTITUTE(BH60,\"*\",\"\"))","v":0},{"$f":"BJ60/BI60","v":1},11,"00000010000000010101000000101120",32,32]
[null,null,6,6,"MIKE FRIZZELL",53,"BD","EASY","NOV","BETA","0000","0000","0000","0000","0521","0000","2010","0000",null,null,null,null,null,null,null,null,null,null,null,null,null,null,null,null,null,null,null,null,null,null,null,null,null,null,null,null,null,null,null,null,{"$f":"BA61*1+BB61*2+BC61*3+BD61*5+BE61*$C$13","v":11},{"$f":"LEN(BH61)-LEN(SUBSTITUTE(BH61,\"0\",\"\"))","v":27},{"$f":"LEN(BH61)-LEN(SUBSTITUTE(BH61,\"1\",\"\"))","v":2},{"$f":"LEN(BH61)-LEN(SUBSTITUTE(BH61,\"2\",\"\"))","v":2},{"$f":"LEN(BH61)-LEN(SUBSTITUTE(BH61,\"3\",\"\"))","v":0},{"$f":"LEN(BH61)-LEN(SUBSTITUTE(BH61,\"5\",\"\"))","v":1},{"$f":"LEN(BH61)-LEN(SUBSTITUTE(BH61,\"*\",\"\"))","v":0},{"$f":"BJ61/BI61","v":1},10,"00000000000000000521000020100000",32,32]
[null,null,7,7,"CHARLIE PETTY",62,"BD","EASY","C","BETA","0000","0000","0000","5101","0111","0000","0000","1100",null,null,null,null,null,null,null,null,null,null,null,null,null,null,null,null,null,null,null,null,null,null,null,null,null,null,null,null,null,null,null,null,{"$f":"BA62*1+BB62*2+BC62*3+BD62*5+BE62*$C$13","v":12},{"$f":"LEN(BH62)-LEN(SUBSTITUTE(BH62,\"0\",\"\"))","v":24},{"$f":"LEN(BH62)-LEN(SUBSTITUTE(BH62,\"1\",\"\"))","v":7},{"$f":"LEN(BH62)-LEN(SUBSTITUTE(BH62,\"2\",\"\"))","v":0},{"$f":"LEN(BH62)-LEN(SUBSTITUTE(BH62,\"3\",\"\"))","v":0},{"$f":"LEN(BH62)-LEN(SUBSTITUTE(BH62,\"5\",\"\"))","v":1},{"$f":"LEN(BH62)-LEN(SUBSTITUTE(BH62,\"*\",\"\"))","v":0},{"$f":"BJ62/BI62","v":1},9,"00000000000051010111000000001100",32,32]
[null,null,8,8,"GLYN TATTERSALL",60,"BD","EASY","NOV","MONT","0000","0000","0010","0113","1512","0000","0000","0000",null,null,null,null,null,null,null,null,null,null,null,null,null,null,null,null,null,null,null,null,null,null,null,null,null,null,null,null,null,null,null,null,{"$f":"BA63*1+BB63*2+BC63*3+BD63*5+BE63*$C$13","v":15},{"$f":"LEN(BH63)-LEN(SUBSTITUTE(BH63,\"0\",\"\"))","v":24},{"$f":"LEN(BH63)-LEN(SUBSTITUTE(BH63,\"1\",\"\"))","v":5},{"$f":"LEN(BH63)-LEN(SUBSTITUTE(BH63,\"2\",\"\"))","v":1},{"$f":"LEN(BH63)-LEN(SUBSTITUTE(BH63,\"3\",\"\"))","v":1},{"$f":"LEN(BH63)-LEN(SUBSTITUTE(BH63,\"5\",\"\"))","v":1},{"$f":"LEN(BH63)-LEN(SUBSTITUTE(BH63,\"*\",\"\"))","v":0},{"$f":"BJ63/BI63","v":1},8,"00000000001001131512000000000000",32,32]
[null,null,9,9,"OLIVER PETTY",61,"BD","EASY","C","BETA","0000","0000","0100","3101","0310","0000","1000","0005",null,null,null,null,null,null,null,null,null,null,null,null,null,null,null,null,null,null,null,null,null,null,null,null,null,null,null,null,null,null,null,null,{"$f":"BA64*1+BB64*2+BC64*3+BD64*5+BE64*$C$13","v":16},{"$f":"LEN(BH64)-LEN(SUBSTITUTE(BH64,\"0\",\"\"))","v":24},{"$f":"LEN(BH64)-LEN(SUBSTITUTE(BH64,\"1\",\"\"))","v":5},{"$f":"LEN(BH64)-LEN(SUBSTITUTE(BH64,\"2\",\"\"))","v":0},{"$f":"LEN(BH64)-LEN(SUBSTITUTE(BH64,\"3\",\"\"))","v":2},{"$f":"LEN(BH64)-LEN(SUBSTITUTE(BH64,\"5\",\"\"))","v":1},{"$f":"LEN(BH64)-LEN(SUBSTITUTE(BH64,\"*\",\"\"))","v":0},{"$f":"BJ64/BI64","v":1},7,"00000000010031010310000010000005",32,32]
[null,null,10,10,"JOEL ISHERWOOD",6,"BD","EASY","D","BETA","0000","0100","0000","5000","1352","0000","1130","0000",null,null,null,null,null,null,null,null,null,null,null,null,null,null,null,null,null,null,null,null,null,null,null,null,null,null,null,null,null,null,null,null,{"$f":"BA65*1+BB65*2+BC65*3+BD65*5+BE65*$C$13","v":22},{"$f":"LEN(BH65)-LEN(SUBSTITUTE(BH65,\"0\",\"\"))","v":23},{"$f":"LEN(BH65)-LEN(SUBSTITUTE(BH65,\"1\",\"\"))","v":4},{"$f":"LEN(BH65)-LEN(SUBSTITUTE(BH65,\"2\",\"\"))","v":1},{"$f":"LEN(BH65)-LEN(SUBSTITUTE(BH65,\"3\",\"\"))","v":2},{"$f":"LEN(BH65)-LEN(SUBSTITUTE(BH65,\"5\",\"\"))","v":2},{"$f":"LEN(BH65)-LEN(SUBSTITUTE(BH65,\"*\",\"\"))","v":0},{"$f":"BJ65/BI65","v":1},6,"00000100000050001352000011300000",32,32]
[null,null,11,11,"JONATHAN BATTERSBY",54,"BD","EASY","NOV","SCORPA","0000","0000","0101","0033","2533","0000","0010","0000",null,null,null,null,null,null,null,null,null,null,null,null,null,null,null,null,null,null,null,null,null,null,null,null,null,null,null,null,null,null,null,null,{"$f":"BA66*1+BB66*2+BC66*3+BD66*5+BE66*$C$13","v":22},{"$f":"LEN(BH66)-LEN(SUBSTITUTE(BH66,\"0\",\"\"))","v":23},{"$f":"LEN(BH66)-LEN(SUBSTITUTE(BH66,\"1\",\"\"))","v":3},{"$f":"LEN(BH66)-LEN(SUBSTITUTE(BH66,\"2\",\"\"))","v":1},{"$f":"LEN(BH66)-LEN(SUBSTITUTE(BH66,\"3\",\"\"))","v":4},{"$f":"LEN(BH66)-LEN(SUBSTITUTE(BH66,\"5\",\"\"))","v":1},{"$f":"LEN(BH66)-LEN(SUBSTITUTE(BH66,\"*\",\"\"))","v":0},{"$f":"BJ66/BI66","v":1},5,"00000000010100332533000000100000",32,32]
[null,null,12,12,"VERNON CLARKE",67,"BD","EASY","NOV","SHERCO","0000","0005","0500","0020","1105","0000","0001","0031",null,null,null,null,null,null,null,null,null,null,null,null,null,null,null,null,null,null,null,null,null,null,null,null,null,null,null,null,null,null,null,null,{"$f":"BA67*1+BB67*2+BC67*3+BD67*5+BE67*$C$13","v":24},{"$f":"LEN(BH67)-LEN(SUBSTITUTE(BH67,\"0\",\"\"))","v":23},{"$f":"LEN(BH67)-LEN(SUBSTITUTE(BH67,\"1\",\"\"))","v":4},{"$f":"LEN(BH67)-LEN(SUBSTITUTE(BH67,\"2\",\"\"))","v":1},{"$f":"LEN(BH67)-LEN(SUBSTITUTE(BH67,\"3\",\"\"))","v":1},{"$f":"LEN(BH67)-LEN(SUBSTITUTE(BH67,\"5\",\"\"))","v":3},{"$f":"LEN(BH67)-LEN(SUBSTITUTE(BH67,\"*\",\"\"))","v":0},{"$f":"BJ67/BI67","v":1},4,"00000005050000201105000000010031",32,32]
[null,null,13,13,"MATT BRADLEY",55,"BD","EASY","NOV","BETA","0000","0000","0000","0533","0030","5000","0000","0105",null,null,null,null,null,null,null,null,null,null,null,null,null,null,null,null,null,null,null,null,null,null,null,null,null,null,null,null,null,null,null,null,{"$f":"BA68*1+BB68*2+BC68*3+BD68*5+BE68*$C$13","v":25},{"$f":"LEN(BH68)-LEN(SUBSTITUTE(BH68,\"0\",\"\"))","v":25},{"$f":"LEN(BH68)-LEN(SUBSTITUTE(BH68,\"1\",\"\"))","v":1},{"$f":"LEN(BH68)-LEN(SUBSTITUTE(BH68,\"2\",\"\"))","v":0},{"$f":"LEN(BH68)-LEN(SUBSTITUTE(BH68,\"3\",\"\"))","v":3},{"$f":"LEN(BH68)-LEN(SUBSTITUTE(BH68,\"5\",\"\"))","v":3},{"$f":"LEN(BH68)-LEN(SUBSTITUTE(BH68,\"*\",\"\"))","v":0},{"$f":"BJ68/BI68","v":1},3,"00000000000005330030500000000105",32,32]
[null,null,14,14,"STEVEN FARR",56,"BD","EASY","NOV","BETA","0000","0000","1000","5000","5135","0010","1002","0011",null,null,null,null,null,null,null,null,null,null,null,null,null,null,null,null,null,null,null,null,null,null,null,null,null,null,null,null,null,null,null,null,{"$f":"BA69*1+BB69*2+BC69*3+BD69*5+BE69*$C$13","v":26},{"$f":"LEN(BH69)-LEN(SUBSTITUTE(BH69,\"0\",\"\"))","v":21},{"$f":"LEN(BH69)-LEN(SUBSTITUTE(BH69,\"1\",\"\"))","v":6},{"$f":"LEN(BH69)-LEN(SUBSTITUTE(BH69,\"2\",\"\"))","v":1},{"$f":"LEN(BH69)-LEN(SUBSTITUTE(BH69,\"3\",\"\"))","v":1},{"$f":"LEN(BH69)-LEN(SUBSTITUTE(BH69,\"5\",\"\"))","v":3},{"$f":"LEN(BH69)-LEN(SUBSTITUTE(BH69,\"*\",\"\"))","v":0},{"$f":"BJ69/BI69","v":1},2,"00000000100050005135001010020011",32,32]
[null,null,15,15,"BRADLEY CRABTREE",65,"BD","EASY","C","OSET","0000","0000","2000","3555","3552","3322","3100","0111",null,null,null,null,null,null,null,null,null,null,null,null,null,null,null,null,null,null,null,null,null,null,null,null,null,null,null,null,null,null,null,null,{"$f":"BA70*1+BB70*2+BC70*3+BD70*5+BE70*$C$13","v":52},{"$f":"LEN(BH70)-LEN(SUBSTITUTE(BH70,\"0\",\"\"))","v":14},{"$f":"LEN(BH70)-LEN(SUBSTITUTE(BH70,\"1\",\"\"))","v":4},{"$f":"LEN(BH70)-LEN(SUBSTITUTE(BH70,\"2\",\"\"))","v":4},{"$f":"LEN(BH70)-LEN(SUBSTITUTE(BH70,\"3\",\"\"))","v":5},{"$f":"LEN(BH70)-LEN(SUBSTITUTE(BH70,\"5\",\"\"))","v":5},{"$f":"LEN(BH70)-LEN(SUBSTITUTE(BH70,\"*\",\"\"))","v":0},{"$f":"BJ70/BI70","v":1},1,"00000000200035553552332231000111",32,32]
[null,null,16,16,"ALANNA EAGLETON",59,"BD","EASY","C","OSET","3555","0311","1000","5553","5555","3353","3333","3232",null,null,null,null,null,null,null,null,null,null,null,null,null,null,null,null,null,null,null,null,null,null,null,null,null,null,null,null,null,null,null,null,{"$f":"BA71*1+BB71*2+BC71*3+BD71*5+BE71*$C$13","v":98},{"$f":"LEN(BH71)-LEN(SUBSTITUTE(BH71,\"0\",\"\"))","v":4},{"$f":"LEN(BH71)-LEN(SUBSTITUTE(BH71,\"1\",\"\"))","v":3},{"$f":"LEN(BH71)-LEN(SUBSTITUTE(BH71,\"2\",\"\"))","v":2},{"$f":"LEN(BH71)-LEN(SUBSTITUTE(BH71,\"3\",\"\"))","v":12},{"$f":"LEN(BH71)-LEN(SUBSTITUTE(BH71,\"5\",\"\"))","v":11},{"$f":"LEN(BH71)-LEN(SUBSTITUTE(BH71,\"*\",\"\"))","v":0},{"$f":"BJ71/BI71","v":1},0,"35550311100055535555335333333232",32,32]
[null,null,17,17,"FINLEY HARSLEY",63,"BD","EASY","D","OSET","3355","5333","3332","5555","5555","5555","3333","3355",null,null,null,null,null,null,null,null,null,null,null,null,null,null,null,null,null,null,null,null,null,null,null,null,null,null,null,null,null,null,null,null,{"$f":"BA72*1+BB72*2+BC72*3+BD72*5+BE72*$C$13","v":129},{"$f":"LEN(BH72)-LEN(SUBSTITUTE(BH72,\"0\",\"\"))","v":0},{"$f":"LEN(BH72)-LEN(SUBSTITUTE(BH72,\"1\",\"\"))","v":0},{"$f":"LEN(BH72)-LEN(SUBSTITUTE(BH72,\"2\",\"\"))","v":1},{"$f":"LEN(BH72)-LEN(SUBSTITUTE(BH72,\"3\",\"\"))","v":14},{"$f":"LEN(BH72)-LEN(SUBSTITUTE(BH72,\"5\",\"\"))","v":17},{"$f":"LEN(BH72)-LEN(SUBSTITUTE(BH72,\"*\",\"\"))","v":0},{"$f":"BJ72/BI72","v":1},0,"33555333333255555555555533333355",32,32]
[null,null,null,null,null,null,null,null,null,null,null,null,null,null,null,null,null,null,null,null,null,null,null,null,null,null,null,null,null,null,null,null,null,null,null,null,null,null,null,null,null,null,null,null,null,null,null,null,null,null,{"$f":"BA73*1+BB73*2+BC73*3+BD73*5+BE73*$C$13","v":0},{"$f":"LEN(BH73)-LEN(SUBSTITUTE(BH73,\"0\",\"\"))","v":0},{"$f":"LEN(BH73)-LEN(SUBSTITUTE(BH73,\"1\",\"\"))","v":0},{"$f":"LEN(BH73)-LEN(SUBSTITUTE(BH73,\"2\",\"\"))","v":0},{"$f":"LEN(BH73)-LEN(SUBSTITUTE(BH73,\"3\",\"\"))","v":0},{"$f":"LEN(BH73)-LEN(SUBSTITUTE(BH73,\"5\",\"\"))","v":0},{"$f":"LEN(BH73)-LEN(SUBSTITUTE(BH73,\"*\",\"\"))","v":0},{"$f":"BJ73/BI73","v":0},null,"",32,0]
[null,null,null,null,null,null,null,null,null,null,null,null,null,null,null,null,null,null,null,null,null,null,null,null,null,null,null,null,null,null,null,null,null,null,null,null,null,null,null,null,null,null,null,null,null,null,null,null,null,null,{"$f":"BA74*1+BB74*2+BC74*3+BD74*5+BE74*$C$13","v":0},{"$f":"LEN(BH74)-LEN(SUBSTITUTE(BH74,\"0\",\"\"))","v":0},{"$f":"LEN(BH74)-LEN(SUBSTITUTE(BH74,\"1\",\"\"))","v":0},{"$f":"LEN(BH74)-LEN(SUBSTITUTE(BH74,\"2\",\"\"))","v":0},{"$f":"LEN(BH74)-LEN(SUBSTITUTE(BH74,\"3\",\"\"))","v":0},{"$f":"LEN(BH74)-LEN(SUBSTITUTE(BH74,\"5\",\"\"))","v":0},{"$f":"LEN(BH74)-LEN(SUBSTITUTE(BH74,\"*\",\"\"))","v":0},{"$f":"BJ74/BI74","v":0},null,"",32,0]
[null,null,null,null,null,null,null,null,null,null,null,null,null,null,null,null,null,null,null,null,null,null,null,null,null,null,null,null,null,null,null,null,null,null,null,null,null,null,null,null,null,null,null,null,null,null,null,null,null,null,{"$f":"BA75*1+BB75*2+BC75*3+BD75*5+BE75*$C$13","v":0},{"$f":"LEN(BH75)-LEN(SUBSTITUTE(BH75,\"0\",\"\"))","v":0},{"$f":"LEN(BH75)-LEN(SUBSTITUTE(BH75,\"1\",\"\"))","v":0},{"$f":"LEN(BH75)-LEN(SUBSTITUTE(BH75,\"2\",\"\"))","v":0},{"$f":"LEN(BH75)-LEN(SUBSTITUTE(BH75,\"3\",\"\"))","v":0},{"$f":"LEN(BH75)-LEN(SUBSTITUTE(BH75,\"5\",\"\"))","v":0},{"$f":"LEN(BH75)-LEN(SUBSTITUTE(BH75,\"*\",\"\"))","v":0},{"$f":"BJ75/BI75","v":0},null,"",32,0]
[null,null,null,null,null,null,null,null,null,null,null,null,null,null,null,null,null,null,null,null,null,null,null,null,null,null,null,null,null,null,null,null,null,null,null,null,null,null,null,null,null,null,null,null,null,null,null,null,null,null,{"$f":"BA76*1+BB76*2+BC76*3+BD76*5+BE76*$C$13","v":0},{"$f":"LEN(BH76)-LEN(SUBSTITUTE(BH76,\"0\",\"\"))","v":0},{"$f":"LEN(BH76)-LEN(SUBSTITUTE(BH76,\"1\",\"\"))","v":0},{"$f":"LEN(BH76)-LEN(SUBSTITUTE(BH76,\"2\",\"\"))","v":0},{"$f":"LEN(BH76)-LEN(SUBSTITUTE(BH76,\"3\",\"\"))","v":0},{"$f":"LEN(BH76)-LEN(SUBSTITUTE(BH76,\"5\",\"\"))","v":0},{"$f":"LEN(BH76)-LEN(SUBSTITUTE(BH76,\"*\",\"\"))","v":0},{"$f":"BJ76/BI76","v":0},null,"",32,0]
[null,null,null,null,null,null,null,null,null,null,null,null,null,null,null,null,null,null,null,null,null,null,null,null,null,null,null,null,null,null,null,null,null,null,null,null,null,null,null,null,null,null,null,null,null,null,null,null,null,null,{"$f":"BA77*1+BB77*2+BC77*3+BD77*5+BE77*$C$13","v":0},{"$f":"LEN(BH77)-LEN(SUBSTITUTE(BH77,\"0\",\"\"))","v":0},{"$f":"LEN(BH77)-LEN(SUBSTITUTE(BH77,\"1\",\"\"))","v":0},{"$f":"LEN(BH77)-LEN(SUBSTITUTE(BH77,\"2\",\"\"))","v":0},{"$f":"LEN(BH77)-LEN(SUBSTITUTE(BH77,\"3\",\"\"))","v":0},{"$f":"LEN(BH77)-LEN(SUBSTITUTE(BH77,\"5\",\"\"))","v":0},{"$f":"LEN(BH77)-LEN(SUBSTITUTE(BH77,\"*\",\"\"))","v":0},{"$f":"BJ77/BI77","v":0},null,"",32,0]
[null,null,null,null,null,null,null,null,null,null,null,null,null,null,null,null,null,null,null,null,null,null,null,null,null,null,null,null,null,null,null,null,null,null,null,null,null,null,null,null,null,null,null,null,null,null,null,null,null,null,{"$f":"BA78*1+BB78*2+BC78*3+BD78*5+BE78*$C$13","v":0},{"$f":"LEN(BH78)-LEN(SUBSTITUTE(BH78,\"0\",\"\"))","v":0},{"$f":"LEN(BH78)-LEN(SUBSTITUTE(BH78,\"1\",\"\"))","v":0},{"$f":"LEN(BH78)-LEN(SUBSTITUTE(BH78,\"2\",\"\"))","v":0},{"$f":"LEN(BH78)-LEN(SUBSTITUTE(BH78,\"3\",\"\"))","v":0},{"$f":"LEN(BH78)-LEN(SUBSTITUTE(BH78,\"5\",\"\"))","v":0},{"$f":"LEN(BH78)-LEN(SUBSTITUTE(BH78,\"*\",\"\"))","v":0},{"$f":"BJ78/BI78","v":0},null,"",32,0]
[null,null,null,null,null,null,null,null,null,null,null,null,null,null,null,null,null,null,null,null,null,null,null,null,null,null,null,null,null,null,null,null,null,null,null,null,null,null,null,null,null,null,null,null,null,null,null,null,null,null,{"$f":"BA79*1+BB79*2+BC79*3+BD79*5+BE79*$C$13","v":0},{"$f":"LEN(BH79)-LEN(SUBSTITUTE(BH79,\"0\",\"\"))","v":0},{"$f":"LEN(BH79)-LEN(SUBSTITUTE(BH79,\"1\",\"\"))","v":0},{"$f":"LEN(BH79)-LEN(SUBSTITUTE(BH79,\"2\",\"\"))","v":0},{"$f":"LEN(BH79)-LEN(SUBSTITUTE(BH79,\"3\",\"\"))","v":0},{"$f":"LEN(BH79)-LEN(SUBSTITUTE(BH79,\"5\",\"\"))","v":0},{"$f":"LEN(BH79)-LEN(SUBSTITUTE(BH79,\"*\",\"\"))","v":0},{"$f":"BJ79/BI79","v":0},null,"",32,0]
[null,null,null,null,null,null,null,null,null,null,null,null,null,null,null,null,null,null,null,null,null,null,null,null,null,null,null,null,null,null,null,null,null,null,null,null,null,null,null,null,null,null,null,null,null,null,null,null,null,null,{"$f":"BA80*1+BB80*2+BC80*3+BD80*5+BE80*$C$13","v":0},{"$f":"LEN(BH80)-LEN(SUBSTITUTE(BH80,\"0\",\"\"))","v":0},{"$f":"LEN(BH80)-LEN(SUBSTITUTE(BH80,\"1\",\"\"))","v":0},{"$f":"LEN(BH80)-LEN(SUBSTITUTE(BH80,\"2\",\"\"))","v":0},{"$f":"LEN(BH80)-LEN(SUBSTITUTE(BH80,\"3\",\"\"))","v":0},{"$f":"LEN(BH80)-LEN(SUBSTITUTE(BH80,\"5\",\"\"))","v":0},{"$f":"LEN(BH80)-LEN(SUBSTITUTE(BH80,\"*\",\"\"))","v":0},{"$f":"BJ80/BI80","v":0},null,"",32,0]
[null,null,null,null,null,null,null,null,null,null,null,null,null,null,null,null,null,null,null,null,null,null,null,null,null,null,null,null,null,null,null,null,null,null,null,null,null,null,null,null,null,null,null,null,null,null,null,null,null,null,{"$f":"BA81*1+BB81*2+BC81*3+BD81*5+BE81*$C$13","v":0},{"$f":"LEN(BH81)-LEN(SUBSTITUTE(BH81,\"0\",\"\"))","v":0},{"$f":"LEN(BH81)-LEN(SUBSTITUTE(BH81,\"1\",\"\"))","v":0},{"$f":"LEN(BH81)-LEN(SUBSTITUTE(BH81,\"2\",\"\"))","v":0},{"$f":"LEN(BH81)-LEN(SUBSTITUTE(BH81,\"3\",\"\"))","v":0},{"$f":"LEN(BH81)-LEN(SUBSTITUTE(BH81,\"5\",\"\"))","v":0},{"$f":"LEN(BH81)-LEN(SUBSTITUTE(BH81,\"*\",\"\"))","v":0},{"$f":"BJ81/BI81","v":0},null,"",32,0]
[null,null,null,null,null,null,null,null,null,null,null,null,null,null,null,null,null,null,null,null,null,null,null,null,null,null,null,null,null,null,null,null,null,null,null,null,null,null,null,null,null,null,null,null,null,null,null,null,null,null,{"$f":"BA82*1+BB82*2+BC82*3+BD82*5+BE82*$C$13","v":0},{"$f":"LEN(BH82)-LEN(SUBSTITUTE(BH82,\"0\",\"\"))","v":0},{"$f":"LEN(BH82)-LEN(SUBSTITUTE(BH82,\"1\",\"\"))","v":0},{"$f":"LEN(BH82)-LEN(SUBSTITUTE(BH82,\"2\",\"\"))","v":0},{"$f":"LEN(BH82)-LEN(SUBSTITUTE(BH82,\"3\",\"\"))","v":0},{"$f":"LEN(BH82)-LEN(SUBSTITUTE(BH82,\"5\",\"\"))","v":0},{"$f":"LEN(BH82)-LEN(SUBSTITUTE(BH82,\"*\",\"\"))","v":0},{"$f":"BJ82/BI82","v":0},null,"",32,0]
[null,null,null,null,null,null,null,null,null,null,null,null,null,null,null,null,null,null,null,null,null,null,null,null,null,null,null,null,null,null,null,null,null,null,null,null,null,null,null,null,null,null,null,null,null,null,null,null,null,null,{"$f":"BA83*1+BB83*2+BC83*3+BD83*5+BE83*$C$13","v":0},{"$f":"LEN(BH83)-LEN(SUBSTITUTE(BH83,\"0\",\"\"))","v":0},{"$f":"LEN(BH83)-LEN(SUBSTITUTE(BH83,\"1\",\"\"))","v":0},{"$f":"LEN(BH83)-LEN(SUBSTITUTE(BH83,\"2\",\"\"))","v":0},{"$f":"LEN(BH83)-LEN(SUBSTITUTE(BH83,\"3\",\"\"))","v":0},{"$f":"LEN(BH83)-LEN(SUBSTITUTE(BH83,\"5\",\"\"))","v":0},{"$f":"LEN(BH83)-LEN(SUBSTITUTE(BH83,\"*\",\"\"))","v":0},{"$f":"BJ83/BI83","v":0},null,"",32,0]
[null,null,null,null,null,null,null,null,null,null,null,null,null,null,null,null,null,null,null,null,null,null,null,null,null,null,null,null,null,null,null,null,null,null,null,null,null,null,null,null,null,null,null,null,null,null,null,null,null,null,{"$f":"BA84*1+BB84*2+BC84*3+BD84*5+BE84*$C$13","v":0},{"$f":"LEN(BH84)-LEN(SUBSTITUTE(BH84,\"0\",\"\"))","v":0},{"$f":"LEN(BH84)-LEN(SUBSTITUTE(BH84,\"1\",\"\"))","v":0},{"$f":"LEN(BH84)-LEN(SUBSTITUTE(BH84,\"2\",\"\"))","v":0},{"$f":"LEN(BH84)-LEN(SUBSTITUTE(BH84,\"3\",\"\"))","v":0},{"$f":"LEN(BH84)-LEN(SUBSTITUTE(BH84,\"5\",\"\"))","v":0},{"$f":"LEN(BH84)-LEN(SUBSTITUTE(BH84,\"*\",\"\"))","v":0},{"$f":"BJ84/BI84","v":0},null,"",32,0]
[null,null,null,null,null,null,null,null,null,null,null,null,null,null,null,null,null,null,null,null,null,null,null,null,null,null,null,null,null,null,null,null,null,null,null,null,null,null,null,null,null,null,null,null,null,null,null,null,null,null,{"$f":"BA85*1+BB85*2+BC85*3+BD85*5+BE85*$C$13","v":0},{"$f":"LEN(BH85)-LEN(SUBSTITUTE(BH85,\"0\",\"\"))","v":0},{"$f":"LEN(BH85)-LEN(SUBSTITUTE(BH85,\"1\",\"\"))","v":0},{"$f":"LEN(BH85)-LEN(SUBSTITUTE(BH85,\"2\",\"\"))","v":0},{"$f":"LEN(BH85)-LEN(SUBSTITUTE(BH85,\"3\",\"\"))","v":0},{"$f":"LEN(BH85)-LEN(SUBSTITUTE(BH85,\"5\",\"\"))","v":0},{"$f":"LEN(BH85)-LEN(SUBSTITUTE(BH85,\"*\",\"\"))","v":0},{"$f":"BJ85/BI85","v":0},null,"",32,0]
[null,null,null,null,null,null,null,null,null,null,null,null,null,null,null,null,null,null,null,null,null,null,null,null,null,null,null,null,null,null,null,null,null,null,null,null,null,null,null,null,null,null,null,null,null,null,null,null,null,null,{"$f":"BA86*1+BB86*2+BC86*3+BD86*5+BE86*$C$13","v":0},{"$f":"LEN(BH86)-LEN(SUBSTITUTE(BH86,\"0\",\"\"))","v":0},{"$f":"LEN(BH86)-LEN(SUBSTITUTE(BH86,\"1\",\"\"))","v":0},{"$f":"LEN(BH86)-LEN(SUBSTITUTE(BH86,\"2\",\"\"))","v":0},{"$f":"LEN(BH86)-LEN(SUBSTITUTE(BH86,\"3\",\"\"))","v":0},{"$f":"LEN(BH86)-LEN(SUBSTITUTE(BH86,\"5\",\"\"))","v":0},{"$f":"LEN(BH86)-LEN(SUBSTITUTE(BH86,\"*\",\"\"))","v":0},{"$f":"BJ86/BI86","v":0},null,{"$f":"CONCATENATE(K86,L86,M86,N86,O86,P86,Q86,R86,S86,T86,U86,V86,W86,X86,Y86,Z86,AA86,AB86,AC86,AD86,AE86,AF86,AG86,AH86,AI86,AJ86,AK86,AL86,AM86,AN86,AO86,AP86,AQ86,AR86,AS86,AT86,AU86,AV86,AW86,AX86)","v":""},{"$f":"$C$11*$C$10","v":32},{"$f":"AZ86+BA86+BB86+BC86+BD86","v":0}]
[null,null,null,null,null,null,null,null,null,null,null,null,null,null,null,null,null,null,null,null,null,null,null,null,null,null,null,null,null,null,null,null,null,null,null,null,null,null,null,null,null,null,null,null,null,null,null,null,null,null,{"$f":"BA87*1+BB87*2+BC87*3+BD87*5+BE87*$C$13","v":0},{"$f":"LEN(BH87)-LEN(SUBSTITUTE(BH87,\"0\",\"\"))","v":0},{"$f":"LEN(BH87)-LEN(SUBSTITUTE(BH87,\"1\",\"\"))","v":0},{"$f":"LEN(BH87)-LEN(SUBSTITUTE(BH87,\"2\",\"\"))","v":0},{"$f":"LEN(BH87)-LEN(SUBSTITUTE(BH87,\"3\",\"\"))","v":0},{"$f":"LEN(BH87)-LEN(SUBSTITUTE(BH87,\"5\",\"\"))","v":0},{"$f":"LEN(BH87)-LEN(SUBSTITUTE(BH87,\"*\",\"\"))","v":0},{"$f":"BJ87/BI87","v":0},null,"",32,0]
[null,null,null,null,null,null,null,null,null,null,null,null,null,null,null,null,null,null,null,null,null,null,null,null,null,null,null,null,null,null,null,null,null,null,null,null,null,null,null,null,null,null,null,null,null,null,null,null,null,null,{"$f":"BA88*1+BB88*2+BC88*3+BD88*5+BE88*$C$13","v":0},{"$f":"LEN(BH88)-LEN(SUBSTITUTE(BH88,\"0\",\"\"))","v":0},{"$f":"LEN(BH88)-LEN(SUBSTITUTE(BH88,\"1\",\"\"))","v":0},{"$f":"LEN(BH88)-LEN(SUBSTITUTE(BH88,\"2\",\"\"))","v":0},{"$f":"LEN(BH88)-LEN(SUBSTITUTE(BH88,\"3\",\"\"))","v":0},{"$f":"LEN(BH88)-LEN(SUBSTITUTE(BH88,\"5\",\"\"))","v":0},{"$f":"LEN(BH88)-LEN(SUBSTITUTE(BH88,\"*\",\"\"))","v":0},{"$f":"BJ88/BI88","v":0},null,"",32,0]
[null,null,null,null,null,null,null,null,null,null,null,null,null,null,null,null,null,null,null,null,null,null,null,null,null,null,null,null,null,null,null,null,null,null,null,null,null,null,null,null,null,null,null,null,null,null,null,null,null,null,{"$f":"BA89*1+BB89*2+BC89*3+BD89*5+BE89*$C$13","v":0},{"$f":"LEN(BH89)-LEN(SUBSTITUTE(BH89,\"0\",\"\"))","v":0},{"$f":"LEN(BH89)-LEN(SUBSTITUTE(BH89,\"1\",\"\"))","v":0},{"$f":"LEN(BH89)-LEN(SUBSTITUTE(BH89,\"2\",\"\"))","v":0},{"$f":"LEN(BH89)-LEN(SUBSTITUTE(BH89,\"3\",\"\"))","v":0},{"$f":"LEN(BH89)-LEN(SUBSTITUTE(BH89,\"5\",\"\"))","v":0},{"$f":"LEN(BH89)-LEN(SUBSTITUTE(BH89,\"*\",\"\"))","v":0},{"$f":"BJ89/BI89","v":0},null,"",32,0]
[null,null,null,null,null,null,null,null,null,null,null,null,null,null,null,null,null,null,null,null,null,null,null,null,null,null,null,null,null,null,null,null,null,null,null,null,null,null,null,null,null,null,null,null,null,null,null,null,null,null,{"$f":"BA90*1+BB90*2+BC90*3+BD90*5+BE90*$C$13","v":0},{"$f":"LEN(BH90)-LEN(SUBSTITUTE(BH90,\"0\",\"\"))","v":0},{"$f":"LEN(BH90)-LEN(SUBSTITUTE(BH90,\"1\",\"\"))","v":0},{"$f":"LEN(BH90)-LEN(SUBSTITUTE(BH90,\"2\",\"\"))","v":0},{"$f":"LEN(BH90)-LEN(SUBSTITUTE(BH90,\"3\",\"\"))","v":0},{"$f":"LEN(BH90)-LEN(SUBSTITUTE(BH90,\"5\",\"\"))","v":0},{"$f":"LEN(BH90)-LEN(SUBSTITUTE(BH90,\"*\",\"\"))","v":0},{"$f":"BJ90/BI90","v":0},null,"",32,0]
[null,null,null,null,null,null,null,null,null,null,null,null,null,null,null,null,null,null,null,null,null,null,null,null,null,null,null,null,null,null,null,null,null,null,null,null,null,null,null,null,null,null,null,null,null,null,null,null,null,null,{"$f":"BA91*1+BB91*2+BC91*3+BD91*5+BE91*$C$13","v":0},{"$f":"LEN(BH91)-LEN(SUBSTITUTE(BH91,\"0\",\"\"))","v":0},{"$f":"LEN(BH91)-LEN(SUBSTITUTE(BH91,\"1\",\"\"))","v":0},{"$f":"LEN(BH91)-LEN(SUBSTITUTE(BH91,\"2\",\"\"))","v":0},{"$f":"LEN(BH91)-LEN(SUBSTITUTE(BH91,\"3\",\"\"))","v":0},{"$f":"LEN(BH91)-LEN(SUBSTITUTE(BH91,\"5\",\"\"))","v":0},{"$f":"LEN(BH91)-LEN(SUBSTITUTE(BH91,\"*\",\"\"))","v":0},{"$f":"BJ91/BI91","v":0},null,"",32,0]
[null,null,null,null,null,null,null,null,null,null,null,null,null,null,null,null,null,null,null,null,null,null,null,null,null,null,null,null,null,null,null,null,null,null,null,null,null,null,null,null,null,null,null,null,null,null,null,null,null,null,{"$f":"BA92*1+BB92*2+BC92*3+BD92*5+BE92*$C$13","v":0},{"$f":"LEN(BH92)-LEN(SUBSTITUTE(BH92,\"0\",\"\"))","v":0},{"$f":"LEN(BH92)-LEN(SUBSTITUTE(BH92,\"1\",\"\"))","v":0},{"$f":"LEN(BH92)-LEN(SUBSTITUTE(BH92,\"2\",\"\"))","v":0},{"$f":"LEN(BH92)-LEN(SUBSTITUTE(BH92,\"3\",\"\"))","v":0},{"$f":"LEN(BH92)-LEN(SUBSTITUTE(BH92,\"5\",\"\"))","v":0},{"$f":"LEN(BH92)-LEN(SUBSTITUTE(BH92,\"*\",\"\"))","v":0},{"$f":"BJ92/BI92","v":0},null,"",32,0]
[null,null,null,null,null,null,null,null,null,null,null,null,null,null,null,null,null,null,null,null,null,null,null,null,null,null,null,null,null,null,null,null,null,null,null,null,null,null,null,null,null,null,null,null,null,null,null,null,null,null,{"$f":"BA93*1+BB93*2+BC93*3+BD93*5+BE93*$C$13","v":0},{"$f":"LEN(BH93)-LEN(SUBSTITUTE(BH93,\"0\",\"\"))","v":0},{"$f":"LEN(BH93)-LEN(SUBSTITUTE(BH93,\"1\",\"\"))","v":0},{"$f":"LEN(BH93)-LEN(SUBSTITUTE(BH93,\"2\",\"\"))","v":0},{"$f":"LEN(BH93)-LEN(SUBSTITUTE(BH93,\"3\",\"\"))","v":0},{"$f":"LEN(BH93)-LEN(SUBSTITUTE(BH93,\"5\",\"\"))","v":0},{"$f":"LEN(BH93)-LEN(SUBSTITUTE(BH93,\"*\",\"\"))","v":0},{"$f":"BJ93/BI93","v":0},null,"",32,0]
[null,null,null,null,null,null,null,null,null,null,null,null,null,null,null,null,null,null,null,null,null,null,null,null,null,null,null,null,null,null,null,null,null,null,null,null,null,null,null,null,null,null,null,null,null,null,null,null,null,null,{"$f":"BA94*1+BB94*2+BC94*3+BD94*5+BE94*$C$13","v":0},{"$f":"LEN(BH94)-LEN(SUBSTITUTE(BH94,\"0\",\"\"))","v":0},{"$f":"LEN(BH94)-LEN(SUBSTITUTE(BH94,\"1\",\"\"))","v":0},{"$f":"LEN(BH94)-LEN(SUBSTITUTE(BH94,\"2\",\"\"))","v":0},{"$f":"LEN(BH94)-LEN(SUBSTITUTE(BH94,\"3\",\"\"))","v":0},{"$f":"LEN(BH94)-LEN(SUBSTITUTE(BH94,\"5\",\"\"))","v":0},{"$f":"LEN(BH94)-LEN(SUBSTITUTE(BH94,\"*\",\"\"))","v":0},{"$f":"BJ94/BI94","v":0},null,"",32,0]
[null,null,null,null,null,null,null,null,null,null,null,null,null,null,null,null,null,null,null,null,null,null,null,null,null,null,null,null,null,null,null,null,null,null,null,null,null,null,null,null,null,null,null,null,null,null,null,null,null,null,{"$f":"BA95*1+BB95*2+BC95*3+BD95*5+BE95*$C$13","v":0},{"$f":"LEN(BH95)-LEN(SUBSTITUTE(BH95,\"0\",\"\"))","v":0},{"$f":"LEN(BH95)-LEN(SUBSTITUTE(BH95,\"1\",\"\"))","v":0},{"$f":"LEN(BH95)-LEN(SUBSTITUTE(BH95,\"2\",\"\"))","v":0},{"$f":"LEN(BH95)-LEN(SUBSTITUTE(BH95,\"3\",\"\"))","v":0},{"$f":"LEN(BH95)-LEN(SUBSTITUTE(BH95,\"5\",\"\"))","v":0},{"$f":"LEN(BH95)-LEN(SUBSTITUTE(BH95,\"*\",\"\"))","v":0},{"$f":"BJ95/BI95","v":0},null,"",32,0]
[null,null,null,null,null,null,null,null,null,null,null,null,null,null,null,null,null,null,null,null,null,null,null,null,null,null,null,null,null,null,null,null,null,null,null,null,null,null,null,null,null,null,null,null,null,null,null,null,null,null,{"$f":"BA96*1+BB96*2+BC96*3+BD96*5+BE96*$C$13","v":0},{"$f":"LEN(BH96)-LEN(SUBSTITUTE(BH96,\"0\",\"\"))","v":0},{"$f":"LEN(BH96)-LEN(SUBSTITUTE(BH96,\"1\",\"\"))","v":0},{"$f":"LEN(BH96)-LEN(SUBSTITUTE(BH96,\"2\",\"\"))","v":0},{"$f":"LEN(BH96)-LEN(SUBSTITUTE(BH96,\"3\",\"\"))","v":0},{"$f":"LEN(BH96)-LEN(SUBSTITUTE(BH96,\"5\",\"\"))","v":0},{"$f":"LEN(BH96)-LEN(SUBSTITUTE(BH96,\"*\",\"\"))","v":0},{"$f":"BJ96/BI96","v":0},null,"",32,0]
[null,null,null,null,null,null,null,null,null,null,null,null,null,null,null,null,null,null,null,null,null,null,null,null,null,null,null,null,null,null,null,null,null,null,null,null,null,null,null,null,null,null,null,null,null,null,null,null,null,null,{"$f":"BA97*1+BB97*2+BC97*3+BD97*5+BE97*$C$13","v":0},{"$f":"LEN(BH97)-LEN(SUBSTITUTE(BH97,\"0\",\"\"))","v":0},{"$f":"LEN(BH97)-LEN(SUBSTITUTE(BH97,\"1\",\"\"))","v":0},{"$f":"LEN(BH97)-LEN(SUBSTITUTE(BH97,\"2\",\"\"))","v":0},{"$f":"LEN(BH97)-LEN(SUBSTITUTE(BH97,\"3\",\"\"))","v":0},{"$f":"LEN(BH97)-LEN(SUBSTITUTE(BH97,\"5\",\"\"))","v":0},{"$f":"LEN(BH97)-LEN(SUBSTITUTE(BH97,\"*\",\"\"))","v":0},{"$f":"BJ97/BI97","v":0},null,"",32,0]
[null,null,null,null,null,null,null,null,null,null,null,null,null,null,null,null,null,null,null,null,null,null,null,null,null,null,null,null,null,null,null,null,null,null,null,null,null,null,null,null,null,null,null,null,null,null,null,null,null,null,{"$f":"BA98*1+BB98*2+BC98*3+BD98*5+BE98*$C$13","v":0},{"$f":"LEN(BH98)-LEN(SUBSTITUTE(BH98,\"0\",\"\"))","v":0},{"$f":"LEN(BH98)-LEN(SUBSTITUTE(BH98,\"1\",\"\"))","v":0},{"$f":"LEN(BH98)-LEN(SUBSTITUTE(BH98,\"2\",\"\"))","v":0},{"$f":"LEN(BH98)-LEN(SUBSTITUTE(BH98,\"3\",\"\"))","v":0},{"$f":"LEN(BH98)-LEN(SUBSTITUTE(BH98,\"5\",\"\"))","v":0},{"$f":"LEN(BH98)-LEN(SUBSTITUTE(BH98,\"*\",\"\"))","v":0},{"$f":"BJ98/BI98","v":0},null,"",32,0]
[null,null,null,null,null,null,null,null,null,null,null,null,null,null,null,null,null,null,null,null,null,null,null,null,null,null,null,null,null,null,null,null,null,null,null,null,null,null,null,null,null,null,null,null,null,null,null,null,null,null,{"$f":"BA99*1+BB99*2+BC99*3+BD99*5+BE99*$C$13","v":0},{"$f":"LEN(BH99)-LEN(SUBSTITUTE(BH99,\"0\",\"\"))","v":0},{"$f":"LEN(BH99)-LEN(SUBSTITUTE(BH99,\"1\",\"\"))","v":0},{"$f":"LEN(BH99)-LEN(SUBSTITUTE(BH99,\"2\",\"\"))","v":0},{"$f":"LEN(BH99)-LEN(SUBSTITUTE(BH99,\"3\",\"\"))","v":0},{"$f":"LEN(BH99)-LEN(SUBSTITUTE(BH99,\"5\",\"\"))","v":0},{"$f":"LEN(BH99)-LEN(SUBSTITUTE(BH99,\"*\",\"\"))","v":0},{"$f":"BJ99/BI99","v":0},null,"",32,0]
[null,null,null,null,null,null,null,null,null,null,null,null,null,null,null,null,null,null,null,null,null,null,null,null,null,null,null,null,null,null,null,null,null,null,null,null,null,null,null,null,null,null,null,null,null,null,null,null,null,null,{"$f":"BA100*1+BB100*2+BC100*3+BD100*5+BE100*$N$10","v":0},{"$f":"LEN(BH100)-LEN(SUBSTITUTE(BH100,\"0\",\"\"))","v":0},{"$f":"LEN(BH100)-LEN(SUBSTITUTE(BH100,\"1\",\"\"))","v":0},{"$f":"LEN(BH100)-LEN(SUBSTITUTE(BH100,\"2\",\"\"))","v":0},{"$f":"LEN(BH100)-LEN(SUBSTITUTE(BH100,\"3\",\"\"))","v":0},{"$f":"LEN(BH100)-LEN(SUBSTITUTE(BH100,\"5\",\"\"))","v":0},{"$f":"LEN(BH100)-LEN(SUBSTITUTE(BH100,\"*\",\"\"))","v":0},{"$f":"BJ100/BI100","v":0},null,"",32,0]
[null,null,null,null,null,null,null,null,null,null,null,null,null,null,null,null,null,null,null,null,null,null,null,null,null,null,null,null,null,null,null,null,null,null,null,null,null,null,null,null,null,null,null,null,null,null,null,null,null,null,{"$f":"BA101*1+BB101*2+BC101*3+BD101*5+BE101*$N$10","v":0},{"$f":"LEN(BH101)-LEN(SUBSTITUTE(BH101,\"0\",\"\"))","v":0},{"$f":"LEN(BH101)-LEN(SUBSTITUTE(BH101,\"1\",\"\"))","v":0},{"$f":"LEN(BH101)-LEN(SUBSTITUTE(BH101,\"2\",\"\"))","v":0},{"$f":"LEN(BH101)-LEN(SUBSTITUTE(BH101,\"3\",\"\"))","v":0},{"$f":"LEN(BH101)-LEN(SUBSTITUTE(BH101,\"5\",\"\"))","v":0},{"$f":"LEN(BH101)-LEN(SUBSTITUTE(BH101,\"*\",\"\"))","v":0},{"$f":"BJ101/BI101","v":0},null,"",32,0]
[null,null,null,null,null,null,null,null,null,null,null,null,null,null,null,null,null,null,null,null,null,null,null,null,null,null,null,null,null,null,null,null,null,null,null,null,null,null,null,null,null,null,null,null,null,null,null,null,null,null,{"$f":"BA102*1+BB102*2+BC102*3+BD102*5+BE102*$N$10","v":0},{"$f":"LEN(BH102)-LEN(SUBSTITUTE(BH102,\"0\",\"\"))","v":0},{"$f":"LEN(BH102)-LEN(SUBSTITUTE(BH102,\"1\",\"\"))","v":0},{"$f":"LEN(BH102)-LEN(SUBSTITUTE(BH102,\"2\",\"\"))","v":0},{"$f":"LEN(BH102)-LEN(SUBSTITUTE(BH102,\"3\",\"\"))","v":0},{"$f":"LEN(BH102)-LEN(SUBSTITUTE(BH102,\"5\",\"\"))","v":0},{"$f":"LEN(BH102)-LEN(SUBSTITUTE(BH102,\"*\",\"\"))","v":0},{"$f":"BJ102/BI102","v":0},null,"",32,0]
[null,null,null,null,null,null,null,null,null,null,null,null,null,null,null,null,null,null,null,null,null,null,null,null,null,null,null,null,null,null,null,null,null,null,null,null,null,null,null,null,null,null,null,null,null,null,null,null,null,null,{"$f":"BA103*1+BB103*2+BC103*3+BD103*5+BE103*$N$10","v":0},{"$f":"LEN(BH103)-LEN(SUBSTITUTE(BH103,\"0\",\"\"))","v":0},{"$f":"LEN(BH103)-LEN(SUBSTITUTE(BH103,\"1\",\"\"))","v":0},{"$f":"LEN(BH103)-LEN(SUBSTITUTE(BH103,\"2\",\"\"))","v":0},{"$f":"LEN(BH103)-LEN(SUBSTITUTE(BH103,\"3\",\"\"))","v":0},{"$f":"LEN(BH103)-LEN(SUBSTITUTE(BH103,\"5\",\"\"))","v":0},{"$f":"LEN(BH103)-LEN(SUBSTITUTE(BH103,\"*\",\"\"))","v":0},{"$f":"BJ103/BI103","v":0},null,"",32,0]
[null,null,null,null,null,null,null,null,null,null,null,null,null,null,null,null,null,null,null,null,null,null,null,null,null,null,null,null,null,null,null,null,null,null,null,null,null,null,null,null,null,null,null,null,null,null,null,null,null,null,{"$f":"BA104*1+BB104*2+BC104*3+BD104*5+BE104*$N$10","v":0},{"$f":"LEN(BH104)-LEN(SUBSTITUTE(BH104,\"0\",\"\"))","v":0},{"$f":"LEN(BH104)-LEN(SUBSTITUTE(BH104,\"1\",\"\"))","v":0},{"$f":"LEN(BH104)-LEN(SUBSTITUTE(BH104,\"2\",\"\"))","v":0},{"$f":"LEN(BH104)-LEN(SUBSTITUTE(BH104,\"3\",\"\"))","v":0},{"$f":"LEN(BH104)-LEN(SUBSTITUTE(BH104,\"5\",\"\"))","v":0},{"$f":"LEN(BH104)-LEN(SUBSTITUTE(BH104,\"*\",\"\"))","v":0},{"$f":"BJ104/BI104","v":0},null,"",32,0]
[null,null,null,null,null,null,null,null,null,null,null,null,null,null,null,null,null,null,null,null,null,null,null,null,null,null,null,null,null,null,null,null,null,null,null,null,null,null,null,null,null,null,null,null,null,null,null,null,null,null,{"$f":"BA105*1+BB105*2+BC105*3+BD105*5+BE105*$N$10","v":0},{"$f":"LEN(BH105)-LEN(SUBSTITUTE(BH105,\"0\",\"\"))","v":0},{"$f":"LEN(BH105)-LEN(SUBSTITUTE(BH105,\"1\",\"\"))","v":0},{"$f":"LEN(BH105)-LEN(SUBSTITUTE(BH105,\"2\",\"\"))","v":0},{"$f":"LEN(BH105)-LEN(SUBSTITUTE(BH105,\"3\",\"\"))","v":0},{"$f":"LEN(BH105)-LEN(SUBSTITUTE(BH105,\"5\",\"\"))","v":0},{"$f":"LEN(BH105)-LEN(SUBSTITUTE(BH105,\"*\",\"\"))","v":0},{"$f":"BJ105/BI105","v":0},null,"",32,0]
[null,null,null,null,null,null,null,null,null,null,null,null,null,null,null,null,null,null,null,null,null,null,null,null,null,null,null,null,null,null,null,null,null,null,null,null,null,null,null,null,null,null,null,null,null,null,null,null,null,null,{"$f":"BA106*1+BB106*2+BC106*3+BD106*5+BE106*$N$10","v":0},{"$f":"LEN(BH106)-LEN(SUBSTITUTE(BH106,\"0\",\"\"))","v":0},{"$f":"LEN(BH106)-LEN(SUBSTITUTE(BH106,\"1\",\"\"))","v":0},{"$f":"LEN(BH106)-LEN(SUBSTITUTE(BH106,\"2\",\"\"))","v":0},{"$f":"LEN(BH106)-LEN(SUBSTITUTE(BH106,\"3\",\"\"))","v":0},{"$f":"LEN(BH106)-LEN(SUBSTITUTE(BH106,\"5\",\"\"))","v":0},{"$f":"LEN(BH106)-LEN(SUBSTITUTE(BH106,\"*\",\"\"))","v":0},{"$f":"BJ106/BI106","v":0},null,"",32,0]
[null,null,null,null,null,null,null,null,null,null,null,null,null,null,null,null,null,null,null,null,null,null,null,null,null,null,null,null,null,null,null,null,null,null,null,null,null,null,null,null,null,null,null,null,null,null,null,null,null,null,{"$f":"BA107*1+BB107*2+BC107*3+BD107*5+BE107*$N$10","v":0},{"$f":"LEN(BH107)-LEN(SUBSTITUTE(BH107,\"0\",\"\"))","v":0},{"$f":"LEN(BH107)-LEN(SUBSTITUTE(BH107,\"1\",\"\"))","v":0},{"$f":"LEN(BH107)-LEN(SUBSTITUTE(BH107,\"2\",\"\"))","v":0},{"$f":"LEN(BH107)-LEN(SUBSTITUTE(BH107,\"3\",\"\"))","v":0},{"$f":"LEN(BH107)-LEN(SUBSTITUTE(BH107,\"5\",\"\"))","v":0},{"$f":"LEN(BH107)-LEN(SUBSTITUTE(BH107,\"*\",\"\"))","v":0},{"$f":"BJ107/BI107","v":0},null,"",32,0]
[null,null,null,null,null,null,null,null,null,null,null,null,null,null,null,null,null,null,null,null,null,null,null,null,null,null,null,null,null,null,null,null,null,null,null,null,null,null,null,null,null,null,null,null,null,null,null,null,null,null,{"$f":"BA108*1+BB108*2+BC108*3+BD108*5+BE108*$N$10","v":0},{"$f":"LEN(BH108)-LEN(SUBSTITUTE(BH108,\"0\",\"\"))","v":0},{"$f":"LEN(BH108)-LEN(SUBSTITUTE(BH108,\"1\",\"\"))","v":0},{"$f":"LEN(BH108)-LEN(SUBSTITUTE(BH108,\"2\",\"\"))","v":0},{"$f":"LEN(BH108)-LEN(SUBSTITUTE(BH108,\"3\",\"\"))","v":0},{"$f":"LEN(BH108)-LEN(SUBSTITUTE(BH108,\"5\",\"\"))","v":0},{"$f":"LEN(BH108)-LEN(SUBSTITUTE(BH108,\"*\",\"\"))","v":0},{"$f":"BJ108/BI108","v":0},null,"",32,0]
[null,null,null,null,null,null,null,null,null,null,null,null,null,null,null,null,null,null,null,null,null,null,null,null,null,null,null,null,null,null,null,null,null,null,null,null,null,null,null,null,null,null,null,null,null,null,null,null,null,null,{"$f":"BA109*1+BB109*2+BC109*3+BD109*5+BE109*$N$10","v":0},{"$f":"LEN(BH109)-LEN(SUBSTITUTE(BH109,\"0\",\"\"))","v":0},{"$f":"LEN(BH109)-LEN(SUBSTITUTE(BH109,\"1\",\"\"))","v":0},{"$f":"LEN(BH109)-LEN(SUBSTITUTE(BH109,\"2\",\"\"))","v":0},{"$f":"LEN(BH109)-LEN(SUBSTITUTE(BH109,\"3\",\"\"))","v":0},{"$f":"LEN(BH109)-LEN(SUBSTITUTE(BH109,\"5\",\"\"))","v":0},{"$f":"LEN(BH109)-LEN(SUBSTITUTE(BH109,\"*\",\"\"))","v":0},{"$f":"BJ109/BI109","v":0},null,"",32,0]
[null,null,null,null,null,null,null,null,null,null,null,null,null,null,null,null,null,null,null,null,null,null,null,null,null,null,null,null,null,null,null,null,null,null,null,null,null,null,null,null,null,null,null,null,null,null,null,null,null,null,{"$f":"BA110*1+BB110*2+BC110*3+BD110*5+BE110*$N$10","v":0},{"$f":"LEN(BH110)-LEN(SUBSTITUTE(BH110,\"0\",\"\"))","v":0},{"$f":"LEN(BH110)-LEN(SUBSTITUTE(BH110,\"1\",\"\"))","v":0},{"$f":"LEN(BH110)-LEN(SUBSTITUTE(BH110,\"2\",\"\"))","v":0},{"$f":"LEN(BH110)-LEN(SUBSTITUTE(BH110,\"3\",\"\"))","v":0},{"$f":"LEN(BH110)-LEN(SUBSTITUTE(BH110,\"5\",\"\"))","v":0},{"$f":"LEN(BH110)-LEN(SUBSTITUTE(BH110,\"*\",\"\"))","v":0},{"$f":"BJ110/BI110","v":0},null,"",32,0]
[null,null,null,null,null,null,null,null,null,null,null,null,null,null,null,null,null,null,null,null,null,null,null,null,null,null,null,null,null,null,null,null,null,null,null,null,null,null,null,null,null,null,null,null,null,null,null,null,null,null,{"$f":"BA111*1+BB111*2+BC111*3+BD111*5+BE111*$N$10","v":0},{"$f":"LEN(BH111)-LEN(SUBSTITUTE(BH111,\"0\",\"\"))","v":0},{"$f":"LEN(BH111)-LEN(SUBSTITUTE(BH111,\"1\",\"\"))","v":0},{"$f":"LEN(BH111)-LEN(SUBSTITUTE(BH111,\"2\",\"\"))","v":0},{"$f":"LEN(BH111)-LEN(SUBSTITUTE(BH111,\"3\",\"\"))","v":0},{"$f":"LEN(BH111)-LEN(SUBSTITUTE(BH111,\"5\",\"\"))","v":0},{"$f":"LEN(BH111)-LEN(SUBSTITUTE(BH111,\"*\",\"\"))","v":0},{"$f":"BJ111/BI111","v":0},null,"",32,0]
[null,null,null,null,null,null,null,null,null,null,null,null,null,null,null,null,null,null,null,null,null,null,null,null,null,null,null,null,null,null,null,null,null,null,null,null,null,null,null,null,null,null,null,null,null,null,null,null,null,null,{"$f":"BA112*1+BB112*2+BC112*3+BD112*5+BE112*$N$10","v":0},{"$f":"LEN(BH112)-LEN(SUBSTITUTE(BH112,\"0\",\"\"))","v":0},{"$f":"LEN(BH112)-LEN(SUBSTITUTE(BH112,\"1\",\"\"))","v":0},{"$f":"LEN(BH112)-LEN(SUBSTITUTE(BH112,\"2\",\"\"))","v":0},{"$f":"LEN(BH112)-LEN(SUBSTITUTE(BH112,\"3\",\"\"))","v":0},{"$f":"LEN(BH112)-LEN(SUBSTITUTE(BH112,\"5\",\"\"))","v":0},{"$f":"LEN(BH112)-LEN(SUBSTITUTE(BH112,\"*\",\"\"))","v":0},{"$f":"BJ112/BI112","v":0},null,"",32,0]
[null,null,null,null,null,null,null,null,null,null,null,null,null,null,null,null,null,null,null,null,null,null,null,null,null,null,null,null,null,null,null,null,null,null,null,null,null,null,null,null,null,null,null,null,null,null,null,null,null,null,{"$f":"BA113*1+BB113*2+BC113*3+BD113*5+BE113*$N$10","v":0},{"$f":"LEN(BH113)-LEN(SUBSTITUTE(BH113,\"0\",\"\"))","v":0},{"$f":"LEN(BH113)-LEN(SUBSTITUTE(BH113,\"1\",\"\"))","v":0},{"$f":"LEN(BH113)-LEN(SUBSTITUTE(BH113,\"2\",\"\"))","v":0},{"$f":"LEN(BH113)-LEN(SUBSTITUTE(BH113,\"3\",\"\"))","v":0},{"$f":"LEN(BH113)-LEN(SUBSTITUTE(BH113,\"5\",\"\"))","v":0},{"$f":"LEN(BH113)-LEN(SUBSTITUTE(BH113,\"*\",\"\"))","v":0},{"$f":"BJ113/BI113","v":0},null,"",32,0]
[null,null,null,null,null,null,null,null,null,null,null,null,null,null,null,null,null,null,null,null,null,null,null,null,null,null,null,null,null,null,null,null,null,null,null,null,null,null,null,null,null,null,null,null,null,null,null,null,null,null,{"$f":"BA114*1+BB114*2+BC114*3+BD114*5+BE114*$N$10","v":0},{"$f":"LEN(BH114)-LEN(SUBSTITUTE(BH114,\"0\",\"\"))","v":0},{"$f":"LEN(BH114)-LEN(SUBSTITUTE(BH114,\"1\",\"\"))","v":0},{"$f":"LEN(BH114)-LEN(SUBSTITUTE(BH114,\"2\",\"\"))","v":0},{"$f":"LEN(BH114)-LEN(SUBSTITUTE(BH114,\"3\",\"\"))","v":0},{"$f":"LEN(BH114)-LEN(SUBSTITUTE(BH114,\"5\",\"\"))","v":0},{"$f":"LEN(BH114)-LEN(SUBSTITUTE(BH114,\"*\",\"\"))","v":0},{"$f":"BJ114/BI114","v":0},null,"",32,0]
[null,null,null,null,null,null,null,null,null,null,null,null,null,null,null,null,null,null,null,null,null,null,null,null,null,null,null,null,null,null,null,null,null,null,null,null,null,null,null,null,null,null,null,null,null,null,null,null,null,null,{"$f":"BA115*1+BB115*2+BC115*3+BD115*5+BE115*$N$10","v":0},{"$f":"LEN(BH115)-LEN(SUBSTITUTE(BH115,\"0\",\"\"))","v":0},{"$f":"LEN(BH115)-LEN(SUBSTITUTE(BH115,\"1\",\"\"))","v":0},{"$f":"LEN(BH115)-LEN(SUBSTITUTE(BH115,\"2\",\"\"))","v":0},{"$f":"LEN(BH115)-LEN(SUBSTITUTE(BH115,\"3\",\"\"))","v":0},{"$f":"LEN(BH115)-LEN(SUBSTITUTE(BH115,\"5\",\"\"))","v":0},{"$f":"LEN(BH115)-LEN(SUBSTITUTE(BH115,\"*\",\"\"))","v":0},{"$f":"BJ115/BI115","v":0},null,"",32,0]
[null,null,null,null,null,null,null,null,null,null,null,null,null,null,null,null,null,null,null,null,null,null,null,null,null,null,null,null,null,null,null,null,null,null,null,null,null,null,null,null,null,null,null,null,null,null,null,null,null,null,{"$f":"BA116*1+BB116*2+BC116*3+BD116*5+BE116*$N$10","v":0},{"$f":"LEN(BH116)-LEN(SUBSTITUTE(BH116,\"0\",\"\"))","v":0},{"$f":"LEN(BH116)-LEN(SUBSTITUTE(BH116,\"1\",\"\"))","v":0},{"$f":"LEN(BH116)-LEN(SUBSTITUTE(BH116,\"2\",\"\"))","v":0},{"$f":"LEN(BH116)-LEN(SUBSTITUTE(BH116,\"3\",\"\"))","v":0},{"$f":"LEN(BH116)-LEN(SUBSTITUTE(BH116,\"5\",\"\"))","v":0},{"$f":"LEN(BH116)-LEN(SUBSTITUTE(BH116,\"*\",\"\"))","v":0},{"$f":"BJ116/BI116","v":0},null,"",32,0]
[null,null,null,null,null,null,null,null,null,null,null,null,null,null,null,null,null,null,null,null,null,null,null,null,null,null,null,null,null,null,null,null,null,null,null,null,null,null,null,null,null,null,null,null,null,null,null,null,null,null,{"$f":"BA117*1+BB117*2+BC117*3+BD117*5+BE117*$N$10","v":0},{"$f":"LEN(BH117)-LEN(SUBSTITUTE(BH117,\"0\",\"\"))","v":0},{"$f":"LEN(BH117)-LEN(SUBSTITUTE(BH117,\"1\",\"\"))","v":0},{"$f":"LEN(BH117)-LEN(SUBSTITUTE(BH117,\"2\",\"\"))","v":0},{"$f":"LEN(BH117)-LEN(SUBSTITUTE(BH117,\"3\",\"\"))","v":0},{"$f":"LEN(BH117)-LEN(SUBSTITUTE(BH117,\"5\",\"\"))","v":0},{"$f":"LEN(BH117)-LEN(SUBSTITUTE(BH117,\"*\",\"\"))","v":0},{"$f":"BJ117/BI117","v":0},null,"",32,0]
[null,null,null,null,null,null,null,null,null,null,null,null,null,null,null,null,null,null,null,null,null,null,null,null,null,null,null,null,null,null,null,null,null,null,null,null,null,null,null,null,null,null,null,null,null,null,null,null,null,null,{"$f":"BA118*1+BB118*2+BC118*3+BD118*5+BE118*$N$10","v":0},{"$f":"LEN(BH118)-LEN(SUBSTITUTE(BH118,\"0\",\"\"))","v":0},{"$f":"LEN(BH118)-LEN(SUBSTITUTE(BH118,\"1\",\"\"))","v":0},{"$f":"LEN(BH118)-LEN(SUBSTITUTE(BH118,\"2\",\"\"))","v":0},{"$f":"LEN(BH118)-LEN(SUBSTITUTE(BH118,\"3\",\"\"))","v":0},{"$f":"LEN(BH118)-LEN(SUBSTITUTE(BH118,\"5\",\"\"))","v":0},{"$f":"LEN(BH118)-LEN(SUBSTITUTE(BH118,\"*\",\"\"))","v":0},{"$f":"BJ118/BI118","v":0},null,"",32,0]
[null,null,null,null,null,null,null,null,null,null,null,null,null,null,null,null,null,null,null,null,null,null,null,null,null,null,null,null,null,null,null,null,null,null,null,null,null,null,null,null,null,null,null,null,null,null,null,null,null,null,{"$f":"BA119*1+BB119*2+BC119*3+BD119*5+BE119*$N$10","v":0},{"$f":"LEN(BH119)-LEN(SUBSTITUTE(BH119,\"0\",\"\"))","v":0},{"$f":"LEN(BH119)-LEN(SUBSTITUTE(BH119,\"1\",\"\"))","v":0},{"$f":"LEN(BH119)-LEN(SUBSTITUTE(BH119,\"2\",\"\"))","v":0},{"$f":"LEN(BH119)-LEN(SUBSTITUTE(BH119,\"3\",\"\"))","v":0},{"$f":"LEN(BH119)-LEN(SUBSTITUTE(BH119,\"5\",\"\"))","v":0},{"$f":"LEN(BH119)-LEN(SUBSTITUTE(BH119,\"*\",\"\"))","v":0},{"$f":"BJ119/BI119","v":0},null,"",32,0]
[null,null,null,null,null,null,null,null,null,null,null,null,null,null,null,null,null,null,null,null,null,null,null,null,null,null,null,null,null,null,null,null,null,null,null,null,null,null,null,null,null,null,null,null,null,null,null,null,null,null,{"$f":"BA120*1+BB120*2+BC120*3+BD120*5+BE120*$N$10","v":0},{"$f":"LEN(BH120)-LEN(SUBSTITUTE(BH120,\"0\",\"\"))","v":0},{"$f":"LEN(BH120)-LEN(SUBSTITUTE(BH120,\"1\",\"\"))","v":0},{"$f":"LEN(BH120)-LEN(SUBSTITUTE(BH120,\"2\",\"\"))","v":0},{"$f":"LEN(BH120)-LEN(SUBSTITUTE(BH120,\"3\",\"\"))","v":0},{"$f":"LEN(BH120)-LEN(SUBSTITUTE(BH120,\"5\",\"\"))","v":0},{"$f":"LEN(BH120)-LEN(SUBSTITUTE(BH120,\"*\",\"\"))","v":0},{"$f":"BJ120/BI120","v":0},null,"",32,0]
[null,null,null,null,null,null,null,null,null,null,null,null,null,null,null,null,null,null,null,null,null,null,null,null,null,null,null,null,null,null,null,null,null,null,null,null,null,null,null,null,null,null,null,null,null,null,null,null,null,null,{"$f":"BA121*1+BB121*2+BC121*3+BD121*5+BE121*$N$10","v":0},{"$f":"LEN(BH121)-LEN(SUBSTITUTE(BH121,\"0\",\"\"))","v":0},{"$f":"LEN(BH121)-LEN(SUBSTITUTE(BH121,\"1\",\"\"))","v":0},{"$f":"LEN(BH121)-LEN(SUBSTITUTE(BH121,\"2\",\"\"))","v":0},{"$f":"LEN(BH121)-LEN(SUBSTITUTE(BH121,\"3\",\"\"))","v":0},{"$f":"LEN(BH121)-LEN(SUBSTITUTE(BH121,\"5\",\"\"))","v":0},{"$f":"LEN(BH121)-LEN(SUBSTITUTE(BH121,\"*\",\"\"))","v":0},{"$f":"BJ121/BI121","v":0},null,"",32,0]
[null,null,null,null,null,null,null,null,null,null,null,null,null,null,null,null,null,null,null,null,null,null,null,null,null,null,null,null,null,null,null,null,null,null,null,null,null,null,null,null,null,null,null,null,null,null,null,null,null,null,{"$f":"BA122*1+BB122*2+BC122*3+BD122*5+BE122*$N$10","v":0},{"$f":"LEN(BH122)-LEN(SUBSTITUTE(BH122,\"0\",\"\"))","v":0},{"$f":"LEN(BH122)-LEN(SUBSTITUTE(BH122,\"1\",\"\"))","v":0},{"$f":"LEN(BH122)-LEN(SUBSTITUTE(BH122,\"2\",\"\"))","v":0},{"$f":"LEN(BH122)-LEN(SUBSTITUTE(BH122,\"3\",\"\"))","v":0},{"$f":"LEN(BH122)-LEN(SUBSTITUTE(BH122,\"5\",\"\"))","v":0},{"$f":"LEN(BH122)-LEN(SUBSTITUTE(BH122,\"*\",\"\"))","v":0},{"$f":"BJ122/BI122","v":0},null,"",32,0]
[null,null,null,null,null,null,null,null,null,null,null,null,null,null,null,null,null,null,null,null,null,null,null,null,null,null,null,null,null,null,null,null,null,null,null,null,null,null,null,null,null,null,null,null,null,null,null,null,null,null,{"$f":"BA123*1+BB123*2+BC123*3+BD123*5+BE123*$N$10","v":0},{"$f":"LEN(BH123)-LEN(SUBSTITUTE(BH123,\"0\",\"\"))","v":0},{"$f":"LEN(BH123)-LEN(SUBSTITUTE(BH123,\"1\",\"\"))","v":0},{"$f":"LEN(BH123)-LEN(SUBSTITUTE(BH123,\"2\",\"\"))","v":0},{"$f":"LEN(BH123)-LEN(SUBSTITUTE(BH123,\"3\",\"\"))","v":0},{"$f":"LEN(BH123)-LEN(SUBSTITUTE(BH123,\"5\",\"\"))","v":0},{"$f":"LEN(BH123)-LEN(SUBSTITUTE(BH123,\"*\",\"\"))","v":0},{"$f":"BJ123/BI123","v":0},null,"",32,0]
[null,null,null,null,null,null,null,null,null,null,null,null,null,null,null,null,null,null,null,null,null,null,null,null,null,null,null,null,null,null,null,null,null,null,null,null,null,null,null,null,null,null,null,null,null,null,null,null,null,null,{"$f":"BA124*1+BB124*2+BC124*3+BD124*5+BE124*$N$10","v":0},{"$f":"LEN(BH124)-LEN(SUBSTITUTE(BH124,\"0\",\"\"))","v":0},{"$f":"LEN(BH124)-LEN(SUBSTITUTE(BH124,\"1\",\"\"))","v":0},{"$f":"LEN(BH124)-LEN(SUBSTITUTE(BH124,\"2\",\"\"))","v":0},{"$f":"LEN(BH124)-LEN(SUBSTITUTE(BH124,\"3\",\"\"))","v":0},{"$f":"LEN(BH124)-LEN(SUBSTITUTE(BH124,\"5\",\"\"))","v":0},{"$f":"LEN(BH124)-LEN(SUBSTITUTE(BH124,\"*\",\"\"))","v":0},{"$f":"BJ124/BI124","v":0},null,"",32,0]
[null,null,null,null,null,null,null,null,null,null,null,null,null,null,null,null,null,null,null,null,null,null,null,null,null,null,null,null,null,null,null,null,null,null,null,null,null,null,null,null,null,null,null,null,null,null,null,null,null,null,{"$f":"BA125*1+BB125*2+BC125*3+BD125*5+BE125*$N$10","v":0},{"$f":"LEN(BH125)-LEN(SUBSTITUTE(BH125,\"0\",\"\"))","v":0},{"$f":"LEN(BH125)-LEN(SUBSTITUTE(BH125,\"1\",\"\"))","v":0},{"$f":"LEN(BH125)-LEN(SUBSTITUTE(BH125,\"2\",\"\"))","v":0},{"$f":"LEN(BH125)-LEN(SUBSTITUTE(BH125,\"3\",\"\"))","v":0},{"$f":"LEN(BH125)-LEN(SUBSTITUTE(BH125,\"5\",\"\"))","v":0},{"$f":"LEN(BH125)-LEN(SUBSTITUTE(BH125,\"*\",\"\"))","v":0},{"$f":"BJ125/BI125","v":0},null,"",32,0]
[null,null,null,null,null,null,null,null,null,null,null,null,null,null,null,null,null,null,null,null,null,null,null,null,null,null,null,null,null,null,null,null,null,null,null,null,null,null,null,null,null,null,null,null,null,null,null,null,null,null,{"$f":"BA126*1+BB126*2+BC126*3+BD126*5+BE126*$N$10","v":0},{"$f":"LEN(BH126)-LEN(SUBSTITUTE(BH126,\"0\",\"\"))","v":0},{"$f":"LEN(BH126)-LEN(SUBSTITUTE(BH126,\"1\",\"\"))","v":0},{"$f":"LEN(BH126)-LEN(SUBSTITUTE(BH126,\"2\",\"\"))","v":0},{"$f":"LEN(BH126)-LEN(SUBSTITUTE(BH126,\"3\",\"\"))","v":0},{"$f":"LEN(BH126)-LEN(SUBSTITUTE(BH126,\"5\",\"\"))","v":0},{"$f":"LEN(BH126)-LEN(SUBSTITUTE(BH126,\"*\",\"\"))","v":0},{"$f":"BJ126/BI126","v":0},null,"",32,0]
[null,null,null,null,null,null,null,null,null,null,null,null,null,null,null,null,null,null,null,null,null,null,null,null,null,null,null,null,null,null,null,null,null,null,null,null,null,null,null,null,null,null,null,null,null,null,null,null,null,null,{"$f":"BA127*1+BB127*2+BC127*3+BD127*5+BE127*$N$10","v":0},{"$f":"LEN(BH127)-LEN(SUBSTITUTE(BH127,\"0\",\"\"))","v":0},{"$f":"LEN(BH127)-LEN(SUBSTITUTE(BH127,\"1\",\"\"))","v":0},{"$f":"LEN(BH127)-LEN(SUBSTITUTE(BH127,\"2\",\"\"))","v":0},{"$f":"LEN(BH127)-LEN(SUBSTITUTE(BH127,\"3\",\"\"))","v":0},{"$f":"LEN(BH127)-LEN(SUBSTITUTE(BH127,\"5\",\"\"))","v":0},{"$f":"LEN(BH127)-LEN(SUBSTITUTE(BH127,\"*\",\"\"))","v":0},{"$f":"BJ127/BI127","v":0},null,"",32,0]
[null,null,null,null,null,null,null,null,null,null,null,null,null,null,null,null,null,null,null,null,null,null,null,null,null,null,null,null,null,null,null,null,null,null,null,null,null,null,null,null,null,null,null,null,null,null,null,null,null,null,{"$f":"BA128*1+BB128*2+BC128*3+BD128*5+BE128*$N$10","v":0},{"$f":"LEN(BH128)-LEN(SUBSTITUTE(BH128,\"0\",\"\"))","v":0},{"$f":"LEN(BH128)-LEN(SUBSTITUTE(BH128,\"1\",\"\"))","v":0},{"$f":"LEN(BH128)-LEN(SUBSTITUTE(BH128,\"2\",\"\"))","v":0},{"$f":"LEN(BH128)-LEN(SUBSTITUTE(BH128,\"3\",\"\"))","v":0},{"$f":"LEN(BH128)-LEN(SUBSTITUTE(BH128,\"5\",\"\"))","v":0},{"$f":"LEN(BH128)-LEN(SUBSTITUTE(BH128,\"*\",\"\"))","v":0},{"$f":"BJ128/BI128","v":0},null,"",32,0]
[null,null,null,null,null,null,null,null,null,null,null,null,null,null,null,null,null,null,null,null,null,null,null,null,null,null,null,null,null,null,null,null,null,null,null,null,null,null,null,null,null,null,null,null,null,null,null,null,null,null,{"$f":"BA129*1+BB129*2+BC129*3+BD129*5+BE129*$N$10","v":0},{"$f":"LEN(BH129)-LEN(SUBSTITUTE(BH129,\"0\",\"\"))","v":0},{"$f":"LEN(BH129)-LEN(SUBSTITUTE(BH129,\"1\",\"\"))","v":0},{"$f":"LEN(BH129)-LEN(SUBSTITUTE(BH129,\"2\",\"\"))","v":0},{"$f":"LEN(BH129)-LEN(SUBSTITUTE(BH129,\"3\",\"\"))","v":0},{"$f":"LEN(BH129)-LEN(SUBSTITUTE(BH129,\"5\",\"\"))","v":0},{"$f":"LEN(BH129)-LEN(SUBSTITUTE(BH129,\"*\",\"\"))","v":0},{"$f":"BJ129/BI129","v":0},null,"",32,0]
[null,null,null,null,null,null,null,null,null,null,null,null,null,null,null,null,null,null,null,null,null,null,null,null,null,null,null,null,null,null,null,null,null,null,null,null,null,null,null,null,null,null,null,null,null,null,null,null,null,null,{"$f":"BA130*1+BB130*2+BC130*3+BD130*5+BE130*$N$10","v":0},{"$f":"LEN(BH130)-LEN(SUBSTITUTE(BH130,\"0\",\"\"))","v":0},{"$f":"LEN(BH130)-LEN(SUBSTITUTE(BH130,\"1\",\"\"))","v":0},{"$f":"LEN(BH130)-LEN(SUBSTITUTE(BH130,\"2\",\"\"))","v":0},{"$f":"LEN(BH130)-LEN(SUBSTITUTE(BH130,\"3\",\"\"))","v":0},{"$f":"LEN(BH130)-LEN(SUBSTITUTE(BH130,\"5\",\"\"))","v":0},{"$f":"LEN(BH130)-LEN(SUBSTITUTE(BH130,\"*\",\"\"))","v":0},{"$f":"BJ130/BI130","v":0},null,"",32,0]
[null,null,null,null,null,null,null,null,null,null,null,null,null,null,null,null,null,null,null,null,null,null,null,null,null,null,null,null,null,null,null,null,null,null,null,null,null,null,null,null,null,null,null,null,null,null,null,null,null,null,{"$f":"BA131*1+BB131*2+BC131*3+BD131*5+BE131*$N$10","v":0},{"$f":"LEN(BH131)-LEN(SUBSTITUTE(BH131,\"0\",\"\"))","v":0},{"$f":"LEN(BH131)-LEN(SUBSTITUTE(BH131,\"1\",\"\"))","v":0},{"$f":"LEN(BH131)-LEN(SUBSTITUTE(BH131,\"2\",\"\"))","v":0},{"$f":"LEN(BH131)-LEN(SUBSTITUTE(BH131,\"3\",\"\"))","v":0},{"$f":"LEN(BH131)-LEN(SUBSTITUTE(BH131,\"5\",\"\"))","v":0},{"$f":"LEN(BH131)-LEN(SUBSTITUTE(BH131,\"*\",\"\"))","v":0},{"$f":"BJ131/BI131","v":0},null,"",32,0]
[null,null,null,null,null,null,null,null,null,null,null,null,null,null,null,null,null,null,null,null,null,null,null,null,null,null,null,null,null,null,null,null,null,null,null,null,null,null,null,null,null,null,null,null,null,null,null,null,null,null,{"$f":"BA132*1+BB132*2+BC132*3+BD132*5+BE132*$N$10","v":0},{"$f":"LEN(BH132)-LEN(SUBSTITUTE(BH132,\"0\",\"\"))","v":0},{"$f":"LEN(BH132)-LEN(SUBSTITUTE(BH132,\"1\",\"\"))","v":0},{"$f":"LEN(BH132)-LEN(SUBSTITUTE(BH132,\"2\",\"\"))","v":0},{"$f":"LEN(BH132)-LEN(SUBSTITUTE(BH132,\"3\",\"\"))","v":0},{"$f":"LEN(BH132)-LEN(SUBSTITUTE(BH132,\"5\",\"\"))","v":0},{"$f":"LEN(BH132)-LEN(SUBSTITUTE(BH132,\"*\",\"\"))","v":0},{"$f":"BJ132/BI132","v":0},null,"",32,0]
[null,null,null,null,null,null,null,null,null,null,null,null,null,null,null,null,null,null,null,null,null,null,null,null,null,null,null,null,null,null,null,null,null,null,null,null,null,null,null,null,null,null,null,null,null,null,null,null,null,null,{"$f":"BA133*1+BB133*2+BC133*3+BD133*5+BE133*$N$10","v":0},{"$f":"LEN(BH133)-LEN(SUBSTITUTE(BH133,\"0\",\"\"))","v":0},{"$f":"LEN(BH133)-LEN(SUBSTITUTE(BH133,\"1\",\"\"))","v":0},{"$f":"LEN(BH133)-LEN(SUBSTITUTE(BH133,\"2\",\"\"))","v":0},{"$f":"LEN(BH133)-LEN(SUBSTITUTE(BH133,\"3\",\"\"))","v":0},{"$f":"LEN(BH133)-LEN(SUBSTITUTE(BH133,\"5\",\"\"))","v":0},{"$f":"LEN(BH133)-LEN(SUBSTITUTE(BH133,\"*\",\"\"))","v":0},{"$f":"BJ133/BI133","v":0},null,"",32,0]
[null,null,null,null,null,null,null,null,null,null,null,null,null,null,null,null,null,null,null,null,null,null,null,null,null,null,null,null,null,null,null,null,null,null,null,null,null,null,null,null,null,null,null,null,null,null,null,null,null,null,{"$f":"BA134*1+BB134*2+BC134*3+BD134*5+BE134*$N$10","v":0},{"$f":"LEN(BH134)-LEN(SUBSTITUTE(BH134,\"0\",\"\"))","v":0},{"$f":"LEN(BH134)-LEN(SUBSTITUTE(BH134,\"1\",\"\"))","v":0},{"$f":"LEN(BH134)-LEN(SUBSTITUTE(BH134,\"2\",\"\"))","v":0},{"$f":"LEN(BH134)-LEN(SUBSTITUTE(BH134,\"3\",\"\"))","v":0},{"$f":"LEN(BH134)-LEN(SUBSTITUTE(BH134,\"5\",\"\"))","v":0},{"$f":"LEN(BH134)-LEN(SUBSTITUTE(BH134,\"*\",\"\"))","v":0},{"$f":"BJ134/BI134","v":0},null,"",32,0]
[null,null,null,null,null,null,null,null,null,null,null,null,null,null,null,null,null,null,null,null,null,null,null,null,null,null,null,null,null,null,null,null,null,null,null,null,null,null,null,null,null,null,null,null,null,null,null,null,null,null,{"$f":"BA135*1+BB135*2+BC135*3+BD135*5+BE135*$N$10","v":0},{"$f":"LEN(BH135)-LEN(SUBSTITUTE(BH135,\"0\",\"\"))","v":0},{"$f":"LEN(BH135)-LEN(SUBSTITUTE(BH135,\"1\",\"\"))","v":0},{"$f":"LEN(BH135)-LEN(SUBSTITUTE(BH135,\"2\",\"\"))","v":0},{"$f":"LEN(BH135)-LEN(SUBSTITUTE(BH135,\"3\",\"\"))","v":0},{"$f":"LEN(BH135)-LEN(SUBSTITUTE(BH135,\"5\",\"\"))","v":0},{"$f":"LEN(BH135)-LEN(SUBSTITUTE(BH135,\"*\",\"\"))","v":0},{"$f":"BJ135/BI135","v":0},null,"",32,0]
[null,null,null,null,null,null,null,null,null,null,null,null,null,null,null,null,null,null,null,null,null,null,null,null,null,null,null,null,null,null,null,null,null,null,null,null,null,null,null,null,null,null,null,null,null,null,null,null,null,null,{"$f":"BA136*1+BB136*2+BC136*3+BD136*5+BE136*$N$10","v":0},{"$f":"LEN(BH136)-LEN(SUBSTITUTE(BH136,\"0\",\"\"))","v":0},{"$f":"LEN(BH136)-LEN(SUBSTITUTE(BH136,\"1\",\"\"))","v":0},{"$f":"LEN(BH136)-LEN(SUBSTITUTE(BH136,\"2\",\"\"))","v":0},{"$f":"LEN(BH136)-LEN(SUBSTITUTE(BH136,\"3\",\"\"))","v":0},{"$f":"LEN(BH136)-LEN(SUBSTITUTE(BH136,\"5\",\"\"))","v":0},{"$f":"LEN(BH136)-LEN(SUBSTITUTE(BH136,\"*\",\"\"))","v":0},{"$f":"BJ136/BI136","v":0},null,"",32,0]
[null,null,null,null,null,null,null,null,null,null,null,null,null,null,null,null,null,null,null,null,null,null,null,null,null,null,null,null,null,null,null,null,null,null,null,null,null,null,null,null,null,null,null,null,null,null,null,null,null,null,{"$f":"BA137*1+BB137*2+BC137*3+BD137*5+BE137*$N$10","v":0},{"$f":"LEN(BH137)-LEN(SUBSTITUTE(BH137,\"0\",\"\"))","v":0},{"$f":"LEN(BH137)-LEN(SUBSTITUTE(BH137,\"1\",\"\"))","v":0},{"$f":"LEN(BH137)-LEN(SUBSTITUTE(BH137,\"2\",\"\"))","v":0},{"$f":"LEN(BH137)-LEN(SUBSTITUTE(BH137,\"3\",\"\"))","v":0},{"$f":"LEN(BH137)-LEN(SUBSTITUTE(BH137,\"5\",\"\"))","v":0},{"$f":"LEN(BH137)-LEN(SUBSTITUTE(BH137,\"*\",\"\"))","v":0},{"$f":"BJ137/BI137","v":0},null,"",32,0]
[null,null,null,null,null,null,null,null,null,null,null,null,null,null,null,null,null,null,null,null,null,null,null,null,null,null,null,null,null,null,null,null,null,null,null,null,null,null,null,null,null,null,null,null,null,null,null,null,null,null,{"$f":"BA138*1+BB138*2+BC138*3+BD138*5+BE138*$N$10","v":0},{"$f":"LEN(BH138)-LEN(SUBSTITUTE(BH138,\"0\",\"\"))","v":0},{"$f":"LEN(BH138)-LEN(SUBSTITUTE(BH138,\"1\",\"\"))","v":0},{"$f":"LEN(BH138)-LEN(SUBSTITUTE(BH138,\"2\",\"\"))","v":0},{"$f":"LEN(BH138)-LEN(SUBSTITUTE(BH138,\"3\",\"\"))","v":0},{"$f":"LEN(BH138)-LEN(SUBSTITUTE(BH138,\"5\",\"\"))","v":0},{"$f":"LEN(BH138)-LEN(SUBSTITUTE(BH138,\"*\",\"\"))","v":0},{"$f":"BJ138/BI138","v":0},null,"",32,0]
[null,null,null,null,null,null,null,null,null,null,null,null,null,null,null,null,null,null,null,null,null,null,null,null,null,null,null,null,null,null,null,null,null,null,null,null,null,null,null,null,null,null,null,null,null,null,null,null,null,null,{"$f":"BA139*1+BB139*2+BC139*3+BD139*5+BE139*$N$10","v":0},{"$f":"LEN(BH139)-LEN(SUBSTITUTE(BH139,\"0\",\"\"))","v":0},{"$f":"LEN(BH139)-LEN(SUBSTITUTE(BH139,\"1\",\"\"))","v":0},{"$f":"LEN(BH139)-LEN(SUBSTITUTE(BH139,\"2\",\"\"))","v":0},{"$f":"LEN(BH139)-LEN(SUBSTITUTE(BH139,\"3\",\"\"))","v":0},{"$f":"LEN(BH139)-LEN(SUBSTITUTE(BH139,\"5\",\"\"))","v":0},{"$f":"LEN(BH139)-LEN(SUBSTITUTE(BH139,\"*\",\"\"))","v":0},{"$f":"BJ139/BI139","v":0},null,"",32,0]
[null,null,null,null,null,null,null,null,null,null,null,null,null,null,null,null,null,null,null,null,null,null,null,null,null,null,null,null,null,null,null,null,null,null,null,null,null,null,null,null,null,null,null,null,null,null,null,null,null,null,{"$f":"BA140*1+BB140*2+BC140*3+BD140*5+BE140*$N$10","v":0},{"$f":"LEN(BH140)-LEN(SUBSTITUTE(BH140,\"0\",\"\"))","v":0},{"$f":"LEN(BH140)-LEN(SUBSTITUTE(BH140,\"1\",\"\"))","v":0},{"$f":"LEN(BH140)-LEN(SUBSTITUTE(BH140,\"2\",\"\"))","v":0},{"$f":"LEN(BH140)-LEN(SUBSTITUTE(BH140,\"3\",\"\"))","v":0},{"$f":"LEN(BH140)-LEN(SUBSTITUTE(BH140,\"5\",\"\"))","v":0},{"$f":"LEN(BH140)-LEN(SUBSTITUTE(BH140,\"*\",\"\"))","v":0},{"$f":"BJ140/BI140","v":0},null,"",32,0]
[null,null,null,null,null,null,null,null,null,null,null,null,null,null,null,null,null,null,null,null,null,null,null,null,null,null,null,null,null,null,null,null,null,null,null,null,null,null,null,null,null,null,null,null,null,null,null,null,null,null,{"$f":"BA141*1+BB141*2+BC141*3+BD141*5+BE141*$N$10","v":0},{"$f":"LEN(BH141)-LEN(SUBSTITUTE(BH141,\"0\",\"\"))","v":0},{"$f":"LEN(BH141)-LEN(SUBSTITUTE(BH141,\"1\",\"\"))","v":0},{"$f":"LEN(BH141)-LEN(SUBSTITUTE(BH141,\"2\",\"\"))","v":0},{"$f":"LEN(BH141)-LEN(SUBSTITUTE(BH141,\"3\",\"\"))","v":0},{"$f":"LEN(BH141)-LEN(SUBSTITUTE(BH141,\"5\",\"\"))","v":0},{"$f":"LEN(BH141)-LEN(SUBSTITUTE(BH141,\"*\",\"\"))","v":0},{"$f":"BJ141/BI141","v":0},null,"",32,0]
[null,null,null,null,null,null,null,null,null,null,null,null,null,null,null,null,null,null,null,null,null,null,null,null,null,null,null,null,null,null,null,null,null,null,null,null,null,null,null,null,null,null,null,null,null,null,null,null,null,null,{"$f":"BA142*1+BB142*2+BC142*3+BD142*5+BE142*$N$10","v":0},{"$f":"LEN(BH142)-LEN(SUBSTITUTE(BH142,\"0\",\"\"))","v":0},{"$f":"LEN(BH142)-LEN(SUBSTITUTE(BH142,\"1\",\"\"))","v":0},{"$f":"LEN(BH142)-LEN(SUBSTITUTE(BH142,\"2\",\"\"))","v":0},{"$f":"LEN(BH142)-LEN(SUBSTITUTE(BH142,\"3\",\"\"))","v":0},{"$f":"LEN(BH142)-LEN(SUBSTITUTE(BH142,\"5\",\"\"))","v":0},{"$f":"LEN(BH142)-LEN(SUBSTITUTE(BH142,\"*\",\"\"))","v":0},{"$f":"BJ142/BI142","v":0},null,"",32,0]
[null,null,null,null,null,null,null,null,null,null,null,null,null,null,null,null,null,null,null,null,null,null,null,null,null,null,null,null,null,null,null,null,null,null,null,null,null,null,null,null,null,null,null,null,null,null,null,null,null,null,{"$f":"BA143*1+BB143*2+BC143*3+BD143*5+BE143*$N$10","v":0},{"$f":"LEN(BH143)-LEN(SUBSTITUTE(BH143,\"0\",\"\"))","v":0},{"$f":"LEN(BH143)-LEN(SUBSTITUTE(BH143,\"1\",\"\"))","v":0},{"$f":"LEN(BH143)-LEN(SUBSTITUTE(BH143,\"2\",\"\"))","v":0},{"$f":"LEN(BH143)-LEN(SUBSTITUTE(BH143,\"3\",\"\"))","v":0},{"$f":"LEN(BH143)-LEN(SUBSTITUTE(BH143,\"5\",\"\"))","v":0},{"$f":"LEN(BH143)-LEN(SUBSTITUTE(BH143,\"*\",\"\"))","v":0},{"$f":"BJ143/BI143","v":0},null,"",32,0]
[null,null,null,null,null,null,null,null,null,null,null,null,null,null,null,null,null,null,null,null,null,null,null,null,null,null,null,null,null,null,null,null,null,null,null,null,null,null,null,null,null,null,null,null,null,null,null,null,null,null,{"$f":"BA144*1+BB144*2+BC144*3+BD144*5+BE144*$N$10","v":0},{"$f":"LEN(BH144)-LEN(SUBSTITUTE(BH144,\"0\",\"\"))","v":0},{"$f":"LEN(BH144)-LEN(SUBSTITUTE(BH144,\"1\",\"\"))","v":0},{"$f":"LEN(BH144)-LEN(SUBSTITUTE(BH144,\"2\",\"\"))","v":0},{"$f":"LEN(BH144)-LEN(SUBSTITUTE(BH144,\"3\",\"\"))","v":0},{"$f":"LEN(BH144)-LEN(SUBSTITUTE(BH144,\"5\",\"\"))","v":0},{"$f":"LEN(BH144)-LEN(SUBSTITUTE(BH144,\"*\",\"\"))","v":0},{"$f":"BJ144/BI144","v":0},null,"",32,0]
[null,null,null,null,null,null,null,null,null,null,null,null,null,null,null,null,null,null,null,null,null,null,null,null,null,null,null,null,null,null,null,null,null,null,null,null,null,null,null,null,null,null,null,null,null,null,null,null,null,null,{"$f":"BA145*1+BB145*2+BC145*3+BD145*5+BE145*$N$10","v":0},{"$f":"LEN(BH145)-LEN(SUBSTITUTE(BH145,\"0\",\"\"))","v":0},{"$f":"LEN(BH145)-LEN(SUBSTITUTE(BH145,\"1\",\"\"))","v":0},{"$f":"LEN(BH145)-LEN(SUBSTITUTE(BH145,\"2\",\"\"))","v":0},{"$f":"LEN(BH145)-LEN(SUBSTITUTE(BH145,\"3\",\"\"))","v":0},{"$f":"LEN(BH145)-LEN(SUBSTITUTE(BH145,\"5\",\"\"))","v":0},{"$f":"LEN(BH145)-LEN(SUBSTITUTE(BH145,\"*\",\"\"))","v":0},{"$f":"BJ145/BI145","v":0},null,"",32,0]
[null,null,null,null,null,null,null,null,null,null,null,null,null,null,null,null,null,null,null,null,null,null,null,null,null,null,null,null,null,null,null,null,null,null,null,null,null,null,null,null,null,null,null,null,null,null,null,null,null,null,{"$f":"BA146*1+BB146*2+BC146*3+BD146*5+BE146*$N$10","v":0},{"$f":"LEN(BH146)-LEN(SUBSTITUTE(BH146,\"0\",\"\"))","v":0},{"$f":"LEN(BH146)-LEN(SUBSTITUTE(BH146,\"1\",\"\"))","v":0},{"$f":"LEN(BH146)-LEN(SUBSTITUTE(BH146,\"2\",\"\"))","v":0},{"$f":"LEN(BH146)-LEN(SUBSTITUTE(BH146,\"3\",\"\"))","v":0},{"$f":"LEN(BH146)-LEN(SUBSTITUTE(BH146,\"5\",\"\"))","v":0},{"$f":"LEN(BH146)-LEN(SUBSTITUTE(BH146,\"*\",\"\"))","v":0},{"$f":"BJ146/BI146","v":0},null,"",32,0]
[null,null,null,null,null,null,null,null,null,null,null,null,null,null,null,null,null,null,null,null,null,null,null,null,null,null,null,null,null,null,null,null,null,null,null,null,null,null,null,null,null,null,null,null,null,null,null,null,null,null,{"$f":"BA147*1+BB147*2+BC147*3+BD147*5+BE147*$N$10","v":0},{"$f":"LEN(BH147)-LEN(SUBSTITUTE(BH147,\"0\",\"\"))","v":0},{"$f":"LEN(BH147)-LEN(SUBSTITUTE(BH147,\"1\",\"\"))","v":0},{"$f":"LEN(BH147)-LEN(SUBSTITUTE(BH147,\"2\",\"\"))","v":0},{"$f":"LEN(BH147)-LEN(SUBSTITUTE(BH147,\"3\",\"\"))","v":0},{"$f":"LEN(BH147)-LEN(SUBSTITUTE(BH147,\"5\",\"\"))","v":0},{"$f":"LEN(BH147)-LEN(SUBSTITUTE(BH147,\"*\",\"\"))","v":0},{"$f":"BJ147/BI147","v":0},null,"",32,0]
[null,null,null,null,null,null,null,null,null,null,null,null,null,null,null,null,null,null,null,null,null,null,null,null,null,null,null,null,null,null,null,null,null,null,null,null,null,null,null,null,null,null,null,null,null,null,null,null,null,null,{"$f":"BA148*1+BB148*2+BC148*3+BD148*5+BE148*$N$10","v":0},{"$f":"LEN(BH148)-LEN(SUBSTITUTE(BH148,\"0\",\"\"))","v":0},{"$f":"LEN(BH148)-LEN(SUBSTITUTE(BH148,\"1\",\"\"))","v":0},{"$f":"LEN(BH148)-LEN(SUBSTITUTE(BH148,\"2\",\"\"))","v":0},{"$f":"LEN(BH148)-LEN(SUBSTITUTE(BH148,\"3\",\"\"))","v":0},{"$f":"LEN(BH148)-LEN(SUBSTITUTE(BH148,\"5\",\"\"))","v":0},{"$f":"LEN(BH148)-LEN(SUBSTITUTE(BH148,\"*\",\"\"))","v":0},{"$f":"BJ148/BI148","v":0},null,"",32,0]
[null,null,null,null,null,null,null,null,null,null,null,null,null,null,null,null,null,null,null,null,null,null,null,null,null,null,null,null,null,null,null,null,null,null,null,null,null,null,null,null,null,null,null,null,null,null,null,null,null,null,{"$f":"BA149*1+BB149*2+BC149*3+BD149*5+BE149*$N$10","v":0},{"$f":"LEN(BH149)-LEN(SUBSTITUTE(BH149,\"0\",\"\"))","v":0},{"$f":"LEN(BH149)-LEN(SUBSTITUTE(BH149,\"1\",\"\"))","v":0},{"$f":"LEN(BH149)-LEN(SUBSTITUTE(BH149,\"2\",\"\"))","v":0},{"$f":"LEN(BH149)-LEN(SUBSTITUTE(BH149,\"3\",\"\"))","v":0},{"$f":"LEN(BH149)-LEN(SUBSTITUTE(BH149,\"5\",\"\"))","v":0},{"$f":"LEN(BH149)-LEN(SUBSTITUTE(BH149,\"*\",\"\"))","v":0},{"$f":"BJ149/BI149","v":0},null,"",32,0]
[null,null,null,null,null,null,null,null,null,null,null,null,null,null,null,null,null,null,null,null,null,null,null,null,null,null,null,null,null,null,null,null,null,null,null,null,null,null,null,null,null,null,null,null,null,null,null,null,null,null,{"$f":"BA150*1+BB150*2+BC150*3+BD150*5+BE150*$N$10","v":0},{"$f":"LEN(BH150)-LEN(SUBSTITUTE(BH150,\"0\",\"\"))","v":0},{"$f":"LEN(BH150)-LEN(SUBSTITUTE(BH150,\"1\",\"\"))","v":0},{"$f":"LEN(BH150)-LEN(SUBSTITUTE(BH150,\"2\",\"\"))","v":0},{"$f":"LEN(BH150)-LEN(SUBSTITUTE(BH150,\"3\",\"\"))","v":0},{"$f":"LEN(BH150)-LEN(SUBSTITUTE(BH150,\"5\",\"\"))","v":0},{"$f":"LEN(BH150)-LEN(SUBSTITUTE(BH150,\"*\",\"\"))","v":0},{"$f":"BJ150/BI150","v":0},null,{"$f":"CONCATENATE(K150,L150,M150,N150,O150,P150,Q150,R150,S150,T150,U150,V150,W150,X150,Y150,Z150,AA150,AB150,AC150,AD150,AE150,AF150,AG150,AH150,AI150,AJ150,AK150,AL150,AM150,AN150,AO150,AP150,AQ150,AR150,AS150,AT150,AU150,AV150,AW150,AX150)","v":""},{"$f":"$C$11*$C$10","v":32},{"$f":"AZ150+BA150+BB150+BC150+BD150","v":0}]
[null,null,null,null,null,null,null,null,null,null,null,null,null,null,null,null,null,null,null,null,null,null,null,null,null,null,null,null,null,null,null,null,null,null,null,null,null,null,null,null,null,null,null,null,null,null,null,null,null,null,{"$f":"BA151*1+BB151*2+BC151*3+BD151*5+BE151*$N$10","v":0},{"$f":"LEN(BH151)-LEN(SUBSTITUTE(BH151,\"0\",\"\"))","v":0},{"$f":"LEN(BH151)-LEN(SUBSTITUTE(BH151,\"1\",\"\"))","v":0},{"$f":"LEN(BH151)-LEN(SUBSTITUTE(BH151,\"2\",\"\"))","v":0},{"$f":"LEN(BH151)-LEN(SUBSTITUTE(BH151,\"3\",\"\"))","v":0},{"$f":"LEN(BH151)-LEN(SUBSTITUTE(BH151,\"5\",\"\"))","v":0},{"$f":"LEN(BH151)-LEN(SUBSTITUTE(BH151,\"*\",\"\"))","v":0},{"$f":"BJ151/BI151","v":0},null,"",32,0]
[null,null,null,null,null,null,null,null,null,null,null,null,null,null,null,null,null,null,null,null,null,null,null,null,null,null,null,null,null,null,null,null,null,null,null,null,null,null,null,null,null,null,null,null,null,null,null,null,null,null,{"$f":"BA152*1+BB152*2+BC152*3+BD152*5+BE152*$N$10","v":0},{"$f":"LEN(BH152)-LEN(SUBSTITUTE(BH152,\"0\",\"\"))","v":0},{"$f":"LEN(BH152)-LEN(SUBSTITUTE(BH152,\"1\",\"\"))","v":0},{"$f":"LEN(BH152)-LEN(SUBSTITUTE(BH152,\"2\",\"\"))","v":0},{"$f":"LEN(BH152)-LEN(SUBSTITUTE(BH152,\"3\",\"\"))","v":0},{"$f":"LEN(BH152)-LEN(SUBSTITUTE(BH152,\"5\",\"\"))","v":0},{"$f":"LEN(BH152)-LEN(SUBSTITUTE(BH152,\"*\",\"\"))","v":0},{"$f":"BJ152/BI152","v":0},null,"",32,0]
[null,null,null,null,null,null,null,null,null,null,null,null,null,null,null,null,null,null,null,null,null,null,null,null,null,null,null,null,null,null,null,null,null,null,null,null,null,null,null,null,null,null,null,null,null,null,null,null,null,null,{"$f":"BA153*1+BB153*2+BC153*3+BD153*5+BE153*$N$10","v":0},{"$f":"LEN(BH153)-LEN(SUBSTITUTE(BH153,\"0\",\"\"))","v":0},{"$f":"LEN(BH153)-LEN(SUBSTITUTE(BH153,\"1\",\"\"))","v":0},{"$f":"LEN(BH153)-LEN(SUBSTITUTE(BH153,\"2\",\"\"))","v":0},{"$f":"LEN(BH153)-LEN(SUBSTITUTE(BH153,\"3\",\"\"))","v":0},{"$f":"LEN(BH153)-LEN(SUBSTITUTE(BH153,\"5\",\"\"))","v":0},{"$f":"LEN(BH153)-LEN(SUBSTITUTE(BH153,\"*\",\"\"))","v":0},{"$f":"BJ153/BI153","v":0},null,"",32,0]
[null,null,null,null,null,null,null,null,null,null,null,null,null,null,null,null,null,null,null,null,null,null,null,null,null,null,null,null,null,null,null,null,null,null,null,null,null,null,null,null,null,null,null,null,null,null,null,null,null,null,{"$f":"BA154*1+BB154*2+BC154*3+BD154*5+BE154*$N$10","v":0},{"$f":"LEN(BH154)-LEN(SUBSTITUTE(BH154,\"0\",\"\"))","v":0},{"$f":"LEN(BH154)-LEN(SUBSTITUTE(BH154,\"1\",\"\"))","v":0},{"$f":"LEN(BH154)-LEN(SUBSTITUTE(BH154,\"2\",\"\"))","v":0},{"$f":"LEN(BH154)-LEN(SUBSTITUTE(BH154,\"3\",\"\"))","v":0},{"$f":"LEN(BH154)-LEN(SUBSTITUTE(BH154,\"5\",\"\"))","v":0},{"$f":"LEN(BH154)-LEN(SUBSTITUTE(BH154,\"*\",\"\"))","v":0},{"$f":"BJ154/BI154","v":0},null,"",32,0]
[null,null,null,null,null,null,null,null,null,null,null,null,null,null,null,null,null,null,null,null,null,null,null,null,null,null,null,null,null,null,null,null,null,null,null,null,null,null,null,null,null,null,null,null,null,null,null,null,null,null,{"$f":"BA155*1+BB155*2+BC155*3+BD155*5+BE155*$N$10","v":0},{"$f":"LEN(BH155)-LEN(SUBSTITUTE(BH155,\"0\",\"\"))","v":0},{"$f":"LEN(BH155)-LEN(SUBSTITUTE(BH155,\"1\",\"\"))","v":0},{"$f":"LEN(BH155)-LEN(SUBSTITUTE(BH155,\"2\",\"\"))","v":0},{"$f":"LEN(BH155)-LEN(SUBSTITUTE(BH155,\"3\",\"\"))","v":0},{"$f":"LEN(BH155)-LEN(SUBSTITUTE(BH155,\"5\",\"\"))","v":0},{"$f":"LEN(BH155)-LEN(SUBSTITUTE(BH155,\"*\",\"\"))","v":0},{"$f":"BJ155/BI155","v":0},null,"",32,0]
[null,null,null,null,null,null,null,null,null,null,null,null,null,null,null,null,null,null,null,null,null,null,null,null,null,null,null,null,null,null,null,null,null,null,null,null,null,null,null,null,null,null,null,null,null,null,null,null,null,null,{"$f":"BA156*1+BB156*2+BC156*3+BD156*5+BE156*$N$10","v":0},{"$f":"LEN(BH156)-LEN(SUBSTITUTE(BH156,\"0\",\"\"))","v":0},{"$f":"LEN(BH156)-LEN(SUBSTITUTE(BH156,\"1\",\"\"))","v":0},{"$f":"LEN(BH156)-LEN(SUBSTITUTE(BH156,\"2\",\"\"))","v":0},{"$f":"LEN(BH156)-LEN(SUBSTITUTE(BH156,\"3\",\"\"))","v":0},{"$f":"LEN(BH156)-LEN(SUBSTITUTE(BH156,\"5\",\"\"))","v":0},{"$f":"LEN(BH156)-LEN(SUBSTITUTE(BH156,\"*\",\"\"))","v":0},{"$f":"BJ156/BI156","v":0},null,"",32,0]
[null,null,null,null,null,null,null,null,null,null,null,null,null,null,null,null,null,null,null,null,null,null,null,null,null,null,null,null,null,null,null,null,null,null,null,null,null,null,null,null,null,null,null,null,null,null,null,null,null,null,{"$f":"BA157*1+BB157*2+BC157*3+BD157*5+BE157*$N$10","v":0},{"$f":"LEN(BH157)-LEN(SUBSTITUTE(BH157,\"0\",\"\"))","v":0},{"$f":"LEN(BH157)-LEN(SUBSTITUTE(BH157,\"1\",\"\"))","v":0},{"$f":"LEN(BH157)-LEN(SUBSTITUTE(BH157,\"2\",\"\"))","v":0},{"$f":"LEN(BH157)-LEN(SUBSTITUTE(BH157,\"3\",\"\"))","v":0},{"$f":"LEN(BH157)-LEN(SUBSTITUTE(BH157,\"5\",\"\"))","v":0},{"$f":"LEN(BH157)-LEN(SUBSTITUTE(BH157,\"*\",\"\"))","v":0},{"$f":"BJ157/BI157","v":0},null,"",32,0]
[null,null,null,null,null,null,null,null,null,null,null,null,null,null,null,null,null,null,null,null,null,null,null,null,null,null,null,null,null,null,null,null,null,null,null,null,null,null,null,null,null,null,null,null,null,null,null,null,null,null,{"$f":"BA158*1+BB158*2+BC158*3+BD158*5+BE158*$N$10","v":0},{"$f":"LEN(BH158)-LEN(SUBSTITUTE(BH158,\"0\",\"\"))","v":0},{"$f":"LEN(BH158)-LEN(SUBSTITUTE(BH158,\"1\",\"\"))","v":0},{"$f":"LEN(BH158)-LEN(SUBSTITUTE(BH158,\"2\",\"\"))","v":0},{"$f":"LEN(BH158)-LEN(SUBSTITUTE(BH158,\"3\",\"\"))","v":0},{"$f":"LEN(BH158)-LEN(SUBSTITUTE(BH158,\"5\",\"\"))","v":0},{"$f":"LEN(BH158)-LEN(SUBSTITUTE(BH158,\"*\",\"\"))","v":0},{"$f":"BJ158/BI158","v":0},null,"",32,0]
[null,null,null,null,null,null,null,null,null,null,null,null,null,null,null,null,null,null,null,null,null,null,null,null,null,null,null,null,null,null,null,null,null,null,null,null,null,null,null,null,null,null,null,null,null,null,null,null,null,null,{"$f":"BA159*1+BB159*2+BC159*3+BD159*5+BE159*$N$10","v":0},{"$f":"LEN(BH159)-LEN(SUBSTITUTE(BH159,\"0\",\"\"))","v":0},{"$f":"LEN(BH159)-LEN(SUBSTITUTE(BH159,\"1\",\"\"))","v":0},{"$f":"LEN(BH159)-LEN(SUBSTITUTE(BH159,\"2\",\"\"))","v":0},{"$f":"LEN(BH159)-LEN(SUBSTITUTE(BH159,\"3\",\"\"))","v":0},{"$f":"LEN(BH159)-LEN(SUBSTITUTE(BH159,\"5\",\"\"))","v":0},{"$f":"LEN(BH159)-LEN(SUBSTITUTE(BH159,\"*\",\"\"))","v":0},{"$f":"BJ159/BI159","v":0},null,"",32,0]
[null,null,null,null,null,null,null,null,null,null,null,null,null,null,null,null,null,null,null,null,null,null,null,null,null,null,null,null,null,null,null,null,null,null,null,null,null,null,null,null,null,null,null,null,null,null,null,null,null,null,{"$f":"BA160*1+BB160*2+BC160*3+BD160*5+BE160*$N$10","v":0},{"$f":"LEN(BH160)-LEN(SUBSTITUTE(BH160,\"0\",\"\"))","v":0},{"$f":"LEN(BH160)-LEN(SUBSTITUTE(BH160,\"1\",\"\"))","v":0},{"$f":"LEN(BH160)-LEN(SUBSTITUTE(BH160,\"2\",\"\"))","v":0},{"$f":"LEN(BH160)-LEN(SUBSTITUTE(BH160,\"3\",\"\"))","v":0},{"$f":"LEN(BH160)-LEN(SUBSTITUTE(BH160,\"5\",\"\"))","v":0},{"$f":"LEN(BH160)-LEN(SUBSTITUTE(BH160,\"*\",\"\"))","v":0},{"$f":"BJ160/BI160","v":0},null,"",32,0]
[null,null,null,null,null,null,null,null,null,null,null,null,null,null,null,null,null,null,null,null,null,null,null,null,null,null,null,null,null,null,null,null,null,null,null,null,null,null,null,null,null,null,null,null,null,null,null,null,null,null,{"$f":"BA161*1+BB161*2+BC161*3+BD161*5+BE161*$N$10","v":0},{"$f":"LEN(BH161)-LEN(SUBSTITUTE(BH161,\"0\",\"\"))","v":0},{"$f":"LEN(BH161)-LEN(SUBSTITUTE(BH161,\"1\",\"\"))","v":0},{"$f":"LEN(BH161)-LEN(SUBSTITUTE(BH161,\"2\",\"\"))","v":0},{"$f":"LEN(BH161)-LEN(SUBSTITUTE(BH161,\"3\",\"\"))","v":0},{"$f":"LEN(BH161)-LEN(SUBSTITUTE(BH161,\"5\",\"\"))","v":0},{"$f":"LEN(BH161)-LEN(SUBSTITUTE(BH161,\"*\",\"\"))","v":0},{"$f":"BJ161/BI161","v":0},null,"",32,0]
[null,null,null,null,null,null,null,null,null,null,null,null,null,null,null,null,null,null,null,null,null,null,null,null,null,null,null,null,null,null,null,null,null,null,null,null,null,null,null,null,null,null,null,null,null,null,null,null,null,null,{"$f":"BA162*1+BB162*2+BC162*3+BD162*5+BE162*$N$10","v":0},{"$f":"LEN(BH162)-LEN(SUBSTITUTE(BH162,\"0\",\"\"))","v":0},{"$f":"LEN(BH162)-LEN(SUBSTITUTE(BH162,\"1\",\"\"))","v":0},{"$f":"LEN(BH162)-LEN(SUBSTITUTE(BH162,\"2\",\"\"))","v":0},{"$f":"LEN(BH162)-LEN(SUBSTITUTE(BH162,\"3\",\"\"))","v":0},{"$f":"LEN(BH162)-LEN(SUBSTITUTE(BH162,\"5\",\"\"))","v":0},{"$f":"LEN(BH162)-LEN(SUBSTITUTE(BH162,\"*\",\"\"))","v":0},{"$f":"BJ162/BI162","v":0},null,"",32,0]
[null,null,null,null,null,null,null,null,null,null,null,null,null,null,null,null,null,null,null,null,null,null,null,null,null,null,null,null,null,null,null,null,null,null,null,null,null,null,null,null,null,null,null,null,null,null,null,null,null,null,{"$f":"BA163*1+BB163*2+BC163*3+BD163*5+BE163*$N$10","v":0},{"$f":"LEN(BH163)-LEN(SUBSTITUTE(BH163,\"0\",\"\"))","v":0},{"$f":"LEN(BH163)-LEN(SUBSTITUTE(BH163,\"1\",\"\"))","v":0},{"$f":"LEN(BH163)-LEN(SUBSTITUTE(BH163,\"2\",\"\"))","v":0},{"$f":"LEN(BH163)-LEN(SUBSTITUTE(BH163,\"3\",\"\"))","v":0},{"$f":"LEN(BH163)-LEN(SUBSTITUTE(BH163,\"5\",\"\"))","v":0},{"$f":"LEN(BH163)-LEN(SUBSTITUTE(BH163,\"*\",\"\"))","v":0},{"$f":"BJ163/BI163","v":0},null,"",32,0]
[null,null,null,null,null,null,null,null,null,null,null,null,null,null,null,null,null,null,null,null,null,null,null,null,null,null,null,null,null,null,null,null,null,null,null,null,null,null,null,null,null,null,null,null,null,null,null,null,null,null,{"$f":"BA164*1+BB164*2+BC164*3+BD164*5+BE164*$N$10","v":0},{"$f":"LEN(BH164)-LEN(SUBSTITUTE(BH164,\"0\",\"\"))","v":0},{"$f":"LEN(BH164)-LEN(SUBSTITUTE(BH164,\"1\",\"\"))","v":0},{"$f":"LEN(BH164)-LEN(SUBSTITUTE(BH164,\"2\",\"\"))","v":0},{"$f":"LEN(BH164)-LEN(SUBSTITUTE(BH164,\"3\",\"\"))","v":0},{"$f":"LEN(BH164)-LEN(SUBSTITUTE(BH164,\"5\",\"\"))","v":0},{"$f":"LEN(BH164)-LEN(SUBSTITUTE(BH164,\"*\",\"\"))","v":0},{"$f":"BJ164/BI164","v":0},null,"",32,0]
[null,null,null,null,null,null,null,null,null,null,null,null,null,null,null,null,null,null,null,null,null,null,null,null,null,null,null,null,null,null,null,null,null,null,null,null,null,null,null,null,null,null,null,null,null,null,null,null,null,null,{"$f":"BA165*1+BB165*2+BC165*3+BD165*5+BE165*$N$10","v":0},{"$f":"LEN(BH165)-LEN(SUBSTITUTE(BH165,\"0\",\"\"))","v":0},{"$f":"LEN(BH165)-LEN(SUBSTITUTE(BH165,\"1\",\"\"))","v":0},{"$f":"LEN(BH165)-LEN(SUBSTITUTE(BH165,\"2\",\"\"))","v":0},{"$f":"LEN(BH165)-LEN(SUBSTITUTE(BH165,\"3\",\"\"))","v":0},{"$f":"LEN(BH165)-LEN(SUBSTITUTE(BH165,\"5\",\"\"))","v":0},{"$f":"LEN(BH165)-LEN(SUBSTITUTE(BH165,\"*\",\"\"))","v":0},{"$f":"BJ165/BI165","v":0},null,"",32,0]
[null,null,null,null,null,null,null,null,null,null,null,null,null,null,null,null,null,null,null,null,null,null,null,null,null,null,null,null,null,null,null,null,null,null,null,null,null,null,null,null,null,null,null,null,null,null,null,null,null,null,{"$f":"BA166*1+BB166*2+BC166*3+BD166*5+BE166*$N$10","v":0},{"$f":"LEN(BH166)-LEN(SUBSTITUTE(BH166,\"0\",\"\"))","v":0},{"$f":"LEN(BH166)-LEN(SUBSTITUTE(BH166,\"1\",\"\"))","v":0},{"$f":"LEN(BH166)-LEN(SUBSTITUTE(BH166,\"2\",\"\"))","v":0},{"$f":"LEN(BH166)-LEN(SUBSTITUTE(BH166,\"3\",\"\"))","v":0},{"$f":"LEN(BH166)-LEN(SUBSTITUTE(BH166,\"5\",\"\"))","v":0},{"$f":"LEN(BH166)-LEN(SUBSTITUTE(BH166,\"*\",\"\"))","v":0},{"$f":"BJ166/BI166","v":0},null,"",32,0]
[null,null,null,null,null,null,null,null,null,null,null,null,null,null,null,null,null,null,null,null,null,null,null,null,null,null,null,null,null,null,null,null,null,null,null,null,null,null,null,null,null,null,null,null,null,null,null,null,null,null,{"$f":"BA167*1+BB167*2+BC167*3+BD167*5+BE167*$N$10","v":0},{"$f":"LEN(BH167)-LEN(SUBSTITUTE(BH167,\"0\",\"\"))","v":0},{"$f":"LEN(BH167)-LEN(SUBSTITUTE(BH167,\"1\",\"\"))","v":0},{"$f":"LEN(BH167)-LEN(SUBSTITUTE(BH167,\"2\",\"\"))","v":0},{"$f":"LEN(BH167)-LEN(SUBSTITUTE(BH167,\"3\",\"\"))","v":0},{"$f":"LEN(BH167)-LEN(SUBSTITUTE(BH167,\"5\",\"\"))","v":0},{"$f":"LEN(BH167)-LEN(SUBSTITUTE(BH167,\"*\",\"\"))","v":0},{"$f":"BJ167/BI167","v":0},null,"",32,0]
[null,null,null,null,null,null,null,null,null,null,null,null,null,null,null,null,null,null,null,null,null,null,null,null,null,null,null,null,null,null,null,null,null,null,null,null,null,null,null,null,null,null,null,null,null,null,null,null,null,null,{"$f":"BA168*1+BB168*2+BC168*3+BD168*5+BE168*$N$10","v":0},{"$f":"LEN(BH168)-LEN(SUBSTITUTE(BH168,\"0\",\"\"))","v":0},{"$f":"LEN(BH168)-LEN(SUBSTITUTE(BH168,\"1\",\"\"))","v":0},{"$f":"LEN(BH168)-LEN(SUBSTITUTE(BH168,\"2\",\"\"))","v":0},{"$f":"LEN(BH168)-LEN(SUBSTITUTE(BH168,\"3\",\"\"))","v":0},{"$f":"LEN(BH168)-LEN(SUBSTITUTE(BH168,\"5\",\"\"))","v":0},{"$f":"LEN(BH168)-LEN(SUBSTITUTE(BH168,\"*\",\"\"))","v":0},{"$f":"BJ168/BI168","v":0},null,"",32,0]
[null,null,null,null,null,null,null,null,null,null,null,null,null,null,null,null,null,null,null,null,null,null,null,null,null,null,null,null,null,null,null,null,null,null,null,null,null,null,null,null,null,null,null,null,null,null,null,null,null,null,{"$f":"BA169*1+BB169*2+BC169*3+BD169*5+BE169*$N$10","v":0},{"$f":"LEN(BH169)-LEN(SUBSTITUTE(BH169,\"0\",\"\"))","v":0},{"$f":"LEN(BH169)-LEN(SUBSTITUTE(BH169,\"1\",\"\"))","v":0},{"$f":"LEN(BH169)-LEN(SUBSTITUTE(BH169,\"2\",\"\"))","v":0},{"$f":"LEN(BH169)-LEN(SUBSTITUTE(BH169,\"3\",\"\"))","v":0},{"$f":"LEN(BH169)-LEN(SUBSTITUTE(BH169,\"5\",\"\"))","v":0},{"$f":"LEN(BH169)-LEN(SUBSTITUTE(BH169,\"*\",\"\"))","v":0},{"$f":"BJ169/BI169","v":0},null,"",32,0]
[null,null,null,null,null,null,null,null,null,null,null,null,null,null,null,null,null,null,null,null,null,null,null,null,null,null,null,null,null,null,null,null,null,null,null,null,null,null,null,null,null,null,null,null,null,null,null,null,null,null,{"$f":"BA170*1+BB170*2+BC170*3+BD170*5+BE170*$N$10","v":0},{"$f":"LEN(BH170)-LEN(SUBSTITUTE(BH170,\"0\",\"\"))","v":0},{"$f":"LEN(BH170)-LEN(SUBSTITUTE(BH170,\"1\",\"\"))","v":0},{"$f":"LEN(BH170)-LEN(SUBSTITUTE(BH170,\"2\",\"\"))","v":0},{"$f":"LEN(BH170)-LEN(SUBSTITUTE(BH170,\"3\",\"\"))","v":0},{"$f":"LEN(BH170)-LEN(SUBSTITUTE(BH170,\"5\",\"\"))","v":0},{"$f":"LEN(BH170)-LEN(SUBSTITUTE(BH170,\"*\",\"\"))","v":0},{"$f":"BJ170/BI170","v":0},null,"",32,0]
[null,null,null,null,null,null,null,null,null,null,null,null,null,null,null,null,null,null,null,null,null,null,null,null,null,null,null,null,null,null,null,null,null,null,null,null,null,null,null,null,null,null,null,null,null,null,null,null,null,null,{"$f":"BA171*1+BB171*2+BC171*3+BD171*5+BE171*$N$10","v":0},{"$f":"LEN(BH171)-LEN(SUBSTITUTE(BH171,\"0\",\"\"))","v":0},{"$f":"LEN(BH171)-LEN(SUBSTITUTE(BH171,\"1\",\"\"))","v":0},{"$f":"LEN(BH171)-LEN(SUBSTITUTE(BH171,\"2\",\"\"))","v":0},{"$f":"LEN(BH171)-LEN(SUBSTITUTE(BH171,\"3\",\"\"))","v":0},{"$f":"LEN(BH171)-LEN(SUBSTITUTE(BH171,\"5\",\"\"))","v":0},{"$f":"LEN(BH171)-LEN(SUBSTITUTE(BH171,\"*\",\"\"))","v":0},{"$f":"BJ171/BI171","v":0},null,"",32,0]
[null,null,null,null,null,null,null,null,null,null,null,null,null,null,null,null,null,null,null,null,null,null,null,null,null,null,null,null,null,null,null,null,null,null,null,null,null,null,null,null,null,null,null,null,null,null,null,null,null,null,{"$f":"BA172*1+BB172*2+BC172*3+BD172*5+BE172*$N$10","v":0},{"$f":"LEN(BH172)-LEN(SUBSTITUTE(BH172,\"0\",\"\"))","v":0},{"$f":"LEN(BH172)-LEN(SUBSTITUTE(BH172,\"1\",\"\"))","v":0},{"$f":"LEN(BH172)-LEN(SUBSTITUTE(BH172,\"2\",\"\"))","v":0},{"$f":"LEN(BH172)-LEN(SUBSTITUTE(BH172,\"3\",\"\"))","v":0},{"$f":"LEN(BH172)-LEN(SUBSTITUTE(BH172,\"5\",\"\"))","v":0},{"$f":"LEN(BH172)-LEN(SUBSTITUTE(BH172,\"*\",\"\"))","v":0},{"$f":"BJ172/BI172","v":0},null,"",32,0]
[null,null,null,null,null,null,null,null,null,null,null,null,null,null,null,null,null,null,null,null,null,null,null,null,null,null,null,null,null,null,null,null,null,null,null,null,null,null,null,null,null,null,null,null,null,null,null,null,null,null,{"$f":"BA173*1+BB173*2+BC173*3+BD173*5+BE173*$N$10","v":0},{"$f":"LEN(BH173)-LEN(SUBSTITUTE(BH173,\"0\",\"\"))","v":0},{"$f":"LEN(BH173)-LEN(SUBSTITUTE(BH173,\"1\",\"\"))","v":0},{"$f":"LEN(BH173)-LEN(SUBSTITUTE(BH173,\"2\",\"\"))","v":0},{"$f":"LEN(BH173)-LEN(SUBSTITUTE(BH173,\"3\",\"\"))","v":0},{"$f":"LEN(BH173)-LEN(SUBSTITUTE(BH173,\"5\",\"\"))","v":0},{"$f":"LEN(BH173)-LEN(SUBSTITUTE(BH173,\"*\",\"\"))","v":0},{"$f":"BJ173/BI173","v":0},null,"",32,0]
[null,null,null,null,null,null,null,null,null,null,null,null,null,null,null,null,null,null,null,null,null,null,null,null,null,null,null,null,null,null,null,null,null,null,null,null,null,null,null,null,null,null,null,null,null,null,null,null,null,null,{"$f":"BA174*1+BB174*2+BC174*3+BD174*5+BE174*$N$10","v":0},{"$f":"LEN(BH174)-LEN(SUBSTITUTE(BH174,\"0\",\"\"))","v":0},{"$f":"LEN(BH174)-LEN(SUBSTITUTE(BH174,\"1\",\"\"))","v":0},{"$f":"LEN(BH174)-LEN(SUBSTITUTE(BH174,\"2\",\"\"))","v":0},{"$f":"LEN(BH174)-LEN(SUBSTITUTE(BH174,\"3\",\"\"))","v":0},{"$f":"LEN(BH174)-LEN(SUBSTITUTE(BH174,\"5\",\"\"))","v":0},{"$f":"LEN(BH174)-LEN(SUBSTITUTE(BH174,\"*\",\"\"))","v":0},{"$f":"BJ174/BI174","v":0},null,"",32,0]
[null,null,null,null,null,null,null,null,null,null,null,null,null,null,null,null,null,null,null,null,null,null,null,null,null,null,null,null,null,null,null,null,null,null,null,null,null,null,null,null,null,null,null,null,null,null,null,null,null,null,{"$f":"BA175*1+BB175*2+BC175*3+BD175*5+BE175*$N$10","v":0},{"$f":"LEN(BH175)-LEN(SUBSTITUTE(BH175,\"0\",\"\"))","v":0},{"$f":"LEN(BH175)-LEN(SUBSTITUTE(BH175,\"1\",\"\"))","v":0},{"$f":"LEN(BH175)-LEN(SUBSTITUTE(BH175,\"2\",\"\"))","v":0},{"$f":"LEN(BH175)-LEN(SUBSTITUTE(BH175,\"3\",\"\"))","v":0},{"$f":"LEN(BH175)-LEN(SUBSTITUTE(BH175,\"5\",\"\"))","v":0},{"$f":"LEN(BH175)-LEN(SUBSTITUTE(BH175,\"*\",\"\"))","v":0},{"$f":"BJ175/BI175","v":0},null,"",32,0]
[null,null,null,null,null,null,null,null,null,null,null,null,null,null,null,null,null,null,null,null,null,null,null,null,null,null,null,null,null,null,null,null,null,null,null,null,null,null,null,null,null,null,null,null,null,null,null,null,null,null,{"$f":"BA176*1+BB176*2+BC176*3+BD176*5+BE176*$N$10","v":0},{"$f":"LEN(BH176)-LEN(SUBSTITUTE(BH176,\"0\",\"\"))","v":0},{"$f":"LEN(BH176)-LEN(SUBSTITUTE(BH176,\"1\",\"\"))","v":0},{"$f":"LEN(BH176)-LEN(SUBSTITUTE(BH176,\"2\",\"\"))","v":0},{"$f":"LEN(BH176)-LEN(SUBSTITUTE(BH176,\"3\",\"\"))","v":0},{"$f":"LEN(BH176)-LEN(SUBSTITUTE(BH176,\"5\",\"\"))","v":0},{"$f":"LEN(BH176)-LEN(SUBSTITUTE(BH176,\"*\",\"\"))","v":0},{"$f":"BJ176/BI176","v":0},null,"",32,0]
[null,null,null,null,null,null,null,null,null,null,null,null,null,null,null,null,null,null,null,null,null,null,null,null,null,null,null,null,null,null,null,null,null,null,null,null,null,null,null,null,null,null,null,null,null,null,null,null,null,null,{"$f":"BA177*1+BB177*2+BC177*3+BD177*5+BE177*$N$10","v":0},{"$f":"LEN(BH177)-LEN(SUBSTITUTE(BH177,\"0\",\"\"))","v":0},{"$f":"LEN(BH177)-LEN(SUBSTITUTE(BH177,\"1\",\"\"))","v":0},{"$f":"LEN(BH177)-LEN(SUBSTITUTE(BH177,\"2\",\"\"))","v":0},{"$f":"LEN(BH177)-LEN(SUBSTITUTE(BH177,\"3\",\"\"))","v":0},{"$f":"LEN(BH177)-LEN(SUBSTITUTE(BH177,\"5\",\"\"))","v":0},{"$f":"LEN(BH177)-LEN(SUBSTITUTE(BH177,\"*\",\"\"))","v":0},{"$f":"BJ177/BI177","v":0},null,"",32,0]
[null,null,null,null,null,null,null,null,null,null,null,null,null,null,null,null,null,null,null,null,null,null,null,null,null,null,null,null,null,null,null,null,null,null,null,null,null,null,null,null,null,null,null,null,null,null,null,null,null,null,{"$f":"BA178*1+BB178*2+BC178*3+BD178*5+BE178*$N$10","v":0},{"$f":"LEN(BH178)-LEN(SUBSTITUTE(BH178,\"0\",\"\"))","v":0},{"$f":"LEN(BH178)-LEN(SUBSTITUTE(BH178,\"1\",\"\"))","v":0},{"$f":"LEN(BH178)-LEN(SUBSTITUTE(BH178,\"2\",\"\"))","v":0},{"$f":"LEN(BH178)-LEN(SUBSTITUTE(BH178,\"3\",\"\"))","v":0},{"$f":"LEN(BH178)-LEN(SUBSTITUTE(BH178,\"5\",\"\"))","v":0},{"$f":"LEN(BH178)-LEN(SUBSTITUTE(BH178,\"*\",\"\"))","v":0},{"$f":"BJ178/BI178","v":0},null,"",32,0]
[null,null,null,null,null,null,null,null,null,null,null,null,null,null,null,null,null,null,null,null,null,null,null,null,null,null,null,null,null,null,null,null,null,null,null,null,null,null,null,null,null,null,null,null,null,null,null,null,null,null,{"$f":"BA179*1+BB179*2+BC179*3+BD179*5+BE179*$N$10","v":0},{"$f":"LEN(BH179)-LEN(SUBSTITUTE(BH179,\"0\",\"\"))","v":0},{"$f":"LEN(BH179)-LEN(SUBSTITUTE(BH179,\"1\",\"\"))","v":0},{"$f":"LEN(BH179)-LEN(SUBSTITUTE(BH179,\"2\",\"\"))","v":0},{"$f":"LEN(BH179)-LEN(SUBSTITUTE(BH179,\"3\",\"\"))","v":0},{"$f":"LEN(BH179)-LEN(SUBSTITUTE(BH179,\"5\",\"\"))","v":0},{"$f":"LEN(BH179)-LEN(SUBSTITUTE(BH179,\"*\",\"\"))","v":0},{"$f":"BJ179/BI179","v":0},null,"",32,0]
[null,null,null,null,null,null,null,null,null,null,null,null,null,null,null,null,null,null,null,null,null,null,null,null,null,null,null,null,null,null,null,null,null,null,null,null,null,null,null,null,null,null,null,null,null,null,null,null,null,null,{"$f":"BA180*1+BB180*2+BC180*3+BD180*5+BE180*$N$10","v":0},{"$f":"LEN(BH180)-LEN(SUBSTITUTE(BH180,\"0\",\"\"))","v":0},{"$f":"LEN(BH180)-LEN(SUBSTITUTE(BH180,\"1\",\"\"))","v":0},{"$f":"LEN(BH180)-LEN(SUBSTITUTE(BH180,\"2\",\"\"))","v":0},{"$f":"LEN(BH180)-LEN(SUBSTITUTE(BH180,\"3\",\"\"))","v":0},{"$f":"LEN(BH180)-LEN(SUBSTITUTE(BH180,\"5\",\"\"))","v":0},{"$f":"LEN(BH180)-LEN(SUBSTITUTE(BH180,\"*\",\"\"))","v":0},{"$f":"BJ180/BI180","v":0},null,"",32,0]
[null,null,null,null,null,null,null,null,null,null,null,null,null,null,null,null,null,null,null,null,null,null,null,null,null,null,null,null,null,null,null,null,null,null,null,null,null,null,null,null,null,null,null,null,null,null,null,null,null,null,{"$f":"BA181*1+BB181*2+BC181*3+BD181*5+BE181*$N$10","v":0},{"$f":"LEN(BH181)-LEN(SUBSTITUTE(BH181,\"0\",\"\"))","v":0},{"$f":"LEN(BH181)-LEN(SUBSTITUTE(BH181,\"1\",\"\"))","v":0},{"$f":"LEN(BH181)-LEN(SUBSTITUTE(BH181,\"2\",\"\"))","v":0},{"$f":"LEN(BH181)-LEN(SUBSTITUTE(BH181,\"3\",\"\"))","v":0},{"$f":"LEN(BH181)-LEN(SUBSTITUTE(BH181,\"5\",\"\"))","v":0},{"$f":"LEN(BH181)-LEN(SUBSTITUTE(BH181,\"*\",\"\"))","v":0},{"$f":"BJ181/BI181","v":0},null,"",32,0]
[null,null,null,null,null,null,null,null,null,null,null,null,null,null,null,null,null,null,null,null,null,null,null,null,null,null,null,null,null,null,null,null,null,null,null,null,null,null,null,null,null,null,null,null,null,null,null,null,null,null,{"$f":"BA182*1+BB182*2+BC182*3+BD182*5+BE182*$N$10","v":0},{"$f":"LEN(BH182)-LEN(SUBSTITUTE(BH182,\"0\",\"\"))","v":0},{"$f":"LEN(BH182)-LEN(SUBSTITUTE(BH182,\"1\",\"\"))","v":0},{"$f":"LEN(BH182)-LEN(SUBSTITUTE(BH182,\"2\",\"\"))","v":0},{"$f":"LEN(BH182)-LEN(SUBSTITUTE(BH182,\"3\",\"\"))","v":0},{"$f":"LEN(BH182)-LEN(SUBSTITUTE(BH182,\"5\",\"\"))","v":0},{"$f":"LEN(BH182)-LEN(SUBSTITUTE(BH182,\"*\",\"\"))","v":0},{"$f":"BJ182/BI182","v":0},null,"",32,0]
[null,null,null,null,null,null,null,null,null,null,null,null,null,null,null,null,null,null,null,null,null,null,null,null,null,null,null,null,null,null,null,null,null,null,null,null,null,null,null,null,null,null,null,null,null,null,null,null,null,null,{"$f":"BA183*1+BB183*2+BC183*3+BD183*5+BE183*$N$10","v":0},{"$f":"LEN(BH183)-LEN(SUBSTITUTE(BH183,\"0\",\"\"))","v":0},{"$f":"LEN(BH183)-LEN(SUBSTITUTE(BH183,\"1\",\"\"))","v":0},{"$f":"LEN(BH183)-LEN(SUBSTITUTE(BH183,\"2\",\"\"))","v":0},{"$f":"LEN(BH183)-LEN(SUBSTITUTE(BH183,\"3\",\"\"))","v":0},{"$f":"LEN(BH183)-LEN(SUBSTITUTE(BH183,\"5\",\"\"))","v":0},{"$f":"LEN(BH183)-LEN(SUBSTITUTE(BH183,\"*\",\"\"))","v":0},{"$f":"BJ183/BI183","v":0},null,"",32,0]
[null,null,null,null,null,null,null,null,null,null,null,null,null,null,null,null,null,null,null,null,null,null,null,null,null,null,null,null,null,null,null,null,null,null,null,null,null,null,null,null,null,null,null,null,null,null,null,null,null,null,{"$f":"BA184*1+BB184*2+BC184*3+BD184*5+BE184*$N$10","v":0},{"$f":"LEN(BH184)-LEN(SUBSTITUTE(BH184,\"0\",\"\"))","v":0},{"$f":"LEN(BH184)-LEN(SUBSTITUTE(BH184,\"1\",\"\"))","v":0},{"$f":"LEN(BH184)-LEN(SUBSTITUTE(BH184,\"2\",\"\"))","v":0},{"$f":"LEN(BH184)-LEN(SUBSTITUTE(BH184,\"3\",\"\"))","v":0},{"$f":"LEN(BH184)-LEN(SUBSTITUTE(BH184,\"5\",\"\"))","v":0},{"$f":"LEN(BH184)-LEN(SUBSTITUTE(BH184,\"*\",\"\"))","v":0},{"$f":"BJ184/BI184","v":0},null,"",32,0]
[null,null,null,null,null,null,null,null,null,null,null,null,null,null,null,null,null,null,null,null,null,null,null,null,null,null,null,null,null,null,null,null,null,null,null,null,null,null,null,null,null,null,null,null,null,null,null,null,null,null,{"$f":"BA185*1+BB185*2+BC185*3+BD185*5+BE185*$N$10","v":0},{"$f":"LEN(BH185)-LEN(SUBSTITUTE(BH185,\"0\",\"\"))","v":0},{"$f":"LEN(BH185)-LEN(SUBSTITUTE(BH185,\"1\",\"\"))","v":0},{"$f":"LEN(BH185)-LEN(SUBSTITUTE(BH185,\"2\",\"\"))","v":0},{"$f":"LEN(BH185)-LEN(SUBSTITUTE(BH185,\"3\",\"\"))","v":0},{"$f":"LEN(BH185)-LEN(SUBSTITUTE(BH185,\"5\",\"\"))","v":0},{"$f":"LEN(BH185)-LEN(SUBSTITUTE(BH185,\"*\",\"\"))","v":0},{"$f":"BJ185/BI185","v":0},null,"",32,0]
[null,null,null,null,null,null,null,null,null,null,null,null,null,null,null,null,null,null,null,null,null,null,null,null,null,null,null,null,null,null,null,null,null,null,null,null,null,null,null,null,null,null,null,null,null,null,null,null,null,null,{"$f":"BA186*1+BB186*2+BC186*3+BD186*5+BE186*$N$10","v":0},{"$f":"LEN(BH186)-LEN(SUBSTITUTE(BH186,\"0\",\"\"))","v":0},{"$f":"LEN(BH186)-LEN(SUBSTITUTE(BH186,\"1\",\"\"))","v":0},{"$f":"LEN(BH186)-LEN(SUBSTITUTE(BH186,\"2\",\"\"))","v":0},{"$f":"LEN(BH186)-LEN(SUBSTITUTE(BH186,\"3\",\"\"))","v":0},{"$f":"LEN(BH186)-LEN(SUBSTITUTE(BH186,\"5\",\"\"))","v":0},{"$f":"LEN(BH186)-LEN(SUBSTITUTE(BH186,\"*\",\"\"))","v":0},{"$f":"BJ186/BI186","v":0},null,"",32,0]
[null,null,null,null,null,null,null,null,null,null,null,null,null,null,null,null,null,null,null,null,null,null,null,null,null,null,null,null,null,null,null,null,null,null,null,null,null,null,null,null,null,null,null,null,null,null,null,null,null,null,{"$f":"BA187*1+BB187*2+BC187*3+BD187*5+BE187*$N$10","v":0},{"$f":"LEN(BH187)-LEN(SUBSTITUTE(BH187,\"0\",\"\"))","v":0},{"$f":"LEN(BH187)-LEN(SUBSTITUTE(BH187,\"1\",\"\"))","v":0},{"$f":"LEN(BH187)-LEN(SUBSTITUTE(BH187,\"2\",\"\"))","v":0},{"$f":"LEN(BH187)-LEN(SUBSTITUTE(BH187,\"3\",\"\"))","v":0},{"$f":"LEN(BH187)-LEN(SUBSTITUTE(BH187,\"5\",\"\"))","v":0},{"$f":"LEN(BH187)-LEN(SUBSTITUTE(BH187,\"*\",\"\"))","v":0},{"$f":"BJ187/BI187","v":0},null,"",32,0]
[null,null,null,null,null,null,null,null,null,null,null,null,null,null,null,null,null,null,null,null,null,null,null,null,null,null,null,null,null,null,null,null,null,null,null,null,null,null,null,null,null,null,null,null,null,null,null,null,null,null,{"$f":"BA188*1+BB188*2+BC188*3+BD188*5+BE188*$N$10","v":0},{"$f":"LEN(BH188)-LEN(SUBSTITUTE(BH188,\"0\",\"\"))","v":0},{"$f":"LEN(BH188)-LEN(SUBSTITUTE(BH188,\"1\",\"\"))","v":0},{"$f":"LEN(BH188)-LEN(SUBSTITUTE(BH188,\"2\",\"\"))","v":0},{"$f":"LEN(BH188)-LEN(SUBSTITUTE(BH188,\"3\",\"\"))","v":0},{"$f":"LEN(BH188)-LEN(SUBSTITUTE(BH188,\"5\",\"\"))","v":0},{"$f":"LEN(BH188)-LEN(SUBSTITUTE(BH188,\"*\",\"\"))","v":0},{"$f":"BJ188/BI188","v":0},null,"",32,0]
[null,null,null,null,null,null,null,null,null,null,null,null,null,null,null,null,null,null,null,null,null,null,null,null,null,null,null,null,null,null,null,null,null,null,null,null,null,null,null,null,null,null,null,null,null,null,null,null,null,null,{"$f":"BA189*1+BB189*2+BC189*3+BD189*5+BE189*$N$10","v":0},{"$f":"LEN(BH189)-LEN(SUBSTITUTE(BH189,\"0\",\"\"))","v":0},{"$f":"LEN(BH189)-LEN(SUBSTITUTE(BH189,\"1\",\"\"))","v":0},{"$f":"LEN(BH189)-LEN(SUBSTITUTE(BH189,\"2\",\"\"))","v":0},{"$f":"LEN(BH189)-LEN(SUBSTITUTE(BH189,\"3\",\"\"))","v":0},{"$f":"LEN(BH189)-LEN(SUBSTITUTE(BH189,\"5\",\"\"))","v":0},{"$f":"LEN(BH189)-LEN(SUBSTITUTE(BH189,\"*\",\"\"))","v":0},{"$f":"BJ189/BI189","v":0},null,"",32,0]
[null,null,null,null,null,null,null,null,null,null,null,null,null,null,null,null,null,null,null,null,null,null,null,null,null,null,null,null,null,null,null,null,null,null,null,null,null,null,null,null,null,null,null,null,null,null,null,null,null,null,{"$f":"BA190*1+BB190*2+BC190*3+BD190*5+BE190*$N$10","v":0},{"$f":"LEN(BH190)-LEN(SUBSTITUTE(BH190,\"0\",\"\"))","v":0},{"$f":"LEN(BH190)-LEN(SUBSTITUTE(BH190,\"1\",\"\"))","v":0},{"$f":"LEN(BH190)-LEN(SUBSTITUTE(BH190,\"2\",\"\"))","v":0},{"$f":"LEN(BH190)-LEN(SUBSTITUTE(BH190,\"3\",\"\"))","v":0},{"$f":"LEN(BH190)-LEN(SUBSTITUTE(BH190,\"5\",\"\"))","v":0},{"$f":"LEN(BH190)-LEN(SUBSTITUTE(BH190,\"*\",\"\"))","v":0},{"$f":"BJ190/BI190","v":0},null,"",32,0]
[null,null,null,null,null,null,null,null,null,null,null,null,null,null,null,null,null,null,null,null,null,null,null,null,null,null,null,null,null,null,null,null,null,null,null,null,null,null,null,null,null,null,null,null,null,null,null,null,null,null,{"$f":"BA191*1+BB191*2+BC191*3+BD191*5+BE191*$N$10","v":0},{"$f":"LEN(BH191)-LEN(SUBSTITUTE(BH191,\"0\",\"\"))","v":0},{"$f":"LEN(BH191)-LEN(SUBSTITUTE(BH191,\"1\",\"\"))","v":0},{"$f":"LEN(BH191)-LEN(SUBSTITUTE(BH191,\"2\",\"\"))","v":0},{"$f":"LEN(BH191)-LEN(SUBSTITUTE(BH191,\"3\",\"\"))","v":0},{"$f":"LEN(BH191)-LEN(SUBSTITUTE(BH191,\"5\",\"\"))","v":0},{"$f":"LEN(BH191)-LEN(SUBSTITUTE(BH191,\"*\",\"\"))","v":0},{"$f":"BJ191/BI191","v":0},null,"",32,0]
[null,null,null,null,null,null,null,null,null,null,null,null,null,null,null,null,null,null,null,null,null,null,null,null,null,null,null,null,null,null,null,null,null,null,null,null,null,null,null,null,null,null,null,null,null,null,null,null,null,null,{"$f":"BA192*1+BB192*2+BC192*3+BD192*5+BE192*$N$10","v":0},{"$f":"LEN(BH192)-LEN(SUBSTITUTE(BH192,\"0\",\"\"))","v":0},{"$f":"LEN(BH192)-LEN(SUBSTITUTE(BH192,\"1\",\"\"))","v":0},{"$f":"LEN(BH192)-LEN(SUBSTITUTE(BH192,\"2\",\"\"))","v":0},{"$f":"LEN(BH192)-LEN(SUBSTITUTE(BH192,\"3\",\"\"))","v":0},{"$f":"LEN(BH192)-LEN(SUBSTITUTE(BH192,\"5\",\"\"))","v":0},{"$f":"LEN(BH192)-LEN(SUBSTITUTE(BH192,\"*\",\"\"))","v":0},{"$f":"BJ192/BI192","v":0},null,"",32,0]
[null,null,null,null,null,null,null,null,null,null,null,null,null,null,null,null,null,null,null,null,null,null,null,null,null,null,null,null,null,null,null,null,null,null,null,null,null,null,null,null,null,null,null,null,null,null,null,null,null,null,{"$f":"BA193*1+BB193*2+BC193*3+BD193*5+BE193*$N$10","v":0},{"$f":"LEN(BH193)-LEN(SUBSTITUTE(BH193,\"0\",\"\"))","v":0},{"$f":"LEN(BH193)-LEN(SUBSTITUTE(BH193,\"1\",\"\"))","v":0},{"$f":"LEN(BH193)-LEN(SUBSTITUTE(BH193,\"2\",\"\"))","v":0},{"$f":"LEN(BH193)-LEN(SUBSTITUTE(BH193,\"3\",\"\"))","v":0},{"$f":"LEN(BH193)-LEN(SUBSTITUTE(BH193,\"5\",\"\"))","v":0},{"$f":"LEN(BH193)-LEN(SUBSTITUTE(BH193,\"*\",\"\"))","v":0},{"$f":"BJ193/BI193","v":0},null,"",32,0]
[null,null,null,null,null,null,null,null,null,null,null,null,null,null,null,null,null,null,null,null,null,null,null,null,null,null,null,null,null,null,null,null,null,null,null,null,null,null,null,null,null,null,null,null,null,null,null,null,null,null,{"$f":"BA194*1+BB194*2+BC194*3+BD194*5+BE194*$N$10","v":0},{"$f":"LEN(BH194)-LEN(SUBSTITUTE(BH194,\"0\",\"\"))","v":0},{"$f":"LEN(BH194)-LEN(SUBSTITUTE(BH194,\"1\",\"\"))","v":0},{"$f":"LEN(BH194)-LEN(SUBSTITUTE(BH194,\"2\",\"\"))","v":0},{"$f":"LEN(BH194)-LEN(SUBSTITUTE(BH194,\"3\",\"\"))","v":0},{"$f":"LEN(BH194)-LEN(SUBSTITUTE(BH194,\"5\",\"\"))","v":0},{"$f":"LEN(BH194)-LEN(SUBSTITUTE(BH194,\"*\",\"\"))","v":0},{"$f":"BJ194/BI194","v":0},null,"",32,0]
[null,null,null,null,null,null,null,null,null,null,null,null,null,null,null,null,null,null,null,null,null,null,null,null,null,null,null,null,null,null,null,null,null,null,null,null,null,null,null,null,null,null,null,null,null,null,null,null,null,null,{"$f":"BA195*1+BB195*2+BC195*3+BD195*5+BE195*$N$10","v":0},{"$f":"LEN(BH195)-LEN(SUBSTITUTE(BH195,\"0\",\"\"))","v":0},{"$f":"LEN(BH195)-LEN(SUBSTITUTE(BH195,\"1\",\"\"))","v":0},{"$f":"LEN(BH195)-LEN(SUBSTITUTE(BH195,\"2\",\"\"))","v":0},{"$f":"LEN(BH195)-LEN(SUBSTITUTE(BH195,\"3\",\"\"))","v":0},{"$f":"LEN(BH195)-LEN(SUBSTITUTE(BH195,\"5\",\"\"))","v":0},{"$f":"LEN(BH195)-LEN(SUBSTITUTE(BH195,\"*\",\"\"))","v":0},{"$f":"BJ195/BI195","v":0},null,"",32,0]
[null,null,null,null,null,null,null,null,null,null,null,null,null,null,null,null,null,null,null,null,null,null,null,null,null,null,null,null,null,null,null,null,null,null,null,null,null,null,null,null,null,null,null,null,null,null,null,null,null,null,{"$f":"BA196*1+BB196*2+BC196*3+BD196*5+BE196*$N$10","v":0},{"$f":"LEN(BH196)-LEN(SUBSTITUTE(BH196,\"0\",\"\"))","v":0},{"$f":"LEN(BH196)-LEN(SUBSTITUTE(BH196,\"1\",\"\"))","v":0},{"$f":"LEN(BH196)-LEN(SUBSTITUTE(BH196,\"2\",\"\"))","v":0},{"$f":"LEN(BH196)-LEN(SUBSTITUTE(BH196,\"3\",\"\"))","v":0},{"$f":"LEN(BH196)-LEN(SUBSTITUTE(BH196,\"5\",\"\"))","v":0},{"$f":"LEN(BH196)-LEN(SUBSTITUTE(BH196,\"*\",\"\"))","v":0},{"$f":"BJ196/BI196","v":0},null,"",32,0]
[null,null,null,null,null,null,null,null,null,null,null,null,null,null,null,null,null,null,null,null,null,null,null,null,null,null,null,null,null,null,null,null,null,null,null,null,null,null,null,null,null,null,null,null,null,null,null,null,null,null,{"$f":"BA197*1+BB197*2+BC197*3+BD197*5+BE197*$N$10","v":0},{"$f":"LEN(BH197)-LEN(SUBSTITUTE(BH197,\"0\",\"\"))","v":0},{"$f":"LEN(BH197)-LEN(SUBSTITUTE(BH197,\"1\",\"\"))","v":0},{"$f":"LEN(BH197)-LEN(SUBSTITUTE(BH197,\"2\",\"\"))","v":0},{"$f":"LEN(BH197)-LEN(SUBSTITUTE(BH197,\"3\",\"\"))","v":0},{"$f":"LEN(BH197)-LEN(SUBSTITUTE(BH197,\"5\",\"\"))","v":0},{"$f":"LEN(BH197)-LEN(SUBSTITUTE(BH197,\"*\",\"\"))","v":0},{"$f":"BJ197/BI197","v":0},null,"",32,0]
[null,null,null,null,null,null,null,null,null,null,null,null,null,null,null,null,null,null,null,null,null,null,null,null,null,null,null,null,null,null,null,null,null,null,null,null,null,null,null,null,null,null,null,null,null,null,null,null,null,null,{"$f":"BA198*1+BB198*2+BC198*3+BD198*5+BE198*$N$10","v":0},{"$f":"LEN(BH198)-LEN(SUBSTITUTE(BH198,\"0\",\"\"))","v":0},{"$f":"LEN(BH198)-LEN(SUBSTITUTE(BH198,\"1\",\"\"))","v":0},{"$f":"LEN(BH198)-LEN(SUBSTITUTE(BH198,\"2\",\"\"))","v":0},{"$f":"LEN(BH198)-LEN(SUBSTITUTE(BH198,\"3\",\"\"))","v":0},{"$f":"LEN(BH198)-LEN(SUBSTITUTE(BH198,\"5\",\"\"))","v":0},{"$f":"LEN(BH198)-LEN(SUBSTITUTE(BH198,\"*\",\"\"))","v":0},{"$f":"BJ198/BI198","v":0},null,"",32,0]
[null,null,null,null,null,null,null,null,null,null,null,null,null,null,null,null,null,null,null,null,null,null,null,null,null,null,null,null,null,null,null,null,null,null,null,null,null,null,null,null,null,null,null,null,null,null,null,null,null,null,{"$f":"BA199*1+BB199*2+BC199*3+BD199*5+BE199*$N$10","v":0},{"$f":"LEN(BH199)-LEN(SUBSTITUTE(BH199,\"0\",\"\"))","v":0},{"$f":"LEN(BH199)-LEN(SUBSTITUTE(BH199,\"1\",\"\"))","v":0},{"$f":"LEN(BH199)-LEN(SUBSTITUTE(BH199,\"2\",\"\"))","v":0},{"$f":"LEN(BH199)-LEN(SUBSTITUTE(BH199,\"3\",\"\"))","v":0},{"$f":"LEN(BH199)-LEN(SUBSTITUTE(BH199,\"5\",\"\"))","v":0},{"$f":"LEN(BH199)-LEN(SUBSTITUTE(BH199,\"*\",\"\"))","v":0},{"$f":"BJ199/BI199","v":0},null,"",32,0]
[null,null,null,null,null,null,null,null,null,null,null,null,null,null,null,null,null,null,null,null,null,null,null,null,null,null,null,null,null,null,null,null,null,null,null,null,null,null,null,null,null,null,null,null,null,null,null,null,null,null,{"$f":"BA200*1+BB200*2+BC200*3+BD200*5+BE200*$N$10","v":0},{"$f":"LEN(BH200)-LEN(SUBSTITUTE(BH200,\"0\",\"\"))","v":0},{"$f":"LEN(BH200)-LEN(SUBSTITUTE(BH200,\"1\",\"\"))","v":0},{"$f":"LEN(BH200)-LEN(SUBSTITUTE(BH200,\"2\",\"\"))","v":0},{"$f":"LEN(BH200)-LEN(SUBSTITUTE(BH200,\"3\",\"\"))","v":0},{"$f":"LEN(BH200)-LEN(SUBSTITUTE(BH200,\"5\",\"\"))","v":0},{"$f":"LEN(BH200)-LEN(SUBSTITUTE(BH200,\"*\",\"\"))","v":0},{"$f":"BJ200/BI200","v":0},null,"",32,0]
[null,null,null,null,null,null,null,null,null,null,null,null,null,null,null,null,null,null,null,null,null,null,null,null,null,null,null,null,null,null,null,null,null,null,null,null,null,null,null,null,null,null,null,null,null,null,null,null,null,null,{"$f":"BA201*1+BB201*2+BC201*3+BD201*5+BE201*$N$10","v":0},{"$f":"LEN(BH201)-LEN(SUBSTITUTE(BH201,\"0\",\"\"))","v":0},{"$f":"LEN(BH201)-LEN(SUBSTITUTE(BH201,\"1\",\"\"))","v":0},{"$f":"LEN(BH201)-LEN(SUBSTITUTE(BH201,\"2\",\"\"))","v":0},{"$f":"LEN(BH201)-LEN(SUBSTITUTE(BH201,\"3\",\"\"))","v":0},{"$f":"LEN(BH201)-LEN(SUBSTITUTE(BH201,\"5\",\"\"))","v":0},{"$f":"LEN(BH201)-LEN(SUBSTITUTE(BH201,\"*\",\"\"))","v":0},{"$f":"BJ201/BI201","v":0},null,"",32,0]
[null,null,null,null,null,null,null,null,null,null,null,null,null,null,null,null,null,null,null,null,null,null,null,null,null,null,null,null,null,null,null,null,null,null,null,null,null,null,null,null,null,null,null,null,null,null,null,null,null,null,{"$f":"BA202*1+BB202*2+BC202*3+BD202*5+BE202*$N$10","v":0},{"$f":"LEN(BH202)-LEN(SUBSTITUTE(BH202,\"0\",\"\"))","v":0},{"$f":"LEN(BH202)-LEN(SUBSTITUTE(BH202,\"1\",\"\"))","v":0},{"$f":"LEN(BH202)-LEN(SUBSTITUTE(BH202,\"2\",\"\"))","v":0},{"$f":"LEN(BH202)-LEN(SUBSTITUTE(BH202,\"3\",\"\"))","v":0},{"$f":"LEN(BH202)-LEN(SUBSTITUTE(BH202,\"5\",\"\"))","v":0},{"$f":"LEN(BH202)-LEN(SUBSTITUTE(BH202,\"*\",\"\"))","v":0},{"$f":"BJ202/BI202","v":0},null,"",32,0]
[null,null,null,null,null,null,null,null,null,null,null,null,null,null,null,null,null,null,null,null,null,null,null,null,null,null,null,null,null,null,null,null,null,null,null,null,null,null,null,null,null,null,null,null,null,null,null,null,null,null,{"$f":"BA203*1+BB203*2+BC203*3+BD203*5+BE203*$N$10","v":0},{"$f":"LEN(BH203)-LEN(SUBSTITUTE(BH203,\"0\",\"\"))","v":0},{"$f":"LEN(BH203)-LEN(SUBSTITUTE(BH203,\"1\",\"\"))","v":0},{"$f":"LEN(BH203)-LEN(SUBSTITUTE(BH203,\"2\",\"\"))","v":0},{"$f":"LEN(BH203)-LEN(SUBSTITUTE(BH203,\"3\",\"\"))","v":0},{"$f":"LEN(BH203)-LEN(SUBSTITUTE(BH203,\"5\",\"\"))","v":0},{"$f":"LEN(BH203)-LEN(SUBSTITUTE(BH203,\"*\",\"\"))","v":0},{"$f":"BJ203/BI203","v":0},null,"",32,0]
[null,null,null,null,null,null,null,null,null,null,null,null,null,null,null,null,null,null,null,null,null,null,null,null,null,null,null,null,null,null,null,null,null,null,null,null,null,null,null,null,null,null,null,null,null,null,null,null,null,null,{"$f":"BA204*1+BB204*2+BC204*3+BD204*5+BE204*$N$10","v":0},{"$f":"LEN(BH204)-LEN(SUBSTITUTE(BH204,\"0\",\"\"))","v":0},{"$f":"LEN(BH204)-LEN(SUBSTITUTE(BH204,\"1\",\"\"))","v":0},{"$f":"LEN(BH204)-LEN(SUBSTITUTE(BH204,\"2\",\"\"))","v":0},{"$f":"LEN(BH204)-LEN(SUBSTITUTE(BH204,\"3\",\"\"))","v":0},{"$f":"LEN(BH204)-LEN(SUBSTITUTE(BH204,\"5\",\"\"))","v":0},{"$f":"LEN(BH204)-LEN(SUBSTITUTE(BH204,\"*\",\"\"))","v":0},{"$f":"BJ204/BI204","v":0},null,"",32,0]
[null,null,null,null,null,null,null,null,null,null,null,null,null,null,null,null,null,null,null,null,null,null,null,null,null,null,null,null,null,null,null,null,null,null,null,null,null,null,null,null,null,null,null,null,null,null,null,null,null,null,{"$f":"BA205*1+BB205*2+BC205*3+BD205*5+BE205*$N$10","v":0},{"$f":"LEN(BH205)-LEN(SUBSTITUTE(BH205,\"0\",\"\"))","v":0},{"$f":"LEN(BH205)-LEN(SUBSTITUTE(BH205,\"1\",\"\"))","v":0},{"$f":"LEN(BH205)-LEN(SUBSTITUTE(BH205,\"2\",\"\"))","v":0},{"$f":"LEN(BH205)-LEN(SUBSTITUTE(BH205,\"3\",\"\"))","v":0},{"$f":"LEN(BH205)-LEN(SUBSTITUTE(BH205,\"5\",\"\"))","v":0},{"$f":"LEN(BH205)-LEN(SUBSTITUTE(BH205,\"*\",\"\"))","v":0},{"$f":"BJ205/BI205","v":0},null,"",32,0]
[null,null,null,null,null,null,null,null,null,null,null,null,null,null,null,null,null,null,null,null,null,null,null,null,null,null,null,null,null,null,null,null,null,null,null,null,null,null,null,null,null,null,null,null,null,null,null,null,null,null,{"$f":"BA206*1+BB206*2+BC206*3+BD206*5+BE206*$N$10","v":0},{"$f":"LEN(BH206)-LEN(SUBSTITUTE(BH206,\"0\",\"\"))","v":0},{"$f":"LEN(BH206)-LEN(SUBSTITUTE(BH206,\"1\",\"\"))","v":0},{"$f":"LEN(BH206)-LEN(SUBSTITUTE(BH206,\"2\",\"\"))","v":0},{"$f":"LEN(BH206)-LEN(SUBSTITUTE(BH206,\"3\",\"\"))","v":0},{"$f":"LEN(BH206)-LEN(SUBSTITUTE(BH206,\"5\",\"\"))","v":0},{"$f":"LEN(BH206)-LEN(SUBSTITUTE(BH206,\"*\",\"\"))","v":0},{"$f":"BJ206/BI206","v":0},null,"",32,0]
[null,null,null,null,null,null,null,null,null,null,null,null,null,null,null,null,null,null,null,null,null,null,null,null,null,null,null,null,null,null,null,null,null,null,null,null,null,null,null,null,null,null,null,null,null,null,null,null,null,null,{"$f":"BA207*1+BB207*2+BC207*3+BD207*5+BE207*$N$10","v":0},{"$f":"LEN(BH207)-LEN(SUBSTITUTE(BH207,\"0\",\"\"))","v":0},{"$f":"LEN(BH207)-LEN(SUBSTITUTE(BH207,\"1\",\"\"))","v":0},{"$f":"LEN(BH207)-LEN(SUBSTITUTE(BH207,\"2\",\"\"))","v":0},{"$f":"LEN(BH207)-LEN(SUBSTITUTE(BH207,\"3\",\"\"))","v":0},{"$f":"LEN(BH207)-LEN(SUBSTITUTE(BH207,\"5\",\"\"))","v":0},{"$f":"LEN(BH207)-LEN(SUBSTITUTE(BH207,\"*\",\"\"))","v":0},{"$f":"BJ207/BI207","v":0},null,"",32,0]
[null,null,null,null,null,null,null,null,null,null,null,null,null,null,null,null,null,null,null,null,null,null,null,null,null,null,null,null,null,null,null,null,null,null,null,null,null,null,null,null,null,null,null,null,null,null,null,null,null,null,{"$f":"BA208*1+BB208*2+BC208*3+BD208*5+BE208*$N$10","v":0},{"$f":"LEN(BH208)-LEN(SUBSTITUTE(BH208,\"0\",\"\"))","v":0},{"$f":"LEN(BH208)-LEN(SUBSTITUTE(BH208,\"1\",\"\"))","v":0},{"$f":"LEN(BH208)-LEN(SUBSTITUTE(BH208,\"2\",\"\"))","v":0},{"$f":"LEN(BH208)-LEN(SUBSTITUTE(BH208,\"3\",\"\"))","v":0},{"$f":"LEN(BH208)-LEN(SUBSTITUTE(BH208,\"5\",\"\"))","v":0},{"$f":"LEN(BH208)-LEN(SUBSTITUTE(BH208,\"*\",\"\"))","v":0},{"$f":"BJ208/BI208","v":0},null,"",32,0]
[null,null,null,null,null,null,null,null,null,null,null,null,null,null,null,null,null,null,null,null,null,null,null,null,null,null,null,null,null,null,null,null,null,null,null,null,null,null,null,null,null,null,null,null,null,null,null,null,null,null,{"$f":"BA209*1+BB209*2+BC209*3+BD209*5+BE209*$N$10","v":0},{"$f":"LEN(BH209)-LEN(SUBSTITUTE(BH209,\"0\",\"\"))","v":0},{"$f":"LEN(BH209)-LEN(SUBSTITUTE(BH209,\"1\",\"\"))","v":0},{"$f":"LEN(BH209)-LEN(SUBSTITUTE(BH209,\"2\",\"\"))","v":0},{"$f":"LEN(BH209)-LEN(SUBSTITUTE(BH209,\"3\",\"\"))","v":0},{"$f":"LEN(BH209)-LEN(SUBSTITUTE(BH209,\"5\",\"\"))","v":0},{"$f":"LEN(BH209)-LEN(SUBSTITUTE(BH209,\"*\",\"\"))","v":0},{"$f":"BJ209/BI209","v":0},null,"",32,0]
[null,null,null,null,null,null,null,null,null,null,null,null,null,null,null,null,null,null,null,null,null,null,null,null,null,null,null,null,null,null,null,null,null,null,null,null,null,null,null,null,null,null,null,null,null,null,null,null,null,null,{"$f":"BA210*1+BB210*2+BC210*3+BD210*5+BE210*$N$10","v":0},{"$f":"LEN(BH210)-LEN(SUBSTITUTE(BH210,\"0\",\"\"))","v":0},{"$f":"LEN(BH210)-LEN(SUBSTITUTE(BH210,\"1\",\"\"))","v":0},{"$f":"LEN(BH210)-LEN(SUBSTITUTE(BH210,\"2\",\"\"))","v":0},{"$f":"LEN(BH210)-LEN(SUBSTITUTE(BH210,\"3\",\"\"))","v":0},{"$f":"LEN(BH210)-LEN(SUBSTITUTE(BH210,\"5\",\"\"))","v":0},{"$f":"LEN(BH210)-LEN(SUBSTITUTE(BH210,\"*\",\"\"))","v":0},{"$f":"BJ210/BI210","v":0},null,"",32,0]
[null,null,null,null,null,null,null,null,null,null,null,null,null,null,null,null,null,null,null,null,null,null,null,null,null,null,null,null,null,null,null,null,null,null,null,null,null,null,null,null,null,null,null,null,null,null,null,null,null,null,{"$f":"BA211*1+BB211*2+BC211*3+BD211*5+BE211*$N$10","v":0},{"$f":"LEN(BH211)-LEN(SUBSTITUTE(BH211,\"0\",\"\"))","v":0},{"$f":"LEN(BH211)-LEN(SUBSTITUTE(BH211,\"1\",\"\"))","v":0},{"$f":"LEN(BH211)-LEN(SUBSTITUTE(BH211,\"2\",\"\"))","v":0},{"$f":"LEN(BH211)-LEN(SUBSTITUTE(BH211,\"3\",\"\"))","v":0},{"$f":"LEN(BH211)-LEN(SUBSTITUTE(BH211,\"5\",\"\"))","v":0},{"$f":"LEN(BH211)-LEN(SUBSTITUTE(BH211,\"*\",\"\"))","v":0},{"$f":"BJ211/BI211","v":0},null,"",32,0]
[null,null,null,null,null,null,null,null,null,null,null,null,null,null,null,null,null,null,null,null,null,null,null,null,null,null,null,null,null,null,null,null,null,null,null,null,null,null,null,null,null,null,null,null,null,null,null,null,null,null,{"$f":"BA212*1+BB212*2+BC212*3+BD212*5+BE212*$N$10","v":0},{"$f":"LEN(BH212)-LEN(SUBSTITUTE(BH212,\"0\",\"\"))","v":0},{"$f":"LEN(BH212)-LEN(SUBSTITUTE(BH212,\"1\",\"\"))","v":0},{"$f":"LEN(BH212)-LEN(SUBSTITUTE(BH212,\"2\",\"\"))","v":0},{"$f":"LEN(BH212)-LEN(SUBSTITUTE(BH212,\"3\",\"\"))","v":0},{"$f":"LEN(BH212)-LEN(SUBSTITUTE(BH212,\"5\",\"\"))","v":0},{"$f":"LEN(BH212)-LEN(SUBSTITUTE(BH212,\"*\",\"\"))","v":0},{"$f":"BJ212/BI212","v":0},null,"",32,0]
[null,null,null,null,null,null,null,null,null,null,null,null,null,null,null,null,null,null,null,null,null,null,null,null,null,null,null,null,null,null,null,null,null,null,null,null,null,null,null,null,null,null,null,null,null,null,null,null,null,null,{"$f":"BA213*1+BB213*2+BC213*3+BD213*5+BE213*$N$10","v":0},{"$f":"LEN(BH213)-LEN(SUBSTITUTE(BH213,\"0\",\"\"))","v":0},{"$f":"LEN(BH213)-LEN(SUBSTITUTE(BH213,\"1\",\"\"))","v":0},{"$f":"LEN(BH213)-LEN(SUBSTITUTE(BH213,\"2\",\"\"))","v":0},{"$f":"LEN(BH213)-LEN(SUBSTITUTE(BH213,\"3\",\"\"))","v":0},{"$f":"LEN(BH213)-LEN(SUBSTITUTE(BH213,\"5\",\"\"))","v":0},{"$f":"LEN(BH213)-LEN(SUBSTITUTE(BH213,\"*\",\"\"))","v":0},{"$f":"BJ213/BI213","v":0},null,"",32,0]
[null,null,null,null,null,null,null,null,null,null,null,null,null,null,null,null,null,null,null,null,null,null,null,null,null,null,null,null,null,null,null,null,null,null,null,null,null,null,null,null,null,null,null,null,null,null,null,null,null,null,{"$f":"BA214*1+BB214*2+BC214*3+BD214*5+BE214*$N$10","v":0},{"$f":"LEN(BH214)-LEN(SUBSTITUTE(BH214,\"0\",\"\"))","v":0},{"$f":"LEN(BH214)-LEN(SUBSTITUTE(BH214,\"1\",\"\"))","v":0},{"$f":"LEN(BH214)-LEN(SUBSTITUTE(BH214,\"2\",\"\"))","v":0},{"$f":"LEN(BH214)-LEN(SUBSTITUTE(BH214,\"3\",\"\"))","v":0},{"$f":"LEN(BH214)-LEN(SUBSTITUTE(BH214,\"5\",\"\"))","v":0},{"$f":"LEN(BH214)-LEN(SUBSTITUTE(BH214,\"*\",\"\"))","v":0},{"$f":"BJ214/BI214","v":0},null,{"$f":"CONCATENATE(K214,L214,M214,N214,O214,P214,Q214,R214,S214,T214,U214,V214,W214,X214,Y214,Z214,AA214,AB214,AC214,AD214,AE214,AF214,AG214,AH214,AI214,AJ214,AK214,AL214,AM214,AN214,AO214,AP214,AQ214,AR214,AS214,AT214,AU214,AV214,AW214,AX214)","v":""},{"$f":"$C$11*$C$10","v":32},{"$f":"AZ214+BA214+BB214+BC214+BD214","v":0}]
[null,null,null,null,null,null,null,null,null,null,null,null,null,null,null,null,null,null,null,null,null,null,null,null,null,null,null,null,null,null,null,null,null,null,null,null,null,null,null,null,null,null,null,null,null,null,null,null,null,null,{"$f":"BA215*1+BB215*2+BC215*3+BD215*5+BE215*$N$10","v":0},{"$f":"LEN(BH215)-LEN(SUBSTITUTE(BH215,\"0\",\"\"))","v":0},{"$f":"LEN(BH215)-LEN(SUBSTITUTE(BH215,\"1\",\"\"))","v":0},{"$f":"LEN(BH215)-LEN(SUBSTITUTE(BH215,\"2\",\"\"))","v":0},{"$f":"LEN(BH215)-LEN(SUBSTITUTE(BH215,\"3\",\"\"))","v":0},{"$f":"LEN(BH215)-LEN(SUBSTITUTE(BH215,\"5\",\"\"))","v":0},{"$f":"LEN(BH215)-LEN(SUBSTITUTE(BH215,\"*\",\"\"))","v":0},{"$f":"BJ215/BI215","v":0},null,"",32,0]
[null,null,null,null,null,null,null,null,null,null,null,null,null,null,null,null,null,null,null,null,null,null,null,null,null,null,null,null,null,null,null,null,null,null,null,null,null,null,null,null,null,null,null,null,null,null,null,null,null,null,{"$f":"BA216*1+BB216*2+BC216*3+BD216*5+BE216*$N$10","v":0},{"$f":"LEN(BH216)-LEN(SUBSTITUTE(BH216,\"0\",\"\"))","v":0},{"$f":"LEN(BH216)-LEN(SUBSTITUTE(BH216,\"1\",\"\"))","v":0},{"$f":"LEN(BH216)-LEN(SUBSTITUTE(BH216,\"2\",\"\"))","v":0},{"$f":"LEN(BH216)-LEN(SUBSTITUTE(BH216,\"3\",\"\"))","v":0},{"$f":"LEN(BH216)-LEN(SUBSTITUTE(BH216,\"5\",\"\"))","v":0},{"$f":"LEN(BH216)-LEN(SUBSTITUTE(BH216,\"*\",\"\"))","v":0},{"$f":"BJ216/BI216","v":0},null,"",32,0]
[null,null,null,null,null,null,null,null,null,null,null,null,null,null,null,null,null,null,null,null,null,null,null,null,null,null,null,null,null,null,null,null,null,null,null,null,null,null,null,null,null,null,null,null,null,null,null,null,null,null,{"$f":"BA217*1+BB217*2+BC217*3+BD217*5+BE217*$N$10","v":0},{"$f":"LEN(BH217)-LEN(SUBSTITUTE(BH217,\"0\",\"\"))","v":0},{"$f":"LEN(BH217)-LEN(SUBSTITUTE(BH217,\"1\",\"\"))","v":0},{"$f":"LEN(BH217)-LEN(SUBSTITUTE(BH217,\"2\",\"\"))","v":0},{"$f":"LEN(BH217)-LEN(SUBSTITUTE(BH217,\"3\",\"\"))","v":0},{"$f":"LEN(BH217)-LEN(SUBSTITUTE(BH217,\"5\",\"\"))","v":0},{"$f":"LEN(BH217)-LEN(SUBSTITUTE(BH217,\"*\",\"\"))","v":0},{"$f":"BJ217/BI217","v":0},null,"",32,0]
[null,null,null,null,null,null,null,null,null,null,null,null,null,null,null,null,null,null,null,null,null,null,null,null,null,null,null,null,null,null,null,null,null,null,null,null,null,null,null,null,null,null,null,null,null,null,null,null,null,null,{"$f":"BA218*1+BB218*2+BC218*3+BD218*5+BE218*$N$10","v":0},{"$f":"LEN(BH218)-LEN(SUBSTITUTE(BH218,\"0\",\"\"))","v":0},{"$f":"LEN(BH218)-LEN(SUBSTITUTE(BH218,\"1\",\"\"))","v":0},{"$f":"LEN(BH218)-LEN(SUBSTITUTE(BH218,\"2\",\"\"))","v":0},{"$f":"LEN(BH218)-LEN(SUBSTITUTE(BH218,\"3\",\"\"))","v":0},{"$f":"LEN(BH218)-LEN(SUBSTITUTE(BH218,\"5\",\"\"))","v":0},{"$f":"LEN(BH218)-LEN(SUBSTITUTE(BH218,\"*\",\"\"))","v":0},{"$f":"BJ218/BI218","v":0},null,"",32,0]
[null,null,null,null,null,null,null,null,null,null,null,null,null,null,null,null,null,null,null,null,null,null,null,null,null,null,null,null,null,null,null,null,null,null,null,null,null,null,null,null,null,null,null,null,null,null,null,null,null,null,{"$f":"BA219*1+BB219*2+BC219*3+BD219*5+BE219*$N$10","v":0},{"$f":"LEN(BH219)-LEN(SUBSTITUTE(BH219,\"0\",\"\"))","v":0},{"$f":"LEN(BH219)-LEN(SUBSTITUTE(BH219,\"1\",\"\"))","v":0},{"$f":"LEN(BH219)-LEN(SUBSTITUTE(BH219,\"2\",\"\"))","v":0},{"$f":"LEN(BH219)-LEN(SUBSTITUTE(BH219,\"3\",\"\"))","v":0},{"$f":"LEN(BH219)-LEN(SUBSTITUTE(BH219,\"5\",\"\"))","v":0},{"$f":"LEN(BH219)-LEN(SUBSTITUTE(BH219,\"*\",\"\"))","v":0},{"$f":"BJ219/BI219","v":0},null,"",32,0]
[null,null,null,null,null,null,null,null,null,null,null,null,null,null,null,null,null,null,null,null,null,null,null,null,null,null,null,null,null,null,null,null,null,null,null,null,null,null,null,null,null,null,null,null,null,null,null,null,null,null,{"$f":"BA220*1+BB220*2+BC220*3+BD220*5+BE220*$N$10","v":0},{"$f":"LEN(BH220)-LEN(SUBSTITUTE(BH220,\"0\",\"\"))","v":0},{"$f":"LEN(BH220)-LEN(SUBSTITUTE(BH220,\"1\",\"\"))","v":0},{"$f":"LEN(BH220)-LEN(SUBSTITUTE(BH220,\"2\",\"\"))","v":0},{"$f":"LEN(BH220)-LEN(SUBSTITUTE(BH220,\"3\",\"\"))","v":0},{"$f":"LEN(BH220)-LEN(SUBSTITUTE(BH220,\"5\",\"\"))","v":0},{"$f":"LEN(BH220)-LEN(SUBSTITUTE(BH220,\"*\",\"\"))","v":0},{"$f":"BJ220/BI220","v":0},null,"",32,0]
[null,null,null,null,null,null,null,null,null,null,null,null,null,null,null,null,null,null,null,null,null,null,null,null,null,null,null,null,null,null,null,null,null,null,null,null,null,null,null,null,null,null,null,null,null,null,null,null,null,null,{"$f":"BA221*1+BB221*2+BC221*3+BD221*5+BE221*$N$10","v":0},{"$f":"LEN(BH221)-LEN(SUBSTITUTE(BH221,\"0\",\"\"))","v":0},{"$f":"LEN(BH221)-LEN(SUBSTITUTE(BH221,\"1\",\"\"))","v":0},{"$f":"LEN(BH221)-LEN(SUBSTITUTE(BH221,\"2\",\"\"))","v":0},{"$f":"LEN(BH221)-LEN(SUBSTITUTE(BH221,\"3\",\"\"))","v":0},{"$f":"LEN(BH221)-LEN(SUBSTITUTE(BH221,\"5\",\"\"))","v":0},{"$f":"LEN(BH221)-LEN(SUBSTITUTE(BH221,\"*\",\"\"))","v":0},{"$f":"BJ221/BI221","v":0},null,"",32,0]
[null,null,null,null,null,null,null,null,null,null,null,null,null,null,null,null,null,null,null,null,null,null,null,null,null,null,null,null,null,null,null,null,null,null,null,null,null,null,null,null,null,null,null,null,null,null,null,null,null,null,{"$f":"BA222*1+BB222*2+BC222*3+BD222*5+BE222*$N$10","v":0},{"$f":"LEN(BH222)-LEN(SUBSTITUTE(BH222,\"0\",\"\"))","v":0},{"$f":"LEN(BH222)-LEN(SUBSTITUTE(BH222,\"1\",\"\"))","v":0},{"$f":"LEN(BH222)-LEN(SUBSTITUTE(BH222,\"2\",\"\"))","v":0},{"$f":"LEN(BH222)-LEN(SUBSTITUTE(BH222,\"3\",\"\"))","v":0},{"$f":"LEN(BH222)-LEN(SUBSTITUTE(BH222,\"5\",\"\"))","v":0},{"$f":"LEN(BH222)-LEN(SUBSTITUTE(BH222,\"*\",\"\"))","v":0},{"$f":"BJ222/BI222","v":0},null,"",32,0]
[null,null,null,null,null,null,null,null,null,null,null,null,null,null,null,null,null,null,null,null,null,null,null,null,null,null,null,null,null,null,null,null,null,null,null,null,null,null,null,null,null,null,null,null,null,null,null,null,null,null,{"$f":"BA223*1+BB223*2+BC223*3+BD223*5+BE223*$N$10","v":0},{"$f":"LEN(BH223)-LEN(SUBSTITUTE(BH223,\"0\",\"\"))","v":0},{"$f":"LEN(BH223)-LEN(SUBSTITUTE(BH223,\"1\",\"\"))","v":0},{"$f":"LEN(BH223)-LEN(SUBSTITUTE(BH223,\"2\",\"\"))","v":0},{"$f":"LEN(BH223)-LEN(SUBSTITUTE(BH223,\"3\",\"\"))","v":0},{"$f":"LEN(BH223)-LEN(SUBSTITUTE(BH223,\"5\",\"\"))","v":0},{"$f":"LEN(BH223)-LEN(SUBSTITUTE(BH223,\"*\",\"\"))","v":0},{"$f":"BJ223/BI223","v":0},null,"",32,0]
[null,null,null,null,null,null,null,null,null,null,null,null,null,null,null,null,null,null,null,null,null,null,null,null,null,null,null,null,null,null,null,null,null,null,null,null,null,null,null,null,null,null,null,null,null,null,null,null,null,null,{"$f":"BA224*1+BB224*2+BC224*3+BD224*5+BE224*$N$10","v":0},{"$f":"LEN(BH224)-LEN(SUBSTITUTE(BH224,\"0\",\"\"))","v":0},{"$f":"LEN(BH224)-LEN(SUBSTITUTE(BH224,\"1\",\"\"))","v":0},{"$f":"LEN(BH224)-LEN(SUBSTITUTE(BH224,\"2\",\"\"))","v":0},{"$f":"LEN(BH224)-LEN(SUBSTITUTE(BH224,\"3\",\"\"))","v":0},{"$f":"LEN(BH224)-LEN(SUBSTITUTE(BH224,\"5\",\"\"))","v":0},{"$f":"LEN(BH224)-LEN(SUBSTITUTE(BH224,\"*\",\"\"))","v":0},{"$f":"BJ224/BI224","v":0},null,"",32,0]
[null,null,null,null,null,null,null,null,null,null,null,null,null,null,null,null,null,null,null,null,null,null,null,null,null,null,null,null,null,null,null,null,null,null,null,null,null,null,null,null,null,null,null,null,null,null,null,null,null,null,{"$f":"BA225*1+BB225*2+BC225*3+BD225*5+BE225*$N$10","v":0},{"$f":"LEN(BH225)-LEN(SUBSTITUTE(BH225,\"0\",\"\"))","v":0},{"$f":"LEN(BH225)-LEN(SUBSTITUTE(BH225,\"1\",\"\"))","v":0},{"$f":"LEN(BH225)-LEN(SUBSTITUTE(BH225,\"2\",\"\"))","v":0},{"$f":"LEN(BH225)-LEN(SUBSTITUTE(BH225,\"3\",\"\"))","v":0},{"$f":"LEN(BH225)-LEN(SUBSTITUTE(BH225,\"5\",\"\"))","v":0},{"$f":"LEN(BH225)-LEN(SUBSTITUTE(BH225,\"*\",\"\"))","v":0},{"$f":"BJ225/BI225","v":0},null,"",32,0]
[null,null,null,null,null,null,null,null,null,null,null,null,null,null,null,null,null,null,null,null,null,null,null,null,null,null,null,null,null,null,null,null,null,null,null,null,null,null,null,null,null,null,null,null,null,null,null,null,null,null,{"$f":"BA226*1+BB226*2+BC226*3+BD226*5+BE226*$N$10","v":0},{"$f":"LEN(BH226)-LEN(SUBSTITUTE(BH226,\"0\",\"\"))","v":0},{"$f":"LEN(BH226)-LEN(SUBSTITUTE(BH226,\"1\",\"\"))","v":0},{"$f":"LEN(BH226)-LEN(SUBSTITUTE(BH226,\"2\",\"\"))","v":0},{"$f":"LEN(BH226)-LEN(SUBSTITUTE(BH226,\"3\",\"\"))","v":0},{"$f":"LEN(BH226)-LEN(SUBSTITUTE(BH226,\"5\",\"\"))","v":0},{"$f":"LEN(BH226)-LEN(SUBSTITUTE(BH226,\"*\",\"\"))","v":0},{"$f":"BJ226/BI226","v":0},null,"",32,0]
[null,null,null,null,null,null,null,null,null,null,null,null,null,null,null,null,null,null,null,null,null,null,null,null,null,null,null,null,null,null,null,null,null,null,null,null,null,null,null,null,null,null,null,null,null,null,null,null,null,null,{"$f":"BA227*1+BB227*2+BC227*3+BD227*5+BE227*$N$10","v":0},{"$f":"LEN(BH227)-LEN(SUBSTITUTE(BH227,\"0\",\"\"))","v":0},{"$f":"LEN(BH227)-LEN(SUBSTITUTE(BH227,\"1\",\"\"))","v":0},{"$f":"LEN(BH227)-LEN(SUBSTITUTE(BH227,\"2\",\"\"))","v":0},{"$f":"LEN(BH227)-LEN(SUBSTITUTE(BH227,\"3\",\"\"))","v":0},{"$f":"LEN(BH227)-LEN(SUBSTITUTE(BH227,\"5\",\"\"))","v":0},{"$f":"LEN(BH227)-LEN(SUBSTITUTE(BH227,\"*\",\"\"))","v":0},{"$f":"BJ227/BI227","v":0},null,"",32,0]
[null,null,null,null,null,null,null,null,null,null,null,null,null,null,null,null,null,null,null,null,null,null,null,null,null,null,null,null,null,null,null,null,null,null,null,null,null,null,null,null,null,null,null,null,null,null,null,null,null,null,{"$f":"BA228*1+BB228*2+BC228*3+BD228*5+BE228*$N$10","v":0},{"$f":"LEN(BH228)-LEN(SUBSTITUTE(BH228,\"0\",\"\"))","v":0},{"$f":"LEN(BH228)-LEN(SUBSTITUTE(BH228,\"1\",\"\"))","v":0},{"$f":"LEN(BH228)-LEN(SUBSTITUTE(BH228,\"2\",\"\"))","v":0},{"$f":"LEN(BH228)-LEN(SUBSTITUTE(BH228,\"3\",\"\"))","v":0},{"$f":"LEN(BH228)-LEN(SUBSTITUTE(BH228,\"5\",\"\"))","v":0},{"$f":"LEN(BH228)-LEN(SUBSTITUTE(BH228,\"*\",\"\"))","v":0},{"$f":"BJ228/BI228","v":0},null,"",32,0]
[null,null,null,null,null,null,null,null,null,null,null,null,null,null,null,null,null,null,null,null,null,null,null,null,null,null,null,null,null,null,null,null,null,null,null,null,null,null,null,null,null,null,null,null,null,null,null,null,null,null,{"$f":"BA229*1+BB229*2+BC229*3+BD229*5+BE229*$N$10","v":0},{"$f":"LEN(BH229)-LEN(SUBSTITUTE(BH229,\"0\",\"\"))","v":0},{"$f":"LEN(BH229)-LEN(SUBSTITUTE(BH229,\"1\",\"\"))","v":0},{"$f":"LEN(BH229)-LEN(SUBSTITUTE(BH229,\"2\",\"\"))","v":0},{"$f":"LEN(BH229)-LEN(SUBSTITUTE(BH229,\"3\",\"\"))","v":0},{"$f":"LEN(BH229)-LEN(SUBSTITUTE(BH229,\"5\",\"\"))","v":0},{"$f":"LEN(BH229)-LEN(SUBSTITUTE(BH229,\"*\",\"\"))","v":0},{"$f":"BJ229/BI229","v":0},null,"",32,0]
[null,null,null,null,null,null,null,null,null,null,null,null,null,null,null,null,null,null,null,null,null,null,null,null,null,null,null,null,null,null,null,null,null,null,null,null,null,null,null,null,null,null,null,null,null,null,null,null,null,null,{"$f":"BA230*1+BB230*2+BC230*3+BD230*5+BE230*$N$10","v":0},{"$f":"LEN(BH230)-LEN(SUBSTITUTE(BH230,\"0\",\"\"))","v":0},{"$f":"LEN(BH230)-LEN(SUBSTITUTE(BH230,\"1\",\"\"))","v":0},{"$f":"LEN(BH230)-LEN(SUBSTITUTE(BH230,\"2\",\"\"))","v":0},{"$f":"LEN(BH230)-LEN(SUBSTITUTE(BH230,\"3\",\"\"))","v":0},{"$f":"LEN(BH230)-LEN(SUBSTITUTE(BH230,\"5\",\"\"))","v":0},{"$f":"LEN(BH230)-LEN(SUBSTITUTE(BH230,\"*\",\"\"))","v":0},{"$f":"BJ230/BI230","v":0},null,"",32,0]
[null,null,null,null,null,null,null,null,null,null,null,null,null,null,null,null,null,null,null,null,null,null,null,null,null,null,null,null,null,null,null,null,null,null,null,null,null,null,null,null,null,null,null,null,null,null,null,null,null,null,{"$f":"BA231*1+BB231*2+BC231*3+BD231*5+BE231*$N$10","v":0},{"$f":"LEN(BH231)-LEN(SUBSTITUTE(BH231,\"0\",\"\"))","v":0},{"$f":"LEN(BH231)-LEN(SUBSTITUTE(BH231,\"1\",\"\"))","v":0},{"$f":"LEN(BH231)-LEN(SUBSTITUTE(BH231,\"2\",\"\"))","v":0},{"$f":"LEN(BH231)-LEN(SUBSTITUTE(BH231,\"3\",\"\"))","v":0},{"$f":"LEN(BH231)-LEN(SUBSTITUTE(BH231,\"5\",\"\"))","v":0},{"$f":"LEN(BH231)-LEN(SUBSTITUTE(BH231,\"*\",\"\"))","v":0},{"$f":"BJ231/BI231","v":0},null,"",32,0]
[null,null,null,null,null,null,null,null,null,null,null,null,null,null,null,null,null,null,null,null,null,null,null,null,null,null,null,null,null,null,null,null,null,null,null,null,null,null,null,null,null,null,null,null,null,null,null,null,null,null,{"$f":"BA232*1+BB232*2+BC232*3+BD232*5+BE232*$N$10","v":0},{"$f":"LEN(BH232)-LEN(SUBSTITUTE(BH232,\"0\",\"\"))","v":0},{"$f":"LEN(BH232)-LEN(SUBSTITUTE(BH232,\"1\",\"\"))","v":0},{"$f":"LEN(BH232)-LEN(SUBSTITUTE(BH232,\"2\",\"\"))","v":0},{"$f":"LEN(BH232)-LEN(SUBSTITUTE(BH232,\"3\",\"\"))","v":0},{"$f":"LEN(BH232)-LEN(SUBSTITUTE(BH232,\"5\",\"\"))","v":0},{"$f":"LEN(BH232)-LEN(SUBSTITUTE(BH232,\"*\",\"\"))","v":0},{"$f":"BJ232/BI232","v":0},null,"",32,0]
[null,null,null,null,null,null,null,null,null,null,null,null,null,null,null,null,null,null,null,null,null,null,null,null,null,null,null,null,null,null,null,null,null,null,null,null,null,null,null,null,null,null,null,null,null,null,null,null,null,null,{"$f":"BA233*1+BB233*2+BC233*3+BD233*5+BE233*$N$10","v":0},{"$f":"LEN(BH233)-LEN(SUBSTITUTE(BH233,\"0\",\"\"))","v":0},{"$f":"LEN(BH233)-LEN(SUBSTITUTE(BH233,\"1\",\"\"))","v":0},{"$f":"LEN(BH233)-LEN(SUBSTITUTE(BH233,\"2\",\"\"))","v":0},{"$f":"LEN(BH233)-LEN(SUBSTITUTE(BH233,\"3\",\"\"))","v":0},{"$f":"LEN(BH233)-LEN(SUBSTITUTE(BH233,\"5\",\"\"))","v":0},{"$f":"LEN(BH233)-LEN(SUBSTITUTE(BH233,\"*\",\"\"))","v":0},{"$f":"BJ233/BI233","v":0},null,"",32,0]
[null,null,null,null,null,null,null,null,null,null,null,null,null,null,null,null,null,null,null,null,null,null,null,null,null,null,null,null,null,null,null,null,null,null,null,null,null,null,null,null,null,null,null,null,null,null,null,null,null,null,{"$f":"BA234*1+BB234*2+BC234*3+BD234*5+BE234*$N$10","v":0},{"$f":"LEN(BH234)-LEN(SUBSTITUTE(BH234,\"0\",\"\"))","v":0},{"$f":"LEN(BH234)-LEN(SUBSTITUTE(BH234,\"1\",\"\"))","v":0},{"$f":"LEN(BH234)-LEN(SUBSTITUTE(BH234,\"2\",\"\"))","v":0},{"$f":"LEN(BH234)-LEN(SUBSTITUTE(BH234,\"3\",\"\"))","v":0},{"$f":"LEN(BH234)-LEN(SUBSTITUTE(BH234,\"5\",\"\"))","v":0},{"$f":"LEN(BH234)-LEN(SUBSTITUTE(BH234,\"*\",\"\"))","v":0},{"$f":"BJ234/BI234","v":0},null,"",32,0]
[null,null,null,null,null,null,null,null,null,null,null,null,null,null,null,null,null,null,null,null,null,null,null,null,null,null,null,null,null,null,null,null,null,null,null,null,null,null,null,null,null,null,null,null,null,null,null,null,null,null,{"$f":"BA235*1+BB235*2+BC235*3+BD235*5+BE235*$N$10","v":0},{"$f":"LEN(BH235)-LEN(SUBSTITUTE(BH235,\"0\",\"\"))","v":0},{"$f":"LEN(BH235)-LEN(SUBSTITUTE(BH235,\"1\",\"\"))","v":0},{"$f":"LEN(BH235)-LEN(SUBSTITUTE(BH235,\"2\",\"\"))","v":0},{"$f":"LEN(BH235)-LEN(SUBSTITUTE(BH235,\"3\",\"\"))","v":0},{"$f":"LEN(BH235)-LEN(SUBSTITUTE(BH235,\"5\",\"\"))","v":0},{"$f":"LEN(BH235)-LEN(SUBSTITUTE(BH235,\"*\",\"\"))","v":0},{"$f":"BJ235/BI235","v":0},null,"",32,0]
[null,null,null,null,null,null,null,null,null,null,null,null,null,null,null,null,null,null,null,null,null,null,null,null,null,null,null,null,null,null,null,null,null,null,null,null,null,null,null,null,null,null,null,null,null,null,null,null,null,null,{"$f":"BA236*1+BB236*2+BC236*3+BD236*5+BE236*$N$10","v":0},{"$f":"LEN(BH236)-LEN(SUBSTITUTE(BH236,\"0\",\"\"))","v":0},{"$f":"LEN(BH236)-LEN(SUBSTITUTE(BH236,\"1\",\"\"))","v":0},{"$f":"LEN(BH236)-LEN(SUBSTITUTE(BH236,\"2\",\"\"))","v":0},{"$f":"LEN(BH236)-LEN(SUBSTITUTE(BH236,\"3\",\"\"))","v":0},{"$f":"LEN(BH236)-LEN(SUBSTITUTE(BH236,\"5\",\"\"))","v":0},{"$f":"LEN(BH236)-LEN(SUBSTITUTE(BH236,\"*\",\"\"))","v":0},{"$f":"BJ236/BI236","v":0},null,"",32,0]
[null,null,null,null,null,null,null,null,null,null,null,null,null,null,null,null,null,null,null,null,null,null,null,null,null,null,null,null,null,null,null,null,null,null,null,null,null,null,null,null,null,null,null,null,null,null,null,null,null,null,{"$f":"BA237*1+BB237*2+BC237*3+BD237*5+BE237*$N$10","v":0},{"$f":"LEN(BH237)-LEN(SUBSTITUTE(BH237,\"0\",\"\"))","v":0},{"$f":"LEN(BH237)-LEN(SUBSTITUTE(BH237,\"1\",\"\"))","v":0},{"$f":"LEN(BH237)-LEN(SUBSTITUTE(BH237,\"2\",\"\"))","v":0},{"$f":"LEN(BH237)-LEN(SUBSTITUTE(BH237,\"3\",\"\"))","v":0},{"$f":"LEN(BH237)-LEN(SUBSTITUTE(BH237,\"5\",\"\"))","v":0},{"$f":"LEN(BH237)-LEN(SUBSTITUTE(BH237,\"*\",\"\"))","v":0},{"$f":"BJ237/BI237","v":0},null,"",32,0]
[null,null,null,null,null,null,null,null,null,null,null,null,null,null,null,null,null,null,null,null,null,null,null,null,null,null,null,null,null,null,null,null,null,null,null,null,null,null,null,null,null,null,null,null,null,null,null,null,null,null,{"$f":"BA238*1+BB238*2+BC238*3+BD238*5+BE238*$N$10","v":0},{"$f":"LEN(BH238)-LEN(SUBSTITUTE(BH238,\"0\",\"\"))","v":0},{"$f":"LEN(BH238)-LEN(SUBSTITUTE(BH238,\"1\",\"\"))","v":0},{"$f":"LEN(BH238)-LEN(SUBSTITUTE(BH238,\"2\",\"\"))","v":0},{"$f":"LEN(BH238)-LEN(SUBSTITUTE(BH238,\"3\",\"\"))","v":0},{"$f":"LEN(BH238)-LEN(SUBSTITUTE(BH238,\"5\",\"\"))","v":0},{"$f":"LEN(BH238)-LEN(SUBSTITUTE(BH238,\"*\",\"\"))","v":0},{"$f":"BJ238/BI238","v":0},null,"",32,0]
[null,null,null,null,null,null,null,null,null,null,null,null,null,null,null,null,null,null,null,null,null,null,null,null,null,null,null,null,null,null,null,null,null,null,null,null,null,null,null,null,null,null,null,null,null,null,null,null,null,null,{"$f":"BA239*1+BB239*2+BC239*3+BD239*5+BE239*$N$10","v":0},{"$f":"LEN(BH239)-LEN(SUBSTITUTE(BH239,\"0\",\"\"))","v":0},{"$f":"LEN(BH239)-LEN(SUBSTITUTE(BH239,\"1\",\"\"))","v":0},{"$f":"LEN(BH239)-LEN(SUBSTITUTE(BH239,\"2\",\"\"))","v":0},{"$f":"LEN(BH239)-LEN(SUBSTITUTE(BH239,\"3\",\"\"))","v":0},{"$f":"LEN(BH239)-LEN(SUBSTITUTE(BH239,\"5\",\"\"))","v":0},{"$f":"LEN(BH239)-LEN(SUBSTITUTE(BH239,\"*\",\"\"))","v":0},{"$f":"BJ239/BI239","v":0},null,"",32,0]
[null,null,null,null,null,null,null,null,null,null,null,null,null,null,null,null,null,null,null,null,null,null,null,null,null,null,null,null,null,null,null,null,null,null,null,null,null,null,null,null,null,null,null,null,null,null,null,null,null,null,{"$f":"BA240*1+BB240*2+BC240*3+BD240*5+BE240*$N$10","v":0},{"$f":"LEN(BH240)-LEN(SUBSTITUTE(BH240,\"0\",\"\"))","v":0},{"$f":"LEN(BH240)-LEN(SUBSTITUTE(BH240,\"1\",\"\"))","v":0},{"$f":"LEN(BH240)-LEN(SUBSTITUTE(BH240,\"2\",\"\"))","v":0},{"$f":"LEN(BH240)-LEN(SUBSTITUTE(BH240,\"3\",\"\"))","v":0},{"$f":"LEN(BH240)-LEN(SUBSTITUTE(BH240,\"5\",\"\"))","v":0},{"$f":"LEN(BH240)-LEN(SUBSTITUTE(BH240,\"*\",\"\"))","v":0},{"$f":"BJ240/BI240","v":0},null,"",32,0]
[null,null,null,null,null,null,null,null,null,null,null,null,null,null,null,null,null,null,null,null,null,null,null,null,null,null,null,null,null,null,null,null,null,null,null,null,null,null,null,null,null,null,null,null,null,null,null,null,null,null,{"$f":"BA241*1+BB241*2+BC241*3+BD241*5+BE241*$N$10","v":0},{"$f":"LEN(BH241)-LEN(SUBSTITUTE(BH241,\"0\",\"\"))","v":0},{"$f":"LEN(BH241)-LEN(SUBSTITUTE(BH241,\"1\",\"\"))","v":0},{"$f":"LEN(BH241)-LEN(SUBSTITUTE(BH241,\"2\",\"\"))","v":0},{"$f":"LEN(BH241)-LEN(SUBSTITUTE(BH241,\"3\",\"\"))","v":0},{"$f":"LEN(BH241)-LEN(SUBSTITUTE(BH241,\"5\",\"\"))","v":0},{"$f":"LEN(BH241)-LEN(SUBSTITUTE(BH241,\"*\",\"\"))","v":0},{"$f":"BJ241/BI241","v":0},null,"",32,0]
[null,null,null,null,null,null,null,null,null,null,null,null,null,null,null,null,null,null,null,null,null,null,null,null,null,null,null,null,null,null,null,null,null,null,null,null,null,null,null,null,null,null,null,null,null,null,null,null,null,null,{"$f":"BA242*1+BB242*2+BC242*3+BD242*5+BE242*$N$10","v":0},{"$f":"LEN(BH242)-LEN(SUBSTITUTE(BH242,\"0\",\"\"))","v":0},{"$f":"LEN(BH242)-LEN(SUBSTITUTE(BH242,\"1\",\"\"))","v":0},{"$f":"LEN(BH242)-LEN(SUBSTITUTE(BH242,\"2\",\"\"))","v":0},{"$f":"LEN(BH242)-LEN(SUBSTITUTE(BH242,\"3\",\"\"))","v":0},{"$f":"LEN(BH242)-LEN(SUBSTITUTE(BH242,\"5\",\"\"))","v":0},{"$f":"LEN(BH242)-LEN(SUBSTITUTE(BH242,\"*\",\"\"))","v":0},{"$f":"BJ242/BI242","v":0},null,"",32,0]
[null,null,null,null,null,null,null,null,null,null,null,null,null,null,null,null,null,null,null,null,null,null,null,null,null,null,null,null,null,null,null,null,null,null,null,null,null,null,null,null,null,null,null,null,null,null,null,null,null,null,{"$f":"BA243*1+BB243*2+BC243*3+BD243*5+BE243*$N$10","v":0},{"$f":"LEN(BH243)-LEN(SUBSTITUTE(BH243,\"0\",\"\"))","v":0},{"$f":"LEN(BH243)-LEN(SUBSTITUTE(BH243,\"1\",\"\"))","v":0},{"$f":"LEN(BH243)-LEN(SUBSTITUTE(BH243,\"2\",\"\"))","v":0},{"$f":"LEN(BH243)-LEN(SUBSTITUTE(BH243,\"3\",\"\"))","v":0},{"$f":"LEN(BH243)-LEN(SUBSTITUTE(BH243,\"5\",\"\"))","v":0},{"$f":"LEN(BH243)-LEN(SUBSTITUTE(BH243,\"*\",\"\"))","v":0},{"$f":"BJ243/BI243","v":0},null,"",32,0]
[null,null,null,null,null,null,null,null,null,null,null,null,null,null,null,null,null,null,null,null,null,null,null,null,null,null,null,null,null,null,null,null,null,null,null,null,null,null,null,null,null,null,null,null,null,null,null,null,null,null,{"$f":"BA244*1+BB244*2+BC244*3+BD244*5+BE244*$N$10","v":0},{"$f":"LEN(BH244)-LEN(SUBSTITUTE(BH244,\"0\",\"\"))","v":0},{"$f":"LEN(BH244)-LEN(SUBSTITUTE(BH244,\"1\",\"\"))","v":0},{"$f":"LEN(BH244)-LEN(SUBSTITUTE(BH244,\"2\",\"\"))","v":0},{"$f":"LEN(BH244)-LEN(SUBSTITUTE(BH244,\"3\",\"\"))","v":0},{"$f":"LEN(BH244)-LEN(SUBSTITUTE(BH244,\"5\",\"\"))","v":0},{"$f":"LEN(BH244)-LEN(SUBSTITUTE(BH244,\"*\",\"\"))","v":0},{"$f":"BJ244/BI244","v":0},null,"",32,0]
[null,null,null,null,null,null,null,null,null,null,null,null,null,null,null,null,null,null,null,null,null,null,null,null,null,null,null,null,null,null,null,null,null,null,null,null,null,null,null,null,null,null,null,null,null,null,null,null,null,null,{"$f":"BA245*1+BB245*2+BC245*3+BD245*5+BE245*$N$10","v":0},{"$f":"LEN(BH245)-LEN(SUBSTITUTE(BH245,\"0\",\"\"))","v":0},{"$f":"LEN(BH245)-LEN(SUBSTITUTE(BH245,\"1\",\"\"))","v":0},{"$f":"LEN(BH245)-LEN(SUBSTITUTE(BH245,\"2\",\"\"))","v":0},{"$f":"LEN(BH245)-LEN(SUBSTITUTE(BH245,\"3\",\"\"))","v":0},{"$f":"LEN(BH245)-LEN(SUBSTITUTE(BH245,\"5\",\"\"))","v":0},{"$f":"LEN(BH245)-LEN(SUBSTITUTE(BH245,\"*\",\"\"))","v":0},{"$f":"BJ245/BI245","v":0},null,"",32,0]
[null,null,null,null,null,null,null,null,null,null,null,null,null,null,null,null,null,null,null,null,null,null,null,null,null,null,null,null,null,null,null,null,null,null,null,null,null,null,null,null,null,null,null,null,null,null,null,null,null,null,{"$f":"BA246*1+BB246*2+BC246*3+BD246*5+BE246*$N$10","v":0},{"$f":"LEN(BH246)-LEN(SUBSTITUTE(BH246,\"0\",\"\"))","v":0},{"$f":"LEN(BH246)-LEN(SUBSTITUTE(BH246,\"1\",\"\"))","v":0},{"$f":"LEN(BH246)-LEN(SUBSTITUTE(BH246,\"2\",\"\"))","v":0},{"$f":"LEN(BH246)-LEN(SUBSTITUTE(BH246,\"3\",\"\"))","v":0},{"$f":"LEN(BH246)-LEN(SUBSTITUTE(BH246,\"5\",\"\"))","v":0},{"$f":"LEN(BH246)-LEN(SUBSTITUTE(BH246,\"*\",\"\"))","v":0},{"$f":"BJ246/BI246","v":0},null,"",32,0]
[null,null,null,null,null,null,null,null,null,null,null,null,null,null,null,null,null,null,null,null,null,null,null,null,null,null,null,null,null,null,null,null,null,null,null,null,null,null,null,null,null,null,null,null,null,null,null,null,null,null,{"$f":"BA247*1+BB247*2+BC247*3+BD247*5+BE247*$N$10","v":0},{"$f":"LEN(BH247)-LEN(SUBSTITUTE(BH247,\"0\",\"\"))","v":0},{"$f":"LEN(BH247)-LEN(SUBSTITUTE(BH247,\"1\",\"\"))","v":0},{"$f":"LEN(BH247)-LEN(SUBSTITUTE(BH247,\"2\",\"\"))","v":0},{"$f":"LEN(BH247)-LEN(SUBSTITUTE(BH247,\"3\",\"\"))","v":0},{"$f":"LEN(BH247)-LEN(SUBSTITUTE(BH247,\"5\",\"\"))","v":0},{"$f":"LEN(BH247)-LEN(SUBSTITUTE(BH247,\"*\",\"\"))","v":0},{"$f":"BJ247/BI247","v":0},null,"",32,0]
[null,null,null,null,null,null,null,null,null,null,null,null,null,null,null,null,null,null,null,null,null,null,null,null,null,null,null,null,null,null,null,null,null,null,null,null,null,null,null,null,null,null,null,null,null,null,null,null,null,null,{"$f":"BA248*1+BB248*2+BC248*3+BD248*5+BE248*$N$10","v":0},{"$f":"LEN(BH248)-LEN(SUBSTITUTE(BH248,\"0\",\"\"))","v":0},{"$f":"LEN(BH248)-LEN(SUBSTITUTE(BH248,\"1\",\"\"))","v":0},{"$f":"LEN(BH248)-LEN(SUBSTITUTE(BH248,\"2\",\"\"))","v":0},{"$f":"LEN(BH248)-LEN(SUBSTITUTE(BH248,\"3\",\"\"))","v":0},{"$f":"LEN(BH248)-LEN(SUBSTITUTE(BH248,\"5\",\"\"))","v":0},{"$f":"LEN(BH248)-LEN(SUBSTITUTE(BH248,\"*\",\"\"))","v":0},{"$f":"BJ248/BI248","v":0},null,"",32,0]
[null,null,null,null,null,null,null,null,null,null,null,null,null,null,null,null,null,null,null,null,null,null,null,null,null,null,null,null,null,null,null,null,null,null,null,null,null,null,null,null,null,null,null,null,null,null,null,null,null,null,{"$f":"BA249*1+BB249*2+BC249*3+BD249*5+BE249*$N$10","v":0},{"$f":"LEN(BH249)-LEN(SUBSTITUTE(BH249,\"0\",\"\"))","v":0},{"$f":"LEN(BH249)-LEN(SUBSTITUTE(BH249,\"1\",\"\"))","v":0},{"$f":"LEN(BH249)-LEN(SUBSTITUTE(BH249,\"2\",\"\"))","v":0},{"$f":"LEN(BH249)-LEN(SUBSTITUTE(BH249,\"3\",\"\"))","v":0},{"$f":"LEN(BH249)-LEN(SUBSTITUTE(BH249,\"5\",\"\"))","v":0},{"$f":"LEN(BH249)-LEN(SUBSTITUTE(BH249,\"*\",\"\"))","v":0},{"$f":"BJ249/BI249","v":0},null,"",32,0]
[null,null,null,null,null,null,null,null,null,null,null,null,null,null,null,null,null,null,null,null,null,null,null,null,null,null,null,null,null,null,null,null,null,null,null,null,null,null,null,null,null,null,null,null,null,null,null,null,null,null,{"$f":"BA250*1+BB250*2+BC250*3+BD250*5+BE250*$N$10","v":0},{"$f":"LEN(BH250)-LEN(SUBSTITUTE(BH250,\"0\",\"\"))","v":0},{"$f":"LEN(BH250)-LEN(SUBSTITUTE(BH250,\"1\",\"\"))","v":0},{"$f":"LEN(BH250)-LEN(SUBSTITUTE(BH250,\"2\",\"\"))","v":0},{"$f":"LEN(BH250)-LEN(SUBSTITUTE(BH250,\"3\",\"\"))","v":0},{"$f":"LEN(BH250)-LEN(SUBSTITUTE(BH250,\"5\",\"\"))","v":0},{"$f":"LEN(BH250)-LEN(SUBSTITUTE(BH250,\"*\",\"\"))","v":0},{"$f":"BJ250/BI250","v":0},null,"",32,0]
[null,null,null,null,null,null,null,null,null,null,null,null,null,null,null,null,null,null,null,null,null,null,null,null,null,null,null,null,null,null,null,null,null,null,null,null,null,null,null,null,null,null,null,null,null,null,null,null,null,null,{"$f":"BA251*1+BB251*2+BC251*3+BD251*5+BE251*$N$10","v":0},{"$f":"LEN(BH251)-LEN(SUBSTITUTE(BH251,\"0\",\"\"))","v":0},{"$f":"LEN(BH251)-LEN(SUBSTITUTE(BH251,\"1\",\"\"))","v":0},{"$f":"LEN(BH251)-LEN(SUBSTITUTE(BH251,\"2\",\"\"))","v":0},{"$f":"LEN(BH251)-LEN(SUBSTITUTE(BH251,\"3\",\"\"))","v":0},{"$f":"LEN(BH251)-LEN(SUBSTITUTE(BH251,\"5\",\"\"))","v":0},{"$f":"LEN(BH251)-LEN(SUBSTITUTE(BH251,\"*\",\"\"))","v":0},{"$f":"BJ251/BI251","v":0},null,"",32,0]
[null,null,null,null,null,null,null,null,null,null,null,null,null,null,null,null,null,null,null,null,null,null,null,null,null,null,null,null,null,null,null,null,null,null,null,null,null,null,null,null,null,null,null,null,null,null,null,null,null,null,{"$f":"BA252*1+BB252*2+BC252*3+BD252*5+BE252*$N$10","v":0},{"$f":"LEN(BH252)-LEN(SUBSTITUTE(BH252,\"0\",\"\"))","v":0},{"$f":"LEN(BH252)-LEN(SUBSTITUTE(BH252,\"1\",\"\"))","v":0},{"$f":"LEN(BH252)-LEN(SUBSTITUTE(BH252,\"2\",\"\"))","v":0},{"$f":"LEN(BH252)-LEN(SUBSTITUTE(BH252,\"3\",\"\"))","v":0},{"$f":"LEN(BH252)-LEN(SUBSTITUTE(BH252,\"5\",\"\"))","v":0},{"$f":"LEN(BH252)-LEN(SUBSTITUTE(BH252,\"*\",\"\"))","v":0},{"$f":"BJ252/BI252","v":0},null,"",32,0]
[null,null,null,null,null,null,null,null,null,null,null,null,null,null,null,null,null,null,null,null,null,null,null,null,null,null,null,null,null,null,null,null,null,null,null,null,null,null,null,null,null,null,null,null,null,null,null,null,null,null,{"$f":"BA253*1+BB253*2+BC253*3+BD253*5+BE253*$N$10","v":0},{"$f":"LEN(BH253)-LEN(SUBSTITUTE(BH253,\"0\",\"\"))","v":0},{"$f":"LEN(BH253)-LEN(SUBSTITUTE(BH253,\"1\",\"\"))","v":0},{"$f":"LEN(BH253)-LEN(SUBSTITUTE(BH253,\"2\",\"\"))","v":0},{"$f":"LEN(BH253)-LEN(SUBSTITUTE(BH253,\"3\",\"\"))","v":0},{"$f":"LEN(BH253)-LEN(SUBSTITUTE(BH253,\"5\",\"\"))","v":0},{"$f":"LEN(BH253)-LEN(SUBSTITUTE(BH253,\"*\",\"\"))","v":0},{"$f":"BJ253/BI253","v":0},null,"",32,0]
[null,null,null,null,null,null,null,null,null,null,null,null,null,null,null,null,null,null,null,null,null,null,null,null,null,null,null,null,null,null,null,null,null,null,null,null,null,null,null,null,null,null,null,null,null,null,null,null,null,null,{"$f":"BA254*1+BB254*2+BC254*3+BD254*5+BE254*$N$10","v":0},{"$f":"LEN(BH254)-LEN(SUBSTITUTE(BH254,\"0\",\"\"))","v":0},{"$f":"LEN(BH254)-LEN(SUBSTITUTE(BH254,\"1\",\"\"))","v":0},{"$f":"LEN(BH254)-LEN(SUBSTITUTE(BH254,\"2\",\"\"))","v":0},{"$f":"LEN(BH254)-LEN(SUBSTITUTE(BH254,\"3\",\"\"))","v":0},{"$f":"LEN(BH254)-LEN(SUBSTITUTE(BH254,\"5\",\"\"))","v":0},{"$f":"LEN(BH254)-LEN(SUBSTITUTE(BH254,\"*\",\"\"))","v":0},{"$f":"BJ254/BI254","v":0},null,"",32,0]
[null,null,null,null,null,null,null,null,null,null,null,null,null,null,null,null,null,null,null,null,null,null,null,null,null,null,null,null,null,null,null,null,null,null,null,null,null,null,null,null,null,null,null,null,null,null,null,null,null,null,{"$f":"BA255*1+BB255*2+BC255*3+BD255*5+BE255*$N$10","v":0},{"$f":"LEN(BH255)-LEN(SUBSTITUTE(BH255,\"0\",\"\"))","v":0},{"$f":"LEN(BH255)-LEN(SUBSTITUTE(BH255,\"1\",\"\"))","v":0},{"$f":"LEN(BH255)-LEN(SUBSTITUTE(BH255,\"2\",\"\"))","v":0},{"$f":"LEN(BH255)-LEN(SUBSTITUTE(BH255,\"3\",\"\"))","v":0},{"$f":"LEN(BH255)-LEN(SUBSTITUTE(BH255,\"5\",\"\"))","v":0},{"$f":"LEN(BH255)-LEN(SUBSTITUTE(BH255,\"*\",\"\"))","v":0},{"$f":"BJ255/BI255","v":0},null,"",32,0]
[null,null,null,null,null,null,null,null,null,null,null,null,null,null,null,null,null,null,null,null,null,null,null,null,null,null,null,null,null,null,null,null,null,null,null,null,null,null,null,null,null,null,null,null,null,null,null,null,null,null,{"$f":"BA256*1+BB256*2+BC256*3+BD256*5+BE256*$N$10","v":0},{"$f":"LEN(BH256)-LEN(SUBSTITUTE(BH256,\"0\",\"\"))","v":0},{"$f":"LEN(BH256)-LEN(SUBSTITUTE(BH256,\"1\",\"\"))","v":0},{"$f":"LEN(BH256)-LEN(SUBSTITUTE(BH256,\"2\",\"\"))","v":0},{"$f":"LEN(BH256)-LEN(SUBSTITUTE(BH256,\"3\",\"\"))","v":0},{"$f":"LEN(BH256)-LEN(SUBSTITUTE(BH256,\"5\",\"\"))","v":0},{"$f":"LEN(BH256)-LEN(SUBSTITUTE(BH256,\"*\",\"\"))","v":0},{"$f":"BJ256/BI256","v":0},null,"",32,0]
[null,null,null,null,null,null,null,null,null,null,null,null,null,null,null,null,null,null,null,null,null,null,null,null,null,null,null,null,null,null,null,null,null,null,null,null,null,null,null,null,null,null,null,null,null,null,null,null,null,null,{"$f":"BA257*1+BB257*2+BC257*3+BD257*5+BE257*$N$10","v":0},{"$f":"LEN(BH257)-LEN(SUBSTITUTE(BH257,\"0\",\"\"))","v":0},{"$f":"LEN(BH257)-LEN(SUBSTITUTE(BH257,\"1\",\"\"))","v":0},{"$f":"LEN(BH257)-LEN(SUBSTITUTE(BH257,\"2\",\"\"))","v":0},{"$f":"LEN(BH257)-LEN(SUBSTITUTE(BH257,\"3\",\"\"))","v":0},{"$f":"LEN(BH257)-LEN(SUBSTITUTE(BH257,\"5\",\"\"))","v":0},{"$f":"LEN(BH257)-LEN(SUBSTITUTE(BH257,\"*\",\"\"))","v":0},{"$f":"BJ257/BI257","v":0},null,"",32,0]
[null,null,null,null,null,null,null,null,null,null,null,null,null,null,null,null,null,null,null,null,null,null,null,null,null,null,null,null,null,null,null,null,null,null,null,null,null,null,null,null,null,null,null,null,null,null,null,null,null,null,{"$f":"BA258*1+BB258*2+BC258*3+BD258*5+BE258*$N$10","v":0},{"$f":"LEN(BH258)-LEN(SUBSTITUTE(BH258,\"0\",\"\"))","v":0},{"$f":"LEN(BH258)-LEN(SUBSTITUTE(BH258,\"1\",\"\"))","v":0},{"$f":"LEN(BH258)-LEN(SUBSTITUTE(BH258,\"2\",\"\"))","v":0},{"$f":"LEN(BH258)-LEN(SUBSTITUTE(BH258,\"3\",\"\"))","v":0},{"$f":"LEN(BH258)-LEN(SUBSTITUTE(BH258,\"5\",\"\"))","v":0},{"$f":"LEN(BH258)-LEN(SUBSTITUTE(BH258,\"*\",\"\"))","v":0},{"$f":"BJ258/BI258","v":0},null,"",32,0]
[null,null,null,null,null,null,null,null,null,null,null,null,null,null,null,null,null,null,null,null,null,null,null,null,null,null,null,null,null,null,null,null,null,null,null,null,null,null,null,null,null,null,null,null,null,null,null,null,null,null,{"$f":"BA259*1+BB259*2+BC259*3+BD259*5+BE259*$N$10","v":0},{"$f":"LEN(BH259)-LEN(SUBSTITUTE(BH259,\"0\",\"\"))","v":0},{"$f":"LEN(BH259)-LEN(SUBSTITUTE(BH259,\"1\",\"\"))","v":0},{"$f":"LEN(BH259)-LEN(SUBSTITUTE(BH259,\"2\",\"\"))","v":0},{"$f":"LEN(BH259)-LEN(SUBSTITUTE(BH259,\"3\",\"\"))","v":0},{"$f":"LEN(BH259)-LEN(SUBSTITUTE(BH259,\"5\",\"\"))","v":0},{"$f":"LEN(BH259)-LEN(SUBSTITUTE(BH259,\"*\",\"\"))","v":0},{"$f":"BJ259/BI259","v":0},null,"",32,0]
[null,null,null,null,null,null,null,null,null,null,null,null,null,null,null,null,null,null,null,null,null,null,null,null,null,null,null,null,null,null,null,null,null,null,null,null,null,null,null,null,null,null,null,null,null,null,null,null,null,null,{"$f":"BA260*1+BB260*2+BC260*3+BD260*5+BE260*$N$10","v":0},{"$f":"LEN(BH260)-LEN(SUBSTITUTE(BH260,\"0\",\"\"))","v":0},{"$f":"LEN(BH260)-LEN(SUBSTITUTE(BH260,\"1\",\"\"))","v":0},{"$f":"LEN(BH260)-LEN(SUBSTITUTE(BH260,\"2\",\"\"))","v":0},{"$f":"LEN(BH260)-LEN(SUBSTITUTE(BH260,\"3\",\"\"))","v":0},{"$f":"LEN(BH260)-LEN(SUBSTITUTE(BH260,\"5\",\"\"))","v":0},{"$f":"LEN(BH260)-LEN(SUBSTITUTE(BH260,\"*\",\"\"))","v":0},{"$f":"BJ260/BI260","v":0},null,"",32,0]
[null,null,null,null,null,null,null,null,null,null,null,null,null,null,null,null,null,null,null,null,null,null,null,null,null,null,null,null,null,null,null,null,null,null,null,null,null,null,null,null,null,null,null,null,null,null,null,null,null,null,{"$f":"BA261*1+BB261*2+BC261*3+BD261*5+BE261*$N$10","v":0},{"$f":"LEN(BH261)-LEN(SUBSTITUTE(BH261,\"0\",\"\"))","v":0},{"$f":"LEN(BH261)-LEN(SUBSTITUTE(BH261,\"1\",\"\"))","v":0},{"$f":"LEN(BH261)-LEN(SUBSTITUTE(BH261,\"2\",\"\"))","v":0},{"$f":"LEN(BH261)-LEN(SUBSTITUTE(BH261,\"3\",\"\"))","v":0},{"$f":"LEN(BH261)-LEN(SUBSTITUTE(BH261,\"5\",\"\"))","v":0},{"$f":"LEN(BH261)-LEN(SUBSTITUTE(BH261,\"*\",\"\"))","v":0},{"$f":"BJ261/BI261","v":0},null,"",32,0]
[null,null,null,null,null,null,null,null,null,null,null,null,null,null,null,null,null,null,null,null,null,null,null,null,null,null,null,null,null,null,null,null,null,null,null,null,null,null,null,null,null,null,null,null,null,null,null,null,null,null,{"$f":"BA262*1+BB262*2+BC262*3+BD262*5+BE262*$N$10","v":0},{"$f":"LEN(BH262)-LEN(SUBSTITUTE(BH262,\"0\",\"\"))","v":0},{"$f":"LEN(BH262)-LEN(SUBSTITUTE(BH262,\"1\",\"\"))","v":0},{"$f":"LEN(BH262)-LEN(SUBSTITUTE(BH262,\"2\",\"\"))","v":0},{"$f":"LEN(BH262)-LEN(SUBSTITUTE(BH262,\"3\",\"\"))","v":0},{"$f":"LEN(BH262)-LEN(SUBSTITUTE(BH262,\"5\",\"\"))","v":0},{"$f":"LEN(BH262)-LEN(SUBSTITUTE(BH262,\"*\",\"\"))","v":0},{"$f":"BJ262/BI262","v":0},null,"",32,0]
[null,null,null,null,null,null,null,null,null,null,null,null,null,null,null,null,null,null,null,null,null,null,null,null,null,null,null,null,null,null,null,null,null,null,null,null,null,null,null,null,null,null,null,null,null,null,null,null,null,null,{"$f":"BA263*1+BB263*2+BC263*3+BD263*5+BE263*$N$10","v":0},{"$f":"LEN(BH263)-LEN(SUBSTITUTE(BH263,\"0\",\"\"))","v":0},{"$f":"LEN(BH263)-LEN(SUBSTITUTE(BH263,\"1\",\"\"))","v":0},{"$f":"LEN(BH263)-LEN(SUBSTITUTE(BH263,\"2\",\"\"))","v":0},{"$f":"LEN(BH263)-LEN(SUBSTITUTE(BH263,\"3\",\"\"))","v":0},{"$f":"LEN(BH263)-LEN(SUBSTITUTE(BH263,\"5\",\"\"))","v":0},{"$f":"LEN(BH263)-LEN(SUBSTITUTE(BH263,\"*\",\"\"))","v":0},{"$f":"BJ263/BI263","v":0},null,"",32,0]
[null,null,null,null,null,null,null,null,null,null,null,null,null,null,null,null,null,null,null,null,null,null,null,null,null,null,null,null,null,null,null,null,null,null,null,null,null,null,null,null,null,null,null,null,null,null,null,null,null,null,{"$f":"BA264*1+BB264*2+BC264*3+BD264*5+BE264*$N$10","v":0},{"$f":"LEN(BH264)-LEN(SUBSTITUTE(BH264,\"0\",\"\"))","v":0},{"$f":"LEN(BH264)-LEN(SUBSTITUTE(BH264,\"1\",\"\"))","v":0},{"$f":"LEN(BH264)-LEN(SUBSTITUTE(BH264,\"2\",\"\"))","v":0},{"$f":"LEN(BH264)-LEN(SUBSTITUTE(BH264,\"3\",\"\"))","v":0},{"$f":"LEN(BH264)-LEN(SUBSTITUTE(BH264,\"5\",\"\"))","v":0},{"$f":"LEN(BH264)-LEN(SUBSTITUTE(BH264,\"*\",\"\"))","v":0},{"$f":"BJ264/BI264","v":0},null,"",32,0]
[null,null,null,null,null,null,null,null,null,null,null,null,null,null,null,null,null,null,null,null,null,null,null,null,null,null,null,null,null,null,null,null,null,null,null,null,null,null,null,null,null,null,null,null,null,null,null,null,null,null,{"$f":"BA265*1+BB265*2+BC265*3+BD265*5+BE265*$N$10","v":0},{"$f":"LEN(BH265)-LEN(SUBSTITUTE(BH265,\"0\",\"\"))","v":0},{"$f":"LEN(BH265)-LEN(SUBSTITUTE(BH265,\"1\",\"\"))","v":0},{"$f":"LEN(BH265)-LEN(SUBSTITUTE(BH265,\"2\",\"\"))","v":0},{"$f":"LEN(BH265)-LEN(SUBSTITUTE(BH265,\"3\",\"\"))","v":0},{"$f":"LEN(BH265)-LEN(SUBSTITUTE(BH265,\"5\",\"\"))","v":0},{"$f":"LEN(BH265)-LEN(SUBSTITUTE(BH265,\"*\",\"\"))","v":0},{"$f":"BJ265/BI265","v":0},null,"",32,0]
[null,null,null,null,null,null,null,null,null,null,null,null,null,null,null,null,null,null,null,null,null,null,null,null,null,null,null,null,null,null,null,null,null,null,null,null,null,null,null,null,null,null,null,null,null,null,null,null,null,null,{"$f":"BA266*1+BB266*2+BC266*3+BD266*5+BE266*$N$10","v":0},{"$f":"LEN(BH266)-LEN(SUBSTITUTE(BH266,\"0\",\"\"))","v":0},{"$f":"LEN(BH266)-LEN(SUBSTITUTE(BH266,\"1\",\"\"))","v":0},{"$f":"LEN(BH266)-LEN(SUBSTITUTE(BH266,\"2\",\"\"))","v":0},{"$f":"LEN(BH266)-LEN(SUBSTITUTE(BH266,\"3\",\"\"))","v":0},{"$f":"LEN(BH266)-LEN(SUBSTITUTE(BH266,\"5\",\"\"))","v":0},{"$f":"LEN(BH266)-LEN(SUBSTITUTE(BH266,\"*\",\"\"))","v":0},{"$f":"BJ266/BI266","v":0},null,"",32,0]
[null,null,null,null,null,null,null,null,null,null,null,null,null,null,null,null,null,null,null,null,null,null,null,null,null,null,null,null,null,null,null,null,null,null,null,null,null,null,null,null,null,null,null,null,null,null,null,null,null,null,{"$f":"BA267*1+BB267*2+BC267*3+BD267*5+BE267*$N$10","v":0},{"$f":"LEN(BH267)-LEN(SUBSTITUTE(BH267,\"0\",\"\"))","v":0},{"$f":"LEN(BH267)-LEN(SUBSTITUTE(BH267,\"1\",\"\"))","v":0},{"$f":"LEN(BH267)-LEN(SUBSTITUTE(BH267,\"2\",\"\"))","v":0},{"$f":"LEN(BH267)-LEN(SUBSTITUTE(BH267,\"3\",\"\"))","v":0},{"$f":"LEN(BH267)-LEN(SUBSTITUTE(BH267,\"5\",\"\"))","v":0},{"$f":"LEN(BH267)-LEN(SUBSTITUTE(BH267,\"*\",\"\"))","v":0},{"$f":"BJ267/BI267","v":0},null,"",32,0]
[null,null,null,null,null,null,null,null,null,null,null,null,null,null,null,null,null,null,null,null,null,null,null,null,null,null,null,null,null,null,null,null,null,null,null,null,null,null,null,null,null,null,null,null,null,null,null,null,null,null,{"$f":"BA268*1+BB268*2+BC268*3+BD268*5+BE268*$N$10","v":0},{"$f":"LEN(BH268)-LEN(SUBSTITUTE(BH268,\"0\",\"\"))","v":0},{"$f":"LEN(BH268)-LEN(SUBSTITUTE(BH268,\"1\",\"\"))","v":0},{"$f":"LEN(BH268)-LEN(SUBSTITUTE(BH268,\"2\",\"\"))","v":0},{"$f":"LEN(BH268)-LEN(SUBSTITUTE(BH268,\"3\",\"\"))","v":0},{"$f":"LEN(BH268)-LEN(SUBSTITUTE(BH268,\"5\",\"\"))","v":0},{"$f":"LEN(BH268)-LEN(SUBSTITUTE(BH268,\"*\",\"\"))","v":0},{"$f":"BJ268/BI268","v":0},null,"",32,0]
[null,null,null,null,null,null,null,null,null,null,null,null,null,null,null,null,null,null,null,null,null,null,null,null,null,null,null,null,null,null,null,null,null,null,null,null,null,null,null,null,null,null,null,null,null,null,null,null,null,null,{"$f":"BA269*1+BB269*2+BC269*3+BD269*5+BE269*$N$10","v":0},{"$f":"LEN(BH269)-LEN(SUBSTITUTE(BH269,\"0\",\"\"))","v":0},{"$f":"LEN(BH269)-LEN(SUBSTITUTE(BH269,\"1\",\"\"))","v":0},{"$f":"LEN(BH269)-LEN(SUBSTITUTE(BH269,\"2\",\"\"))","v":0},{"$f":"LEN(BH269)-LEN(SUBSTITUTE(BH269,\"3\",\"\"))","v":0},{"$f":"LEN(BH269)-LEN(SUBSTITUTE(BH269,\"5\",\"\"))","v":0},{"$f":"LEN(BH269)-LEN(SUBSTITUTE(BH269,\"*\",\"\"))","v":0},{"$f":"BJ269/BI269","v":0},null,"",32,0]
[null,null,null,null,null,null,null,null,null,null,null,null,null,null,null,null,null,null,null,null,null,null,null,null,null,null,null,null,null,null,null,null,null,null,null,null,null,null,null,null,null,null,null,null,null,null,null,null,null,null,{"$f":"BA270*1+BB270*2+BC270*3+BD270*5+BE270*$N$10","v":0},{"$f":"LEN(BH270)-LEN(SUBSTITUTE(BH270,\"0\",\"\"))","v":0},{"$f":"LEN(BH270)-LEN(SUBSTITUTE(BH270,\"1\",\"\"))","v":0},{"$f":"LEN(BH270)-LEN(SUBSTITUTE(BH270,\"2\",\"\"))","v":0},{"$f":"LEN(BH270)-LEN(SUBSTITUTE(BH270,\"3\",\"\"))","v":0},{"$f":"LEN(BH270)-LEN(SUBSTITUTE(BH270,\"5\",\"\"))","v":0},{"$f":"LEN(BH270)-LEN(SUBSTITUTE(BH270,\"*\",\"\"))","v":0},{"$f":"BJ270/BI270","v":0},null,"",32,0]
[null,null,null,null,null,null,null,null,null,null,null,null,null,null,null,null,null,null,null,null,null,null,null,null,null,null,null,null,null,null,null,null,null,null,null,null,null,null,null,null,null,null,null,null,null,null,null,null,null,null,{"$f":"BA271*1+BB271*2+BC271*3+BD271*5+BE271*$N$10","v":0},{"$f":"LEN(BH271)-LEN(SUBSTITUTE(BH271,\"0\",\"\"))","v":0},{"$f":"LEN(BH271)-LEN(SUBSTITUTE(BH271,\"1\",\"\"))","v":0},{"$f":"LEN(BH271)-LEN(SUBSTITUTE(BH271,\"2\",\"\"))","v":0},{"$f":"LEN(BH271)-LEN(SUBSTITUTE(BH271,\"3\",\"\"))","v":0},{"$f":"LEN(BH271)-LEN(SUBSTITUTE(BH271,\"5\",\"\"))","v":0},{"$f":"LEN(BH271)-LEN(SUBSTITUTE(BH271,\"*\",\"\"))","v":0},{"$f":"BJ271/BI271","v":0},null,"",32,0]
[null,null,null,null,null,null,null,null,null,null,null,null,null,null,null,null,null,null,null,null,null,null,null,null,null,null,null,null,null,null,null,null,null,null,null,null,null,null,null,null,null,null,null,null,null,null,null,null,null,null,{"$f":"BA272*1+BB272*2+BC272*3+BD272*5+BE272*$N$10","v":0},{"$f":"LEN(BH272)-LEN(SUBSTITUTE(BH272,\"0\",\"\"))","v":0},{"$f":"LEN(BH272)-LEN(SUBSTITUTE(BH272,\"1\",\"\"))","v":0},{"$f":"LEN(BH272)-LEN(SUBSTITUTE(BH272,\"2\",\"\"))","v":0},{"$f":"LEN(BH272)-LEN(SUBSTITUTE(BH272,\"3\",\"\"))","v":0},{"$f":"LEN(BH272)-LEN(SUBSTITUTE(BH272,\"5\",\"\"))","v":0},{"$f":"LEN(BH272)-LEN(SUBSTITUTE(BH272,\"*\",\"\"))","v":0},{"$f":"BJ272/BI272","v":0},null,"",32,0]
[null,null,null,null,null,null,null,null,null,null,null,null,null,null,null,null,null,null,null,null,null,null,null,null,null,null,null,null,null,null,null,null,null,null,null,null,null,null,null,null,null,null,null,null,null,null,null,null,null,null,{"$f":"BA273*1+BB273*2+BC273*3+BD273*5+BE273*$N$10","v":0},{"$f":"LEN(BH273)-LEN(SUBSTITUTE(BH273,\"0\",\"\"))","v":0},{"$f":"LEN(BH273)-LEN(SUBSTITUTE(BH273,\"1\",\"\"))","v":0},{"$f":"LEN(BH273)-LEN(SUBSTITUTE(BH273,\"2\",\"\"))","v":0},{"$f":"LEN(BH273)-LEN(SUBSTITUTE(BH273,\"3\",\"\"))","v":0},{"$f":"LEN(BH273)-LEN(SUBSTITUTE(BH273,\"5\",\"\"))","v":0},{"$f":"LEN(BH273)-LEN(SUBSTITUTE(BH273,\"*\",\"\"))","v":0},{"$f":"BJ273/BI273","v":0},null,"",32,0]
[null,null,null,null,null,null,null,null,null,null,null,null,null,null,null,null,null,null,null,null,null,null,null,null,null,null,null,null,null,null,null,null,null,null,null,null,null,null,null,null,null,null,null,null,null,null,null,null,null,null,{"$f":"BA274*1+BB274*2+BC274*3+BD274*5+BE274*$N$10","v":0},{"$f":"LEN(BH274)-LEN(SUBSTITUTE(BH274,\"0\",\"\"))","v":0},{"$f":"LEN(BH274)-LEN(SUBSTITUTE(BH274,\"1\",\"\"))","v":0},{"$f":"LEN(BH274)-LEN(SUBSTITUTE(BH274,\"2\",\"\"))","v":0},{"$f":"LEN(BH274)-LEN(SUBSTITUTE(BH274,\"3\",\"\"))","v":0},{"$f":"LEN(BH274)-LEN(SUBSTITUTE(BH274,\"5\",\"\"))","v":0},{"$f":"LEN(BH274)-LEN(SUBSTITUTE(BH274,\"*\",\"\"))","v":0},{"$f":"BJ274/BI274","v":0},null,"",32,0]
[null,null,null,null,null,null,null,null,null,null,null,null,null,null,null,null,null,null,null,null,null,null,null,null,null,null,null,null,null,null,null,null,null,null,null,null,null,null,null,null,null,null,null,null,null,null,null,null,null,null,{"$f":"BA275*1+BB275*2+BC275*3+BD275*5+BE275*$N$10","v":0},{"$f":"LEN(BH275)-LEN(SUBSTITUTE(BH275,\"0\",\"\"))","v":0},{"$f":"LEN(BH275)-LEN(SUBSTITUTE(BH275,\"1\",\"\"))","v":0},{"$f":"LEN(BH275)-LEN(SUBSTITUTE(BH275,\"2\",\"\"))","v":0},{"$f":"LEN(BH275)-LEN(SUBSTITUTE(BH275,\"3\",\"\"))","v":0},{"$f":"LEN(BH275)-LEN(SUBSTITUTE(BH275,\"5\",\"\"))","v":0},{"$f":"LEN(BH275)-LEN(SUBSTITUTE(BH275,\"*\",\"\"))","v":0},{"$f":"BJ275/BI275","v":0},null,"",32,0]
[null,null,null,null,null,null,null,null,null,null,null,null,null,null,null,null,null,null,null,null,null,null,null,null,null,null,null,null,null,null,null,null,null,null,null,null,null,null,null,null,null,null,null,null,null,null,null,null,null,null,{"$f":"BA276*1+BB276*2+BC276*3+BD276*5+BE276*$N$10","v":0},{"$f":"LEN(BH276)-LEN(SUBSTITUTE(BH276,\"0\",\"\"))","v":0},{"$f":"LEN(BH276)-LEN(SUBSTITUTE(BH276,\"1\",\"\"))","v":0},{"$f":"LEN(BH276)-LEN(SUBSTITUTE(BH276,\"2\",\"\"))","v":0},{"$f":"LEN(BH276)-LEN(SUBSTITUTE(BH276,\"3\",\"\"))","v":0},{"$f":"LEN(BH276)-LEN(SUBSTITUTE(BH276,\"5\",\"\"))","v":0},{"$f":"LEN(BH276)-LEN(SUBSTITUTE(BH276,\"*\",\"\"))","v":0},{"$f":"BJ276/BI276","v":0},null,"",32,0]
[null,null,null,null,null,null,null,null,null,null,null,null,null,null,null,null,null,null,null,null,null,null,null,null,null,null,null,null,null,null,null,null,null,null,null,null,null,null,null,null,null,null,null,null,null,null,null,null,null,null,{"$f":"BA277*1+BB277*2+BC277*3+BD277*5+BE277*$N$10","v":0},{"$f":"LEN(BH277)-LEN(SUBSTITUTE(BH277,\"0\",\"\"))","v":0},{"$f":"LEN(BH277)-LEN(SUBSTITUTE(BH277,\"1\",\"\"))","v":0},{"$f":"LEN(BH277)-LEN(SUBSTITUTE(BH277,\"2\",\"\"))","v":0},{"$f":"LEN(BH277)-LEN(SUBSTITUTE(BH277,\"3\",\"\"))","v":0},{"$f":"LEN(BH277)-LEN(SUBSTITUTE(BH277,\"5\",\"\"))","v":0},{"$f":"LEN(BH277)-LEN(SUBSTITUTE(BH277,\"*\",\"\"))","v":0},{"$f":"BJ277/BI277","v":0},null,"",32,0]
[null,null,null,null,null,null,null,null,null,null,null,null,null,null,null,null,null,null,null,null,null,null,null,null,null,null,null,null,null,null,null,null,null,null,null,null,null,null,null,null,null,null,null,null,null,null,null,null,null,null,{"$f":"BA278*1+BB278*2+BC278*3+BD278*5+BE278*$N$10","v":0},{"$f":"LEN(BH278)-LEN(SUBSTITUTE(BH278,\"0\",\"\"))","v":0},{"$f":"LEN(BH278)-LEN(SUBSTITUTE(BH278,\"1\",\"\"))","v":0},{"$f":"LEN(BH278)-LEN(SUBSTITUTE(BH278,\"2\",\"\"))","v":0},{"$f":"LEN(BH278)-LEN(SUBSTITUTE(BH278,\"3\",\"\"))","v":0},{"$f":"LEN(BH278)-LEN(SUBSTITUTE(BH278,\"5\",\"\"))","v":0},{"$f":"LEN(BH278)-LEN(SUBSTITUTE(BH278,\"*\",\"\"))","v":0},{"$f":"BJ278/BI278","v":0},null,{"$f":"CONCATENATE(K278,L278,M278,N278,O278,P278,Q278,R278,S278,T278,U278,V278,W278,X278,Y278,Z278,AA278,AB278,AC278,AD278,AE278,AF278,AG278,AH278,AI278,AJ278,AK278,AL278,AM278,AN278,AO278,AP278,AQ278,AR278,AS278,AT278,AU278,AV278,AW278,AX278)","v":""},{"$f":"$C$11*$C$10","v":32},{"$f":"AZ278+BA278+BB278+BC278+BD278","v":0}]
[null,null,null,null,null,null,null,null,null,null,null,null,null,null,null,null,null,null,null,null,null,null,null,null,null,null,null,null,null,null,null,null,null,null,null,null,null,null,null,null,null,null,null,null,null,null,null,null,null,null,{"$f":"BA279*1+BB279*2+BC279*3+BD279*5+BE279*$N$10","v":0},{"$f":"LEN(BH279)-LEN(SUBSTITUTE(BH279,\"0\",\"\"))","v":0},{"$f":"LEN(BH279)-LEN(SUBSTITUTE(BH279,\"1\",\"\"))","v":0},{"$f":"LEN(BH279)-LEN(SUBSTITUTE(BH279,\"2\",\"\"))","v":0},{"$f":"LEN(BH279)-LEN(SUBSTITUTE(BH279,\"3\",\"\"))","v":0},{"$f":"LEN(BH279)-LEN(SUBSTITUTE(BH279,\"5\",\"\"))","v":0},{"$f":"LEN(BH279)-LEN(SUBSTITUTE(BH279,\"*\",\"\"))","v":0},{"$f":"BJ279/BI279","v":0},null,"",32,0]
[null,null,null,null,null,null,null,null,null,null,null,null,null,null,null,null,null,null,null,null,null,null,null,null,null,null,null,null,null,null,null,null,null,null,null,null,null,null,null,null,null,null,null,null,null,null,null,null,null,null,{"$f":"BA280*1+BB280*2+BC280*3+BD280*5+BE280*$N$10","v":0},{"$f":"LEN(BH280)-LEN(SUBSTITUTE(BH280,\"0\",\"\"))","v":0},{"$f":"LEN(BH280)-LEN(SUBSTITUTE(BH280,\"1\",\"\"))","v":0},{"$f":"LEN(BH280)-LEN(SUBSTITUTE(BH280,\"2\",\"\"))","v":0},{"$f":"LEN(BH280)-LEN(SUBSTITUTE(BH280,\"3\",\"\"))","v":0},{"$f":"LEN(BH280)-LEN(SUBSTITUTE(BH280,\"5\",\"\"))","v":0},{"$f":"LEN(BH280)-LEN(SUBSTITUTE(BH280,\"*\",\"\"))","v":0},{"$f":"BJ280/BI280","v":0},null,"",32,0]
[null,null,null,null,null,null,null,null,null,null,null,null,null,null,null,null,null,null,null,null,null,null,null,null,null,null,null,null,null,null,null,null,null,null,null,null,null,null,null,null,null,null,null,null,null,null,null,null,null,null,{"$f":"BA281*1+BB281*2+BC281*3+BD281*5+BE281*$N$10","v":0},{"$f":"LEN(BH281)-LEN(SUBSTITUTE(BH281,\"0\",\"\"))","v":0},{"$f":"LEN(BH281)-LEN(SUBSTITUTE(BH281,\"1\",\"\"))","v":0},{"$f":"LEN(BH281)-LEN(SUBSTITUTE(BH281,\"2\",\"\"))","v":0},{"$f":"LEN(BH281)-LEN(SUBSTITUTE(BH281,\"3\",\"\"))","v":0},{"$f":"LEN(BH281)-LEN(SUBSTITUTE(BH281,\"5\",\"\"))","v":0},{"$f":"LEN(BH281)-LEN(SUBSTITUTE(BH281,\"*\",\"\"))","v":0},{"$f":"BJ281/BI281","v":0},null,"",32,0]
[null,null,null,null,null,null,null,null,null,null,null,null,null,null,null,null,null,null,null,null,null,null,null,null,null,null,null,null,null,null,null,null,null,null,null,null,null,null,null,null,null,null,null,null,null,null,null,null,null,null,{"$f":"BA282*1+BB282*2+BC282*3+BD282*5+BE282*$N$10","v":0},{"$f":"LEN(BH282)-LEN(SUBSTITUTE(BH282,\"0\",\"\"))","v":0},{"$f":"LEN(BH282)-LEN(SUBSTITUTE(BH282,\"1\",\"\"))","v":0},{"$f":"LEN(BH282)-LEN(SUBSTITUTE(BH282,\"2\",\"\"))","v":0},{"$f":"LEN(BH282)-LEN(SUBSTITUTE(BH282,\"3\",\"\"))","v":0},{"$f":"LEN(BH282)-LEN(SUBSTITUTE(BH282,\"5\",\"\"))","v":0},{"$f":"LEN(BH282)-LEN(SUBSTITUTE(BH282,\"*\",\"\"))","v":0},{"$f":"BJ282/BI282","v":0},null,"",32,0]
[null,null,null,null,null,null,null,null,null,null,null,null,null,null,null,null,null,null,null,null,null,null,null,null,null,null,null,null,null,null,null,null,null,null,null,null,null,null,null,null,null,null,null,null,null,null,null,null,null,null,{"$f":"BA283*1+BB283*2+BC283*3+BD283*5+BE283*$N$10","v":0},{"$f":"LEN(BH283)-LEN(SUBSTITUTE(BH283,\"0\",\"\"))","v":0},{"$f":"LEN(BH283)-LEN(SUBSTITUTE(BH283,\"1\",\"\"))","v":0},{"$f":"LEN(BH283)-LEN(SUBSTITUTE(BH283,\"2\",\"\"))","v":0},{"$f":"LEN(BH283)-LEN(SUBSTITUTE(BH283,\"3\",\"\"))","v":0},{"$f":"LEN(BH283)-LEN(SUBSTITUTE(BH283,\"5\",\"\"))","v":0},{"$f":"LEN(BH283)-LEN(SUBSTITUTE(BH283,\"*\",\"\"))","v":0},{"$f":"BJ283/BI283","v":0},null,"",32,0]
[null,null,null,null,null,null,null,null,null,null,null,null,null,null,null,null,null,null,null,null,null,null,null,null,null,null,null,null,null,null,null,null,null,null,null,null,null,null,null,null,null,null,null,null,null,null,null,null,null,null,{"$f":"BA284*1+BB284*2+BC284*3+BD284*5+BE284*$N$10","v":0},{"$f":"LEN(BH284)-LEN(SUBSTITUTE(BH284,\"0\",\"\"))","v":0},{"$f":"LEN(BH284)-LEN(SUBSTITUTE(BH284,\"1\",\"\"))","v":0},{"$f":"LEN(BH284)-LEN(SUBSTITUTE(BH284,\"2\",\"\"))","v":0},{"$f":"LEN(BH284)-LEN(SUBSTITUTE(BH284,\"3\",\"\"))","v":0},{"$f":"LEN(BH284)-LEN(SUBSTITUTE(BH284,\"5\",\"\"))","v":0},{"$f":"LEN(BH284)-LEN(SUBSTITUTE(BH284,\"*\",\"\"))","v":0},{"$f":"BJ284/BI284","v":0},null,"",32,0]
[null,null,null,null,null,null,null,null,null,null,null,null,null,null,null,null,null,null,null,null,null,null,null,null,null,null,null,null,null,null,null,null,null,null,null,null,null,null,null,null,null,null,null,null,null,null,null,null,null,null,{"$f":"BA285*1+BB285*2+BC285*3+BD285*5+BE285*$N$10","v":0},{"$f":"LEN(BH285)-LEN(SUBSTITUTE(BH285,\"0\",\"\"))","v":0},{"$f":"LEN(BH285)-LEN(SUBSTITUTE(BH285,\"1\",\"\"))","v":0},{"$f":"LEN(BH285)-LEN(SUBSTITUTE(BH285,\"2\",\"\"))","v":0},{"$f":"LEN(BH285)-LEN(SUBSTITUTE(BH285,\"3\",\"\"))","v":0},{"$f":"LEN(BH285)-LEN(SUBSTITUTE(BH285,\"5\",\"\"))","v":0},{"$f":"LEN(BH285)-LEN(SUBSTITUTE(BH285,\"*\",\"\"))","v":0},{"$f":"BJ285/BI285","v":0},null,"",32,0]
[null,null,null,null,null,null,null,null,null,null,null,null,null,null,null,null,null,null,null,null,null,null,null,null,null,null,null,null,null,null,null,null,null,null,null,null,null,null,null,null,null,null,null,null,null,null,null,null,null,null,{"$f":"BA286*1+BB286*2+BC286*3+BD286*5+BE286*$N$10","v":0},{"$f":"LEN(BH286)-LEN(SUBSTITUTE(BH286,\"0\",\"\"))","v":0},{"$f":"LEN(BH286)-LEN(SUBSTITUTE(BH286,\"1\",\"\"))","v":0},{"$f":"LEN(BH286)-LEN(SUBSTITUTE(BH286,\"2\",\"\"))","v":0},{"$f":"LEN(BH286)-LEN(SUBSTITUTE(BH286,\"3\",\"\"))","v":0},{"$f":"LEN(BH286)-LEN(SUBSTITUTE(BH286,\"5\",\"\"))","v":0},{"$f":"LEN(BH286)-LEN(SUBSTITUTE(BH286,\"*\",\"\"))","v":0},{"$f":"BJ286/BI286","v":0},null,"",32,0]
[null,null,null,null,null,null,null,null,null,null,null,null,null,null,null,null,null,null,null,null,null,null,null,null,null,null,null,null,null,null,null,null,null,null,null,null,null,null,null,null,null,null,null,null,null,null,null,null,null,null,{"$f":"BA287*1+BB287*2+BC287*3+BD287*5+BE287*$N$10","v":0},{"$f":"LEN(BH287)-LEN(SUBSTITUTE(BH287,\"0\",\"\"))","v":0},{"$f":"LEN(BH287)-LEN(SUBSTITUTE(BH287,\"1\",\"\"))","v":0},{"$f":"LEN(BH287)-LEN(SUBSTITUTE(BH287,\"2\",\"\"))","v":0},{"$f":"LEN(BH287)-LEN(SUBSTITUTE(BH287,\"3\",\"\"))","v":0},{"$f":"LEN(BH287)-LEN(SUBSTITUTE(BH287,\"5\",\"\"))","v":0},{"$f":"LEN(BH287)-LEN(SUBSTITUTE(BH287,\"*\",\"\"))","v":0},{"$f":"BJ287/BI287","v":0},null,"",32,0]
[null,null,null,null,null,null,null,null,null,null,null,null,null,null,null,null,null,null,null,null,null,null,null,null,null,null,null,null,null,null,null,null,null,null,null,null,null,null,null,null,null,null,null,null,null,null,null,null,null,null,{"$f":"BA288*1+BB288*2+BC288*3+BD288*5+BE288*$N$10","v":0},{"$f":"LEN(BH288)-LEN(SUBSTITUTE(BH288,\"0\",\"\"))","v":0},{"$f":"LEN(BH288)-LEN(SUBSTITUTE(BH288,\"1\",\"\"))","v":0},{"$f":"LEN(BH288)-LEN(SUBSTITUTE(BH288,\"2\",\"\"))","v":0},{"$f":"LEN(BH288)-LEN(SUBSTITUTE(BH288,\"3\",\"\"))","v":0},{"$f":"LEN(BH288)-LEN(SUBSTITUTE(BH288,\"5\",\"\"))","v":0},{"$f":"LEN(BH288)-LEN(SUBSTITUTE(BH288,\"*\",\"\"))","v":0},{"$f":"BJ288/BI288","v":0},null,"",32,0]
[null,null,null,null,null,null,null,null,null,null,null,null,null,null,null,null,null,null,null,null,null,null,null,null,null,null,null,null,null,null,null,null,null,null,null,null,null,null,null,null,null,null,null,null,null,null,null,null,null,null,{"$f":"BA289*1+BB289*2+BC289*3+BD289*5+BE289*$N$10","v":0},{"$f":"LEN(BH289)-LEN(SUBSTITUTE(BH289,\"0\",\"\"))","v":0},{"$f":"LEN(BH289)-LEN(SUBSTITUTE(BH289,\"1\",\"\"))","v":0},{"$f":"LEN(BH289)-LEN(SUBSTITUTE(BH289,\"2\",\"\"))","v":0},{"$f":"LEN(BH289)-LEN(SUBSTITUTE(BH289,\"3\",\"\"))","v":0},{"$f":"LEN(BH289)-LEN(SUBSTITUTE(BH289,\"5\",\"\"))","v":0},{"$f":"LEN(BH289)-LEN(SUBSTITUTE(BH289,\"*\",\"\"))","v":0},{"$f":"BJ289/BI289","v":0},null,"",32,0]
[null,null,null,null,null,null,null,null,null,null,null,null,null,null,null,null,null,null,null,null,null,null,null,null,null,null,null,null,null,null,null,null,null,null,null,null,null,null,null,null,null,null,null,null,null,null,null,null,null,null,{"$f":"BA290*1+BB290*2+BC290*3+BD290*5+BE290*$N$10","v":0},{"$f":"LEN(BH290)-LEN(SUBSTITUTE(BH290,\"0\",\"\"))","v":0},{"$f":"LEN(BH290)-LEN(SUBSTITUTE(BH290,\"1\",\"\"))","v":0},{"$f":"LEN(BH290)-LEN(SUBSTITUTE(BH290,\"2\",\"\"))","v":0},{"$f":"LEN(BH290)-LEN(SUBSTITUTE(BH290,\"3\",\"\"))","v":0},{"$f":"LEN(BH290)-LEN(SUBSTITUTE(BH290,\"5\",\"\"))","v":0},{"$f":"LEN(BH290)-LEN(SUBSTITUTE(BH290,\"*\",\"\"))","v":0},{"$f":"BJ290/BI290","v":0},null,"",32,0]
[null,null,null,null,null,null,null,null,null,null,null,null,null,null,null,null,null,null,null,null,null,null,null,null,null,null,null,null,null,null,null,null,null,null,null,null,null,null,null,null,null,null,null,null,null,null,null,null,null,null,{"$f":"BA291*1+BB291*2+BC291*3+BD291*5+BE291*$N$10","v":0},{"$f":"LEN(BH291)-LEN(SUBSTITUTE(BH291,\"0\",\"\"))","v":0},{"$f":"LEN(BH291)-LEN(SUBSTITUTE(BH291,\"1\",\"\"))","v":0},{"$f":"LEN(BH291)-LEN(SUBSTITUTE(BH291,\"2\",\"\"))","v":0},{"$f":"LEN(BH291)-LEN(SUBSTITUTE(BH291,\"3\",\"\"))","v":0},{"$f":"LEN(BH291)-LEN(SUBSTITUTE(BH291,\"5\",\"\"))","v":0},{"$f":"LEN(BH291)-LEN(SUBSTITUTE(BH291,\"*\",\"\"))","v":0},{"$f":"BJ291/BI291","v":0},null,"",32,0]
[null,null,null,null,null,null,null,null,null,null,null,null,null,null,null,null,null,null,null,null,null,null,null,null,null,null,null,null,null,null,null,null,null,null,null,null,null,null,null,null,null,null,null,null,null,null,null,null,null,null,{"$f":"BA292*1+BB292*2+BC292*3+BD292*5+BE292*$N$10","v":0},{"$f":"LEN(BH292)-LEN(SUBSTITUTE(BH292,\"0\",\"\"))","v":0},{"$f":"LEN(BH292)-LEN(SUBSTITUTE(BH292,\"1\",\"\"))","v":0},{"$f":"LEN(BH292)-LEN(SUBSTITUTE(BH292,\"2\",\"\"))","v":0},{"$f":"LEN(BH292)-LEN(SUBSTITUTE(BH292,\"3\",\"\"))","v":0},{"$f":"LEN(BH292)-LEN(SUBSTITUTE(BH292,\"5\",\"\"))","v":0},{"$f":"LEN(BH292)-LEN(SUBSTITUTE(BH292,\"*\",\"\"))","v":0},{"$f":"BJ292/BI292","v":0},null,"",32,0]
[null,null,null,null,null,null,null,null,null,null,null,null,null,null,null,null,null,null,null,null,null,null,null,null,null,null,null,null,null,null,null,null,null,null,null,null,null,null,null,null,null,null,null,null,null,null,null,null,null,null,{"$f":"BA293*1+BB293*2+BC293*3+BD293*5+BE293*$N$10","v":0},{"$f":"LEN(BH293)-LEN(SUBSTITUTE(BH293,\"0\",\"\"))","v":0},{"$f":"LEN(BH293)-LEN(SUBSTITUTE(BH293,\"1\",\"\"))","v":0},{"$f":"LEN(BH293)-LEN(SUBSTITUTE(BH293,\"2\",\"\"))","v":0},{"$f":"LEN(BH293)-LEN(SUBSTITUTE(BH293,\"3\",\"\"))","v":0},{"$f":"LEN(BH293)-LEN(SUBSTITUTE(BH293,\"5\",\"\"))","v":0},{"$f":"LEN(BH293)-LEN(SUBSTITUTE(BH293,\"*\",\"\"))","v":0},{"$f":"BJ293/BI293","v":0},null,"",32,0]
[null,null,null,null,null,null,null,null,null,null,null,null,null,null,null,null,null,null,null,null,null,null,null,null,null,null,null,null,null,null,null,null,null,null,null,null,null,null,null,null,null,null,null,null,null,null,null,null,null,null,{"$f":"BA294*1+BB294*2+BC294*3+BD294*5+BE294*$N$10","v":0},{"$f":"LEN(BH294)-LEN(SUBSTITUTE(BH294,\"0\",\"\"))","v":0},{"$f":"LEN(BH294)-LEN(SUBSTITUTE(BH294,\"1\",\"\"))","v":0},{"$f":"LEN(BH294)-LEN(SUBSTITUTE(BH294,\"2\",\"\"))","v":0},{"$f":"LEN(BH294)-LEN(SUBSTITUTE(BH294,\"3\",\"\"))","v":0},{"$f":"LEN(BH294)-LEN(SUBSTITUTE(BH294,\"5\",\"\"))","v":0},{"$f":"LEN(BH294)-LEN(SUBSTITUTE(BH294,\"*\",\"\"))","v":0},{"$f":"BJ294/BI294","v":0},null,"",32,0]
[null,null,null,null,null,null,null,null,null,null,null,null,null,null,null,null,null,null,null,null,null,null,null,null,null,null,null,null,null,null,null,null,null,null,null,null,null,null,null,null,null,null,null,null,null,null,null,null,null,null,{"$f":"BA295*1+BB295*2+BC295*3+BD295*5+BE295*$N$10","v":0},{"$f":"LEN(BH295)-LEN(SUBSTITUTE(BH295,\"0\",\"\"))","v":0},{"$f":"LEN(BH295)-LEN(SUBSTITUTE(BH295,\"1\",\"\"))","v":0},{"$f":"LEN(BH295)-LEN(SUBSTITUTE(BH295,\"2\",\"\"))","v":0},{"$f":"LEN(BH295)-LEN(SUBSTITUTE(BH295,\"3\",\"\"))","v":0},{"$f":"LEN(BH295)-LEN(SUBSTITUTE(BH295,\"5\",\"\"))","v":0},{"$f":"LEN(BH295)-LEN(SUBSTITUTE(BH295,\"*\",\"\"))","v":0},{"$f":"BJ295/BI295","v":0},null,"",32,0]
[null,null,null,null,null,null,null,null,null,null,null,null,null,null,null,null,null,null,null,null,null,null,null,null,null,null,null,null,null,null,null,null,null,null,null,null,null,null,null,null,null,null,null,null,null,null,null,null,null,null,{"$f":"BA296*1+BB296*2+BC296*3+BD296*5+BE296*$N$10","v":0},{"$f":"LEN(BH296)-LEN(SUBSTITUTE(BH296,\"0\",\"\"))","v":0},{"$f":"LEN(BH296)-LEN(SUBSTITUTE(BH296,\"1\",\"\"))","v":0},{"$f":"LEN(BH296)-LEN(SUBSTITUTE(BH296,\"2\",\"\"))","v":0},{"$f":"LEN(BH296)-LEN(SUBSTITUTE(BH296,\"3\",\"\"))","v":0},{"$f":"LEN(BH296)-LEN(SUBSTITUTE(BH296,\"5\",\"\"))","v":0},{"$f":"LEN(BH296)-LEN(SUBSTITUTE(BH296,\"*\",\"\"))","v":0},{"$f":"BJ296/BI296","v":0},null,"",32,0]
[null,null,null,null,null,null,null,null,null,null,null,null,null,null,null,null,null,null,null,null,null,null,null,null,null,null,null,null,null,null,null,null,null,null,null,null,null,null,null,null,null,null,null,null,null,null,null,null,null,null,{"$f":"BA297*1+BB297*2+BC297*3+BD297*5+BE297*$N$10","v":0},{"$f":"LEN(BH297)-LEN(SUBSTITUTE(BH297,\"0\",\"\"))","v":0},{"$f":"LEN(BH297)-LEN(SUBSTITUTE(BH297,\"1\",\"\"))","v":0},{"$f":"LEN(BH297)-LEN(SUBSTITUTE(BH297,\"2\",\"\"))","v":0},{"$f":"LEN(BH297)-LEN(SUBSTITUTE(BH297,\"3\",\"\"))","v":0},{"$f":"LEN(BH297)-LEN(SUBSTITUTE(BH297,\"5\",\"\"))","v":0},{"$f":"LEN(BH297)-LEN(SUBSTITUTE(BH297,\"*\",\"\"))","v":0},{"$f":"BJ297/BI297","v":0},null,"",32,0]
[null,null,null,null,null,null,null,null,null,null,null,null,null,null,null,null,null,null,null,null,null,null,null,null,null,null,null,null,null,null,null,null,null,null,null,null,null,null,null,null,null,null,null,null,null,null,null,null,null,null,{"$f":"BA298*1+BB298*2+BC298*3+BD298*5+BE298*$N$10","v":0},{"$f":"LEN(BH298)-LEN(SUBSTITUTE(BH298,\"0\",\"\"))","v":0},{"$f":"LEN(BH298)-LEN(SUBSTITUTE(BH298,\"1\",\"\"))","v":0},{"$f":"LEN(BH298)-LEN(SUBSTITUTE(BH298,\"2\",\"\"))","v":0},{"$f":"LEN(BH298)-LEN(SUBSTITUTE(BH298,\"3\",\"\"))","v":0},{"$f":"LEN(BH298)-LEN(SUBSTITUTE(BH298,\"5\",\"\"))","v":0},{"$f":"LEN(BH298)-LEN(SUBSTITUTE(BH298,\"*\",\"\"))","v":0},{"$f":"BJ298/BI298","v":0},null,"",32,0]
[null,null,null,null,null,null,null,null,null,null,null,null,null,null,null,null,null,null,null,null,null,null,null,null,null,null,null,null,null,null,null,null,null,null,null,null,null,null,null,null,null,null,null,null,null,null,null,null,null,null,{"$f":"BA299*1+BB299*2+BC299*3+BD299*5+BE299*$N$10","v":0},{"$f":"LEN(BH299)-LEN(SUBSTITUTE(BH299,\"0\",\"\"))","v":0},{"$f":"LEN(BH299)-LEN(SUBSTITUTE(BH299,\"1\",\"\"))","v":0},{"$f":"LEN(BH299)-LEN(SUBSTITUTE(BH299,\"2\",\"\"))","v":0},{"$f":"LEN(BH299)-LEN(SUBSTITUTE(BH299,\"3\",\"\"))","v":0},{"$f":"LEN(BH299)-LEN(SUBSTITUTE(BH299,\"5\",\"\"))","v":0},{"$f":"LEN(BH299)-LEN(SUBSTITUTE(BH299,\"*\",\"\"))","v":0},{"$f":"BJ299/BI299","v":0},null,"",32,0]
[null,null,null,null,null,null,null,null,null,null,null,null,null,null,null,null,null,null,null,null,null,null,null,null,null,null,null,null,null,null,null,null,null,null,null,null,null,null,null,null,null,null,null,null,null,null,null,null,null,null,{"$f":"BA300*1+BB300*2+BC300*3+BD300*5+BE300*$N$10","v":0},{"$f":"LEN(BH300)-LEN(SUBSTITUTE(BH300,\"0\",\"\"))","v":0},{"$f":"LEN(BH300)-LEN(SUBSTITUTE(BH300,\"1\",\"\"))","v":0},{"$f":"LEN(BH300)-LEN(SUBSTITUTE(BH300,\"2\",\"\"))","v":0},{"$f":"LEN(BH300)-LEN(SUBSTITUTE(BH300,\"3\",\"\"))","v":0},{"$f":"LEN(BH300)-LEN(SUBSTITUTE(BH300,\"5\",\"\"))","v":0},{"$f":"LEN(BH300)-LEN(SUBSTITUTE(BH300,\"*\",\"\"))","v":0},{"$f":"BJ300/BI300","v":0},null,"",32,0]
[null,null,null,null,null,null,null,null,null,null,null,null,null,null,null,null,null,null,null,null,null,null,null,null,null,null,null,null,null,null,null,null,null,null,null,null,null,null,null,null,null,null,null,null,null,null,null,null,null,null,{"$f":"BA301*1+BB301*2+BC301*3+BD301*5+BE301*$N$10","v":0},{"$f":"LEN(BH301)-LEN(SUBSTITUTE(BH301,\"0\",\"\"))","v":0},{"$f":"LEN(BH301)-LEN(SUBSTITUTE(BH301,\"1\",\"\"))","v":0},{"$f":"LEN(BH301)-LEN(SUBSTITUTE(BH301,\"2\",\"\"))","v":0},{"$f":"LEN(BH301)-LEN(SUBSTITUTE(BH301,\"3\",\"\"))","v":0},{"$f":"LEN(BH301)-LEN(SUBSTITUTE(BH301,\"5\",\"\"))","v":0},{"$f":"LEN(BH301)-LEN(SUBSTITUTE(BH301,\"*\",\"\"))","v":0},{"$f":"BJ301/BI301","v":0},null,"",32,0]
[null,null,null,null,null,null,null,null,null,null,null,null,null,null,null,null,null,null,null,null,null,null,null,null,null,null,null,null,null,null,null,null,null,null,null,null,null,null,null,null,null,null,null,null,null,null,null,null,null,null,{"$f":"BA302*1+BB302*2+BC302*3+BD302*5+BE302*$N$10","v":0},{"$f":"LEN(BH302)-LEN(SUBSTITUTE(BH302,\"0\",\"\"))","v":0},{"$f":"LEN(BH302)-LEN(SUBSTITUTE(BH302,\"1\",\"\"))","v":0},{"$f":"LEN(BH302)-LEN(SUBSTITUTE(BH302,\"2\",\"\"))","v":0},{"$f":"LEN(BH302)-LEN(SUBSTITUTE(BH302,\"3\",\"\"))","v":0},{"$f":"LEN(BH302)-LEN(SUBSTITUTE(BH302,\"5\",\"\"))","v":0},{"$f":"LEN(BH302)-LEN(SUBSTITUTE(BH302,\"*\",\"\"))","v":0},{"$f":"BJ302/BI302","v":0},null,"",32,0]
[null,null,null,null,null,null,null,null,null,null,null,null,null,null,null,null,null,null,null,null,null,null,null,null,null,null,null,null,null,null,null,null,null,null,null,null,null,null,null,null,null,null,null,null,null,null,null,null,null,null,{"$f":"BA303*1+BB303*2+BC303*3+BD303*5+BE303*$N$10","v":0},{"$f":"LEN(BH303)-LEN(SUBSTITUTE(BH303,\"0\",\"\"))","v":0},{"$f":"LEN(BH303)-LEN(SUBSTITUTE(BH303,\"1\",\"\"))","v":0},{"$f":"LEN(BH303)-LEN(SUBSTITUTE(BH303,\"2\",\"\"))","v":0},{"$f":"LEN(BH303)-LEN(SUBSTITUTE(BH303,\"3\",\"\"))","v":0},{"$f":"LEN(BH303)-LEN(SUBSTITUTE(BH303,\"5\",\"\"))","v":0},{"$f":"LEN(BH303)-LEN(SUBSTITUTE(BH303,\"*\",\"\"))","v":0},{"$f":"BJ303/BI303","v":0},null,"",32,0]
[null,null,null,null,null,null,null,null,null,null,null,null,null,null,null,null,null,null,null,null,null,null,null,null,null,null,null,null,null,null,null,null,null,null,null,null,null,null,null,null,null,null,null,null,null,null,null,null,null,null,{"$f":"BA304*1+BB304*2+BC304*3+BD304*5+BE304*$N$10","v":0},{"$f":"LEN(BH304)-LEN(SUBSTITUTE(BH304,\"0\",\"\"))","v":0},{"$f":"LEN(BH304)-LEN(SUBSTITUTE(BH304,\"1\",\"\"))","v":0},{"$f":"LEN(BH304)-LEN(SUBSTITUTE(BH304,\"2\",\"\"))","v":0},{"$f":"LEN(BH304)-LEN(SUBSTITUTE(BH304,\"3\",\"\"))","v":0},{"$f":"LEN(BH304)-LEN(SUBSTITUTE(BH304,\"5\",\"\"))","v":0},{"$f":"LEN(BH304)-LEN(SUBSTITUTE(BH304,\"*\",\"\"))","v":0},{"$f":"BJ304/BI304","v":0},null,"",32,0]
[null,null,null,null,null,null,null,null,null,null,null,null,null,null,null,null,null,null,null,null,null,null,null,null,null,null,null,null,null,null,null,null,null,null,null,null,null,null,null,null,null,null,null,null,null,null,null,null,null,null,{"$f":"BA305*1+BB305*2+BC305*3+BD305*5+BE305*$N$10","v":0},{"$f":"LEN(BH305)-LEN(SUBSTITUTE(BH305,\"0\",\"\"))","v":0},{"$f":"LEN(BH305)-LEN(SUBSTITUTE(BH305,\"1\",\"\"))","v":0},{"$f":"LEN(BH305)-LEN(SUBSTITUTE(BH305,\"2\",\"\"))","v":0},{"$f":"LEN(BH305)-LEN(SUBSTITUTE(BH305,\"3\",\"\"))","v":0},{"$f":"LEN(BH305)-LEN(SUBSTITUTE(BH305,\"5\",\"\"))","v":0},{"$f":"LEN(BH305)-LEN(SUBSTITUTE(BH305,\"*\",\"\"))","v":0},{"$f":"BJ305/BI305","v":0},null,"",32,0]
[null,null,null,null,null,null,null,null,null,null,null,null,null,null,null,null,null,null,null,null,null,null,null,null,null,null,null,null,null,null,null,null,null,null,null,null,null,null,null,null,null,null,null,null,null,null,null,null,null,null,{"$f":"BA306*1+BB306*2+BC306*3+BD306*5+BE306*$N$10","v":0},{"$f":"LEN(BH306)-LEN(SUBSTITUTE(BH306,\"0\",\"\"))","v":0},{"$f":"LEN(BH306)-LEN(SUBSTITUTE(BH306,\"1\",\"\"))","v":0},{"$f":"LEN(BH306)-LEN(SUBSTITUTE(BH306,\"2\",\"\"))","v":0},{"$f":"LEN(BH306)-LEN(SUBSTITUTE(BH306,\"3\",\"\"))","v":0},{"$f":"LEN(BH306)-LEN(SUBSTITUTE(BH306,\"5\",\"\"))","v":0},{"$f":"LEN(BH306)-LEN(SUBSTITUTE(BH306,\"*\",\"\"))","v":0},{"$f":"BJ306/BI306","v":0},null,"",32,0]
[null,null,null,null,null,null,null,null,null,null,null,null,null,null,null,null,null,null,null,null,null,null,null,null,null,null,null,null,null,null,null,null,null,null,null,null,null,null,null,null,null,null,null,null,null,null,null,null,null,null,{"$f":"BA307*1+BB307*2+BC307*3+BD307*5+BE307*$N$10","v":0},{"$f":"LEN(BH307)-LEN(SUBSTITUTE(BH307,\"0\",\"\"))","v":0},{"$f":"LEN(BH307)-LEN(SUBSTITUTE(BH307,\"1\",\"\"))","v":0},{"$f":"LEN(BH307)-LEN(SUBSTITUTE(BH307,\"2\",\"\"))","v":0},{"$f":"LEN(BH307)-LEN(SUBSTITUTE(BH307,\"3\",\"\"))","v":0},{"$f":"LEN(BH307)-LEN(SUBSTITUTE(BH307,\"5\",\"\"))","v":0},{"$f":"LEN(BH307)-LEN(SUBSTITUTE(BH307,\"*\",\"\"))","v":0},{"$f":"BJ307/BI307","v":0},null,"",32,0]
[null,null,null,null,null,null,null,null,null,null,null,null,null,null,null,null,null,null,null,null,null,null,null,null,null,null,null,null,null,null,null,null,null,null,null,null,null,null,null,null,null,null,null,null,null,null,null,null,null,null,{"$f":"BA308*1+BB308*2+BC308*3+BD308*5+BE308*$N$10","v":0},{"$f":"LEN(BH308)-LEN(SUBSTITUTE(BH308,\"0\",\"\"))","v":0},{"$f":"LEN(BH308)-LEN(SUBSTITUTE(BH308,\"1\",\"\"))","v":0},{"$f":"LEN(BH308)-LEN(SUBSTITUTE(BH308,\"2\",\"\"))","v":0},{"$f":"LEN(BH308)-LEN(SUBSTITUTE(BH308,\"3\",\"\"))","v":0},{"$f":"LEN(BH308)-LEN(SUBSTITUTE(BH308,\"5\",\"\"))","v":0},{"$f":"LEN(BH308)-LEN(SUBSTITUTE(BH308,\"*\",\"\"))","v":0},{"$f":"BJ308/BI308","v":0},null,"",32,0]
[null,null,null,null,null,null,null,null,null,null,null,null,null,null,null,null,null,null,null,null,null,null,null,null,null,null,null,null,null,null,null,null,null,null,null,null,null,null,null,null,null,null,null,null,null,null,null,null,null,null,{"$f":"BA309*1+BB309*2+BC309*3+BD309*5+BE309*$N$10","v":0},{"$f":"LEN(BH309)-LEN(SUBSTITUTE(BH309,\"0\",\"\"))","v":0},{"$f":"LEN(BH309)-LEN(SUBSTITUTE(BH309,\"1\",\"\"))","v":0},{"$f":"LEN(BH309)-LEN(SUBSTITUTE(BH309,\"2\",\"\"))","v":0},{"$f":"LEN(BH309)-LEN(SUBSTITUTE(BH309,\"3\",\"\"))","v":0},{"$f":"LEN(BH309)-LEN(SUBSTITUTE(BH309,\"5\",\"\"))","v":0},{"$f":"LEN(BH309)-LEN(SUBSTITUTE(BH309,\"*\",\"\"))","v":0},{"$f":"BJ309/BI309","v":0},null,"",32,0]
[null,null,null,null,null,null,null,null,null,null,null,null,null,null,null,null,null,null,null,null,null,null,null,null,null,null,null,null,null,null,null,null,null,null,null,null,null,null,null,null,null,null,null,null,null,null,null,null,null,null,{"$f":"BA310*1+BB310*2+BC310*3+BD310*5+BE310*$N$10","v":0},{"$f":"LEN(BH310)-LEN(SUBSTITUTE(BH310,\"0\",\"\"))","v":0},{"$f":"LEN(BH310)-LEN(SUBSTITUTE(BH310,\"1\",\"\"))","v":0},{"$f":"LEN(BH310)-LEN(SUBSTITUTE(BH310,\"2\",\"\"))","v":0},{"$f":"LEN(BH310)-LEN(SUBSTITUTE(BH310,\"3\",\"\"))","v":0},{"$f":"LEN(BH310)-LEN(SUBSTITUTE(BH310,\"5\",\"\"))","v":0},{"$f":"LEN(BH310)-LEN(SUBSTITUTE(BH310,\"*\",\"\"))","v":0},{"$f":"BJ310/BI310","v":0},null,"",32,0]
[null,null,null,null,null,null,null,null,null,null,null,null,null,null,null,null,null,null,null,null,null,null,null,null,null,null,null,null,null,null,null,null,null,null,null,null,null,null,null,null,null,null,null,null,null,null,null,null,null,null,{"$f":"BA311*1+BB311*2+BC311*3+BD311*5+BE311*$N$10","v":0},{"$f":"LEN(BH311)-LEN(SUBSTITUTE(BH311,\"0\",\"\"))","v":0},{"$f":"LEN(BH311)-LEN(SUBSTITUTE(BH311,\"1\",\"\"))","v":0},{"$f":"LEN(BH311)-LEN(SUBSTITUTE(BH311,\"2\",\"\"))","v":0},{"$f":"LEN(BH311)-LEN(SUBSTITUTE(BH311,\"3\",\"\"))","v":0},{"$f":"LEN(BH311)-LEN(SUBSTITUTE(BH311,\"5\",\"\"))","v":0},{"$f":"LEN(BH311)-LEN(SUBSTITUTE(BH311,\"*\",\"\"))","v":0},{"$f":"BJ311/BI311","v":0},null,"",32,0]
[null,null,null,null,null,null,null,null,null,null,null,null,null,null,null,null,null,null,null,null,null,null,null,null,null,null,null,null,null,null,null,null,null,null,null,null,null,null,null,null,null,null,null,null,null,null,null,null,null,null,{"$f":"BA312*1+BB312*2+BC312*3+BD312*5+BE312*$N$10","v":0},{"$f":"LEN(BH312)-LEN(SUBSTITUTE(BH312,\"0\",\"\"))","v":0},{"$f":"LEN(BH312)-LEN(SUBSTITUTE(BH312,\"1\",\"\"))","v":0},{"$f":"LEN(BH312)-LEN(SUBSTITUTE(BH312,\"2\",\"\"))","v":0},{"$f":"LEN(BH312)-LEN(SUBSTITUTE(BH312,\"3\",\"\"))","v":0},{"$f":"LEN(BH312)-LEN(SUBSTITUTE(BH312,\"5\",\"\"))","v":0},{"$f":"LEN(BH312)-LEN(SUBSTITUTE(BH312,\"*\",\"\"))","v":0},{"$f":"BJ312/BI312","v":0},null,"",32,0]
[null,null,null,null,null,null,null,null,null,null,null,null,null,null,null,null,null,null,null,null,null,null,null,null,null,null,null,null,null,null,null,null,null,null,null,null,null,null,null,null,null,null,null,null,null,null,null,null,null,null,{"$f":"BA313*1+BB313*2+BC313*3+BD313*5+BE313*$N$10","v":0},{"$f":"LEN(BH313)-LEN(SUBSTITUTE(BH313,\"0\",\"\"))","v":0},{"$f":"LEN(BH313)-LEN(SUBSTITUTE(BH313,\"1\",\"\"))","v":0},{"$f":"LEN(BH313)-LEN(SUBSTITUTE(BH313,\"2\",\"\"))","v":0},{"$f":"LEN(BH313)-LEN(SUBSTITUTE(BH313,\"3\",\"\"))","v":0},{"$f":"LEN(BH313)-LEN(SUBSTITUTE(BH313,\"5\",\"\"))","v":0},{"$f":"LEN(BH313)-LEN(SUBSTITUTE(BH313,\"*\",\"\"))","v":0},{"$f":"BJ313/BI313","v":0},null,"",32,0]
[null,null,null,null,null,null,null,null,null,null,null,null,null,null,null,null,null,null,null,null,null,null,null,null,null,null,null,null,null,null,null,null,null,null,null,null,null,null,null,null,null,null,null,null,null,null,null,null,null,null,{"$f":"BA314*1+BB314*2+BC314*3+BD314*5+BE314*$N$10","v":0},{"$f":"LEN(BH314)-LEN(SUBSTITUTE(BH314,\"0\",\"\"))","v":0},{"$f":"LEN(BH314)-LEN(SUBSTITUTE(BH314,\"1\",\"\"))","v":0},{"$f":"LEN(BH314)-LEN(SUBSTITUTE(BH314,\"2\",\"\"))","v":0},{"$f":"LEN(BH314)-LEN(SUBSTITUTE(BH314,\"3\",\"\"))","v":0},{"$f":"LEN(BH314)-LEN(SUBSTITUTE(BH314,\"5\",\"\"))","v":0},{"$f":"LEN(BH314)-LEN(SUBSTITUTE(BH314,\"*\",\"\"))","v":0},{"$f":"BJ314/BI314","v":0},null,"",32,0]
[null,null,null,null,null,null,null,null,null,null,null,null,null,null,null,null,null,null,null,null,null,null,null,null,null,null,null,null,null,null,null,null,null,null,null,null,null,null,null,null,null,null,null,null,null,null,null,null,null,null,{"$f":"BA315*1+BB315*2+BC315*3+BD315*5+BE315*$N$10","v":0},{"$f":"LEN(BH315)-LEN(SUBSTITUTE(BH315,\"0\",\"\"))","v":0},{"$f":"LEN(BH315)-LEN(SUBSTITUTE(BH315,\"1\",\"\"))","v":0},{"$f":"LEN(BH315)-LEN(SUBSTITUTE(BH315,\"2\",\"\"))","v":0},{"$f":"LEN(BH315)-LEN(SUBSTITUTE(BH315,\"3\",\"\"))","v":0},{"$f":"LEN(BH315)-LEN(SUBSTITUTE(BH315,\"5\",\"\"))","v":0},{"$f":"LEN(BH315)-LEN(SUBSTITUTE(BH315,\"*\",\"\"))","v":0},{"$f":"BJ315/BI315","v":0},null,"",32,0]
[null,null,null,null,null,null,null,null,null,null,null,null,null,null,null,null,null,null,null,null,null,null,null,null,null,null,null,null,null,null,null,null,null,null,null,null,null,null,null,null,null,null,null,null,null,null,null,null,null,null,{"$f":"BA316*1+BB316*2+BC316*3+BD316*5+BE316*$N$10","v":0},{"$f":"LEN(BH316)-LEN(SUBSTITUTE(BH316,\"0\",\"\"))","v":0},{"$f":"LEN(BH316)-LEN(SUBSTITUTE(BH316,\"1\",\"\"))","v":0},{"$f":"LEN(BH316)-LEN(SUBSTITUTE(BH316,\"2\",\"\"))","v":0},{"$f":"LEN(BH316)-LEN(SUBSTITUTE(BH316,\"3\",\"\"))","v":0},{"$f":"LEN(BH316)-LEN(SUBSTITUTE(BH316,\"5\",\"\"))","v":0},{"$f":"LEN(BH316)-LEN(SUBSTITUTE(BH316,\"*\",\"\"))","v":0},{"$f":"BJ316/BI316","v":0},null,"",32,0]
[null,null,null,null,null,null,null,null,null,null,null,null,null,null,null,null,null,null,null,null,null,null,null,null,null,null,null,null,null,null,null,null,null,null,null,null,null,null,null,null,null,null,null,null,null,null,null,null,null,null,{"$f":"BA317*1+BB317*2+BC317*3+BD317*5+BE317*$N$10","v":0},{"$f":"LEN(BH317)-LEN(SUBSTITUTE(BH317,\"0\",\"\"))","v":0},{"$f":"LEN(BH317)-LEN(SUBSTITUTE(BH317,\"1\",\"\"))","v":0},{"$f":"LEN(BH317)-LEN(SUBSTITUTE(BH317,\"2\",\"\"))","v":0},{"$f":"LEN(BH317)-LEN(SUBSTITUTE(BH317,\"3\",\"\"))","v":0},{"$f":"LEN(BH317)-LEN(SUBSTITUTE(BH317,\"5\",\"\"))","v":0},{"$f":"LEN(BH317)-LEN(SUBSTITUTE(BH317,\"*\",\"\"))","v":0},{"$f":"BJ317/BI317","v":0},null,"",32,0]
[null,null,null,null,null,null,null,null,null,null,null,null,null,null,null,null,null,null,null,null,null,null,null,null,null,null,null,null,null,null,null,null,null,null,null,null,null,null,null,null,null,null,null,null,null,null,null,null,null,null,{"$f":"BA318*1+BB318*2+BC318*3+BD318*5+BE318*$N$10","v":0},{"$f":"LEN(BH318)-LEN(SUBSTITUTE(BH318,\"0\",\"\"))","v":0},{"$f":"LEN(BH318)-LEN(SUBSTITUTE(BH318,\"1\",\"\"))","v":0},{"$f":"LEN(BH318)-LEN(SUBSTITUTE(BH318,\"2\",\"\"))","v":0},{"$f":"LEN(BH318)-LEN(SUBSTITUTE(BH318,\"3\",\"\"))","v":0},{"$f":"LEN(BH318)-LEN(SUBSTITUTE(BH318,\"5\",\"\"))","v":0},{"$f":"LEN(BH318)-LEN(SUBSTITUTE(BH318,\"*\",\"\"))","v":0},{"$f":"BJ318/BI318","v":0},null,"",32,0]
[null,null,null,null,null,null,null,null,null,null,null,null,null,null,null,null,null,null,null,null,null,null,null,null,null,null,null,null,null,null,null,null,null,null,null,null,null,null,null,null,null,null,null,null,null,null,null,null,null,null,{"$f":"BA319*1+BB319*2+BC319*3+BD319*5+BE319*$N$10","v":0},{"$f":"LEN(BH319)-LEN(SUBSTITUTE(BH319,\"0\",\"\"))","v":0},{"$f":"LEN(BH319)-LEN(SUBSTITUTE(BH319,\"1\",\"\"))","v":0},{"$f":"LEN(BH319)-LEN(SUBSTITUTE(BH319,\"2\",\"\"))","v":0},{"$f":"LEN(BH319)-LEN(SUBSTITUTE(BH319,\"3\",\"\"))","v":0},{"$f":"LEN(BH319)-LEN(SUBSTITUTE(BH319,\"5\",\"\"))","v":0},{"$f":"LEN(BH319)-LEN(SUBSTITUTE(BH319,\"*\",\"\"))","v":0},{"$f":"BJ319/BI319","v":0},null,"",32,0]
[null,null,null,null,null,null,null,null,null,null,null,null,null,null,null,null,null,null,null,null,null,null,null,null,null,null,null,null,null,null,null,null,null,null,null,null,null,null,null,null,null,null,null,null,null,null,null,null,null,null,{"$f":"BA320*1+BB320*2+BC320*3+BD320*5+BE320*$N$10","v":0},{"$f":"LEN(BH320)-LEN(SUBSTITUTE(BH320,\"0\",\"\"))","v":0},{"$f":"LEN(BH320)-LEN(SUBSTITUTE(BH320,\"1\",\"\"))","v":0},{"$f":"LEN(BH320)-LEN(SUBSTITUTE(BH320,\"2\",\"\"))","v":0},{"$f":"LEN(BH320)-LEN(SUBSTITUTE(BH320,\"3\",\"\"))","v":0},{"$f":"LEN(BH320)-LEN(SUBSTITUTE(BH320,\"5\",\"\"))","v":0},{"$f":"LEN(BH320)-LEN(SUBSTITUTE(BH320,\"*\",\"\"))","v":0},{"$f":"BJ320/BI320","v":0},null,"",32,0]
[null,null,null,null,null,null,null,null,null,null,null,null,null,null,null,null,null,null,null,null,null,null,null,null,null,null,null,null,null,null,null,null,null,null,null,null,null,null,null,null,null,null,null,null,null,null,null,null,null,null,{"$f":"BA321*1+BB321*2+BC321*3+BD321*5+BE321*$N$10","v":0},{"$f":"LEN(BH321)-LEN(SUBSTITUTE(BH321,\"0\",\"\"))","v":0},{"$f":"LEN(BH321)-LEN(SUBSTITUTE(BH321,\"1\",\"\"))","v":0},{"$f":"LEN(BH321)-LEN(SUBSTITUTE(BH321,\"2\",\"\"))","v":0},{"$f":"LEN(BH321)-LEN(SUBSTITUTE(BH321,\"3\",\"\"))","v":0},{"$f":"LEN(BH321)-LEN(SUBSTITUTE(BH321,\"5\",\"\"))","v":0},{"$f":"LEN(BH321)-LEN(SUBSTITUTE(BH321,\"*\",\"\"))","v":0},{"$f":"BJ321/BI321","v":0},null,"",32,0]

{"sheet":"SCORES","index":1,"n_rows":312,"n_cols":58,"rows_kept":312,"cut":false,"hidden":false,"merged":[]}
[]
[]
[{"$f":" TRIALNAME&\" \"&TRIALROUND","v":"Manywells Winter Series RD 4"}]
[{"$f":"\"A Round Of The \"&DATAENTRY!C6&\" @ \"&VENUE","v":"A Round Of The Novice Beginners @ Rough Holden Farm Silsden"}]
[{"$f":"\"Event Date : \"&TEXT(DATAENTRY!C9,\"dd mmmm yyyy\")&\"  Permit No : ACU\"&DATAENTRY!C5","v":"Event Date : 02 March 2019  Permit No : ACU55150"}]
[{"$f":"\"Clerk Of Course : \" & DATAENTRY!C15 & \"     Secretary : \" &DATAENTRY!C14","v":"Clerk Of Course : Jason Dunning (145307)     Secretary : Carina Carter"}]
[]
[{"$f":" MSG","v":0}]
["These results will be deemed final unless a protest is received in accordance with the National Sporting Code"]
[{"$f":"\"Note :- Where a score *,  there is no score shown on the observers card therefore a  \"&MISSING_SEC&\" has been entered as per TSR22 (Missed section)\"","v":"Note :- Where a score *,  there is no score shown on the observers card therefore a  5 has been entered as per TSR22 (Missed section)"}]
[{"$f":"DATAENTRY!C21","v":"CL POS"},{"$f":"DATAENTRY!D21","v":"POS"},{"$f":"DATAENTRY!E21","v":"NAME"},{"$f":"DATAENTRY!F21","v":"NO"},{"$f":"DATAENTRY!G21","v":"CB"},{"$f":"DATAENTRY!H21","v":"CR"},{"$f":"DATAENTRY!I21","v":"CL"},{"$f":"DATAENTRY!J21","v":"BK"},{"$f":"DATAENTRY!K21","v":"S1"},{"$f":"DATAENTRY!L21","v":"S2"},{"$f":"DATAENTRY!M21","v":"S3"},{"$f":"DATAENTRY!N21","v":"S4"},{"$f":"DATAENTRY!O21","v":"S5"},{"$f":"DATAENTRY!P21","v":"S6"},{"$f":"DATAENTRY!Q21","v":"S7"},{"$f":"DATAENTRY!R21","v":"S8"},{"$f":"DATAENTRY!S21","v":"S9"},{"$f":"DATAENTRY!T21","v":"S10"},{"$f":"DATAENTRY!U21","v":"S11"},{"$f":"DATAENTRY!V21","v":"S12"},{"$f":"DATAENTRY!W21","v":"S13"},{"$f":"DATAENTRY!X21","v":"S14"},{"$f":"DATAENTRY!Y21","v":"S15"},{"$f":"DATAENTRY!Z21","v":"S16"},{"$f":"DATAENTRY!AA21","v":"S17"},{"$f":"DATAENTRY!AB21","v":"S18"},{"$f":"DATAENTRY!AC21","v":"S19"},{"$f":"DATAENTRY!AD21","v":"S20"},{"$f":"DATAENTRY!AE21","v":"S21"},{"$f":"DATAENTRY!AF21","v":"S22"},{"$f":"DATAENTRY!AG21","v":"S23"},{"$f":"DATAENTRY!AH21","v":"S24"},{"$f":"DATAENTRY!AI21","v":"S25"},{"$f":"DATAENTRY!AJ21","v":"S26"},{"$f":"DATAENTRY!AK21","v":"S27"},{"$f":"DATAENTRY!AL21","v":"S28"},{"$f":"DATAENTRY!AM21","v":"S29"},{"$f":"DATAENTRY!AN21","v":"S30"},{"$f":"DATAENTRY!AO21","v":"S31"},{"$f":"DATAENTRY!AP21","v":"S32"},{"$f":"DATAENTRY!AQ21","v":"S33"},{"$f":"DATAENTRY!AR21","v":"S34"},{"$f":"DATAENTRY!AS21","v":"S35"},{"$f":"DATAENTRY!AT21","v":"S36"},{"$f":"DATAENTRY!AU21","v":"S37"},{"$f":"DATAENTRY!AV21","v":"S38"},{"$f":"DATAENTRY!AW21","v":"S39"},{"$f":"DATAENTRY!AX21","v":"S40"},{"$f":"DATAENTRY!AY21","v":"TOT"},"0",{"$f":"DATAENTRY!BA21","v":1},{"$f":"DATAENTRY!BB21","v":2},{"$f":"DATAENTRY!BC21","v":3},{"$f":"DATAENTRY!BD21","v":5},{"$f":"DATAENTRY!BE21","v":"M"},{"$f":"DATAENTRY!BF21","v":"% CMP"},{"$f":"DATAENTRY!BG21","v":"PTS"},{"$f":"DATAENTRY!BH21","v":0}]
[{"$f":"DATAENTRY!C22","v":1},{"$f":"DATAENTRY!D22","v":1},{"$f":"DATAENTRY!E22","v":"DAVID PETTY"},{"$f":"DATAENTRY!F22","v":74},{"$f":"DATAENTRY!G22","v":"BD"},{"$f":"DATAENTRY!H22","v":"HARD"},{"$f":"DATAENTRY!I22","v":"NOV"},{"$f":"DATAENTRY!J22","v":"BETA"},{"$f":"DATAENTRY!K22","v":"0000"},{"$f":"DATAENTRY!L22","v":"0000"},{"$f":"DATAENTRY!M22","v":"0000"},{"$f":"DATAENTRY!N22","v":"0000"},{"$f":"DATAENTRY!O22","v":"0000"},{"$f":"DATAENTRY!P22","v":"0000"},{"$f":"DATAENTRY!Q22","v":"0000"},{"$f":"DATAENTRY!R22","v":"0000"},{"$f":"DATAENTRY!S22","v":0},{"$f":"DATAENTRY!T22","v":0},{"$f":"DATAENTRY!U22","v":0},{"$f":"DATAENTRY!V22","v":0},{"$f":"DATAENTRY!W22","v":0},{"$f":"DATAENTRY!X22","v":0},{"$f":"DATAENTRY!Y22","v":0},{"$f":"DATAENTRY!Z22","v":0},{"$f":"DATAENTRY!AA22","v":0},{"$f":"DATAENTRY!AB22","v":0},{"$f":"DATAENTRY!AC22","v":0},{"$f":"DATAENTRY!AD22","v":0},{"$f":"DATAENTRY!AE22","v":0},{"$f":"DATAENTRY!AF22","v":0},{"$f":"DATAENTRY!AG22","v":0},{"$f":"DATAENTRY!AH22","v":0},{"$f":"DATAENTRY!AI22","v":0},{"$f":"DATAENTRY!AJ22","v":0},{"$f":"DATAENTRY!AK22","v":0},{"$f":"DATAENTRY!AL22","v":0},{"$f":"DATAENTRY!AM22","v":0},{"$f":"DATAENTRY!AN22","v":0},{"$f":"DATAENTRY!AO22","v":0},{"$f":"DATAENTRY!AP22","v":0},{"$f":"DATAENTRY!AQ22","v":0},{"$f":"DATAENTRY!AR22","v":0},{"$f":"DATAENTRY!AS22","v":0},{"$f":"DATAENTRY!AT22","v":0},{"$f":"DATAENTRY!AU22","v":0},{"$f":"DATAENTRY!AV22","v":0},{"$f":"DATAENTRY!AW22","v":0},{"$f":"DATAENTRY!AX22","v":0},{"$f":"DATAENTRY!AY22","v":0},{"$f":"DATAENTRY!AZ22","v":32},{"$f":"DATAENTRY!BA22","v":0},{"$f":"DATAENTRY!BB22","v":0},{"$f":"DATAENTRY!BC22","v":0},{"$f":"DATAENTRY!BD22","v":0},{"$f":"DATAENTRY!BE22","v":0},{"$f":"DATAENTRY!BF22","v":1},{"$f":"DATAENTRY!BG22","v":20},{"$f":"DATAENTRY!BH22","v":"00000000000000000000000000000000"}]
[{"$f":"DATAENTRY!C23","v":2},{"$f":"DATAENTRY!D23","v":2},{"$f":"DATAENTRY!E23","v":"CHRIS JONES"},{"$f":"DATAENTRY!F23","v":41},{"$f":"DATAENTRY!G23","v":"BD"},{"$f":"DATAENTRY!H23","v":"HARD"},{"$f":"DATAENTRY!I23","v":"NOV"},{"$f":"DATAENTRY!J23","v":"SHERCO"},{"$f":"DATAENTRY!K23","v":"0000"},{"$f":"DATAENTRY!L23","v":"0000"},{"$f":"DATAENTRY!M23","v":"0000"},{"$f":"DATAENTRY!N23","v":"0000"},{"$f":"DATAENTRY!O23","v":"0000"},{"$f":"DATAENTRY!P23","v":"0000"},{"$f":"DATAENTRY!Q23","v":"0000"},{"$f":"DATAENTRY!R23","v":"0100"},{"$f":"DATAENTRY!S23","v":0},{"$f":"DATAENTRY!T23","v":0},{"$f":"DATAENTRY!U23","v":0},{"$f":"DATAENTRY!V23","v":0},{"$f":"DATAENTRY!W23","v":0},{"$f":"DATAENTRY!X23","v":0},{"$f":"DATAENTRY!Y23","v":0},{"$f":"DATAENTRY!Z23","v":0},{"$f":"DATAENTRY!AA23","v":0},{"$f":"DATAENTRY!AB23","v":0},{"$f":"DATAENTRY!AC23","v":0},{"$f":"DATAENTRY!AD23","v":0},{"$f":"DATAENTRY!AE23","v":0},{"$f":"DATAENTRY!AF23","v":0},{"$f":"DATAENTRY!AG23","v":0},{"$f":"DATAENTRY!AH23","v":0},{"$f":"DATAENTRY!AI23","v":0},{"$f":"DATAENTRY!AJ23","v":0},{"$f":"DATAENTRY!AK23","v":0},{"$f":"DATAENTRY!AL23","v":0},{"$f":"DATAENTRY!AM23","v":0},{"$f":"DATAENTRY!AN23","v":0},{"$f":"DATAENTRY!AO23","v":0},{"$f":"DATAENTRY!AP23","v":0},{"$f":"DATAENTRY!AQ23","v":0},{"$f":"DATAENTRY!AR23","v":0},{"$f":"DATAENTRY!AS23","v":0},{"$f":"DATAENTRY!AT23","v":0},{"$f":"DATAENTRY!AU23","v":0},{"$f":"DATAENTRY!AV23","v":0},{"$f":"DATAENTRY!AW23","v":0},{"$f":"DATAENTRY!AX23","v":0},{"$f":"DATAENTRY!AY23","v":1},{"$f":"DATAENTRY!AZ23","v":31},{"$f":"DATAENTRY!BA23","v":1},{"$f":"DATAENTRY!BB23","v":0},{"$f":"DATAENTRY!BC23","v":0},{"$f":"DATAENTRY!BD23","v":0},{"$f":"DATAENTRY!BE23","v":0},{"$f":"DATAENTRY!BF23","v":1},{"$f":"DATAENTRY!BG23","v":17},{"$f":"DATAENTRY!BH23","v":"00000000000000000000000000000100"}]
[{"$f":"DATAENTRY!C24","v":3},{"$f":"DATAENTRY!D24","v":3},{"$f":"DATAENTRY!E24","v":"TOM PEACOCK"},{"$f":"DATAENTRY!F24","v":75},{"$f":"DATAENTRY!G24","v":"BD"},{"$f":"DATAENTRY!H24","v":"HARD"},{"$f":"DATAENTRY!I24","v":"NOV"},{"$f":"DATAENTRY!J24","v":"BETA"},{"$f":"DATAENTRY!K24","v":"0000"},{"$f":"DATAENTRY!L24","v":"0021"},{"$f":"DATAENTRY!M24","v":"0000"},{"$f":"DATAENTRY!N24","v":"0000"},{"$f":"DATAENTRY!O24","v":"0000"},{"$f":"DATAENTRY!P24","v":"0000"},{"$f":"DATAENTRY!Q24","v":"0000"},{"$f":"DATAENTRY!R24","v":"0000"},{"$f":"DATAENTRY!S24","v":0},{"$f":"DATAENTRY!T24","v":0},{"$f":"DATAENTRY!U24","v":0},{"$f":"DATAENTRY!V24","v":0},{"$f":"DATAENTRY!W24","v":0},{"$f":"DATAENTRY!X24","v":0},{"$f":"DATAENTRY!Y24","v":0},{"$f":"DATAENTRY!Z24","v":0},{"$f":"DATAENTRY!AA24","v":0},{"$f":"DATAENTRY!AB24","v":0},{"$f":"DATAENTRY!AC24","v":0},{"$f":"DATAENTRY!AD24","v":0},{"$f":"DATAENTRY!AE24","v":0},{"$f":"DATAENTRY!AF24","v":0},{"$f":"DATAENTRY!AG24","v":0},{"$f":"DATAENTRY!AH24","v":0},{"$f":"DATAENTRY!AI24","v":0},{"$f":"DATAENTRY!AJ24","v":0},{"$f":"DATAENTRY!AK24","v":0},{"$f":"DATAENTRY!AL24","v":0},{"$f":"DATAENTRY!AM24","v":0},{"$f":"DATAENTRY!AN24","v":0},{"$f":"DATAENTRY!AO24","v":0},{"$f":"DATAENTRY!AP24","v":0},{"$f":"DATAENTRY!AQ24","v":0},{"$f":"DATAENTRY!AR24","v":0},{"$f":"DATAENTRY!AS24","v":0},{"$f":"DATAENTRY!AT24","v":0},{"$f":"DATAENTRY!AU24","v":0},{"$f":"DATAENTRY!AV24","v":0},{"$f":"DATAENTRY!AW24","v":0},{"$f":"DATAENTRY!AX24","v":0},{"$f":"DATAENTRY!AY24","v":3},{"$f":"DATAENTRY!AZ24","v":30},{"$f":"DATAENTRY!BA24","v":1},{"$f":"DATAENTRY!BB24","v":1},{"$f":"DATAENTRY!BC24","v":0},{"$f":"DATAENTRY!BD24","v":0},{"$f":"DATAENTRY!BE24","v":0},{"$f":"DATAENTRY!BF24","v":1},{"$f":"DATAENTRY!BG24","v":15},{"$f":"DATAENTRY!BH24","v":"00000021000000000000000000000000"}]
[{"$f":"DATAENTRY!C25","v":4},{"$f":"DATAENTRY!D25","v":4},{"$f":"DATAENTRY!E25","v":"ROBIN LUSCOMBE"},{"$f":"DATAENTRY!F25","v":70},{"$f":"DATAENTRY!G25","v":"BD"},{"$f":"DATAENTRY!H25","v":"HARD"},{"$f":"DATAENTRY!I25","v":"NOV"},{"$f":"DATAENTRY!J25","v":"TRIUMPH"},{"$f":"DATAENTRY!K25","v":"0000"},{"$f":"DATAENTRY!L25","v":"0100"},{"$f":"DATAENTRY!M25","v":"0000"},{"$f":"DATAENTRY!N25","v":"0000"},{"$f":"DATAENTRY!O25","v":"1010"},{"$f":"DATAENTRY!P25","v":"1000"},{"$f":"DATAENTRY!Q25","v":"0000"},{"$f":"DATAENTRY!R25","v":"0100"},{"$f":"DATAENTRY!S25","v":0},{"$f":"DATAENTRY!T25","v":0},{"$f":"DATAENTRY!U25","v":0},{"$f":"DATAENTRY!V25","v":0},{"$f":"DATAENTRY!W25","v":0},{"$f":"DATAENTRY!X25","v":0},{"$f":"DATAENTRY!Y25","v":0},{"$f":"DATAENTRY!Z25","v":0},{"$f":"DATAENTRY!AA25","v":0},{"$f":"DATAENTRY!AB25","v":0},{"$f":"DATAENTRY!AC25","v":0},{"$f":"DATAENTRY!AD25","v":0},{"$f":"DATAENTRY!AE25","v":0},{"$f":"DATAENTRY!AF25","v":0},{"$f":"DATAENTRY!AG25","v":0},{"$f":"DATAENTRY!AH25","v":0},{"$f":"DATAENTRY!AI25","v":0},{"$f":"DATAENTRY!AJ25","v":0},{"$f":"DATAENTRY!AK25","v":0},{"$f":"DATAENTRY!AL25","v":0},{"$f":"DATAENTRY!AM25","v":0},{"$f":"DATAENTRY!AN25","v":0},{"$f":"DATAENTRY!AO25","v":0},{"$f":"DATAENTRY!AP25","v":0},{"$f":"DATAENTRY!AQ25","v":0},{"$f":"DATAENTRY!AR25","v":0},{"$f":"DATAENTRY!AS25","v":0},{"$f":"DATAENTRY!AT25","v":0},{"$f":"DATAENTRY!AU25","v":0},{"$f":"DATAENTRY!AV25","v":0},{"$f":"DATAENTRY!AW25","v":0},{"$f":"DATAENTRY!AX25","v":0},{"$f":"DATAENTRY!AY25","v":5},{"$f":"DATAENTRY!AZ25","v":27},{"$f":"DATAENTRY!BA25","v":5},{"$f":"DATAENTRY!BB25","v":0},{"$f":"DATAENTRY!BC25","v":0},{"$f":"DATAENTRY!BD25","v":0},{"$f":"DATAENTRY!BE25","v":0},{"$f":"DATAENTRY!BF25","v":1},{"$f":"DATAENTRY!BG25","v":13},{"$f":"DATAENTRY!BH25","v":"00000100000000001010100000000100"}]
[{"$f":"DATAENTRY!C26","v":5},{"$f":"DATAENTRY!D26","v":5},{"$f":"DATAENTRY!E26","v":"BETHANIE DUNNING"},{"$f":"DATAENTRY!F26","v":46},{"$f":"DATAENTRY!G26","v":"BD"},{"$f":"DATAENTRY!H26","v":"HARD"},{"$f":"DATAENTRY!I26","v":"NOV"},{"$f":"DATAENTRY!J26","v":"BETA"},{"$f":"DATAENTRY!K26","v":"0000"},{"$f":"DATAENTRY!L26","v":"0001"},{"$f":"DATAENTRY!M26","v":"0000"},{"$f":"DATAENTRY!N26","v":"1000"},{"$f":"DATAENTRY!O26","v":"0001"},{"$f":"DATAENTRY!P26","v":"1110"},{"$f":"DATAENTRY!Q26","v":"0001"},{"$f":"DATAENTRY!R26","v":"1000"},{"$f":"DATAENTRY!S26","v":0},{"$f":"DATAENTRY!T26","v":0},{"$f":"DATAENTRY!U26","v":0},{"$f":"DATAENTRY!V26","v":0},{"$f":"DATAENTRY!W26","v":0},{"$f":"DATAENTRY!X26","v":0},{"$f":"DATAENTRY!Y26","v":0},{"$f":"DATAENTRY!Z26","v":0},{"$f":"DATAENTRY!AA26","v":0},{"$f":"DATAENTRY!AB26","v":0},{"$f":"DATAENTRY!AC26","v":0},{"$f":"DATAENTRY!AD26","v":0},{"$f":"DATAENTRY!AE26","v":0},{"$f":"DATAENTRY!AF26","v":0},{"$f":"DATAENTRY!AG26","v":0},{"$f":"DATAENTRY!AH26","v":0},{"$f":"DATAENTRY!AI26","v":0},{"$f":"DATAENTRY!AJ26","v":0},{"$f":"DATAENTRY!AK26","v":0},{"$f":"DATAENTRY!AL26","v":0},{"$f":"DATAENTRY!AM26","v":0},{"$f":"DATAENTRY!AN26","v":0},{"$f":"DATAENTRY!AO26","v":0},{"$f":"DATAENTRY!AP26","v":0},{"$f":"DATAENTRY!AQ26","v":0},{"$f":"DATAENTRY!AR26","v":0},{"$f":"DATAENTRY!AS26","v":0},{"$f":"DATAENTRY!AT26","v":0},{"$f":"DATAENTRY!AU26","v":0},{"$f":"DATAENTRY!AV26","v":0},{"$f":"DATAENTRY!AW26","v":0},{"$f":"DATAENTRY!AX26","v":0},{"$f":"DATAENTRY!AY26","v":8},{"$f":"DATAENTRY!AZ26","v":24},{"$f":"DATAENTRY!BA26","v":8},{"$f":"DATAENTRY!BB26","v":0},{"$f":"DATAENTRY!BC26","v":0},{"$f":"DATAENTRY!BD26","v":0},{"$f":"DATAENTRY!BE26","v":0},{"$f":"DATAENTRY!BF26","v":1},{"$f":"DATAENTRY!BG26","v":11},{"$f":"DATAENTRY!BH26","v":"00000001000010000001111000011000"}]
[{"$f":"DATAENTRY!C27","v":6},{"$f":"DATAENTRY!D27","v":6},{"$f":"DATAENTRY!E27","v":"DAVE LAMIN"},{"$f":"DATAENTRY!F27","v":42},{"$f":"DATAENTRY!G27","v":"BD"},{"$f":"DATAENTRY!H27","v":"HARD"},{"$f":"DATAENTRY!I27","v":"NOV"},{"$f":"DATAENTRY!J27","v":0},{"$f":"DATAENTRY!K27","v":"0000"},{"$f":"DATAENTRY!L27","v":"2011"},{"$f":"DATAENTRY!M27","v":"0000"},{"$f":"DATAENTRY!N27","v":"0000"},{"$f":"DATAENTRY!O27","v":"1012"},{"$f":"DATAENTRY!P27","v":"0000"},{"$f":"DATAENTRY!Q27","v":"0000"},{"$f":"DATAENTRY!R27","v":"0010"},{"$f":"DATAENTRY!S27","v":0},{"$f":"DATAENTRY!T27","v":0},{"$f":"DATAENTRY!U27","v":0},{"$f":"DATAENTRY!V27","v":0},{"$f":"DATAENTRY!W27","v":0},{"$f":"DATAENTRY!X27","v":0},{"$f":"DATAENTRY!Y27","v":0},{"$f":"DATAENTRY!Z27","v":0},{"$f":"DATAENTRY!AA27","v":0},{"$f":"DATAENTRY!AB27","v":0},{"$f":"DATAENTRY!AC27","v":0},{"$f":"DATAENTRY!AD27","v":0},{"$f":"DATAENTRY!AE27","v":0},{"$f":"DATAENTRY!AF27","v":0},{"$f":"DATAENTRY!AG27","v":0},{"$f":"DATAENTRY!AH27","v":0},{"$f":"DATAENTRY!AI27","v":0},{"$f":"DATAENTRY!AJ27","v":0},{"$f":"DATAENTRY!AK27","v":0},{"$f":"DATAENTRY!AL27","v":0},{"$f":"DATAENTRY!AM27","v":0},{"$f":"DATAENTRY!AN27","v":0},{"$f":"DATAENTRY!AO27","v":0},{"$f":"DATAENTRY!AP27","v":0},{"$f":"DATAENTRY!AQ27","v":0},{"$f":"DATAENTRY!AR27","v":0},{"$f":"DATAENTRY!AS27","v":0},{"$f":"DATAENTRY!AT27","v":0},{"$f":"DATAENTRY!AU27","v":0},{"$f":"DATAENTRY!AV27","v":0},{"$f":"DATAENTRY!AW27","v":0},{"$f":"DATAENTRY!AX27","v":0},{"$f":"DATAENTRY!AY27","v":9},{"$f":"DATAENTRY!AZ27","v":25},{"$f":"DATAENTRY!BA27","v":5},{"$f":"DATAENTRY!BB27","v":2},{"$f":"DATAENTRY!BC27","v":0},{"$f":"DATAENTRY!BD27","v":0},{"$f":"DATAENTRY!BE27","v":0},{"$f":"DATAENTRY!BF27","v":1},{"$f":"DATAENTRY!BG27","v":10},{"$f":"DATAENTRY!BH27","v":"00002011000000001012000000000010"}]
[{"$f":"DATAENTRY!C28","v":7},{"$f":"DATAENTRY!D28","v":7},{"$f":"DATAENTRY!E28","v":"STEPHEN WILDE"},{"$f":"DATAENTRY!F28","v":49},{"$f":"DATAENTRY!G28","v":"BD"},{"$f":"DATAENTRY!H28","v":"HARD"},{"$f":"DATAENTRY!I28","v":"NOV"},{"$f":"DATAENTRY!J28","v":"MONT"},{"$f":"DATAENTRY!K28","v":"0000"},{"$f":"DATAENTRY!L28","v":"3102"},{"$f":"DATAENTRY!M28","v":"0001"},{"$f":"DATAENTRY!N28","v":"0100"},{"$f":"DATAENTRY!O28","v":"0500"},{"$f":"DATAENTRY!P28","v":"0110"},{"$f":"DATAENTRY!Q28","v":"0000"},{"$f":"DATAENTRY!R28","v":"1001"},{"$f":"DATAENTRY!S28","v":0},{"$f":"DATAENTRY!T28","v":0},{"$f":"DATAENTRY!U28","v":0},{"$f":"DATAENTRY!V28","v":0},{"$f":"DATAENTRY!W28","v":0},{"$f":"DATAENTRY!X28","v":0},{"$f":"DATAENTRY!Y28","v":0},{"$f":"DATAENTRY!Z28","v":0},{"$f":"DATAENTRY!AA28","v":0},{"$f":"DATAENTRY!AB28","v":0},{"$f":"DATAENTRY!AC28","v":0},{"$f":"DATAENTRY!AD28","v":0},{"$f":"DATAENTRY!AE28","v":0},{"$f":"DATAENTRY!AF28","v":0},{"$f":"DATAENTRY!AG28","v":0},{"$f":"DATAENTRY!AH28","v":0},{"$f":"DATAENTRY!AI28","v":0},{"$f":"DATAENTRY!AJ28","v":0},{"$f":"DATAENTRY!AK28","v":0},{"$f":"DATAENTRY!AL28","v":0},{"$f":"DATAENTRY!AM28","v":0},{"$f":"DATAENTRY!AN28","v":0},{"$f":"DATAENTRY!AO28","v":0},{"$f":"DATAENTRY!AP28","v":0},{"$f":"DATAENTRY!AQ28","v":0},{"$f":"DATAENTRY!AR28","v":0},{"$f":"DATAENTRY!AS28","v":0},{"$f":"DATAENTRY!AT28","v":0},{"$f":"DATAENTRY!AU28","v":0},{"$f":"DATAENTRY!AV28","v":0},{"$f":"DATAENTRY!AW28","v":0},{"$f":"DATAENTRY!AX28","v":0},{"$f":"DATAENTRY!AY28","v":17},{"$f":"DATAENTRY!AZ28","v":22},{"$f":"DATAENTRY!BA28","v":7},{"$f":"DATAENTRY!BB28","v":1},{"$f":"DATAENTRY!BC28","v":1},{"$f":"DATAENTRY!BD28","v":1},{"$f":"DATAENTRY!BE28","v":0},{"$f":"DATAENTRY!BF28","v":1},{"$f":"DATAENTRY!BG28","v":9},{"$f":"DATAENTRY!BH28","v":"00003102000101000500011000001001"}]
[{"$f":"DATAENTRY!C29","v":1},{"$f":"DATAENTRY!D29","v":8},{"$f":"DATAENTRY!E29","v":"OLIVER WINSTANLEY"},{"$f":"DATAENTRY!F29","v":45},{"$f":"DATAENTRY!G29","v":"BD"},{"$f":"DATAENTRY!H29","v":"HARD"},{"$f":"DATAENTRY!I29","v":"A"},{"$f":"DATAENTRY!J29","v":"BETA"},{"$f":"DATAENTRY!K29","v":"0000"},{"$f":"DATAENTRY!L29","v":"0001"},{"$f":"DATAENTRY!M29","v":"0050"},{"$f":"DATAENTRY!N29","v":"0300"},{"$f":"DATAENTRY!O29","v":"0130"},{"$f":"DATAENTRY!P29","v":"1101"},{"$f":"DATAENTRY!Q29","v":"0000"},{"$f":"DATAENTRY!R29","v":"2100"},{"$f":"DATAENTRY!S29","v":0},{"$f":"DATAENTRY!T29","v":0},{"$f":"DATAENTRY!U29","v":0},{"$f":"DATAENTRY!V29","v":0},{"$f":"DATAENTRY!W29","v":0},{"$f":"DATAENTRY!X29","v":0},{"$f":"DATAENTRY!Y29","v":0},{"$f":"DATAENTRY!Z29","v":0},{"$f":"DATAENTRY!AA29","v":0},{"$f":"DATAENTRY!AB29","v":0},{"$f":"DATAENTRY!AC29","v":0},{"$f":"DATAENTRY!AD29","v":0},{"$f":"DATAENTRY!AE29","v":0},{"$f":"DATAENTRY!AF29","v":0},{"$f":"DATAENTRY!AG29","v":0},{"$f":"DATAENTRY!AH29","v":0},{"$f":"DATAENTRY!AI29","v":0},{"$f":"DATAENTRY!AJ29","v":0},{"$f":"DATAENTRY!AK29","v":0},{"$f":"DATAENTRY!AL29","v":0},{"$f":"DATAENTRY!AM29","v":0},{"$f":"DATAENTRY!AN29","v":0},{"$f":"DATAENTRY!AO29","v":0},{"$f":"DATAENTRY!AP29","v":0},{"$f":"DATAENTRY!AQ29","v":0},{"$f":"DATAENTRY!AR29","v":0},{"$f":"DATAENTRY!AS29","v":0},{"$f":"DATAENTRY!AT29","v":0},{"$f":"DATAENTRY!AU29","v":0},{"$f":"DATAENTRY!AV29","v":0},{"$f":"DATAENTRY!AW29","v":0},{"$f":"DATAENTRY!AX29","v":0},{"$f":"DATAENTRY!AY29","v":19},{"$f":"DATAENTRY!AZ29","v":22},{"$f":"DATAENTRY!BA29","v":6},{"$f":"DATAENTRY!BB29","v":1},{"$f":"DATAENTRY!BC29","v":2},{"$f":"DATAENTRY!BD29","v":1},{"$f":"DATAENTRY!BE29","v":0},{"$f":"DATAENTRY!BF29","v":1},{"$f":"DATAENTRY!BG29","v":20},{"$f":"DATAENTRY!BH29","v":"00000001005003000130110100002100"}]
[{"$f":"DATAENTRY!C30","v":8},{"$f":"DATAENTRY!D30","v":9},{"$f":"DATAENTRY!E30","v":"NICK EAGLETON"},{"$f":"DATAENTRY!F30","v":13},{"$f":"DATAENTRY!G30","v":"BD"},{"$f":"DATAENTRY!H30","v":"HARD"},{"$f":"DATAENTRY!I30","v":"NOV"},{"$f":"DATAENTRY!J30","v":"YAM"},{"$f":"DATAENTRY!K30","v":"0555"},{"$f":"DATAENTRY!L30","v":"0000"},{"$f":"DATAENTRY!M30","v":"0000"},{"$f":"DATAENTRY!N30","v":"0000"},{"$f":"DATAENTRY!O30","v":"0000"},{"$f":"DATAENTRY!P30","v":"0000"},{"$f":"DATAENTRY!Q30","v":"0000"},{"$f":"DATAENTRY!R30","v":"2012"},{"$f":"DATAENTRY!S30","v":0},{"$f":"DATAENTRY!T30","v":0},{"$f":"DATAENTRY!U30","v":0},{"$f":"DATAENTRY!V30","v":0},{"$f":"DATAENTRY!W30","v":0},{"$f":"DATAENTRY!X30","v":0},{"$f":"DATAENTRY!Y30","v":0},{"$f":"DATAENTRY!Z30","v":0},{"$f":"DATAENTRY!AA30","v":0},{"$f":"DATAENTRY!AB30","v":0},{"$f":"DATAENTRY!AC30","v":0},{"$f":"DATAENTRY!AD30","v":0},{"$f":"DATAENTRY!AE30","v":0},{"$f":"DATAENTRY!AF30","v":0},{"$f":"DATAENTRY!AG30","v":0},{"$f":"DATAENTRY!AH30","v":0},{"$f":"DATAENTRY!AI30","v":0},{"$f":"DATAENTRY!AJ30","v":0},{"$f":"DATAENTRY!AK30","v":0},{"$f":"DATAENTRY!AL30","v":0},{"$f":"DATAENTRY!AM30","v":0},{"$f":"DATAENTRY!AN30","v":0},{"$f":"DATAENTRY!AO30","v":0},{"$f":"DATAENTRY!AP30","v":0},{"$f":"DATAENTRY!AQ30","v":0},{"$f":"DATAENTRY!AR30","v":0},{"$f":"DATAENTRY!AS30","v":0},{"$f":"DATAENTRY!AT30","v":0},{"$f":"DATAENTRY!AU30","v":0},{"$f":"DATAENTRY!AV30","v":0},{"$f":"DATAENTRY!AW30","v":0},{"$f":"DATAENTRY!AX30","v":0},{"$f":"DATAENTRY!AY30","v":20},{"$f":"DATAENTRY!AZ30","v":26},{"$f":"DATAENTRY!BA30","v":1},{"$f":"DATAENTRY!BB30","v":2},{"$f":"DATAENTRY!BC30","v":0},{"$f":"DATAENTRY!BD30","v":3},{"$f":"DATAENTRY!BE30","v":0},{"$f":"DATAENTRY!BF30","v":1},{"$f":"DATAENTRY!BG30","v":8},{"$f":"DATAENTRY!BH30","v":"05550000000000000000000000002012"}]
[{"$f":"DATAENTRY!C31","v":2},{"$f":"DATAENTRY!D31","v":10},{"$f":"DATAENTRY!E31","v":"ETHAN CHAPMAN"},{"$f":"DATAENTRY!F31","v":50},{"$f":"DATAENTRY!G31","v":"BD"},{"$f":"DATAENTRY!H31","v":"HARD"},{"$f":"DATAENTRY!I31","v":"A"},{"$f":"DATAENTRY!J31","v":"SCORPA"},{"$f":"DATAENTRY!K31","v":"0000"},{"$f":"DATAENTRY!L31","v":"1011"},{"$f":"DATAENTRY!M31","v":"5000"},{"$f":"DATAENTRY!N31","v":"2122"},{"$f":"DATAENTRY!O31","v":"2010"},{"$f":"DATAENTRY!P31","v":"0000"},{"$f":"DATAENTRY!Q31","v":"0000"},{"$f":"DATAENTRY!R31","v":"0101"},{"$f":"DATAENTRY!S31","v":0},{"$f":"DATAENTRY!T31","v":0},{"$f":"DATAENTRY!U31","v":0},{"$f":"DATAENTRY!V31","v":0},{"$f":"DATAENTRY!W31","v":0},{"$f":"DATAENTRY!X31","v":0},{"$f":"DATAENTRY!Y31","v":0},{"$f":"DATAENTRY!Z31","v":0},{"$f":"DATAENTRY!AA31","v":0},{"$f":"DATAENTRY!AB31","v":0},{"$f":"DATAENTRY!AC31","v":0},{"$f":"DATAENTRY!AD31","v":0},{"$f":"DATAENTRY!AE31","v":0},{"$f":"DATAENTRY!AF31","v":0},{"$f":"DATAENTRY!AG31","v":0},{"$f":"DATAENTRY!AH31","v":0},{"$f":"DATAENTRY!AI31","v":0},{"$f":"DATAENTRY!AJ31","v":0},{"$f":"DATAENTRY!AK31","v":0},{"$f":"DATAENTRY!AL31","v":0},{"$f":"DATAENTRY!AM31","v":0},{"$f":"DATAENTRY!AN31","v":0},{"$f":"DATAENTRY!AO31","v":0},{"$f":"DATAENTRY!AP31","v":0},{"$f":"DATAENTRY!AQ31","v":0},{"$f":"DATAENTRY!AR31","v":0},{"$f":"DATAENTRY!AS31","v":0},{"$f":"DATAENTRY!AT31","v":0},{"$f":"DATAENTRY!AU31","v":0},{"$f":"DATAENTRY!AV31","v":0},{"$f":"DATAENTRY!AW31","v":0},{"$f":"DATAENTRY!AX31","v":0},{"$f":"DATAENTRY!AY31","v":20},{"$f":"DATAENTRY!AZ31","v":20},{"$f":"DATAENTRY!BA31","v":7},{"$f":"DATAENTRY!BB31","v":4},{"$f":"DATAENTRY!BC31","v":0},{"$f":"DATAENTRY!BD31","v":1},{"$f":"DATAENTRY!BE31","v":0},{"$f":"DATAENTRY!BF31","v":1},{"$f":"DATAENTRY!BG31","v":17},{"$f":"DATAENTRY!BH31","v":"00001011500021222010000000000101"}]
[{"$f":"DATAENTRY!C32","v":9},{"$f":"DATAENTRY!D32","v":11},{"$f":"DATAENTRY!E32","v":"JAMES SMITH"},{"$f":"DATAENTRY!F32","v":43},{"$f":"DATAENTRY!G32","v":"BD"},{"$f":"DATAENTRY!H32","v":"HARD"},{"$f":"DATAENTRY!I32","v":"NOV"},{"$f":"DATAENTRY!J32","v":"BETA"},{"$f":"DATAENTRY!K32","v":"0000"},{"$f":"DATAENTRY!L32","v":"0031"},{"$f":"DATAENTRY!M32","v":"5000"},{"$f":"DATAENTRY!N32","v":"0000"},{"$f":"DATAENTRY!O32","v":"1101"},{"$f":"DATAENTRY!P32","v":"0510"},{"$f":"DATAENTRY!Q32","v":"0500"},{"$f":"DATAENTRY!R32","v":"1010"},{"$f":"DATAENTRY!S32","v":0},{"$f":"DATAENTRY!T32","v":0},{"$f":"DATAENTRY!U32","v":0},{"$f":"DATAENTRY!V32","v":0},{"$f":"DATAENTRY!W32","v":0},{"$f":"DATAENTRY!X32","v":0},{"$f":"DATAENTRY!Y32","v":0},{"$f":"DATAENTRY!Z32","v":0},{"$f":"DATAENTRY!AA32","v":0},{"$f":"DATAENTRY!AB32","v":0},{"$f":"DATAENTRY!AC32","v":0},{"$f":"DATAENTRY!AD32","v":0},{"$f":"DATAENTRY!AE32","v":0},{"$f":"DATAENTRY!AF32","v":0},{"$f":"DATAENTRY!AG32","v":0},{"$f":"DATAENTRY!AH32","v":0},{"$f":"DATAENTRY!AI32","v":0},{"$f":"DATAENTRY!AJ32","v":0},{"$f":"DATAENTRY!AK32","v":0},{"$f":"DATAENTRY!AL32","v":0},{"$f":"DATAENTRY!AM32","v":0},{"$f":"DATAENTRY!AN32","v":0},{"$f":"DATAENTRY!AO32","v":0},{"$f":"DATAENTRY!AP32","v":0},{"$f":"DATAENTRY!AQ32","v":0},{"$f":"DATAENTRY!AR32","v":0},{"$f":"DATAENTRY!AS32","v":0},{"$f":"DATAENTRY!AT32","v":0},{"$f":"DATAENTRY!AU32","v":0},{"$f":"DATAENTRY!AV32","v":0},{"$f":"DATAENTRY!AW32","v":0},{"$f":"DATAENTRY!AX32","v":0},{"$f":"DATAENTRY!AY32","v":25},{"$f":"DATAENTRY!AZ32","v":21},{"$f":"DATAENTRY!BA32","v":7},{"$f":"DATAENTRY!BB32","v":0},{"$f":"DATAENTRY!BC32","v":1},{"$f":"DATAENTRY!BD32","v":3},{"$f":"DATAENTRY!BE32","v":0},{"$f":"DATAENTRY!BF32","v":1},{"$f":"DATAENTRY!BG32","v":7},{"$f":"DATAENTRY!BH32","v":"00000031500000001101051005001010"}]
[{"$f":"DATAENTRY!C33","v":1},{"$f":"DATAENTRY!D33","v":12},{"$f":"DATAENTRY!E33","v":"MASON CARTER"},{"$f":"DATAENTRY!F33","v":51},{"$f":"DATAENTRY!G33","v":"BD"},{"$f":"DATAENTRY!H33","v":"HARD"},{"$f":"DATAENTRY!I33","v":"B"},{"$f":"DATAENTRY!J33","v":"BETA"},{"$f":"DATAENTRY!K33","v":"0000"},{"$f":"DATAENTRY!L33","v":"2210"},{"$f":"DATAENTRY!M33","v":"0000"},{"$f":"DATAENTRY!N33","v":"1110"},{"$f":"DATAENTRY!O33","v":"0153"},{"$f":"DATAENTRY!P33","v":"0000"},{"$f":"DATAENTRY!Q33","v":"0320"},{"$f":"DATAENTRY!R33","v":"2130"},{"$f":"DATAENTRY!S33","v":0},{"$f":"DATAENTRY!T33","v":0},{"$f":"DATAENTRY!U33","v":0},{"$f":"DATAENTRY!V33","v":0},{"$f":"DATAENTRY!W33","v":0},{"$f":"DATAENTRY!X33","v":0},{"$f":"DATAENTRY!Y33","v":0},{"$f":"DATAENTRY!Z33","v":0},{"$f":"DATAENTRY!AA33","v":0},{"$f":"DATAENTRY!AB33","v":0},{"$f":"DATAENTRY!AC33","v":0},{"$f":"DATAENTRY!AD33","v":0},{"$f":"DATAENTRY!AE33","v":0},{"$f":"DATAENTRY!AF33","v":0},{"$f":"DATAENTRY!AG33","v":0},{"$f":"DATAENTRY!AH33","v":0},{"$f":"DATAENTRY!AI33","v":0},{"$f":"DATAENTRY!AJ33","v":0},{"$f":"DATAENTRY!AK33","v":0},{"$f":"DATAENTRY!AL33","v":0},{"$f":"DATAENTRY!AM33","v":0},{"$f":"DATAENTRY!AN33","v":0},{"$f":"DATAENTRY!AO33","v":0},{"$f":"DATAENTRY!AP33","v":0},{"$f":"DATAENTRY!AQ33","v":0},{"$f":"DATAENTRY!AR33","v":0},{"$f":"DATAENTRY!AS33","v":0},{"$f":"DATAENTRY!AT33","v":0},{"$f":"DATAENTRY!AU33","v":0},{"$f":"DATAENTRY!AV33","v":0},{"$f":"DATAENTRY!AW33","v":0},{"$f":"DATAENTRY!AX33","v":0},{"$f":"DATAENTRY!AY33","v":28},{"$f":"DATAENTRY!AZ33","v":18},{"$f":"DATAENTRY!BA33","v":6},{"$f":"DATAENTRY!BB33","v":4},{"$f":"DATAENTRY!BC33","v":3},{"$f":"DATAENTRY!BD33","v":1},{"$f":"DATAENTRY!BE33","v":0},{"$f":"DATAENTRY!BF33","v":1},{"$f":"DATAENTRY!BG33","v":20},{"$f":"DATAENTRY!BH33","v":"00002210000011100153000003202130"}]
[{"$f":"DATAENTRY!C34","v":10},{"$f":"DATAENTRY!D34","v":13},{"$f":"DATAENTRY!E34","v":"NICK HAMMERTON"},{"$f":"DATAENTRY!F34","v":44},{"$f":"DATAENTRY!G34","v":"BD"},{"$f":"DATAENTRY!H34","v":"HARD"},{"$f":"DATAENTRY!I34","v":"NOV"},{"$f":"DATAENTRY!J34","v":"HONDA"},{"$f":"DATAENTRY!K34","v":"0000"},{"$f":"DATAENTRY!L34","v":"0352"},{"$f":"DATAENTRY!M34","v":"0100"},{"$f":"DATAENTRY!N34","v":"2110"},{"$f":"DATAENTRY!O34","v":"0015"},{"$f":"DATAENTRY!P34","v":"0050"},{"$f":"DATAENTRY!Q34","v":"0021"},{"$f":"DATAENTRY!R34","v":"3011"},{"$f":"DATAENTRY!S34","v":0},{"$f":"DATAENTRY!T34","v":0},{"$f":"DATAENTRY!U34","v":0},{"$f":"DATAENTRY!V34","v":0},{"$f":"DATAENTRY!W34","v":0},{"$f":"DATAENTRY!X34","v":0},{"$f":"DATAENTRY!Y34","v":0},{"$f":"DATAENTRY!Z34","v":0},{"$f":"DATAENTRY!AA34","v":0},{"$f":"DATAENTRY!AB34","v":0},{"$f":"DATAENTRY!AC34","v":0},{"$f":"DATAENTRY!AD34","v":0},{"$f":"DATAENTRY!AE34","v":0},{"$f":"DATAENTRY!AF34","v":0},{"$f":"DATAENTRY!AG34","v":0},{"$f":"DATAENTRY!AH34","v":0},{"$f":"DATAENTRY!AI34","v":0},{"$f":"DATAENTRY!AJ34","v":0},{"$f":"DATAENTRY!AK34","v":0},{"$f":"DATAENTRY!AL34","v":0},{"$f":"DATAENTRY!AM34","v":0},{"$f":"DATAENTRY!AN34","v":0},{"$f":"DATAENTRY!AO34","v":0},{"$f":"DATAENTRY!AP34","v":0},{"$f":"DATAENTRY!AQ34","v":0},{"$f":"DATAENTRY!AR34","v":0},{"$f":"DATAENTRY!AS34","v":0},{"$f":"DATAENTRY!AT34","v":0},{"$f":"DATAENTRY!AU34","v":0},{"$f":"DATAENTRY!AV34","v":0},{"$f":"DATAENTRY!AW34","v":0},{"$f":"DATAENTRY!AX34","v":0},{"$f":"DATAENTRY!AY34","v":34},{"$f":"DATAENTRY!AZ34","v":17},{"$f":"DATAENTRY!BA34","v":7},{"$f":"DATAENTRY!BB34","v":3},{"$f":"DATAENTRY!BC34","v":2},{"$f":"DATAENTRY!BD34","v":3},{"$f":"DATAENTRY!BE34","v":0},{"$f":"DATAENTRY!BF34","v":1},{"$f":"DATAENTRY!BG34","v":6},{"$f":"DATAENTRY!BH34","v":"00000352010021100015005000213011"}]
[{"$f":"DATAENTRY!C35","v":11},{"$f":"DATAENTRY!D35","v":14},{"$f":"DATAENTRY!E35","v":"ROB MURGATROYD"},{"$f":"DATAENTRY!F35","v":72},{"$f":"DATAENTRY!G35","v":"BD"},{"$f":"DATAENTRY!H35","v":"HARD"},{"$f":"DATAENTRY!I35","v":"NOV"},{"$f":"DATAENTRY!J35","v":"BETA"},{"$f":"DATAENTRY!K35","v":"0000"},{"$f":"DATAENTRY!L35","v":"1000"},{"$f":"DATAENTRY!M35","v":"1022"},{"$f":"DATAENTRY!N35","v":"2122"},{"$f":"DATAENTRY!O35","v":"1111"},{"$f":"DATAENTRY!P35","v":"1510"},{"$f":"DATAENTRY!Q35","v":"0050"},{"$f":"DATAENTRY!R35","v":"3222"},{"$f":"DATAENTRY!S35","v":0},{"$f":"DATAENTRY!T35","v":0},{"$f":"DATAENTRY!U35","v":0},{"$f":"DATAENTRY!V35","v":0},{"$f":"DATAENTRY!W35","v":0},{"$f":"DATAENTRY!X35","v":0},{"$f":"DATAENTRY!Y35","v":0},{"$f":"DATAENTRY!Z35","v":0},{"$f":"DATAENTRY!AA35","v":0},{"$f":"DATAENTRY!AB35","v":0},{"$f":"DATAENTRY!AC35","v":0},{"$f":"DATAENTRY!AD35","v":0},{"$f":"DATAENTRY!AE35","v":0},{"$f":"DATAENTRY!AF35","v":0},{"$f":"DATAENTRY!AG35","v":0},{"$f":"DATAENTRY!AH35","v":0},{"$f":"DATAENTRY!AI35","v":0},{"$f":"DATAENTRY!AJ35","v":0},{"$f":"DATAENTRY!AK35","v":0},{"$f":"DATAENTRY!AL35","v":0},{"$f":"DATAENTRY!AM35","v":0},{"$f":"DATAENTRY!AN35","v":0},{"$f":"DATAENTRY!AO35","v":0},{"$f":"DATAENTRY!AP35","v":0},{"$f":"DATAENTRY!AQ35","v":0},{"$f":"DATAENTRY!AR35","v":0},{"$f":"DATAENTRY!AS35","v":0},{"$f":"DATAENTRY!AT35","v":0},{"$f":"DATAENTRY!AU35","v":0},{"$f":"DATAENTRY!AV35","v":0},{"$f":"DATAENTRY!AW35","v":0},{"$f":"DATAENTRY!AX35","v":0},{"$f":"DATAENTRY!AY35","v":38},{"$f":"DATAENTRY!AZ35","v":12},{"$f":"DATAENTRY!BA35","v":9},{"$f":"DATAENTRY!BB35","v":8},{"$f":"DATAENTRY!BC35","v":1},{"$f":"DATAENTRY!BD35","v":2},{"$f":"DATAENTRY!BE35","v":0},{"$f":"DATAENTRY!BF35","v":1},{"$f":"DATAENTRY!BG35","v":5},{"$f":"DATAENTRY!BH35","v":"00001000102221221111151000503222"}]
[{"$f":"DATAENTRY!C36","v":12},{"$f":"DATAENTRY!D36","v":15},{"$f":"DATAENTRY!E36","v":"PETE HOLLINGWORTH"},{"$f":"DATAENTRY!F36","v":12},{"$f":"DATAENTRY!G36","v":"BD"},{"$f":"DATAENTRY!H36","v":"HARD"},{"$f":"DATAENTRY!I36","v":"NOV"},{"$f":"DATAENTRY!J36","v":"BETA"},{"$f":"DATAENTRY!K36","v":"1000"},{"$f":"DATAENTRY!L36","v":"0012"},{"$f":"DATAENTRY!M36","v":"0000"},{"$f":"DATAENTRY!N36","v":"3111"},{"$f":"DATAENTRY!O36","v":"5503"},{"$f":"DATAENTRY!P36","v":"5350"},{"$f":"DATAENTRY!Q36","v":"0000"},{"$f":"DATAENTRY!R36","v":"2111"},{"$f":"DATAENTRY!S36","v":0},{"$f":"DATAENTRY!T36","v":0},{"$f":"DATAENTRY!U36","v":0},{"$f":"DATAENTRY!V36","v":0},{"$f":"DATAENTRY!W36","v":0},{"$f":"DATAENTRY!X36","v":0},{"$f":"DATAENTRY!Y36","v":0},{"$f":"DATAENTRY!Z36","v":0},{"$f":"DATAENTRY!AA36","v":0},{"$f":"DATAENTRY!AB36","v":0},{"$f":"DATAENTRY!AC36","v":0},{"$f":"DATAENTRY!AD36","v":0},{"$f":"DATAENTRY!AE36","v":0},{"$f":"DATAENTRY!AF36","v":0},{"$f":"DATAENTRY!AG36","v":0},{"$f":"DATAENTRY!AH36","v":0},{"$f":"DATAENTRY!AI36","v":0},{"$f":"DATAENTRY!AJ36","v":0},{"$f":"DATAENTRY!AK36","v":0},{"$f":"DATAENTRY!AL36","v":0},{"$f":"DATAENTRY!AM36","v":0},{"$f":"DATAENTRY!AN36","v":0},{"$f":"DATAENTRY!AO36","v":0},{"$f":"DATAENTRY!AP36","v":0},{"$f":"DATAENTRY!AQ36","v":0},{"$f":"DATAENTRY!AR36","v":0},{"$f":"DATAENTRY!AS36","v":0},{"$f":"DATAENTRY!AT36","v":0},{"$f":"DATAENTRY!AU36","v":0},{"$f":"DATAENTRY!AV36","v":0},{"$f":"DATAENTRY!AW36","v":0},{"$f":"DATAENTRY!AX36","v":0},{"$f":"DATAENTRY!AY36","v":41},{"$f":"DATAENTRY!AZ36","v":15},{"$f":"DATAENTRY!BA36","v":8},{"$f":"DATAENTRY!BB36","v":2},{"$f":"DATAENTRY!BC36","v":3},{"$f":"DATAENTRY!BD36","v":4},{"$f":"DATAENTRY!BE36","v":0},{"$f":"DATAENTRY!BF36","v":1},{"$f":"DATAENTRY!BG36","v":4},{"$f":"DATAENTRY!BH36","v":"10000012000031115503535000002111"}]
[{"$f":"DATAENTRY!C37","v":13},{"$f":"DATAENTRY!D37","v":16},{"$f":"DATAENTRY!E37","v":"IAN BARRETT"},{"$f":"DATAENTRY!F37","v":48},{"$f":"DATAENTRY!G37","v":"BD"},{"$f":"DATAENTRY!H37","v":"HARD"},{"$f":"DATAENTRY!I37","v":"NOV"},{"$f":"DATAENTRY!J37","v":"SHER"},{"$f":"DATAENTRY!K37","v":"0000"},{"$f":"DATAENTRY!L37","v":"3310"},{"$f":"DATAENTRY!M37","v":"0000"},{"$f":"DATAENTRY!N37","v":"1023"},{"$f":"DATAENTRY!O37","v":"5132"},{"$f":"DATAENTRY!P37","v":"2511"},{"$f":"DATAENTRY!Q37","v":"1122"},{"$f":"DATAENTRY!R37","v":"3311"},{"$f":"DATAENTRY!S37","v":0},{"$f":"DATAENTRY!T37","v":0},{"$f":"DATAENTRY!U37","v":0},{"$f":"DATAENTRY!V37","v":0},{"$f":"DATAENTRY!W37","v":0},{"$f":"DATAENTRY!X37","v":0},{"$f":"DATAENTRY!Y37","v":0},{"$f":"DATAENTRY!Z37","v":0},{"$f":"DATAENTRY!AA37","v":0},{"$f":"DATAENTRY!AB37","v":0},{"$f":"DATAENTRY!AC37","v":0},{"$f":"DATAENTRY!AD37","v":0},{"$f":"DATAENTRY!AE37","v":0},{"$f":"DATAENTRY!AF37","v":0},{"$f":"DATAENTRY!AG37","v":0},{"$f":"DATAENTRY!AH37","v":0},{"$f":"DATAENTRY!AI37","v":0},{"$f":"DATAENTRY!AJ37","v":0},{"$f":"DATAENTRY!AK37","v":0},{"$f":"DATAENTRY!AL37","v":0},{"$f":"DATAENTRY!AM37","v":0},{"$f":"DATAENTRY!AN37","v":0},{"$f":"DATAENTRY!AO37","v":0},{"$f":"DATAENTRY!AP37","v":0},{"$f":"DATAENTRY!AQ37","v":0},{"$f":"DATAENTRY!AR37","v":0},{"$f":"DATAENTRY!AS37","v":0},{"$f":"DATAENTRY!AT37","v":0},{"$f":"DATAENTRY!AU37","v":0},{"$f":"DATAENTRY!AV37","v":0},{"$f":"DATAENTRY!AW37","v":0},{"$f":"DATAENTRY!AX37","v":0},{"$f":"DATAENTRY!AY37","v":47},{"$f":"DATAENTRY!AZ37","v":10},{"$f":"DATAENTRY!BA37","v":9},{"$f":"DATAENTRY!BB37","v":5},{"$f":"DATAENTRY!BC37","v":6},{"$f":"DATAENTRY!BD37","v":2},{"$f":"DATAENTRY!BE37","v":0},{"$f":"DATAENTRY!BF37","v":1},{"$f":"DATAENTRY!BG37","v":3},{"$f":"DATAENTRY!BH37","v":"00003310000010235132251111223311"}]
[{"$f":"DATAENTRY!C38","v":14},{"$f":"DATAENTRY!D38","v":17},{"$f":"DATAENTRY!E38","v":"HARRY WHITEOAK"},{"$f":"DATAENTRY!F38","v":71},{"$f":"DATAENTRY!G38","v":"BD"},{"$f":"DATAENTRY!H38","v":"HARD"},{"$f":"DATAENTRY!I38","v":"NOV"},{"$f":"DATAENTRY!J38","v":"GAS"},{"$f":"DATAENTRY!K38","v":"0010"},{"$f":"DATAENTRY!L38","v":"3223"},{"$f":"DATAENTRY!M38","v":"0250"},{"$f":"DATAENTRY!N38","v":"2132"},{"$f":"DATAENTRY!O38","v":"3332"},{"$f":"DATAENTRY!P38","v":"0300"},{"$f":"DATAENTRY!Q38","v":"3110"},{"$f":"DATAENTRY!R38","v":"3322"},{"$f":"DATAENTRY!S38","v":0},{"$f":"DATAENTRY!T38","v":0},{"$f":"DATAENTRY!U38","v":0},{"$f":"DATAENTRY!V38","v":0},{"$f":"DATAENTRY!W38","v":0},{"$f":"DATAENTRY!X38","v":0},{"$f":"DATAENTRY!Y38","v":0},{"$f":"DATAENTRY!Z38","v":0},{"$f":"DATAENTRY!AA38","v":0},{"$f":"DATAENTRY!AB38","v":0},{"$f":"DATAENTRY!AC38","v":0},{"$f":"DATAENTRY!AD38","v":0},{"$f":"DATAENTRY!AE38","v":0},{"$f":"DATAENTRY!AF38","v":0},{"$f":"DATAENTRY!AG38","v":0},{"$f":"DATAENTRY!AH38","v":0},{"$f":"DATAENTRY!AI38","v":0},{"$f":"DATAENTRY!AJ38","v":0},{"$f":"DATAENTRY!AK38","v":0},{"$f":"DATAENTRY!AL38","v":0},{"$f":"DATAENTRY!AM38","v":0},{"$f":"DATAENTRY!AN38","v":0},{"$f":"DATAENTRY!AO38","v":0},{"$f":"DATAENTRY!AP38","v":0},{"$f":"DATAENTRY!AQ38","v":0},{"$f":"DATAENTRY!AR38","v":0},{"$f":"DATAENTRY!AS38","v":0},{"$f":"DATAENTRY!AT38","v":0},{"$f":"DATAENTRY!AU38","v":0},{"$f":"DATAENTRY!AV38","v":0},{"$f":"DATAENTRY!AW38","v":0},{"$f":"DATAENTRY!AX38","v":0},{"$f":"DATAENTRY!AY38","v":55},{"$f":"DATAENTRY!AZ38","v":9},{"$f":"DATAENTRY!BA38","v":4},{"$f":"DATAENTRY!BB38","v":8},{"$f":"DATAENTRY!BC38","v":10},{"$f":"DATAENTRY!BD38","v":1},{"$f":"DATAENTRY!BE38","v":0},{"$f":"DATAENTRY!BF38","v":1},{"$f":"DATAENTRY!BG38","v":2},{"$f":"DATAENTRY!BH38","v":"00103223025021323332030031103322"}]
[{"$f":"DATAENTRY!C39","v":15},{"$f":"DATAENTRY!D39","v":18},{"$f":"DATAENTRY!E39","v":"GARY RUSHTON"},{"$f":"DATAENTRY!F39","v":47},{"$f":"DATAENTRY!G39","v":"BD"},{"$f":"DATAENTRY!H39","v":"HARD"},{"$f":"DATAENTRY!I39","v":"NOV"},{"$f":"DATAENTRY!J39","v":"VERT"},{"$f":"DATAENTRY!K39","v":"0000"},{"$f":"DATAENTRY!L39","v":"5531"},{"$f":"DATAENTRY!M39","v":"0152"},{"$f":"DATAENTRY!N39","v":"5121"},{"$f":"DATAENTRY!O39","v":"0330"},{"$f":"DATAENTRY!P39","v":"0211"},{"$f":"DATAENTRY!Q39","v":"2100"},{"$f":"DATAENTRY!R39","v":"3333"},{"$f":"DATAENTRY!S39","v":0},{"$f":"DATAENTRY!T39","v":0},{"$f":"DATAENTRY!U39","v":0},{"$f":"DATAENTRY!V39","v":0},{"$f":"DATAENTRY!W39","v":0},{"$f":"DATAENTRY!X39","v":0},{"$f":"DATAENTRY!Y39","v":0},{"$f":"DATAENTRY!Z39","v":0},{"$f":"DATAENTRY!AA39","v":0},{"$f":"DATAENTRY!AB39","v":0},{"$f":"DATAENTRY!AC39","v":0},{"$f":"DATAENTRY!AD39","v":0},{"$f":"DATAENTRY!AE39","v":0},{"$f":"DATAENTRY!AF39","v":0},{"$f":"DATAENTRY!AG39","v":0},{"$f":"DATAENTRY!AH39","v":0},{"$f":"DATAENTRY!AI39","v":0},{"$f":"DATAENTRY!AJ39","v":0},{"$f":"DATAENTRY!AK39","v":0},{"$f":"DATAENTRY!AL39","v":0},{"$f":"DATAENTRY!AM39","v":0},{"$f":"DATAENTRY!AN39","v":0},{"$f":"DATAENTRY!AO39","v":0},{"$f":"DATAENTRY!AP39","v":0},{"$f":"DATAENTRY!AQ39","v":0},{"$f":"DATAENTRY!AR39","v":0},{"$f":"DATAENTRY!AS39","v":0},{"$f":"DATAENTRY!AT39","v":0},{"$f":"DATAENTRY!AU39","v":0},{"$f":"DATAENTRY!AV39","v":0},{"$f":"DATAENTRY!AW39","v":0},{"$f":"DATAENTRY!AX39","v":0},{"$f":"DATAENTRY!AY39","v":56},{"$f":"DATAENTRY!AZ39","v":10},{"$f":"DATAENTRY!BA39","v":7},{"$f":"DATAENTRY!BB39","v":4},{"$f":"DATAENTRY!BC39","v":7},{"$f":"DATAENTRY!BD39","v":4},{"$f":"DATAENTRY!BE39","v":0},{"$f":"DATAENTRY!BF39","v":1},{"$f":"DATAENTRY!BG39","v":1},{"$f":"DATAENTRY!BH39","v":"00005531015251210330021121003333"}]
[{"$f":"DATAENTRY!C40","v":16},{"$f":"DATAENTRY!D40","v":19},{"$f":"DATAENTRY!E40","v":"LUCY AYRTON"},{"$f":"DATAENTRY!F40","v":73},{"$f":"DATAENTRY!G40","v":"BD"},{"$f":"DATAENTRY!H40","v":"HARD"},{"$f":"DATAENTRY!I40","v":"NOV"},{"$f":"DATAENTRY!J40","v":"TRS"},{"$f":"DATAENTRY!K40","v":"0000"},{"$f":"DATAENTRY!L40","v":"2310"},{"$f":"DATAENTRY!M40","v":"1111"},{"$f":"DATAENTRY!N40","v":"5330"},{"$f":"DATAENTRY!O40","v":"3500"},{"$f":"DATAENTRY!P40","v":"5331"},{"$f":"DATAENTRY!Q40","v":"2220"},{"$f":"DATAENTRY!R40","v":"3313"},{"$f":"DATAENTRY!S40","v":0},{"$f":"DATAENTRY!T40","v":0},{"$f":"DATAENTRY!U40","v":0},{"$f":"DATAENTRY!V40","v":0},{"$f":"DATAENTRY!W40","v":0},{"$f":"DATAENTRY!X40","v":0},{"$f":"DATAENTRY!Y40","v":0},{"$f":"DATAENTRY!Z40","v":0},{"$f":"DATAENTRY!AA40","v":0},{"$f":"DATAENTRY!AB40","v":0},{"$f":"DATAENTRY!AC40","v":0},{"$f":"DATAENTRY!AD40","v":0},{"$f":"DATAENTRY!AE40","v":0},{"$f":"DATAENTRY!AF40","v":0},{"$f":"DATAENTRY!AG40","v":0},{"$f":"DATAENTRY!AH40","v":0},{"$f":"DATAENTRY!AI40","v":0},{"$f":"DATAENTRY!AJ40","v":0},{"$f":"DATAENTRY!AK40","v":0},{"$f":"DATAENTRY!AL40","v":0},{"$f":"DATAENTRY!AM40","v":0},{"$f":"DATAENTRY!AN40","v":0},{"$f":"DATAENTRY!AO40","v":0},{"$f":"DATAENTRY!AP40","v":0},{"$f":"DATAENTRY!AQ40","v":0},{"$f":"DATAENTRY!AR40","v":0},{"$f":"DATAENTRY!AS40","v":0},{"$f":"DATAENTRY!AT40","v":0},{"$f":"DATAENTRY!AU40","v":0},{"$f":"DATAENTRY!AV40","v":0},{"$f":"DATAENTRY!AW40","v":0},{"$f":"DATAENTRY!AX40","v":0},{"$f":"DATAENTRY!AY40","v":57},{"$f":"DATAENTRY!AZ40","v":9},{"$f":"DATAENTRY!BA40","v":7},{"$f":"DATAENTRY!BB40","v":4},{"$f":"DATAENTRY!BC40","v":9},{"$f":"DATAENTRY!BD40","v":3},{"$f":"DATAENTRY!BE40","v":0},{"$f":"DATAENTRY!BF40","v":1},{"$f":"DATAENTRY!BG40","v":0},{"$f":"DATAENTRY!BH40","v":"00002310111153303500533122203313"}]
[{"$f":"DATAENTRY!C41","v":17},{"$f":"DATAENTRY!D41","v":20},{"$f":"DATAENTRY!E41","v":"ANDY COBB"},{"$f":"DATAENTRY!F41","v":39},{"$f":"DATAENTRY!G41","v":"BD"},{"$f":"DATAENTRY!H41","v":"HARD"},{"$f":"DATAENTRY!I41","v":"NOV"},{"$f":"DATAENTRY!J41","v":"MONT"},{"$f":"DATAENTRY!K41","v":"5000"},{"$f":"DATAENTRY!L41","v":"3333"},{"$f":"DATAENTRY!M41","v":"0010"},{"$f":"DATAENTRY!N41","v":"2323"},{"$f":"DATAENTRY!O41","v":"3131"},{"$f":"DATAENTRY!P41","v":"1131"},{"$f":"DATAENTRY!Q41","v":"3320"},{"$f":"DATAENTRY!R41","v":"3333"},{"$f":"DATAENTRY!S41","v":0},{"$f":"DATAENTRY!T41","v":0},{"$f":"DATAENTRY!U41","v":0},{"$f":"DATAENTRY!V41","v":0},{"$f":"DATAENTRY!W41","v":0},{"$f":"DATAENTRY!X41","v":0},{"$f":"DATAENTRY!Y41","v":0},{"$f":"DATAENTRY!Z41","v":0},{"$f":"DATAENTRY!AA41","v":0},{"$f":"DATAENTRY!AB41","v":0},{"$f":"DATAENTRY!AC41","v":0},{"$f":"DATAENTRY!AD41","v":0},{"$f":"DATAENTRY!AE41","v":0},{"$f":"DATAENTRY!AF41","v":0},{"$f":"DATAENTRY!AG41","v":0},{"$f":"DATAENTRY!AH41","v":0},{"$f":"DATAENTRY!AI41","v":0},{"$f":"DATAENTRY!AJ41","v":0},{"$f":"DATAENTRY!AK41","v":0},{"$f":"DATAENTRY!AL41","v":0},{"$f":"DATAENTRY!AM41","v":0},{"$f":"DATAENTRY!AN41","v":0},{"$f":"DATAENTRY!AO41","v":0},{"$f":"DATAENTRY!AP41","v":0},{"$f":"DATAENTRY!AQ41","v":0},{"$f":"DATAENTRY!AR41","v":0},{"$f":"DATAENTRY!AS41","v":0},{"$f":"DATAENTRY!AT41","v":0},{"$f":"DATAENTRY!AU41","v":0},{"$f":"DATAENTRY!AV41","v":0},{"$f":"DATAENTRY!AW41","v":0},{"$f":"DATAENTRY!AX41","v":0},{"$f":"DATAENTRY!AY41","v":62},{"$f":"DATAENTRY!AZ41","v":7},{"$f":"DATAENTRY!BA41","v":6},{"$f":"DATAENTRY!BB41","v":3},{"$f":"DATAENTRY!BC41","v":15},{"$f":"DATAENTRY!BD41","v":1},{"$f":"DATAENTRY!BE41","v":0},{"$f":"DATAENTRY!BF41","v":1},{"$f":"DATAENTRY!BG41","v":0},{"$f":"DATAENTRY!BH41","v":"50003333001023233131113133203333"}]
[{"$f":"DATAENTRY!C42","v":18},{"$f":"DATAENTRY!D42","v":21},{"$f":"DATAENTRY!E42","v":"CHRIS HARSLEY"},{"$f":"DATAENTRY!F42","v":77},{"$f":"DATAENTRY!G42","v":"BD"},{"$f":"DATAENTRY!H42","v":"HARD"},{"$f":"DATAENTRY!I42","v":"NOV"},{"$f":"DATAENTRY!J42","v":"VERT"},{"$f":"DATAENTRY!K42","v":"5000"},{"$f":"DATAENTRY!L42","v":"5021"},{"$f":"DATAENTRY!M42","v":"5510"},{"$f":"DATAENTRY!N42","v":"5332"},{"$f":"DATAENTRY!O42","v":"2301"},{"$f":"DATAENTRY!P42","v":"2300"},{"$f":"DATAENTRY!Q42","v":"1115"},{"$f":"DATAENTRY!R42","v":"2113"},{"$f":"DATAENTRY!S42","v":0},{"$f":"DATAENTRY!T42","v":0},{"$f":"DATAENTRY!U42","v":0},{"$f":"DATAENTRY!V42","v":0},{"$f":"DATAENTRY!W42","v":0},{"$f":"DATAENTRY!X42","v":0},{"$f":"DATAENTRY!Y42","v":0},{"$f":"DATAENTRY!Z42","v":0},{"$f":"DATAENTRY!AA42","v":0},{"$f":"DATAENTRY!AB42","v":0},{"$f":"DATAENTRY!AC42","v":0},{"$f":"DATAENTRY!AD42","v":0},{"$f":"DATAENTRY!AE42","v":0},{"$f":"DATAENTRY!AF42","v":0},{"$f":"DATAENTRY!AG42","v":0},{"$f":"DATAENTRY!AH42","v":0},{"$f":"DATAENTRY!AI42","v":0},{"$f":"DATAENTRY!AJ42","v":0},{"$f":"DATAENTRY!AK42","v":0},{"$f":"DATAENTRY!AL42","v":0},{"$f":"DATAENTRY!AM42","v":0},{"$f":"DATAENTRY!AN42","v":0},{"$f":"DATAENTRY!AO42","v":0},{"$f":"DATAENTRY!AP42","v":0},{"$f":"DATAENTRY!AQ42","v":0},{"$f":"DATAENTRY!AR42","v":0},{"$f":"DATAENTRY!AS42","v":0},{"$f":"DATAENTRY!AT42","v":0},{"$f":"DATAENTRY!AU42","v":0},{"$f":"DATAENTRY!AV42","v":0},{"$f":"DATAENTRY!AW42","v":0},{"$f":"DATAENTRY!AX42","v":0},{"$f":"DATAENTRY!AY42","v":63},{"$f":"DATAENTRY!AZ42","v":8},{"$f":"DATAENTRY!BA42","v":8},{"$f":"DATAENTRY!BB42","v":5},{"$f":"DATAENTRY!BC42","v":5},{"$f":"DATAENTRY!BD42","v":6},{"$f":"DATAENTRY!BE42","v":0},{"$f":"DATAENTRY!BF42","v":1},{"$f":"DATAENTRY!BG42","v":0},{"$f":"DATAENTRY!BH42","v":"50005021551053322301230011152113"}]
[{"$f":"DATAENTRY!C43","v":19},{"$f":"DATAENTRY!D43","v":22},{"$f":"DATAENTRY!E43","v":"JACK BROADHEAD"},{"$f":"DATAENTRY!F43","v":76},{"$f":"DATAENTRY!G43","v":"BD"},{"$f":"DATAENTRY!H43","v":"HARD"},{"$f":"DATAENTRY!I43","v":"NOV"},{"$f":"DATAENTRY!J43","v":"BULT"},{"$f":"DATAENTRY!K43","v":"0555"},{"$f":"DATAENTRY!L43","v":"3555"},{"$f":"DATAENTRY!M43","v":"5555"},{"$f":"DATAENTRY!N43","v":"5555"},{"$f":"DATAENTRY!O43","v":"5555"},{"$f":"DATAENTRY!P43","v":"5555"},{"$f":"DATAENTRY!Q43","v":"5555"},{"$f":"DATAENTRY!R43","v":"5555"},{"$f":"DATAENTRY!S43","v":0},{"$f":"DATAENTRY!T43","v":0},{"$f":"DATAENTRY!U43","v":0},{"$f":"DATAENTRY!V43","v":0},{"$f":"DATAENTRY!W43","v":0},{"$f":"DATAENTRY!X43","v":0},{"$f":"DATAENTRY!Y43","v":0},{"$f":"DATAENTRY!Z43","v":0},{"$f":"DATAENTRY!AA43","v":0},{"$f":"DATAENTRY!AB43","v":0},{"$f":"DATAENTRY!AC43","v":0},{"$f":"DATAENTRY!AD43","v":0},{"$f":"DATAENTRY!AE43","v":0},{"$f":"DATAENTRY!AF43","v":0},{"$f":"DATAENTRY!AG43","v":0},{"$f":"DATAENTRY!AH43","v":0},{"$f":"DATAENTRY!AI43","v":0},{"$f":"DATAENTRY!AJ43","v":0},{"$f":"DATAENTRY!AK43","v":0},{"$f":"DATAENTRY!AL43","v":0},{"$f":"DATAENTRY!AM43","v":0},{"$f":"DATAENTRY!AN43","v":0},{"$f":"DATAENTRY!AO43","v":0},{"$f":"DATAENTRY!AP43","v":0},{"$f":"DATAENTRY!AQ43","v":0},{"$f":"DATAENTRY!AR43","v":0},{"$f":"DATAENTRY!AS43","v":0},{"$f":"DATAENTRY!AT43","v":0},{"$f":"DATAENTRY!AU43","v":0},{"$f":"DATAENTRY!AV43","v":0},{"$f":"DATAENTRY!AW43","v":0},{"$f":"DATAENTRY!AX43","v":0},{"$f":"DATAENTRY!AY43","v":153},{"$f":"DATAENTRY!AZ43","v":1},{"$f":"DATAENTRY!BA43","v":0},{"$f":"DATAENTRY!BB43","v":0},{"$f":"DATAENTRY!BC43","v":1},{"$f":"DATAENTRY!BD43","v":30},{"$f":"DATAENTRY!BE43","v":0},{"$f":"DATAENTRY!BF43","v":1},{"$f":"DATAENTRY!BG43","v":0},{"$f":"DATAENTRY!BH43","v":"05553555555555555555555555555555"}]
[{"$f":"DATAENTRY!C44","v":1},{"$f":"DATAENTRY!D44","v":1},{"$f":"DATAENTRY!E44","v":"SHAUN LIGHTFOOT"},{"$f":"DATAENTRY!F44","v":17},{"$f":"DATAENTRY!G44","v":"BD"},{"$f":"DATAENTRY!H44","v":"50/50"},{"$f":"DATAENTRY!I44","v":"NOV"},{"$f":"DATAENTRY!J44","v":"BETA"},{"$f":"DATAENTRY!K44","v":"0000"},{"$f":"DATAENTRY!L44","v":"0000"},{"$f":"DATAENTRY!M44","v":"1100"},{"$f":"DATAENTRY!N44","v":"3100"},{"$f":"DATAENTRY!O44","v":"0000"},{"$f":"DATAENTRY!P44","v":"0000"},{"$f":"DATAENTRY!Q44","v":"5051"},{"$f":"DATAENTRY!R44","v":"3321"},{"$f":"DATAENTRY!S44","v":0},{"$f":"DATAENTRY!T44","v":0},{"$f":"DATAENTRY!U44","v":0},{"$f":"DATAENTRY!V44","v":0},{"$f":"DATAENTRY!W44","v":0},{"$f":"DATAENTRY!X44","v":0},{"$f":"DATAENTRY!Y44","v":0},{"$f":"DATAENTRY!Z44","v":0},{"$f":"DATAENTRY!AA44","v":0},{"$f":"DATAENTRY!AB44","v":0},{"$f":"DATAENTRY!AC44","v":0},{"$f":"DATAENTRY!AD44","v":0},{"$f":"DATAENTRY!AE44","v":0},{"$f":"DATAENTRY!AF44","v":0},{"$f":"DATAENTRY!AG44","v":0},{"$f":"DATAENTRY!AH44","v":0},{"$f":"DATAENTRY!AI44","v":0},{"$f":"DATAENTRY!AJ44","v":0},{"$f":"DATAENTRY!AK44","v":0},{"$f":"DATAENTRY!AL44","v":0},{"$f":"DATAENTRY!AM44","v":0},{"$f":"DATAENTRY!AN44","v":0},{"$f":"DATAENTRY!AO44","v":0},{"$f":"DATAENTRY!AP44","v":0},{"$f":"DATAENTRY!AQ44","v":0},{"$f":"DATAENTRY!AR44","v":0},{"$f":"DATAENTRY!AS44","v":0},{"$f":"DATAENTRY!AT44","v":0},{"$f":"DATAENTRY!AU44","v":0},{"$f":"DATAENTRY!AV44","v":0},{"$f":"DATAENTRY!AW44","v":0},{"$f":"DATAENTRY!AX44","v":0},{"$f":"DATAENTRY!AY44","v":26},{"$f":"DATAENTRY!AZ44","v":21},{"$f":"DATAENTRY!BA44","v":5},{"$f":"DATAENTRY!BB44","v":1},{"$f":"DATAENTRY!BC44","v":3},{"$f":"DATAENTRY!BD44","v":2},{"$f":"DATAENTRY!BE44","v":0},{"$f":"DATAENTRY!BF44","v":1},{"$f":"DATAENTRY!BG44","v":20},{"$f":"DATAENTRY!BH44","v":"00000000110031000000000050513321"}]
[{"$f":"DATAENTRY!C45","v":2},{"$f":"DATAENTRY!D45","v":2},{"$f":"DATAENTRY!E45","v":"JOSH SNOWDEN"},{"$f":"DATAENTRY!F45","v":9},{"$f":"DATAENTRY!G45","v":"BD"},{"$f":"DATAENTRY!H45","v":"50/50"},{"$f":"DATAENTRY!I45","v":"NOV"},{"$f":"DATAENTRY!J45","v":"BETA"},{"$f":"DATAENTRY!K45","v":"0000"},{"$f":"DATAENTRY!L45","v":"0000"},{"$f":"DATAENTRY!M45","v":"1050"},{"$f":"DATAENTRY!N45","v":"0000"},{"$f":"DATAENTRY!O45","v":"0055"},{"$f":"DATAENTRY!P45","v":"0000"},{"$f":"DATAENTRY!Q45","v":"0000"},{"$f":"DATAENTRY!R45","v":"3251"},{"$f":"DATAENTRY!S45","v":0},{"$f":"DATAENTRY!T45","v":0},{"$f":"DATAENTRY!U45","v":0},{"$f":"DATAENTRY!V45","v":0},{"$f":"DATAENTRY!W45","v":0},{"$f":"DATAENTRY!X45","v":0},{"$f":"DATAENTRY!Y45","v":0},{"$f":"DATAENTRY!Z45","v":0},{"$f":"DATAENTRY!AA45","v":0},{"$f":"DATAENTRY!AB45","v":0},{"$f":"DATAENTRY!AC45","v":0},{"$f":"DATAENTRY!AD45","v":0},{"$f":"DATAENTRY!AE45","v":0},{"$f":"DATAENTRY!AF45","v":0},{"$f":"DATAENTRY!AG45","v":0},{"$f":"DATAENTRY!AH45","v":0},{"$f":"DATAENTRY!AI45","v":0},{"$f":"DATAENTRY!AJ45","v":0},{"$f":"DATAENTRY!AK45","v":0},{"$f":"DATAENTRY!AL45","v":0},{"$f":"DATAENTRY!AM45","v":0},{"$f":"DATAENTRY!AN45","v":0},{"$f":"DATAENTRY!AO45","v":0},{"$f":"DATAENTRY!AP45","v":0},{"$f":"DATAENTRY!AQ45","v":0},{"$f":"DATAENTRY!AR45","v":0},{"$f":"DATAENTRY!AS45","v":0},{"$f":"DATAENTRY!AT45","v":0},{"$f":"DATAENTRY!AU45","v":0},{"$f":"DATAENTRY!AV45","v":0},{"$f":"DATAENTRY!AW45","v":0},{"$f":"DATAENTRY!AX45","v":0},{"$f":"DATAENTRY!AY45","v":27},{"$f":"DATAENTRY!AZ45","v":24},{"$f":"DATAENTRY!BA45","v":2},{"$f":"DATAENTRY!BB45","v":1},{"$f":"DATAENTRY!BC45","v":1},{"$f":"DATAENTRY!BD45","v":4},{"$f":"DATAENTRY!BE45","v":0},{"$f":"DATAENTRY!BF45","v":1},{"$f":"DATAENTRY!BG45","v":17},{"$f":"DATAENTRY!BH45","v":"00000000105000000055000000003251"}]
[{"$f":"DATAENTRY!C46","v":3},{"$f":"DATAENTRY!D46","v":3},{"$f":"DATAENTRY!E46","v":"CHRIS WATSON"},{"$f":"DATAENTRY!F46","v":1},{"$f":"DATAENTRY!G46","v":"BD"},{"$f":"DATAENTRY!H46","v":"50/50"},{"$f":"DATAENTRY!I46","v":"NOV"},{"$f":"DATAENTRY!J46","v":"BETA"},{"$f":"DATAENTRY!K46","v":"0100"},{"$f":"DATAENTRY!L46","v":"0000"},{"$f":"DATAENTRY!M46","v":"1222"},{"$f":"DATAENTRY!N46","v":"1102"},{"$f":"DATAENTRY!O46","v":"1000"},{"$f":"DATAENTRY!P46","v":"0000"},{"$f":"DATAENTRY!Q46","v":"1502"},{"$f":"DATAENTRY!R46","v":"3232"},{"$f":"DATAENTRY!S46","v":0},{"$f":"DATAENTRY!T46","v":0},{"$f":"DATAENTRY!U46","v":0},{"$f":"DATAENTRY!V46","v":0},{"$f":"DATAENTRY!W46","v":0},{"$f":"DATAENTRY!X46","v":0},{"$f":"DATAENTRY!Y46","v":0},{"$f":"DATAENTRY!Z46","v":0},{"$f":"DATAENTRY!AA46","v":0},{"$f":"DATAENTRY!AB46","v":0},{"$f":"DATAENTRY!AC46","v":0},{"$f":"DATAENTRY!AD46","v":0},{"$f":"DATAENTRY!AE46","v":0},{"$f":"DATAENTRY!AF46","v":0},{"$f":"DATAENTRY!AG46","v":0},{"$f":"DATAENTRY!AH46","v":0},{"$f":"DATAENTRY!AI46","v":0},{"$f":"DATAENTRY!AJ46","v":0},{"$f":"DATAENTRY!AK46","v":0},{"$f":"DATAENTRY!AL46","v":0},{"$f":"DATAENTRY!AM46","v":0},{"$f":"DATAENTRY!AN46","v":0},{"$f":"DATAENTRY!AO46","v":0},{"$f":"DATAENTRY!AP46","v":0},{"$f":"DATAENTRY!AQ46","v":0},{"$f":"DATAENTRY!AR46","v":0},{"$f":"DATAENTRY!AS46","v":0},{"$f":"DATAENTRY!AT46","v":0},{"$f":"DATAENTRY!AU46","v":0},{"$f":"DATAENTRY!AV46","v":0},{"$f":"DATAENTRY!AW46","v":0},{"$f":"DATAENTRY!AX46","v":0},{"$f":"DATAENTRY!AY46","v":31},{"$f":"DATAENTRY!AZ46","v":16},{"$f":"DATAENTRY!BA46","v":6},{"$f":"DATAENTRY!BB46","v":7},{"$f":"DATAENTRY!BC46","v":2},{"$f":"DATAENTRY!BD46","v":1},{"$f":"DATAENTRY!BE46","v":0},{"$f":"DATAENTRY!BF46","v":1},{"$f":"DATAENTRY!BG46","v":15},{"$f":"DATAENTRY!BH46","v":"01000000122211021000000015023232"}]
[{"$f":"DATAENTRY!C47","v":4},{"$f":"DATAENTRY!D47","v":4},{"$f":"DATAENTRY!E47","v":"ARRAN SHERWIN"},{"$f":"DATAENTRY!F47","v":14},{"$f":"DATAENTRY!G47","v":"BD"},{"$f":"DATAENTRY!H47","v":"50/50"},{"$f":"DATAENTRY!I47","v":"B"},{"$f":"DATAENTRY!J47","v":"BETA"},{"$f":"DATAENTRY!K47","v":"3010"},{"$f":"DATAENTRY!L47","v":"0000"},{"$f":"DATAENTRY!M47","v":"0201"},{"$f":"DATAENTRY!N47","v":"0000"},{"$f":"DATAENTRY!O47","v":"5000"},{"$f":"DATAENTRY!P47","v":"1000"},{"$f":"DATAENTRY!Q47","v":"5002"},{"$f":"DATAENTRY!R47","v":"3533"},{"$f":"DATAENTRY!S47","v":0},{"$f":"DATAENTRY!T47","v":0},{"$f":"DATAENTRY!U47","v":0},{"$f":"DATAENTRY!V47","v":0},{"$f":"DATAENTRY!W47","v":0},{"$f":"DATAENTRY!X47","v":0},{"$f":"DATAENTRY!Y47","v":0},{"$f":"DATAENTRY!Z47","v":0},{"$f":"DATAENTRY!AA47","v":0},{"$f":"DATAENTRY!AB47","v":0},{"$f":"DATAENTRY!AC47","v":0},{"$f":"DATAENTRY!AD47","v":0},{"$f":"DATAENTRY!AE47","v":0},{"$f":"DATAENTRY!AF47","v":0},{"$f":"DATAENTRY!AG47","v":0},{"$f":"DATAENTRY!AH47","v":0},{"$f":"DATAENTRY!AI47","v":0},{"$f":"DATAENTRY!AJ47","v":0},{"$f":"DATAENTRY!AK47","v":0},{"$f":"DATAENTRY!AL47","v":0},{"$f":"DATAENTRY!AM47","v":0},{"$f":"DATAENTRY!AN47","v":0},{"$f":"DATAENTRY!AO47","v":0},{"$f":"DATAENTRY!AP47","v":0},{"$f":"DATAENTRY!AQ47","v":0},{"$f":"DATAENTRY!AR47","v":0},{"$f":"DATAENTRY!AS47","v":0},{"$f":"DATAENTRY!AT47","v":0},{"$f":"DATAENTRY!AU47","v":0},{"$f":"DATAENTRY!AV47","v":0},{"$f":"DATAENTRY!AW47","v":0},{"$f":"DATAENTRY!AX47","v":0},{"$f":"DATAENTRY!AY47","v":34},{"$f":"DATAENTRY!AZ47","v":20},{"$f":"DATAENTRY!BA47","v":3},{"$f":"DATAENTRY!BB47","v":2},{"$f":"DATAENTRY!BC47","v":4},{"$f":"DATAENTRY!BD47","v":3},{"$f":"DATAENTRY!BE47","v":0},{"$f":"DATAENTRY!BF47","v":1},{"$f":"DATAENTRY!BG47","v":13},{"$f":"DATAENTRY!BH47","v":"30100000020100005000100050023533"}]
[{"$f":"DATAENTRY!C48","v":5},{"$f":"DATAENTRY!D48","v":5},{"$f":"DATAENTRY!E48","v":"HARRY SUTCLIFFE"},{"$f":"DATAENTRY!F48","v":22},{"$f":"DATAENTRY!G48","v":"BD"},{"$f":"DATAENTRY!H48","v":"50/50"},{"$f":"DATAENTRY!I48","v":"B"},{"$f":"DATAENTRY!J48","v":"BETA"},{"$f":"DATAENTRY!K48","v":"2020"},{"$f":"DATAENTRY!L48","v":"0000"},{"$f":"DATAENTRY!M48","v":"0111"},{"$f":"DATAENTRY!N48","v":"2100"},{"$f":"DATAENTRY!O48","v":"0100"},{"$f":"DATAENTRY!P48","v":"0000"},{"$f":"DATAENTRY!Q48","v":"3252"},{"$f":"DATAENTRY!R48","v":"3233"},{"$f":"DATAENTRY!S48","v":0},{"$f":"DATAENTRY!T48","v":0},{"$f":"DATAENTRY!U48","v":0},{"$f":"DATAENTRY!V48","v":0},{"$f":"DATAENTRY!W48","v":0},{"$f":"DATAENTRY!X48","v":0},{"$f":"DATAENTRY!Y48","v":0},{"$f":"DATAENTRY!Z48","v":0},{"$f":"DATAENTRY!AA48","v":0},{"$f":"DATAENTRY!AB48","v":0},{"$f":"DATAENTRY!AC48","v":0},{"$f":"DATAENTRY!AD48","v":0},{"$f":"DATAENTRY!AE48","v":0},{"$f":"DATAENTRY!AF48","v":0},{"$f":"DATAENTRY!AG48","v":0},{"$f":"DATAENTRY!AH48","v":0},{"$f":"DATAENTRY!AI48","v":0},{"$f":"DATAENTRY!AJ48","v":0},{"$f":"DATAENTRY!AK48","v":0},{"$f":"DATAENTRY!AL48","v":0},{"$f":"DATAENTRY!AM48","v":0},{"$f":"DATAENTRY!AN48","v":0},{"$f":"DATAENTRY!AO48","v":0},{"$f":"DATAENTRY!AP48","v":0},{"$f":"DATAENTRY!AQ48","v":0},{"$f":"DATAENTRY!AR48","v":0},{"$f":"DATAENTRY!AS48","v":0},{"$f":"DATAENTRY!AT48","v":0},{"$f":"DATAENTRY!AU48","v":0},{"$f":"DATAENTRY!AV48","v":0},{"$f":"DATAENTRY!AW48","v":0},{"$f":"DATAENTRY!AX48","v":0},{"$f":"DATAENTRY!AY48","v":34},{"$f":"DATAENTRY!AZ48","v":16},{"$f":"DATAENTRY!BA48","v":5},{"$f":"DATAENTRY!BB48","v":6},{"$f":"DATAENTRY!BC48","v":4},{"$f":"DATAENTRY!BD48","v":1},{"$f":"DATAENTRY!BE48","v":0},{"$f":"DATAENTRY!BF48","v":1},{"$f":"DATAENTRY!BG48","v":11},{"$f":"DATAENTRY!BH48","v":"20200000011121000100000032523233"}]
[{"$f":"DATAENTRY!C49","v":6},{"$f":"DATAENTRY!D49","v":6},{"$f":"DATAENTRY!E49","v":"DAVID MALLOY"},{"$f":"DATAENTRY!F49","v":10},{"$f":"DATAENTRY!G49","v":"BD"},{"$f":"DATAENTRY!H49","v":"50/50"},{"$f":"DATAENTRY!I49","v":"NOV"},{"$f":"DATAENTRY!J49","v":"GAS"},{"$f":"DATAENTRY!K49","v":"0200"},{"$f":"DATAENTRY!L49","v":"0100"},{"$f":"DATAENTRY!M49","v":"1333"},{"$f":"DATAENTRY!N49","v":"0232"},{"$f":"DATAENTRY!O49","v":"0500"},{"$f":"DATAENTRY!P49","v":"0000"},{"$f":"DATAENTRY!Q49","v":"5311"},{"$f":"DATAENTRY!R49","v":"1333"},{"$f":"DATAENTRY!S49","v":0},{"$f":"DATAENTRY!T49","v":0},{"$f":"DATAENTRY!U49","v":0},{"$f":"DATAENTRY!V49","v":0},{"$f":"DATAENTRY!W49","v":0},{"$f":"DATAENTRY!X49","v":0},{"$f":"DATAENTRY!Y49","v":0},{"$f":"DATAENTRY!Z49","v":0},{"$f":"DATAENTRY!AA49","v":0},{"$f":"DATAENTRY!AB49","v":0},{"$f":"DATAENTRY!AC49","v":0},{"$f":"DATAENTRY!AD49","v":0},{"$f":"DATAENTRY!AE49","v":0},{"$f":"DATAENTRY!AF49","v":0},{"$f":"DATAENTRY!AG49","v":0},{"$f":"DATAENTRY!AH49","v":0},{"$f":"DATAENTRY!AI49","v":0},{"$f":"DATAENTRY!AJ49","v":0},{"$f":"DATAENTRY!AK49","v":0},{"$f":"DATAENTRY!AL49","v":0},{"$f":"DATAENTRY!AM49","v":0},{"$f":"DATAENTRY!AN49","v":0},{"$f":"DATAENTRY!AO49","v":0},{"$f":"DATAENTRY!AP49","v":0},{"$f":"DATAENTRY!AQ49","v":0},{"$f":"DATAENTRY!AR49","v":0},{"$f":"DATAENTRY!AS49","v":0},{"$f":"DATAENTRY!AT49","v":0},{"$f":"DATAENTRY!AU49","v":0},{"$f":"DATAENTRY!AV49","v":0},{"$f":"DATAENTRY!AW49","v":0},{"$f":"DATAENTRY!AX49","v":0},{"$f":"DATAENTRY!AY49","v":45},{"$f":"DATAENTRY!AZ49","v":14},{"$f":"DATAENTRY!BA49","v":5},{"$f":"DATAENTRY!BB49","v":3},{"$f":"DATAENTRY!BC49","v":8},{"$f":"DATAENTRY!BD49","v":2},{"$f":"DATAENTRY!BE49","v":0},{"$f":"DATAENTRY!BF49","v":1},{"$f":"DATAENTRY!BG49","v":10},{"$f":"DATAENTRY!BH49","v":"02000100133302320500000053111333"}]
[{"$f":"DATAENTRY!C50","v":7},{"$f":"DATAENTRY!D50","v":7},{"$f":"DATAENTRY!E50","v":"FRANCESCA TATTERSALL"},{"$f":"DATAENTRY!F50","v":18},{"$f":"DATAENTRY!G50","v":"BD"},{"$f":"DATAENTRY!H50","v":"50/50"},{"$f":"DATAENTRY!I50","v":"NOV"},{"$f":"DATAENTRY!J50","v":"BETA"},{"$f":"DATAENTRY!K50","v":"1000"},{"$f":"DATAENTRY!L50","v":"0000"},{"$f":"DATAENTRY!M50","v":"5213"},{"$f":"DATAENTRY!N50","v":"0033"},{"$f":"DATAENTRY!O50","v":"0000"},{"$f":"DATAENTRY!P50","v":"0000"},{"$f":"DATAENTRY!Q50","v":"5353"},{"$f":"DATAENTRY!R50","v":"3353"},{"$f":"DATAENTRY!S50","v":0},{"$f":"DATAENTRY!T50","v":0},{"$f":"DATAENTRY!U50","v":0},{"$f":"DATAENTRY!V50","v":0},{"$f":"DATAENTRY!W50","v":0},{"$f":"DATAENTRY!X50","v":0},{"$f":"DATAENTRY!Y50","v":0},{"$f":"DATAENTRY!Z50","v":0},{"$f":"DATAENTRY!AA50","v":0},{"$f":"DATAENTRY!AB50","v":0},{"$f":"DATAENTRY!AC50","v":0},{"$f":"DATAENTRY!AD50","v":0},{"$f":"DATAENTRY!AE50","v":0},{"$f":"DATAENTRY!AF50","v":0},{"$f":"DATAENTRY!AG50","v":0},{"$f":"DATAENTRY!AH50","v":0},{"$f":"DATAENTRY!AI50","v":0},{"$f":"DATAENTRY!AJ50","v":0},{"$f":"DATAENTRY!AK50","v":0},{"$f":"DATAENTRY!AL50","v":0},{"$f":"DATAENTRY!AM50","v":0},{"$f":"DATAENTRY!AN50","v":0},{"$f":"DATAENTRY!AO50","v":0},{"$f":"DATAENTRY!AP50","v":0},{"$f":"DATAENTRY!AQ50","v":0},{"$f":"DATAENTRY!AR50","v":0},{"$f":"DATAENTRY!AS50","v":0},{"$f":"DATAENTRY!AT50","v":0},{"$f":"DATAENTRY!AU50","v":0},{"$f":"DATAENTRY!AV50","v":0},{"$f":"DATAENTRY!AW50","v":0},{"$f":"DATAENTRY!AX50","v":0},{"$f":"DATAENTRY!AY50","v":48},{"$f":"DATAENTRY!AZ50","v":17},{"$f":"DATAENTRY!BA50","v":2},{"$f":"DATAENTRY!BB50","v":1},{"$f":"DATAENTRY!BC50","v":8},{"$f":"DATAENTRY!BD50","v":4},{"$f":"DATAENTRY!BE50","v":0},{"$f":"DATAENTRY!BF50","v":1},{"$f":"DATAENTRY!BG50","v":9},{"$f":"DATAENTRY!BH50","v":"10000000521300330000000053533353"}]
[{"$f":"DATAENTRY!C51","v":8},{"$f":"DATAENTRY!D51","v":8},{"$f":"DATAENTRY!E51","v":"HARRISON LIGHTFOOT"},{"$f":"DATAENTRY!F51","v":16},{"$f":"DATAENTRY!G51","v":"BD"},{"$f":"DATAENTRY!H51","v":"50/50"},{"$f":"DATAENTRY!I51","v":"C"},{"$f":"DATAENTRY!J51","v":"BETA"},{"$f":"DATAENTRY!K51","v":"3020"},{"$f":"DATAENTRY!L51","v":"1000"},{"$f":"DATAENTRY!M51","v":"1051"},{"$f":"DATAENTRY!N51","v":"5003"},{"$f":"DATAENTRY!O51","v":"0000"},{"$f":"DATAENTRY!P51","v":"0000"},{"$f":"DATAENTRY!Q51","v":"5155"},{"$f":"DATAENTRY!R51","v":"3333"},{"$f":"DATAENTRY!S51","v":0},{"$f":"DATAENTRY!T51","v":0},{"$f":"DATAENTRY!U51","v":0},{"$f":"DATAENTRY!V51","v":0},{"$f":"DATAENTRY!W51","v":0},{"$f":"DATAENTRY!X51","v":0},{"$f":"DATAENTRY!Y51","v":0},{"$f":"DATAENTRY!Z51","v":0},{"$f":"DATAENTRY!AA51","v":0},{"$f":"DATAENTRY!AB51","v":0},{"$f":"DATAENTRY!AC51","v":0},{"$f":"DATAENTRY!AD51","v":0},{"$f":"DATAENTRY!AE51","v":0},{"$f":"DATAENTRY!AF51","v":0},{"$f":"DATAENTRY!AG51","v":0},{"$f":"DATAENTRY!AH51","v":0},{"$f":"DATAENTRY!AI51","v":0},{"$f":"DATAENTRY!AJ51","v":0},{"$f":"DATAENTRY!AK51","v":0},{"$f":"DATAENTRY!AL51","v":0},{"$f":"DATAENTRY!AM51","v":0},{"$f":"DATAENTRY!AN51","v":0},{"$f":"DATAENTRY!AO51","v":0},{"$f":"DATAENTRY!AP51","v":0},{"$f":"DATAENTRY!AQ51","v":0},{"$f":"DATAENTRY!AR51","v":0},{"$f":"DATAENTRY!AS51","v":0},{"$f":"DATAENTRY!AT51","v":0},{"$f":"DATAENTRY!AU51","v":0},{"$f":"DATAENTRY!AV51","v":0},{"$f":"DATAENTRY!AW51","v":0},{"$f":"DATAENTRY!AX51","v":0},{"$f":"DATAENTRY!AY51","v":49},{"$f":"DATAENTRY!AZ51","v":16},{"$f":"DATAENTRY!BA51","v":4},{"$f":"DATAENTRY!BB51","v":1},{"$f":"DATAENTRY!BC51","v":6},{"$f":"DATAENTRY!BD51","v":5},{"$f":"DATAENTRY!BE51","v":0},{"$f":"DATAENTRY!BF51","v":1},{"$f":"DATAENTRY!BG51","v":8},{"$f":"DATAENTRY!BH51","v":"30201000105150030000000051553333"}]
[{"$f":"DATAENTRY!C52","v":9},{"$f":"DATAENTRY!D52","v":9},{"$f":"DATAENTRY!E52","v":"NIGEL BARRETT"},{"$f":"DATAENTRY!F52","v":21},{"$f":"DATAENTRY!G52","v":"BD"},{"$f":"DATAENTRY!H52","v":"50/50"},{"$f":"DATAENTRY!I52","v":"NOV"},{"$f":"DATAENTRY!J52","v":"BETA"},{"$f":"DATAENTRY!K52","v":"5512"},{"$f":"DATAENTRY!L52","v":"0000"},{"$f":"DATAENTRY!M52","v":"1310"},{"$f":"DATAENTRY!N52","v":"3030"},{"$f":"DATAENTRY!O52","v":"0000"},{"$f":"DATAENTRY!P52","v":"0000"},{"$f":"DATAENTRY!Q52","v":"5555"},{"$f":"DATAENTRY!R52","v":"5555"},{"$f":"DATAENTRY!S52","v":0},{"$f":"DATAENTRY!T52","v":0},{"$f":"DATAENTRY!U52","v":0},{"$f":"DATAENTRY!V52","v":0},{"$f":"DATAENTRY!W52","v":0},{"$f":"DATAENTRY!X52","v":0},{"$f":"DATAENTRY!Y52","v":0},{"$f":"DATAENTRY!Z52","v":0},{"$f":"DATAENTRY!AA52","v":0},{"$f":"DATAENTRY!AB52","v":0},{"$f":"DATAENTRY!AC52","v":0},{"$f":"DATAENTRY!AD52","v":0},{"$f":"DATAENTRY!AE52","v":0},{"$f":"DATAENTRY!AF52","v":0},{"$f":"DATAENTRY!AG52","v":0},{"$f":"DATAENTRY!AH52","v":0},{"$f":"DATAENTRY!AI52","v":0},{"$f":"DATAENTRY!AJ52","v":0},{"$f":"DATAENTRY!AK52","v":0},{"$f":"DATAENTRY!AL52","v":0},{"$f":"DATAENTRY!AM52","v":0},{"$f":"DATAENTRY!AN52","v":0},{"$f":"DATAENTRY!AO52","v":0},{"$f":"DATAENTRY!AP52","v":0},{"$f":"DATAENTRY!AQ52","v":0},{"$f":"DATAENTRY!AR52","v":0},{"$f":"DATAENTRY!AS52","v":0},{"$f":"DATAENTRY!AT52","v":0},{"$f":"DATAENTRY!AU52","v":0},{"$f":"DATAENTRY!AV52","v":0},{"$f":"DATAENTRY!AW52","v":0},{"$f":"DATAENTRY!AX52","v":0},{"$f":"DATAENTRY!AY52","v":64},{"$f":"DATAENTRY!AZ52","v":15},{"$f":"DATAENTRY!BA52","v":3},{"$f":"DATAENTRY!BB52","v":1},{"$f":"DATAENTRY!BC52","v":3},{"$f":"DATAENTRY!BD52","v":10},{"$f":"DATAENTRY!BE52","v":0},{"$f":"DATAENTRY!BF52","v":1},{"$f":"DATAENTRY!BG52","v":7},{"$f":"DATAENTRY!BH52","v":"55120000131030300000000055555555"}]
[{"$f":"DATAENTRY!C53","v":10},{"$f":"DATAENTRY!D53","v":10},{"$f":"DATAENTRY!E53","v":"ANDY HUNTER"},{"$f":"DATAENTRY!F53","v":20},{"$f":"DATAENTRY!G53","v":"BD"},{"$f":"DATAENTRY!H53","v":"50/50"},{"$f":"DATAENTRY!I53","v":"NOV"},{"$f":"DATAENTRY!J53","v":"HONDA"},{"$f":"DATAENTRY!K53","v":"5110"},{"$f":"DATAENTRY!L53","v":"0000"},{"$f":"DATAENTRY!M53","v":"5353"},{"$f":"DATAENTRY!N53","v":"3050"},{"$f":"DATAENTRY!O53","v":"3010"},{"$f":"DATAENTRY!P53","v":"0100"},{"$f":"DATAENTRY!Q53","v":"5533"},{"$f":"DATAENTRY!R53","v":"5555"},{"$f":"DATAENTRY!S53","v":0},{"$f":"DATAENTRY!T53","v":0},{"$f":"DATAENTRY!U53","v":0},{"$f":"DATAENTRY!V53","v":0},{"$f":"DATAENTRY!W53","v":0},{"$f":"DATAENTRY!X53","v":0},{"$f":"DATAENTRY!Y53","v":0},{"$f":"DATAENTRY!Z53","v":0},{"$f":"DATAENTRY!AA53","v":0},{"$f":"DATAENTRY!AB53","v":0},{"$f":"DATAENTRY!AC53","v":0},{"$f":"DATAENTRY!AD53","v":0},{"$f":"DATAENTRY!AE53","v":0},{"$f":"DATAENTRY!AF53","v":0},{"$f":"DATAENTRY!AG53","v":0},{"$f":"DATAENTRY!AH53","v":0},{"$f":"DATAENTRY!AI53","v":0},{"$f":"DATAENTRY!AJ53","v":0},{"$f":"DATAENTRY!AK53","v":0},{"$f":"DATAENTRY!AL53","v":0},{"$f":"DATAENTRY!AM53","v":0},{"$f":"DATAENTRY!AN53","v":0},{"$f":"DATAENTRY!AO53","v":0},{"$f":"DATAENTRY!AP53","v":0},{"$f":"DATAENTRY!AQ53","v":0},{"$f":"DATAENTRY!AR53","v":0},{"$f":"DATAENTRY!AS53","v":0},{"$f":"DATAENTRY!AT53","v":0},{"$f":"DATAENTRY!AU53","v":0},{"$f":"DATAENTRY!AV53","v":0},{"$f":"DATAENTRY!AW53","v":0},{"$f":"DATAENTRY!AX53","v":0},{"$f":"DATAENTRY!AY53","v":72},{"$f":"DATAENTRY!AZ53","v":12},{"$f":"DATAENTRY!BA53","v":4},{"$f":"DATAENTRY!BB53","v":0},{"$f":"DATAENTRY!BC53","v":6},{"$f":"DATAENTRY!BD53","v":10},{"$f":"DATAENTRY!BE53","v":0},{"$f":"DATAENTRY!BF53","v":1},{"$f":"DATAENTRY!BG53","v":6},{"$f":"DATAENTRY!BH53","v":"51100000535330503010010055335555"}]
[{"$f":"DATAENTRY!C54","v":11},{"$f":"DATAENTRY!D54","v":11},{"$f":"DATAENTRY!E54","v":"MARTIN CLOUGH"},{"$f":"DATAENTRY!F54","v":15},{"$f":"DATAENTRY!G54","v":"BD"},{"$f":"DATAENTRY!H54","v":"50/50"},{"$f":"DATAENTRY!I54","v":"NOV"},{"$f":"DATAENTRY!J54","v":"BETA"},{"$f":"DATAENTRY!K54","v":"3255"},{"$f":"DATAENTRY!L54","v":"0000"},{"$f":"DATAENTRY!M54","v":"5525"},{"$f":"DATAENTRY!N54","v":"1000"},{"$f":"DATAENTRY!O54","v":"0055"},{"$f":"DATAENTRY!P54","v":"0005"},{"$f":"DATAENTRY!Q54","v":"5555"},{"$f":"DATAENTRY!R54","v":"5555"},{"$f":"DATAENTRY!S54","v":0},{"$f":"DATAENTRY!T54","v":0},{"$f":"DATAENTRY!U54","v":0},{"$f":"DATAENTRY!V54","v":0},{"$f":"DATAENTRY!W54","v":0},{"$f":"DATAENTRY!X54","v":0},{"$f":"DATAENTRY!Y54","v":0},{"$f":"DATAENTRY!Z54","v":0},{"$f":"DATAENTRY!AA54","v":0},{"$f":"DATAENTRY!AB54","v":0},{"$f":"DATAENTRY!AC54","v":0},{"$f":"DATAENTRY!AD54","v":0},{"$f":"DATAENTRY!AE54","v":0},{"$f":"DATAENTRY!AF54","v":0},{"$f":"DATAENTRY!AG54","v":0},{"$f":"DATAENTRY!AH54","v":0},{"$f":"DATAENTRY!AI54","v":0},{"$f":"DATAENTRY!AJ54","v":0},{"$f":"DATAENTRY!AK54","v":0},{"$f":"DATAENTRY!AL54","v":0},{"$f":"DATAENTRY!AM54","v":0},{"$f":"DATAENTRY!AN54","v":0},{"$f":"DATAENTRY!AO54","v":0},{"$f":"DATAENTRY!AP54","v":0},{"$f":"DATAENTRY!AQ54","v":0},{"$f":"DATAENTRY!AR54","v":0},{"$f":"DATAENTRY!AS54","v":0},{"$f":"DATAENTRY!AT54","v":0},{"$f":"DATAENTRY!AU54","v":0},{"$f":"DATAENTRY!AV54","v":0},{"$f":"DATAENTRY!AW54","v":0},{"$f":"DATAENTRY!AX54","v":0},{"$f":"DATAENTRY!AY54","v":88},{"$f":"DATAENTRY!AZ54","v":12},{"$f":"DATAENTRY!BA54","v":1},{"$f":"DATAENTRY!BB54","v":2},{"$f":"DATAENTRY!BC54","v":1},{"$f":"DATAENTRY!BD54","v":16},{"$f":"DATAENTRY!BE54","v":0},{"$f":"DATAENTRY!BF54","v":1},{"$f":"DATAENTRY!BG54","v":5},{"$f":"DATAENTRY!BH54","v":"32550000552510000055000555555555"}]
[{"$f":"DATAENTRY!C55","v":12},{"$f":"DATAENTRY!D55","v":12},{"$f":"DATAENTRY!E55","v":"GLEN HOLMES"},{"$f":"DATAENTRY!F55","v":24},{"$f":"DATAENTRY!G55","v":"bd"},{"$f":"DATAENTRY!H55","v":"50/50"},{"$f":"DATAENTRY!I55","v":"NOV"},{"$f":"DATAENTRY!J55","v":"BETA"},{"$f":"DATAENTRY!K55","v":"0555"},{"$f":"DATAENTRY!L55","v":"5555"},{"$f":"DATAENTRY!M55","v":"5555"},{"$f":"DATAENTRY!N55","v":"3555"},{"$f":"DATAENTRY!O55","v":"5555"},{"$f":"DATAENTRY!P55","v":"5555"},{"$f":"DATAENTRY!Q55","v":"5555"},{"$f":"DATAENTRY!R55","v":"5555"},{"$f":"DATAENTRY!S55","v":0},{"$f":"DATAENTRY!T55","v":0},{"$f":"DATAENTRY!U55","v":0},{"$f":"DATAENTRY!V55","v":0},{"$f":"DATAENTRY!W55","v":0},{"$f":"DATAENTRY!X55","v":0},{"$f":"DATAENTRY!Y55","v":0},{"$f":"DATAENTRY!Z55","v":0},{"$f":"DATAENTRY!AA55","v":0},{"$f":"DATAENTRY!AB55","v":0},{"$f":"DATAENTRY!AC55","v":0},{"$f":"DATAENTRY!AD55","v":0},{"$f":"DATAENTRY!AE55","v":0},{"$f":"DATAENTRY!AF55","v":0},{"$f":"DATAENTRY!AG55","v":0},{"$f":"DATAENTRY!AH55","v":0},{"$f":"DATAENTRY!AI55","v":0},{"$f":"DATAENTRY!AJ55","v":0},{"$f":"DATAENTRY!AK55","v":0},{"$f":"DATAENTRY!AL55","v":0},{"$f":"DATAENTRY!AM55","v":0},{"$f":"DATAENTRY!AN55","v":0},{"$f":"DATAENTRY!AO55","v":0},{"$f":"DATAENTRY!AP55","v":0},{"$f":"DATAENTRY!AQ55","v":0},{"$f":"DATAENTRY!AR55","v":0},{"$f":"DATAENTRY!AS55","v":0},{"$f":"DATAENTRY!AT55","v":0},{"$f":"DATAENTRY!AU55","v":0},{"$f":"DATAENTRY!AV55","v":0},{"$f":"DATAENTRY!AW55","v":0},{"$f":"DATAENTRY!AX55","v":0},{"$f":"DATAENTRY!AY55","v":153},{"$f":"DATAENTRY!AZ55","v":1},{"$f":"DATAENTRY!BA55","v":0},{"$f":"DATAENTRY!BB55","v":0},{"$f":"DATAENTRY!BC55","v":1},{"$f":"DATAENTRY!BD55","v":30},{"$f":"DATAENTRY!BE55","v":0},{"$f":"DATAENTRY!BF55","v":1},{"$f":"DATAENTRY!BG55","v":4},{"$f":"DATAENTRY!BH55","v":"05555555555535555555555555555555"}]
[{"$f":"DATAENTRY!C56","v":1},{"$f":"DATAENTRY!D56","v":1},{"$f":"DATAENTRY!E56","v":"IAN BRADLEY"},{"$f":"DATAENTRY!F56","v":64},{"$f":"DATAENTRY!G56","v":"BD"},{"$f":"DATAENTRY!H56","v":"EASY"},{"$f":"DATAENTRY!I56","v":"NOV"},{"$f":"DATAENTRY!J56","v":"BETA"},{"$f":"DATAENTRY!K56","v":"0000"},{"$f":"DATAENTRY!L56","v":"0000"},{"$f":"DATAENTRY!M56","v":"0000"},{"$f":"DATAENTRY!N56","v":"3101"},{"$f":"DATAENTRY!O56","v":"0000"},{"$f":"DATAENTRY!P56","v":"0000"},{"$f":"DATAENTRY!Q56","v":"0000"},{"$f":"DATAENTRY!R56","v":"0000"},{"$f":"DATAENTRY!S56","v":0},{"$f":"DATAENTRY!T56","v":0},{"$f":"DATAENTRY!U56","v":0},{"$f":"DATAENTRY!V56","v":0},{"$f":"DATAENTRY!W56","v":0},{"$f":"DATAENTRY!X56","v":0},{"$f":"DATAENTRY!Y56","v":0},{"$f":"DATAENTRY!Z56","v":0},{"$f":"DATAENTRY!AA56","v":0},{"$f":"DATAENTRY!AB56","v":0},{"$f":"DATAENTRY!AC56","v":0},{"$f":"DATAENTRY!AD56","v":0},{"$f":"DATAENTRY!AE56","v":0},{"$f":"DATAENTRY!AF56","v":0},{"$f":"DATAENTRY!AG56","v":0},{"$f":"DATAENTRY!AH56","v":0},{"$f":"DATAENTRY!AI56","v":0},{"$f":"DATAENTRY!AJ56","v":0},{"$f":"DATAENTRY!AK56","v":0},{"$f":"DATAENTRY!AL56","v":0},{"$f":"DATAENTRY!AM56","v":0},{"$f":"DATAENTRY!AN56","v":0},{"$f":"DATAENTRY!AO56","v":0},{"$f":"DATAENTRY!AP56","v":0},{"$f":"DATAENTRY!AQ56","v":0},{"$f":"DATAENTRY!AR56","v":0},{"$f":"DATAENTRY!AS56","v":0},{"$f":"DATAENTRY!AT56","v":0},{"$f":"DATAENTRY!AU56","v":0},{"$f":"DATAENTRY!AV56","v":0},{"$f":"DATAENTRY!AW56","v":0},{"$f":"DATAENTRY!AX56","v":0},{"$f":"DATAENTRY!AY56","v":5},{"$f":"DATAENTRY!AZ56","v":29},{"$f":"DATAENTRY!BA56","v":2},{"$f":"DATAENTRY!BB56","v":0},{"$f":"DATAENTRY!BC56","v":1},{"$f":"DATAENTRY!BD56","v":0},{"$f":"DATAENTRY!BE56","v":0},{"$f":"DATAENTRY!BF56","v":1},{"$f":"DATAENTRY!BG56","v":20},{"$f":"DATAENTRY!BH56","v":"00000000000031010000000000000000"}]
[{"$f":"DATAENTRY!C57","v":2},{"$f":"DATAENTRY!D57","v":2},{"$f":"DATAENTRY!E57","v":"JAMES CLOUGH"},{"$f":"DATAENTRY!F57","v":52},{"$f":"DATAENTRY!G57","v":"BD"},{"$f":"DATAENTRY!H57","v":"EASY"},{"$f":"DATAENTRY!I57","v":"B"},{"$f":"DATAENTRY!J57","v":"BETA"},{"$f":"DATAENTRY!K57","v":"1000"},{"$f":"DATAENTRY!L57","v":"0000"},{"$f":"DATAENTRY!M57","v":"1500"},{"$f":"DATAENTRY!N57","v":"0000"},{"$f":"DATAENTRY!O57","v":"0000"},{"$f":"DATAENTRY!P57","v":"0000"},{"$f":"DATAENTRY!Q57","v":"0000"},{"$f":"DATAENTRY!R57","v":"0000"},{"$f":"DATAENTRY!S57","v":0},{"$f":"DATAENTRY!T57","v":0},{"$f":"DATAENTRY!U57","v":0},{"$f":"DATAENTRY!V57","v":0},{"$f":"DATAENTRY!W57","v":0},{"$f":"DATAENTRY!X57","v":0},{"$f":"DATAENTRY!Y57","v":0},{"$f":"DATAENTRY!Z57","v":0},{"$f":"DATAENTRY!AA57","v":0},{"$f":"DATAENTRY!AB57","v":0},{"$f":"DATAENTRY!AC57","v":0},{"$f":"DATAENTRY!AD57","v":0},{"$f":"DATAENTRY!AE57","v":0},{"$f":"DATAENTRY!AF57","v":0},{"$f":"DATAENTRY!AG57","v":0},{"$f":"DATAENTRY!AH57","v":0},{"$f":"DATAENTRY!AI57","v":0},{"$f":"DATAENTRY!AJ57","v":0},{"$f":"DATAENTRY!AK57","v":0},{"$f":"DATAENTRY!AL57","v":0},{"$f":"DATAENTRY!AM57","v":0},{"$f":"DATAENTRY!AN57","v":0},{"$f":"DATAENTRY!AO57","v":0},{"$f":"DATAENTRY!AP57","v":0},{"$f":"DATAENTRY!AQ57","v":0},{"$f":"DATAENTRY!AR57","v":0},{"$f":"DATAENTRY!AS57","v":0},{"$f":"DATAENTRY!AT57","v":0},{"$f":"DATAENTRY!AU57","v":0},{"$f":"DATAENTRY!AV57","v":0},{"$f":"DATAENTRY!AW57","v":0},{"$f":"DATAENTRY!AX57","v":0},{"$f":"DATAENTRY!AY57","v":7},{"$f":"DATAENTRY!AZ57","v":29},{"$f":"DATAENTRY!BA57","v":2},{"$f":"DATAENTRY!BB57","v":0},{"$f":"DATAENTRY!BC57","v":0},{"$f":"DATAENTRY!BD57","v":1},{"$f":"DATAENTRY!BE57","v":0},{"$f":"DATAENTRY!BF57","v":1},{"$f":"DATAENTRY!BG57","v":17},{"$f":"DATAENTRY!BH57","v":"10000000150000000000000000000000"}]
[{"$f":"DATAENTRY!C58","v":3},{"$f":"DATAENTRY!D58","v":3},{"$f":"DATAENTRY!E58","v":"DAVID COCK"},{"$f":"DATAENTRY!F58","v":57},{"$f":"DATAENTRY!G58","v":"BD"},{"$f":"DATAENTRY!H58","v":"EASY"},{"$f":"DATAENTRY!I58","v":"NOV"},{"$f":"DATAENTRY!J58","v":"BETA"},{"$f":"DATAENTRY!K58","v":"0000"},{"$f":"DATAENTRY!L58","v":"0000"},{"$f":"DATAENTRY!M58","v":"0000"},{"$f":"DATAENTRY!N58","v":"2111"},{"$f":"DATAENTRY!O58","v":"0000"},{"$f":"DATAENTRY!P58","v":"0000"},{"$f":"DATAENTRY!Q58","v":"2000"},{"$f":"DATAENTRY!R58","v":"0110"},{"$f":"DATAENTRY!S58","v":0},{"$f":"DATAENTRY!T58","v":0},{"$f":"DATAENTRY!U58","v":0},{"$f":"DATAENTRY!V58","v":0},{"$f":"DATAENTRY!W58","v":0},{"$f":"DATAENTRY!X58","v":0},{"$f":"DATAENTRY!Y58","v":0},{"$f":"DATAENTRY!Z58","v":0},{"$f":"DATAENTRY!AA58","v":0},{"$f":"DATAENTRY!AB58","v":0},{"$f":"DATAENTRY!AC58","v":0},{"$f":"DATAENTRY!AD58","v":0},{"$f":"DATAENTRY!AE58","v":0},{"$f":"DATAENTRY!AF58","v":0},{"$f":"DATAENTRY!AG58","v":0},{"$f":"DATAENTRY!AH58","v":0},{"$f":"DATAENTRY!AI58","v":0},{"$f":"DATAENTRY!AJ58","v":0},{"$f":"DATAENTRY!AK58","v":0},{"$f":"DATAENTRY!AL58","v":0},{"$f":"DATAENTRY!AM58","v":0},{"$f":"DATAENTRY!AN58","v":0},{"$f":"DATAENTRY!AO58","v":0},{"$f":"DATAENTRY!AP58","v":0},{"$f":"DATAENTRY!AQ58","v":0},{"$f":"DATAENTRY!AR58","v":0},{"$f":"DATAENTRY!AS58","v":0},{"$f":"DATAENTRY!AT58","v":0},{"$f":"DATAENTRY!AU58","v":0},{"$f":"DATAENTRY!AV58","v":0},{"$f":"DATAENTRY!AW58","v":0},{"$f":"DATAENTRY!AX58","v":0},{"$f":"DATAENTRY!AY58","v":9},{"$f":"DATAENTRY!AZ58","v":25},{"$f":"DATAENTRY!BA58","v":5},{"$f":"DATAENTRY!BB58","v":2},{"$f":"DATAENTRY!BC58","v":0},{"$f":"DATAENTRY!BD58","v":0},{"$f":"DATAENTRY!BE58","v":0},{"$f":"DATAENTRY!BF58","v":1},{"$f":"DATAENTRY!BG58","v":15},{"$f":"DATAENTRY!BH58","v":"00000000000021110000000020000110"}]
[{"$f":"DATAENTRY!C59","v":4},{"$f":"DATAENTRY!D59","v":4},{"$f":"DATAENTRY!E59","v":"RICHARD WHITTAKER"},{"$f":"DATAENTRY!F59","v":66},{"$f":"DATAENTRY!G59","v":"BD"},{"$f":"DATAENTRY!H59","v":"EASY"},{"$f":"DATAENTRY!I59","v":"NOV"},{"$f":"DATAENTRY!J59","v":"BETA"},{"$f":"DATAENTRY!K59","v":"0000"},{"$f":"DATAENTRY!L59","v":"0000"},{"$f":"DATAENTRY!M59","v":"0000"},{"$f":"DATAENTRY!N59","v":"1100"},{"$f":"DATAENTRY!O59","v":"2010"},{"$f":"DATAENTRY!P59","v":"0000"},{"$f":"DATAENTRY!Q59","v":"0001"},{"$f":"DATAENTRY!R59","v":"2100"},{"$f":"DATAENTRY!S59","v":0},{"$f":"DATAENTRY!T59","v":0},{"$f":"DATAENTRY!U59","v":0},{"$f":"DATAENTRY!V59","v":0},{"$f":"DATAENTRY!W59","v":0},{"$f":"DATAENTRY!X59","v":0},{"$f":"DATAENTRY!Y59","v":0},{"$f":"DATAENTRY!Z59","v":0},{"$f":"DATAENTRY!AA59","v":0},{"$f":"DATAENTRY!AB59","v":0},{"$f":"DATAENTRY!AC59","v":0},{"$f":"DATAENTRY!AD59","v":0},{"$f":"DATAENTRY!AE59","v":0},{"$f":"DATAENTRY!AF59","v":0},{"$f":"DATAENTRY!AG59","v":0},{"$f":"DATAENTRY!AH59","v":0},{"$f":"DATAENTRY!AI59","v":0},{"$f":"DATAENTRY!AJ59","v":0},{"$f":"DATAENTRY!AK59","v":0},{"$f":"DATAENTRY!AL59","v":0},{"$f":"DATAENTRY!AM59","v":0},{"$f":"DATAENTRY!AN59","v":0},{"$f":"DATAENTRY!AO59","v":0},{"$f":"DATAENTRY!AP59","v":0},{"$f":"DATAENTRY!AQ59","v":0},{"$f":"DATAENTRY!AR59","v":0},{"$f":"DATAENTRY!AS59","v":0},{"$f":"DATAENTRY!AT59","v":0},{"$f":"DATAENTRY!AU59","v":0},{"$f":"DATAENTRY!AV59","v":0},{"$f":"DATAENTRY!AW59","v":0},{"$f":"DATAENTRY!AX59","v":0},{"$f":"DATAENTRY!AY59","v":9},{"$f":"DATAENTRY!AZ59","v":25},{"$f":"DATAENTRY!BA59","v":5},{"$f":"DATAENTRY!BB59","v":2},{"$f":"DATAENTRY!BC59","v":0},{"$f":"DATAENTRY!BD59","v":0},{"$f":"DATAENTRY!BE59","v":0},{"$f":"DATAENTRY!BF59","v":1},{"$f":"DATAENTRY!BG59","v":13},{"$f":"DATAENTRY!BH59","v":"00000000000011002010000000012100"}]
[{"$f":"DATAENTRY!C60","v":5},{"$f":"DATAENTRY!D60","v":5},{"$f":"DATAENTRY!E60","v":"ELLIOT COCK"},{"$f":"DATAENTRY!F60","v":58},{"$f":"DATAENTRY!G60","v":"BD"},{"$f":"DATAENTRY!H60","v":"EASY"},{"$f":"DATAENTRY!I60","v":"B"},{"$f":"DATAENTRY!J60","v":"BETA"},{"$f":"DATAENTRY!K60","v":"0000"},{"$f":"DATAENTRY!L60","v":"0010"},{"$f":"DATAENTRY!M60","v":"0000"},{"$f":"DATAENTRY!N60","v":"0001"},{"$f":"DATAENTRY!O60","v":"0101"},{"$f":"DATAENTRY!P60","v":"0000"},{"$f":"DATAENTRY!Q60","v":"0010"},{"$f":"DATAENTRY!R60","v":"1120"},{"$f":"DATAENTRY!S60","v":0},{"$f":"DATAENTRY!T60","v":0},{"$f":"DATAENTRY!U60","v":0},{"$f":"DATAENTRY!V60","v":0},{"$f":"DATAENTRY!W60","v":0},{"$f":"DATAENTRY!X60","v":0},{"$f":"DATAENTRY!Y60","v":0},{"$f":"DATAENTRY!Z60","v":0},{"$f":"DATAENTRY!AA60","v":0},{"$f":"DATAENTRY!AB60","v":0},{"$f":"DATAENTRY!AC60","v":0},{"$f":"DATAENTRY!AD60","v":0},{"$f":"DATAENTRY!AE60","v":0},{"$f":"DATAENTRY!AF60","v":0},{"$f":"DATAENTRY!AG60","v":0},{"$f":"DATAENTRY!AH60","v":0},{"$f":"DATAENTRY!AI60","v":0},{"$f":"DATAENTRY!AJ60","v":0},{"$f":"DATAENTRY!AK60","v":0},{"$f":"DATAENTRY!AL60","v":0},{"$f":"DATAENTRY!AM60","v":0},{"$f":"DATAENTRY!AN60","v":0},{"$f":"DATAENTRY!AO60","v":0},{"$f":"DATAENTRY!AP60","v":0},{"$f":"DATAENTRY!AQ60","v":0},{"$f":"DATAENTRY!AR60","v":0},{"$f":"DATAENTRY!AS60","v":0},{"$f":"DATAENTRY!AT60","v":0},{"$f":"DATAENTRY!AU60","v":0},{"$f":"DATAENTRY!AV60","v":0},{"$f":"DATAENTRY!AW60","v":0},{"$f":"DATAENTRY!AX60","v":0},{"$f":"DATAENTRY!AY60","v":9},{"$f":"DATAENTRY!AZ60","v":24},{"$f":"DATAENTRY!BA60","v":7},{"$f":"DATAENTRY!BB60","v":1},{"$f":"DATAENTRY!BC60","v":0},{"$f":"DATAENTRY!BD60","v":0},{"$f":"DATAENTRY!BE60","v":0},{"$f":"DATAENTRY!BF60","v":1},{"$f":"DATAENTRY!BG60","v":11},{"$f":"DATAENTRY!BH60","v":"00000010000000010101000000101120"}]
[{"$f":"DATAENTRY!C61","v":6},{"$f":"DATAENTRY!D61","v":6},{"$f":"DATAENTRY!E61","v":"MIKE FRIZZELL"},{"$f":"DATAENTRY!F61","v":53},{"$f":"DATAENTRY!G61","v":"BD"},{"$f":"DATAENTRY!H61","v":"EASY"},{"$f":"DATAENTRY!I61","v":"NOV"},{"$f":"DATAENTRY!J61","v":"BETA"},{"$f":"DATAENTRY!K61","v":"0000"},{"$f":"DATAENTRY!L61","v":"0000"},{"$f":"DATAENTRY!M61","v":"0000"},{"$f":"DATAENTRY!N61","v":"0000"},{"$f":"DATAENTRY!O61","v":"0521"},{"$f":"DATAENTRY!P61","v":"0000"},{"$f":"DATAENTRY!Q61","v":"2010"},{"$f":"DATAENTRY!R61","v":"0000"},{"$f":"DATAENTRY!S61","v":0},{"$f":"DATAENTRY!T61","v":0},{"$f":"DATAENTRY!U61","v":0},{"$f":"DATAENTRY!V61","v":0},{"$f":"DATAENTRY!W61","v":0},{"$f":"DATAENTRY!X61","v":0},{"$f":"DATAENTRY!Y61","v":0},{"$f":"DATAENTRY!Z61","v":0},{"$f":"DATAENTRY!AA61","v":0},{"$f":"DATAENTRY!AB61","v":0},{"$f":"DATAENTRY!AC61","v":0},{"$f":"DATAENTRY!AD61","v":0},{"$f":"DATAENTRY!AE61","v":0},{"$f":"DATAENTRY!AF61","v":0},{"$f":"DATAENTRY!AG61","v":0},{"$f":"DATAENTRY!AH61","v":0},{"$f":"DATAENTRY!AI61","v":0},{"$f":"DATAENTRY!AJ61","v":0},{"$f":"DATAENTRY!AK61","v":0},{"$f":"DATAENTRY!AL61","v":0},{"$f":"DATAENTRY!AM61","v":0},{"$f":"DATAENTRY!AN61","v":0},{"$f":"DATAENTRY!AO61","v":0},{"$f":"DATAENTRY!AP61","v":0},{"$f":"DATAENTRY!AQ61","v":0},{"$f":"DATAENTRY!AR61","v":0},{"$f":"DATAENTRY!AS61","v":0},{"$f":"DATAENTRY!AT61","v":0},{"$f":"DATAENTRY!AU61","v":0},{"$f":"DATAENTRY!AV61","v":0},{"$f":"DATAENTRY!AW61","v":0},{"$f":"DATAENTRY!AX61","v":0},{"$f":"DATAENTRY!AY61","v":11},{"$f":"DATAENTRY!AZ61","v":27},{"$f":"DATAENTRY!BA61","v":2},{"$f":"DATAENTRY!BB61","v":2},{"$f":"DATAENTRY!BC61","v":0},{"$f":"DATAENTRY!BD61","v":1},{"$f":"DATAENTRY!BE61","v":0},{"$f":"DATAENTRY!BF61","v":1},{"$f":"DATAENTRY!BG61","v":10},{"$f":"DATAENTRY!BH61","v":"00000000000000000521000020100000"}]
[{"$f":"DATAENTRY!C62","v":7},{"$f":"DATAENTRY!D62","v":7},{"$f":"DATAENTRY!E62","v":"CHARLIE PETTY"},{"$f":"DATAENTRY!F62","v":62},{"$f":"DATAENTRY!G62","v":"BD"},{"$f":"DATAENTRY!H62","v":"EASY"},{"$f":"DATAENTRY!I62","v":"C"},{"$f":"DATAENTRY!J62","v":"BETA"},{"$f":"DATAENTRY!K62","v":"0000"},{"$f":"DATAENTRY!L62","v":"0000"},{"$f":"DATAENTRY!M62","v":"0000"},{"$f":"DATAENTRY!N62","v":"5101"},{"$f":"DATAENTRY!O62","v":"0111"},{"$f":"DATAENTRY!P62","v":"0000"},{"$f":"DATAENTRY!Q62","v":"0000"},{"$f":"DATAENTRY!R62","v":"1100"},{"$f":"DATAENTRY!S62","v":0},{"$f":"DATAENTRY!T62","v":0},{"$f":"DATAENTRY!U62","v":0},{"$f":"DATAENTRY!V62","v":0},{"$f":"DATAENTRY!W62","v":0},{"$f":"DATAENTRY!X62","v":0},{"$f":"DATAENTRY!Y62","v":0},{"$f":"DATAENTRY!Z62","v":0},{"$f":"DATAENTRY!AA62","v":0},{"$f":"DATAENTRY!AB62","v":0},{"$f":"DATAENTRY!AC62","v":0},{"$f":"DATAENTRY!AD62","v":0},{"$f":"DATAENTRY!AE62","v":0},{"$f":"DATAENTRY!AF62","v":0},{"$f":"DATAENTRY!AG62","v":0},{"$f":"DATAENTRY!AH62","v":0},{"$f":"DATAENTRY!AI62","v":0},{"$f":"DATAENTRY!AJ62","v":0},{"$f":"DATAENTRY!AK62","v":0},{"$f":"DATAENTRY!AL62","v":0},{"$f":"DATAENTRY!AM62","v":0},{"$f":"DATAENTRY!AN62","v":0},{"$f":"DATAENTRY!AO62","v":0},{"$f":"DATAENTRY!AP62","v":0},{"$f":"DATAENTRY!AQ62","v":0},{"$f":"DATAENTRY!AR62","v":0},{"$f":"DATAENTRY!AS62","v":0},{"$f":"DATAENTRY!AT62","v":0},{"$f":"DATAENTRY!AU62","v":0},{"$f":"DATAENTRY!AV62","v":0},{"$f":"DATAENTRY!AW62","v":0},{"$f":"DATAENTRY!AX62","v":0},{"$f":"DATAENTRY!AY62","v":12},{"$f":"DATAENTRY!AZ62","v":24},{"$f":"DATAENTRY!BA62","v":7},{"$f":"DATAENTRY!BB62","v":0},{"$f":"DATAENTRY!BC62","v":0},{"$f":"DATAENTRY!BD62","v":1},{"$f":"DATAENTRY!BE62","v":0},{"$f":"DATAENTRY!BF62","v":1},{"$f":"DATAENTRY!BG62","v":9},{"$f":"DATAENTRY!BH62","v":"00000000000051010111000000001100"}]
[{"$f":"DATAENTRY!C63","v":8},{"$f":"DATAENTRY!D63","v":8},{"$f":"DATAENTRY!E63","v":"GLYN TATTERSALL"},{"$f":"DATAENTRY!F63","v":60},{"$f":"DATAENTRY!G63","v":"BD"},{"$f":"DATAENTRY!H63","v":"EASY"},{"$f":"DATAENTRY!I63","v":"NOV"},{"$f":"DATAENTRY!J63","v":"MONT"},{"$f":"DATAENTRY!K63","v":"0000"},{"$f":"DATAENTRY!L63","v":"0000"},{"$f":"DATAENTRY!M63","v":"0010"},{"$f":"DATAENTRY!N63","v":"0113"},{"$f":"DATAENTRY!O63","v":"1512"},{"$f":"DATAENTRY!P63","v":"0000"},{"$f":"DATAENTRY!Q63","v":"0000"},{"$f":"DATAENTRY!R63","v":"0000"},{"$f":"DATAENTRY!S63","v":0},{"$f":"DATAENTRY!T63","v":0},{"$f":"DATAENTRY!U63","v":0},{"$f":"DATAENTRY!V63","v":0},{"$f":"DATAENTRY!W63","v":0},{"$f":"DATAENTRY!X63","v":0},{"$f":"DATAENTRY!Y63","v":0},{"$f":"DATAENTRY!Z63","v":0},{"$f":"DATAENTRY!AA63","v":0},{"$f":"DATAENTRY!AB63","v":0},{"$f":"DATAENTRY!AC63","v":0},{"$f":"DATAENTRY!AD63","v":0},{"$f":"DATAENTRY!AE63","v":0},{"$f":"DATAENTRY!AF63","v":0},{"$f":"DATAENTRY!AG63","v":0},{"$f":"DATAENTRY!AH63","v":0},{"$f":"DATAENTRY!AI63","v":0},{"$f":"DATAENTRY!AJ63","v":0},{"$f":"DATAENTRY!AK63","v":0},{"$f":"DATAENTRY!AL63","v":0},{"$f":"DATAENTRY!AM63","v":0},{"$f":"DATAENTRY!AN63","v":0},{"$f":"DATAENTRY!AO63","v":0},{"$f":"DATAENTRY!AP63","v":0},{"$f":"DATAENTRY!AQ63","v":0},{"$f":"DATAENTRY!AR63","v":0},{"$f":"DATAENTRY!AS63","v":0},{"$f":"DATAENTRY!AT63","v":0},{"$f":"DATAENTRY!AU63","v":0},{"$f":"DATAENTRY!AV63","v":0},{"$f":"DATAENTRY!AW63","v":0},{"$f":"DATAENTRY!AX63","v":0},{"$f":"DATAENTRY!AY63","v":15},{"$f":"DATAENTRY!AZ63","v":24},{"$f":"DATAENTRY!BA63","v":5},{"$f":"DATAENTRY!BB63","v":1},{"$f":"DATAENTRY!BC63","v":1},{"$f":"DATAENTRY!BD63","v":1},{"$f":"DATAENTRY!BE63","v":0},{"$f":"DATAENTRY!BF63","v":1},{"$f":"DATAENTRY!BG63","v":8},{"$f":"DATAENTRY!BH63","v":"00000000001001131512000000000000"}]
[{"$f":"DATAENTRY!C64","v":9},{"$f":"DATAENTRY!D64","v":9},{"$f":"DATAENTRY!E64","v":"OLIVER PETTY"},{"$f":"DATAENTRY!F64","v":61},{"$f":"DATAENTRY!G64","v":"BD"},{"$f":"DATAENTRY!H64","v":"EASY"},{"$f":"DATAENTRY!I64","v":"C"},{"$f":"DATAENTRY!J64","v":"BETA"},{"$f":"DATAENTRY!K64","v":"0000"},{"$f":"DATAENTRY!L64","v":"0000"},{"$f":"DATAENTRY!M64","v":"0100"},{"$f":"DATAENTRY!N64","v":"3101"},{"$f":"DATAENTRY!O64","v":"0310"},{"$f":"DATAENTRY!P64","v":"0000"},{"$f":"DATAENTRY!Q64","v":"1000"},{"$f":"DATAENTRY!R64","v":"0005"},{"$f":"DATAENTRY!S64","v":0},{"$f":"DATAENTRY!T64","v":0},{"$f":"DATAENTRY!U64","v":0},{"$f":"DATAENTRY!V64","v":0},{"$f":"DATAENTRY!W64","v":0},{"$f":"DATAENTRY!X64","v":0},{"$f":"DATAENTRY!Y64","v":0},{"$f":"DATAENTRY!Z64","v":0},{"$f":"DATAENTRY!AA64","v":0},{"$f":"DATAENTRY!AB64","v":0},{"$f":"DATAENTRY!AC64","v":0},{"$f":"DATAENTRY!AD64","v":0},{"$f":"DATAENTRY!AE64","v":0},{"$f":"DATAENTRY!AF64","v":0},{"$f":"DATAENTRY!AG64","v":0},{"$f":"DATAENTRY!AH64","v":0},{"$f":"DATAENTRY!AI64","v":0},{"$f":"DATAENTRY!AJ64","v":0},{"$f":"DATAENTRY!AK64","v":0},{"$f":"DATAENTRY!AL64","v":0},{"$f":"DATAENTRY!AM64","v":0},{"$f":"DATAENTRY!AN64","v":0},{"$f":"DATAENTRY!AO64","v":0},{"$f":"DATAENTRY!AP64","v":0},{"$f":"DATAENTRY!AQ64","v":0},{"$f":"DATAENTRY!AR64","v":0},{"$f":"DATAENTRY!AS64","v":0},{"$f":"DATAENTRY!AT64","v":0},{"$f":"DATAENTRY!AU64","v":0},{"$f":"DATAENTRY!AV64","v":0},{"$f":"DATAENTRY!AW64","v":0},{"$f":"DATAENTRY!AX64","v":0},{"$f":"DATAENTRY!AY64","v":16},{"$f":"DATAENTRY!AZ64","v":24},{"$f":"DATAENTRY!BA64","v":5},{"$f":"DATAENTRY!BB64","v":0},{"$f":"DATAENTRY!BC64","v":2},{"$f":"DATAENTRY!BD64","v":1},{"$f":"DATAENTRY!BE64","v":0},{"$f":"DATAENTRY!BF64","v":1},{"$f":"DATAENTRY!BG64","v":7},{"$f":"DATAENTRY!BH64","v":"00000000010031010310000010000005"}]
[{"$f":"DATAENTRY!C65","v":10},{"$f":"DATAENTRY!D65","v":10},{"$f":"DATAENTRY!E65","v":"JOEL ISHERWOOD"},{"$f":"DATAENTRY!F65","v":6},{"$f":"DATAENTRY!G65","v":"BD"},{"$f":"DATAENTRY!H65","v":"EASY"},{"$f":"DATAENTRY!I65","v":"D"},{"$f":"DATAENTRY!J65","v":"BETA"},{"$f":"DATAENTRY!K65","v":"0000"},{"$f":"DATAENTRY!L65","v":"0100"},{"$f":"DATAENTRY!M65","v":"0000"},{"$f":"DATAENTRY!N65","v":"5000"},{"$f":"DATAENTRY!O65","v":"1352"},{"$f":"DATAENTRY!P65","v":"0000"},{"$f":"DATAENTRY!Q65","v":"1130"},{"$f":"DATAENTRY!R65","v":"0000"},{"$f":"DATAENTRY!S65","v":0},{"$f":"DATAENTRY!T65","v":0},{"$f":"DATAENTRY!U65","v":0},{"$f":"DATAENTRY!V65","v":0},{"$f":"DATAENTRY!W65","v":0},{"$f":"DATAENTRY!X65","v":0},{"$f":"DATAENTRY!Y65","v":0},{"$f":"DATAENTRY!Z65","v":0},{"$f":"DATAENTRY!AA65","v":0},{"$f":"DATAENTRY!AB65","v":0},{"$f":"DATAENTRY!AC65","v":0},{"$f":"DATAENTRY!AD65","v":0},{"$f":"DATAENTRY!AE65","v":0},{"$f":"DATAENTRY!AF65","v":0},{"$f":"DATAENTRY!AG65","v":0},{"$f":"DATAENTRY!AH65","v":0},{"$f":"DATAENTRY!AI65","v":0},{"$f":"DATAENTRY!AJ65","v":0},{"$f":"DATAENTRY!AK65","v":0},{"$f":"DATAENTRY!AL65","v":0},{"$f":"DATAENTRY!AM65","v":0},{"$f":"DATAENTRY!AN65","v":0},{"$f":"DATAENTRY!AO65","v":0},{"$f":"DATAENTRY!AP65","v":0},{"$f":"DATAENTRY!AQ65","v":0},{"$f":"DATAENTRY!AR65","v":0},{"$f":"DATAENTRY!AS65","v":0},{"$f":"DATAENTRY!AT65","v":0},{"$f":"DATAENTRY!AU65","v":0},{"$f":"DATAENTRY!AV65","v":0},{"$f":"DATAENTRY!AW65","v":0},{"$f":"DATAENTRY!AX65","v":0},{"$f":"DATAENTRY!AY65","v":22},{"$f":"DATAENTRY!AZ65","v":23},{"$f":"DATAENTRY!BA65","v":4},{"$f":"DATAENTRY!BB65","v":1},{"$f":"DATAENTRY!BC65","v":2},{"$f":"DATAENTRY!BD65","v":2},{"$f":"DATAENTRY!BE65","v":0},{"$f":"DATAENTRY!BF65","v":1},{"$f":"DATAENTRY!BG65","v":6},{"$f":"DATAENTRY!BH65","v":"00000100000050001352000011300000"}]
[{"$f":"DATAENTRY!C66","v":11},{"$f":"DATAENTRY!D66","v":11},{"$f":"DATAENTRY!E66","v":"JONATHAN BATTERSBY"},{"$f":"DATAENTRY!F66","v":54},{"$f":"DATAENTRY!G66","v":"BD"},{"$f":"DATAENTRY!H66","v":"EASY"},{"$f":"DATAENTRY!I66","v":"NOV"},{"$f":"DATAENTRY!J66","v":"SCORPA"},{"$f":"DATAENTRY!K66","v":"0000"},{"$f":"DATAENTRY!L66","v":"0000"},{"$f":"DATAENTRY!M66","v":"0101"},{"$f":"DATAENTRY!N66","v":"0033"},{"$f":"DATAENTRY!O66","v":"2533"},{"$f":"DATAENTRY!P66","v":"0000"},{"$f":"DATAENTRY!Q66","v":"0010"},{"$f":"DATAENTRY!R66","v":"0000"},{"$f":"DATAENTRY!S66","v":0},{"$f":"DATAENTRY!T66","v":0},{"$f":"DATAENTRY!U66","v":0},{"$f":"DATAENTRY!V66","v":0},{"$f":"DATAENTRY!W66","v":0},{"$f":"DATAENTRY!X66","v":0},{"$f":"DATAENTRY!Y66","v":0},{"$f":"DATAENTRY!Z66","v":0},{"$f":"DATAENTRY!AA66","v":0},{"$f":"DATAENTRY!AB66","v":0},{"$f":"DATAENTRY!AC66","v":0},{"$f":"DATAENTRY!AD66","v":0},{"$f":"DATAENTRY!AE66","v":0},{"$f":"DATAENTRY!AF66","v":0},{"$f":"DATAENTRY!AG66","v":0},{"$f":"DATAENTRY!AH66","v":0},{"$f":"DATAENTRY!AI66","v":0},{"$f":"DATAENTRY!AJ66","v":0},{"$f":"DATAENTRY!AK66","v":0},{"$f":"DATAENTRY!AL66","v":0},{"$f":"DATAENTRY!AM66","v":0},{"$f":"DATAENTRY!AN66","v":0},{"$f":"DATAENTRY!AO66","v":0},{"$f":"DATAENTRY!AP66","v":0},{"$f":"DATAENTRY!AQ66","v":0},{"$f":"DATAENTRY!AR66","v":0},{"$f":"DATAENTRY!AS66","v":0},{"$f":"DATAENTRY!AT66","v":0},{"$f":"DATAENTRY!AU66","v":0},{"$f":"DATAENTRY!AV66","v":0},{"$f":"DATAENTRY!AW66","v":0},{"$f":"DATAENTRY!AX66","v":0},{"$f":"DATAENTRY!AY66","v":22},{"$f":"DATAENTRY!AZ66","v":23},{"$f":"DATAENTRY!BA66","v":3},{"$f":"DATAENTRY!BB66","v":1},{"$f":"DATAENTRY!BC66","v":4},{"$f":"DATAENTRY!BD66","v":1},{"$f":"DATAENTRY!BE66","v":0},{"$f":"DATAENTRY!BF66","v":1},{"$f":"DATAENTRY!BG66","v":5},{"$f":"DATAENTRY!BH66","v":"00000000010100332533000000100000"}]
[{"$f":"DATAENTRY!C67","v":12},{"$f":"DATAENTRY!D67","v":12},{"$f":"DATAENTRY!E67","v":"VERNON CLARKE"},{"$f":"DATAENTRY!F67","v":67},{"$f":"DATAENTRY!G67","v":"BD"},{"$f":"DATAENTRY!H67","v":"EASY"},{"$f":"DATAENTRY!I67","v":"NOV"},{"$f":"DATAENTRY!J67","v":"SHERCO"},{"$f":"DATAENTRY!K67","v":"0000"},{"$f":"DATAENTRY!L67","v":"0005"},{"$f":"DATAENTRY!M67","v":"0500"},{"$f":"DATAENTRY!N67","v":"0020"},{"$f":"DATAENTRY!O67","v":"1105"},{"$f":"DATAENTRY!P67","v":"0000"},{"$f":"DATAENTRY!Q67","v":"0001"},{"$f":"DATAENTRY!R67","v":"0031"},{"$f":"DATAENTRY!S67","v":0},{"$f":"DATAENTRY!T67","v":0},{"$f":"DATAENTRY!U67","v":0},{"$f":"DATAENTRY!V67","v":0},{"$f":"DATAENTRY!W67","v":0},{"$f":"DATAENTRY!X67","v":0},{"$f":"DATAENTRY!Y67","v":0},{"$f":"DATAENTRY!Z67","v":0},{"$f":"DATAENTRY!AA67","v":0},{"$f":"DATAENTRY!AB67","v":0},{"$f":"DATAENTRY!AC67","v":0},{"$f":"DATAENTRY!AD67","v":0},{"$f":"DATAENTRY!AE67","v":0},{"$f":"DATAENTRY!AF67","v":0},{"$f":"DATAENTRY!AG67","v":0},{"$f":"DATAENTRY!AH67","v":0},{"$f":"DATAENTRY!AI67","v":0},{"$f":"DATAENTRY!AJ67","v":0},{"$f":"DATAENTRY!AK67","v":0},{"$f":"DATAENTRY!AL67","v":0},{"$f":"DATAENTRY!AM67","v":0},{"$f":"DATAENTRY!AN67","v":0},{"$f":"DATAENTRY!AO67","v":0},{"$f":"DATAENTRY!AP67","v":0},{"$f":"DATAENTRY!AQ67","v":0},{"$f":"DATAENTRY!AR67","v":0},{"$f":"DATAENTRY!AS67","v":0},{"$f":"DATAENTRY!AT67","v":0},{"$f":"DATAENTRY!AU67","v":0},{"$f":"DATAENTRY!AV67","v":0},{"$f":"DATAENTRY!AW67","v":0},{"$f":"DATAENTRY!AX67","v":0},{"$f":"DATAENTRY!AY67","v":24},{"$f":"DATAENTRY!AZ67","v":23},{"$f":"DATAENTRY!BA67","v":4},{"$f":"DATAENTRY!BB67","v":1},{"$f":"DATAENTRY!BC67","v":1},{"$f":"DATAENTRY!BD67","v":3},{"$f":"DATAENTRY!BE67","v":0},{"$f":"DATAENTRY!BF67","v":1},{"$f":"DATAENTRY!BG67","v":4},{"$f":"DATAENTRY!BH67","v":"00000005050000201105000000010031"}]
[{"$f":"DATAENTRY!C68","v":13},{"$f":"DATAENTRY!D68","v":13},{"$f":"DATAENTRY!E68","v":"MATT BRADLEY"},{"$f":"DATAENTRY!F68","v":55},{"$f":"DATAENTRY!G68","v":"BD"},{"$f":"DATAENTRY!H68","v":"EASY"},{"$f":"DATAENTRY!I68","v":"NOV"},{"$f":"DATAENTRY!J68","v":"BETA"},{"$f":"DATAENTRY!K68","v":"0000"},{"$f":"DATAENTRY!L68","v":"0000"},{"$f":"DATAENTRY!M68","v":"0000"},{"$f":"DATAENTRY!N68","v":"0533"},{"$f":"DATAENTRY!O68","v":"0030"},{"$f":"DATAENTRY!P68","v":"5000"},{"$f":"DATAENTRY!Q68","v":"0000"},{"$f":"DATAENTRY!R68","v":"0105"},{"$f":"DATAENTRY!S68","v":0},{"$f":"DATAENTRY!T68","v":0},{"$f":"DATAENTRY!U68","v":0},{"$f":"DATAENTRY!V68","v":0},{"$f":"DATAENTRY!W68","v":0},{"$f":"DATAENTRY!X68","v":0},{"$f":"DATAENTRY!Y68","v":0},{"$f":"DATAENTRY!Z68","v":0},{"$f":"DATAENTRY!AA68","v":0},{"$f":"DATAENTRY!AB68","v":0},{"$f":"DATAENTRY!AC68","v":0},{"$f":"DATAENTRY!AD68","v":0},{"$f":"DATAENTRY!AE68","v":0},{"$f":"DATAENTRY!AF68","v":0},{"$f":"DATAENTRY!AG68","v":0},{"$f":"DATAENTRY!AH68","v":0},{"$f":"DATAENTRY!AI68","v":0},{"$f":"DATAENTRY!AJ68","v":0},{"$f":"DATAENTRY!AK68","v":0},{"$f":"DATAENTRY!AL68","v":0},{"$f":"DATAENTRY!AM68","v":0},{"$f":"DATAENTRY!AN68","v":0},{"$f":"DATAENTRY!AO68","v":0},{"$f":"DATAENTRY!AP68","v":0},{"$f":"DATAENTRY!AQ68","v":0},{"$f":"DATAENTRY!AR68","v":0},{"$f":"DATAENTRY!AS68","v":0},{"$f":"DATAENTRY!AT68","v":0},{"$f":"DATAENTRY!AU68","v":0},{"$f":"DATAENTRY!AV68","v":0},{"$f":"DATAENTRY!AW68","v":0},{"$f":"DATAENTRY!AX68","v":0},{"$f":"DATAENTRY!AY68","v":25},{"$f":"DATAENTRY!AZ68","v":25},{"$f":"DATAENTRY!BA68","v":1},{"$f":"DATAENTRY!BB68","v":0},{"$f":"DATAENTRY!BC68","v":3},{"$f":"DATAENTRY!BD68","v":3},{"$f":"DATAENTRY!BE68","v":0},{"$f":"DATAENTRY!BF68","v":1},{"$f":"DATAENTRY!BG68","v":3},{"$f":"DATAENTRY!BH68","v":"00000000000005330030500000000105"}]
[{"$f":"DATAENTRY!C69","v":14},{"$f":"DATAENTRY!D69","v":14},{"$f":"DATAENTRY!E69","v":"STEVEN FARR"},{"$f":"DATAENTRY!F69","v":56},{"$f":"DATAENTRY!G69","v":"BD"},{"$f":"DATAENTRY!H69","v":"EASY"},{"$f":"DATAENTRY!I69","v":"NOV"},{"$f":"DATAENTRY!J69","v":"BETA"},{"$f":"DATAENTRY!K69","v":"0000"},{"$f":"DATAENTRY!L69","v":"0000"},{"$f":"DATAENTRY!M69","v":"1000"},{"$f":"DATAENTRY!N69","v":"5000"},{"$f":"DATAENTRY!O69","v":"5135"},{"$f":"DATAENTRY!P69","v":"0010"},{"$f":"DATAENTRY!Q69","v":"1002"},{"$f":"DATAENTRY!R69","v":"0011"},{"$f":"DATAENTRY!S69","v":0},{"$f":"DATAENTRY!T69","v":0},{"$f":"DATAENTRY!U69","v":0},{"$f":"DATAENTRY!V69","v":0},{"$f":"DATAENTRY!W69","v":0},{"$f":"DATAENTRY!X69","v":0},{"$f":"DATAENTRY!Y69","v":0},{"$f":"DATAENTRY!Z69","v":0},{"$f":"DATAENTRY!AA69","v":0},{"$f":"DATAENTRY!AB69","v":0},{"$f":"DATAENTRY!AC69","v":0},{"$f":"DATAENTRY!AD69","v":0},{"$f":"DATAENTRY!AE69","v":0},{"$f":"DATAENTRY!AF69","v":0},{"$f":"DATAENTRY!AG69","v":0},{"$f":"DATAENTRY!AH69","v":0},{"$f":"DATAENTRY!AI69","v":0},{"$f":"DATAENTRY!AJ69","v":0},{"$f":"DATAENTRY!AK69","v":0},{"$f":"DATAENTRY!AL69","v":0},{"$f":"DATAENTRY!AM69","v":0},{"$f":"DATAENTRY!AN69","v":0},{"$f":"DATAENTRY!AO69","v":0},{"$f":"DATAENTRY!AP69","v":0},{"$f":"DATAENTRY!AQ69","v":0},{"$f":"DATAENTRY!AR69","v":0},{"$f":"DATAENTRY!AS69","v":0},{"$f":"DATAENTRY!AT69","v":0},{"$f":"DATAENTRY!AU69","v":0},{"$f":"DATAENTRY!AV69","v":0},{"$f":"DATAENTRY!AW69","v":0},{"$f":"DATAENTRY!AX69","v":0},{"$f":"DATAENTRY!AY69","v":26},{"$f":"DATAENTRY!AZ69","v":21},{"$f":"DATAENTRY!BA69","v":6},{"$f":"DATAENTRY!BB69","v":1},{"$f":"DATAENTRY!BC69","v":1},{"$f":"DATAENTRY!BD69","v":3},{"$f":"DATAENTRY!BE69","v":0},{"$f":"DATAENTRY!BF69","v":1},{"$f":"DATAENTRY!BG69","v":2},{"$f":"DATAENTRY!BH69","v":"00000000100050005135001010020011"}]
[{"$f":"DATAENTRY!C70","v":15},{"$f":"DATAENTRY!D70","v":15},{"$f":"DATAENTRY!E70","v":"BRADLEY CRABTREE"},{"$f":"DATAENTRY!F70","v":65},{"$f":"DATAENTRY!G70","v":"BD"},{"$f":"DATAENTRY!H70","v":"EASY"},{"$f":"DATAENTRY!I70","v":"C"},{"$f":"DATAENTRY!J70","v":"OSET"},{"$f":"DATAENTRY!K70","v":"0000"},{"$f":"DATAENTRY!L70","v":"0000"},{"$f":"DATAENTRY!M70","v":"2000"},{"$f":"DATAENTRY!N70","v":"3555"},{"$f":"DATAENTRY!O70","v":"3552"},{"$f":"DATAENTRY!P70","v":"3322"},{"$f":"DATAENTRY!Q70","v":"3100"},{"$f":"DATAENTRY!R70","v":"0111"},{"$f":"DATAENTRY!S70","v":0},{"$f":"DATAENTRY!T70","v":0},{"$f":"DATAENTRY!U70","v":0},{"$f":"DATAENTRY!V70","v":0},{"$f":"DATAENTRY!W70","v":0},{"$f":"DATAENTRY!X70","v":0},{"$f":"DATAENTRY!Y70","v":0},{"$f":"DATAENTRY!Z70","v":0},{"$f":"DATAENTRY!AA70","v":0},{"$f":"DATAENTRY!AB70","v":0},{"$f":"DATAENTRY!AC70","v":0},{"$f":"DATAENTRY!AD70","v":0},{"$f":"DATAENTRY!AE70","v":0},{"$f":"DATAENTRY!AF70","v":0},{"$f":"DATAENTRY!AG70","v":0},{"$f":"DATAENTRY!AH70","v":0},{"$f":"DATAENTRY!AI70","v":0},{"$f":"DATAENTRY!AJ70","v":0},{"$f":"DATAENTRY!AK70","v":0},{"$f":"DATAENTRY!AL70","v":0},{"$f":"DATAENTRY!AM70","v":0},{"$f":"DATAENTRY!AN70","v":0},{"$f":"DATAENTRY!AO70","v":0},{"$f":"DATAENTRY!AP70","v":0},{"$f":"DATAENTRY!AQ70","v":0},{"$f":"DATAENTRY!AR70","v":0},{"$f":"DATAENTRY!AS70","v":0},{"$f":"DATAENTRY!AT70","v":0},{"$f":"DATAENTRY!AU70","v":0},{"$f":"DATAENTRY!AV70","v":0},{"$f":"DATAENTRY!AW70","v":0},{"$f":"DATAENTRY!AX70","v":0},{"$f":"DATAENTRY!AY70","v":52},{"$f":"DATAENTRY!AZ70","v":14},{"$f":"DATAENTRY!BA70","v":4},{"$f":"DATAENTRY!BB70","v":4},{"$f":"DATAENTRY!BC70","v":5},{"$f":"DATAENTRY!BD70","v":5},{"$f":"DATAENTRY!BE70","v":0},{"$f":"DATAENTRY!BF70","v":1},{"$f":"DATAENTRY!BG70","v":1},{"$f":"DATAENTRY!BH70","v":"00000000200035553552332231000111"}]
[{"$f":"DATAENTRY!C71","v":16},{"$f":"DATAENTRY!D71","v":16},{"$f":"DATAENTRY!E71","v":"ALANNA EAGLETON"},{"$f":"DATAENTRY!F71","v":59},{"$f":"DATAENTRY!G71","v":"BD"},{"$f":"DATAENTRY!H71","v":"EASY"},{"$f":"DATAENTRY!I71","v":"C"},{"$f":"DATAENTRY!J71","v":"OSET"},{"$f":"DATAENTRY!K71","v":"3555"},{"$f":"DATAENTRY!L71","v":"0311"},{"$f":"DATAENTRY!M71","v":"1000"},{"$f":"DATAENTRY!N71","v":"5553"},{"$f":"DATAENTRY!O71","v":"5555"},{"$f":"DATAENTRY!P71","v":"3353"},{"$f":"DATAENTRY!Q71","v":"3333"},{"$f":"DATAENTRY!R71","v":"3232"},{"$f":"DATAENTRY!S71","v":0},{"$f":"DATAENTRY!T71","v":0},{"$f":"DATAENTRY!U71","v":0},{"$f":"DATAENTRY!V71","v":0},{"$f":"DATAENTRY!W71","v":0},{"$f":"DATAENTRY!X71","v":0},{"$f":"DATAENTRY!Y71","v":0},{"$f":"DATAENTRY!Z71","v":0},{"$f":"DATAENTRY!AA71","v":0},{"$f":"DATAENTRY!AB71","v":0},{"$f":"DATAENTRY!AC71","v":0},{"$f":"DATAENTRY!AD71","v":0},{"$f":"DATAENTRY!AE71","v":0},{"$f":"DATAENTRY!AF71","v":0},{"$f":"DATAENTRY!AG71","v":0},{"$f":"DATAENTRY!AH71","v":0},{"$f":"DATAENTRY!AI71","v":0},{"$f":"DATAENTRY!AJ71","v":0},{"$f":"DATAENTRY!AK71","v":0},{"$f":"DATAENTRY!AL71","v":0},{"$f":"DATAENTRY!AM71","v":0},{"$f":"DATAENTRY!AN71","v":0},{"$f":"DATAENTRY!AO71","v":0},{"$f":"DATAENTRY!AP71","v":0},{"$f":"DATAENTRY!AQ71","v":0},{"$f":"DATAENTRY!AR71","v":0},{"$f":"DATAENTRY!AS71","v":0},{"$f":"DATAENTRY!AT71","v":0},{"$f":"DATAENTRY!AU71","v":0},{"$f":"DATAENTRY!AV71","v":0},{"$f":"DATAENTRY!AW71","v":0},{"$f":"DATAENTRY!AX71","v":0},{"$f":"DATAENTRY!AY71","v":98},{"$f":"DATAENTRY!AZ71","v":4},{"$f":"DATAENTRY!BA71","v":3},{"$f":"DATAENTRY!BB71","v":2},{"$f":"DATAENTRY!BC71","v":12},{"$f":"DATAENTRY!BD71","v":11},{"$f":"DATAENTRY!BE71","v":0},{"$f":"DATAENTRY!BF71","v":1},{"$f":"DATAENTRY!BG71","v":0},{"$f":"DATAENTRY!BH71","v":"35550311100055535555335333333232"}]
[{"$f":"DATAENTRY!C72","v":17},{"$f":"DATAENTRY!D72","v":17},{"$f":"DATAENTRY!E72","v":"FINLEY HARSLEY"},{"$f":"DATAENTRY!F72","v":63},{"$f":"DATAENTRY!G72","v":"BD"},{"$f":"DATAENTRY!H72","v":"EASY"},{"$f":"DATAENTRY!I72","v":"D"},{"$f":"DATAENTRY!J72","v":"OSET"},{"$f":"DATAENTRY!K72","v":"3355"},{"$f":"DATAENTRY!L72","v":"5333"},{"$f":"DATAENTRY!M72","v":"3332"},{"$f":"DATAENTRY!N72","v":"5555"},{"$f":"DATAENTRY!O72","v":"5555"},{"$f":"DATAENTRY!P72","v":"5555"},{"$f":"DATAENTRY!Q72","v":"3333"},{"$f":"DATAENTRY!R72","v":"3355"},{"$f":"DATAENTRY!S72","v":0},{"$f":"DATAENTRY!T72","v":0},{"$f":"DATAENTRY!U72","v":0},{"$f":"DATAENTRY!V72","v":0},{"$f":"DATAENTRY!W72","v":0},{"$f":"DATAENTRY!X72","v":0},{"$f":"DATAENTRY!Y72","v":0},{"$f":"DATAENTRY!Z72","v":0},{"$f":"DATAENTRY!AA72","v":0},{"$f":"DATAENTRY!AB72","v":0},{"$f":"DATAENTRY!AC72","v":0},{"$f":"DATAENTRY!AD72","v":0},{"$f":"DATAENTRY!AE72","v":0},{"$f":"DATAENTRY!AF72","v":0},{"$f":"DATAENTRY!AG72","v":0},{"$f":"DATAENTRY!AH72","v":0},{"$f":"DATAENTRY!AI72","v":0},{"$f":"DATAENTRY!AJ72","v":0},{"$f":"DATAENTRY!AK72","v":0},{"$f":"DATAENTRY!AL72","v":0},{"$f":"DATAENTRY!AM72","v":0},{"$f":"DATAENTRY!AN72","v":0},{"$f":"DATAENTRY!AO72","v":0},{"$f":"DATAENTRY!AP72","v":0},{"$f":"DATAENTRY!AQ72","v":0},{"$f":"DATAENTRY!AR72","v":0},{"$f":"DATAENTRY!AS72","v":0},{"$f":"DATAENTRY!AT72","v":0},{"$f":"DATAENTRY!AU72","v":0},{"$f":"DATAENTRY!AV72","v":0},{"$f":"DATAENTRY!AW72","v":0},{"$f":"DATAENTRY!AX72","v":0},{"$f":"DATAENTRY!AY72","v":129},{"$f":"DATAENTRY!AZ72","v":0},{"$f":"DATAENTRY!BA72","v":0},{"$f":"DATAENTRY!BB72","v":1},{"$f":"DATAENTRY!BC72","v":14},{"$f":"DATAENTRY!BD72","v":17},{"$f":"DATAENTRY!BE72","v":0},{"$f":"DATAENTRY!BF72","v":1},{"$f":"DATAENTRY!BG72","v":0},{"$f":"DATAENTRY!BH72","v":"33555333333255555555555533333355"}]
[{"$f":"DATAENTRY!C73","v":0},{"$f":"DATAENTRY!D73","v":0},{"$f":"DATAENTRY!E73","v":0},{"$f":"DATAENTRY!F73","v":0},{"$f":"DATAENTRY!G73","v":0},{"$f":"DATAENTRY!H73","v":0},{"$f":"DATAENTRY!I73","v":0},{"$f":"DATAENTRY!J73","v":0},{"$f":"DATAENTRY!K73","v":0},{"$f":"DATAENTRY!L73","v":0},{"$f":"DATAENTRY!M73","v":0},{"$f":"DATAENTRY!N73","v":0},{"$f":"DATAENTRY!O73","v":0},{"$f":"DATAENTRY!P73","v":0},{"$f":"DATAENTRY!Q73","v":0},{"$f":"DATAENTRY!R73","v":0},{"$f":"DATAENTRY!S73","v":0},{"$f":"DATAENTRY!T73","v":0},{"$f":"DATAENTRY!U73","v":0},{"$f":"DATAENTRY!V73","v":0},{"$f":"DATAENTRY!W73","v":0},{"$f":"DATAENTRY!X73","v":0},{"$f":"DATAENTRY!Y73","v":0},{"$f":"DATAENTRY!Z73","v":0},{"$f":"DATAENTRY!AA73","v":0},{"$f":"DATAENTRY!AB73","v":0},{"$f":"DATAENTRY!AC73","v":0},{"$f":"DATAENTRY!AD73","v":0},{"$f":"DATAENTRY!AE73","v":0},{"$f":"DATAENTRY!AF73","v":0},{"$f":"DATAENTRY!AG73","v":0},{"$f":"DATAENTRY!AH73","v":0},{"$f":"DATAENTRY!AI73","v":0},{"$f":"DATAENTRY!AJ73","v":0},{"$f":"DATAENTRY!AK73","v":0},{"$f":"DATAENTRY!AL73","v":0},{"$f":"DATAENTRY!AM73","v":0},{"$f":"DATAENTRY!AN73","v":0},{"$f":"DATAENTRY!AO73","v":0},{"$f":"DATAENTRY!AP73","v":0},{"$f":"DATAENTRY!AQ73","v":0},{"$f":"DATAENTRY!AR73","v":0},{"$f":"DATAENTRY!AS73","v":0},{"$f":"DATAENTRY!AT73","v":0},{"$f":"DATAENTRY!AU73","v":0},{"$f":"DATAENTRY!AV73","v":0},{"$f":"DATAENTRY!AW73","v":0},{"$f":"DATAENTRY!AX73","v":0},{"$f":"DATAENTRY!AY73","v":0},{"$f":"DATAENTRY!AZ73","v":0},{"$f":"DATAENTRY!BA73","v":0},{"$f":"DATAENTRY!BB73","v":0},{"$f":"DATAENTRY!BC73","v":0},{"$f":"DATAENTRY!BD73","v":0},{"$f":"DATAENTRY!BE73","v":0},{"$f":"DATAENTRY!BF73","v":0},{"$f":"DATAENTRY!BG73","v":0},{"$f":"DATAENTRY!BH73","v":""}]
[{"$f":"DATAENTRY!C74","v":0},{"$f":"DATAENTRY!D74","v":0},{"$f":"DATAENTRY!E74","v":0},{"$f":"DATAENTRY!F74","v":0},{"$f":"DATAENTRY!G74","v":0},{"$f":"DATAENTRY!H74","v":0},{"$f":"DATAENTRY!I74","v":0},{"$f":"DATAENTRY!J74","v":0},{"$f":"DATAENTRY!K74","v":0},{"$f":"DATAENTRY!L74","v":0},{"$f":"DATAENTRY!M74","v":0},{"$f":"DATAENTRY!N74","v":0},{"$f":"DATAENTRY!O74","v":0},{"$f":"DATAENTRY!P74","v":0},{"$f":"DATAENTRY!Q74","v":0},{"$f":"DATAENTRY!R74","v":0},{"$f":"DATAENTRY!S74","v":0},{"$f":"DATAENTRY!T74","v":0},{"$f":"DATAENTRY!U74","v":0},{"$f":"DATAENTRY!V74","v":0},{"$f":"DATAENTRY!W74","v":0},{"$f":"DATAENTRY!X74","v":0},{"$f":"DATAENTRY!Y74","v":0},{"$f":"DATAENTRY!Z74","v":0},{"$f":"DATAENTRY!AA74","v":0},{"$f":"DATAENTRY!AB74","v":0},{"$f":"DATAENTRY!AC74","v":0},{"$f":"DATAENTRY!AD74","v":0},{"$f":"DATAENTRY!AE74","v":0},{"$f":"DATAENTRY!AF74","v":0},{"$f":"DATAENTRY!AG74","v":0},{"$f":"DATAENTRY!AH74","v":0},{"$f":"DATAENTRY!AI74","v":0},{"$f":"DATAENTRY!AJ74","v":0},{"$f":"DATAENTRY!AK74","v":0},{"$f":"DATAENTRY!AL74","v":0},{"$f":"DATAENTRY!AM74","v":0},{"$f":"DATAENTRY!AN74","v":0},{"$f":"DATAENTRY!AO74","v":0},{"$f":"DATAENTRY!AP74","v":0},{"$f":"DATAENTRY!AQ74","v":0},{"$f":"DATAENTRY!AR74","v":0},{"$f":"DATAENTRY!AS74","v":0},{"$f":"DATAENTRY!AT74","v":0},{"$f":"DATAENTRY!AU74","v":0},{"$f":"DATAENTRY!AV74","v":0},{"$f":"DATAENTRY!AW74","v":0},{"$f":"DATAENTRY!AX74","v":0},{"$f":"DATAENTRY!AY74","v":0},{"$f":"DATAENTRY!AZ74","v":0},{"$f":"DATAENTRY!BA74","v":0},{"$f":"DATAENTRY!BB74","v":0},{"$f":"DATAENTRY!BC74","v":0},{"$f":"DATAENTRY!BD74","v":0},{"$f":"DATAENTRY!BE74","v":0},{"$f":"DATAENTRY!BF74","v":0},{"$f":"DATAENTRY!BG74","v":0},{"$f":"DATAENTRY!BH74","v":""}]
[{"$f":"DATAENTRY!C75","v":0},{"$f":"DATAENTRY!D75","v":0},{"$f":"DATAENTRY!E75","v":0},{"$f":"DATAENTRY!F75","v":0},{"$f":"DATAENTRY!G75","v":0},{"$f":"DATAENTRY!H75","v":0},{"$f":"DATAENTRY!I75","v":0},{"$f":"DATAENTRY!J75","v":0},{"$f":"DATAENTRY!K75","v":0},{"$f":"DATAENTRY!L75","v":0},{"$f":"DATAENTRY!M75","v":0},{"$f":"DATAENTRY!N75","v":0},{"$f":"DATAENTRY!O75","v":0},{"$f":"DATAENTRY!P75","v":0},{"$f":"DATAENTRY!Q75","v":0},{"$f":"DATAENTRY!R75","v":0},{"$f":"DATAENTRY!S75","v":0},{"$f":"DATAENTRY!T75","v":0},{"$f":"DATAENTRY!U75","v":0},{"$f":"DATAENTRY!V75","v":0},{"$f":"DATAENTRY!W75","v":0},{"$f":"DATAENTRY!X75","v":0},{"$f":"DATAENTRY!Y75","v":0},{"$f":"DATAENTRY!Z75","v":0},{"$f":"DATAENTRY!AA75","v":0},{"$f":"DATAENTRY!AB75","v":0},{"$f":"DATAENTRY!AC75","v":0},{"$f":"DATAENTRY!AD75","v":0},{"$f":"DATAENTRY!AE75","v":0},{"$f":"DATAENTRY!AF75","v":0},{"$f":"DATAENTRY!AG75","v":0},{"$f":"DATAENTRY!AH75","v":0},{"$f":"DATAENTRY!AI75","v":0},{"$f":"DATAENTRY!AJ75","v":0},{"$f":"DATAENTRY!AK75","v":0},{"$f":"DATAENTRY!AL75","v":0},{"$f":"DATAENTRY!AM75","v":0},{"$f":"DATAENTRY!AN75","v":0},{"$f":"DATAENTRY!AO75","v":0},{"$f":"DATAENTRY!AP75","v":0},{"$f":"DATAENTRY!AQ75","v":0},{"$f":"DATAENTRY!AR75","v":0},{"$f":"DATAENTRY!AS75","v":0},{"$f":"DATAENTRY!AT75","v":0},{"$f":"DATAENTRY!AU75","v":0},{"$f":"DATAENTRY!AV75","v":0},{"$f":"DATAENTRY!AW75","v":0},{"$f":"DATAENTRY!AX75","v":0},{"$f":"DATAENTRY!AY75","v":0},{"$f":"DATAENTRY!AZ75","v":0},{"$f":"DATAENTRY!BA75","v":0},{"$f":"DATAENTRY!BB75","v":0},{"$f":"DATAENTRY!BC75","v":0},{"$f":"DATAENTRY!BD75","v":0},{"$f":"DATAENTRY!BE75","v":0},{"$f":"DATAENTRY!BF75","v":0},{"$f":"DATAENTRY!BG75","v":0},{"$f":"DATAENTRY!BH75","v":""}]
[{"$f":"DATAENTRY!C76","v":0},{"$f":"DATAENTRY!D76","v":0},{"$f":"DATAENTRY!E76","v":0},{"$f":"DATAENTRY!F76","v":0},{"$f":"DATAENTRY!G76","v":0},{"$f":"DATAENTRY!H76","v":0},{"$f":"DATAENTRY!I76","v":0},{"$f":"DATAENTRY!J76","v":0},{"$f":"DATAENTRY!K76","v":0},{"$f":"DATAENTRY!L76","v":0},{"$f":"DATAENTRY!M76","v":0},{"$f":"DATAENTRY!N76","v":0},{"$f":"DATAENTRY!O76","v":0},{"$f":"DATAENTRY!P76","v":0},{"$f":"DATAENTRY!Q76","v":0},{"$f":"DATAENTRY!R76","v":0},{"$f":"DATAENTRY!S76","v":0},{"$f":"DATAENTRY!T76","v":0},{"$f":"DATAENTRY!U76","v":0},{"$f":"DATAENTRY!V76","v":0},{"$f":"DATAENTRY!W76","v":0},{"$f":"DATAENTRY!X76","v":0},{"$f":"DATAENTRY!Y76","v":0},{"$f":"DATAENTRY!Z76","v":0},{"$f":"DATAENTRY!AA76","v":0},{"$f":"DATAENTRY!AB76","v":0},{"$f":"DATAENTRY!AC76","v":0},{"$f":"DATAENTRY!AD76","v":0},{"$f":"DATAENTRY!AE76","v":0},{"$f":"DATAENTRY!AF76","v":0},{"$f":"DATAENTRY!AG76","v":0},{"$f":"DATAENTRY!AH76","v":0},{"$f":"DATAENTRY!AI76","v":0},{"$f":"DATAENTRY!AJ76","v":0},{"$f":"DATAENTRY!AK76","v":0},{"$f":"DATAENTRY!AL76","v":0},{"$f":"DATAENTRY!AM76","v":0},{"$f":"DATAENTRY!AN76","v":0},{"$f":"DATAENTRY!AO76","v":0},{"$f":"DATAENTRY!AP76","v":0},{"$f":"DATAENTRY!AQ76","v":0},{"$f":"DATAENTRY!AR76","v":0},{"$f":"DATAENTRY!AS76","v":0},{"$f":"DATAENTRY!AT76","v":0},{"$f":"DATAENTRY!AU76","v":0},{"$f":"DATAENTRY!AV76","v":0},{"$f":"DATAENTRY!AW76","v":0},{"$f":"DATAENTRY!AX76","v":0},{"$f":"DATAENTRY!AY76","v":0},{"$f":"DATAENTRY!AZ76","v":0},{"$f":"DATAENTRY!BA76","v":0},{"$f":"DATAENTRY!BB76","v":0},{"$f":"DATAENTRY!BC76","v":0},{"$f":"DATAENTRY!BD76","v":0},{"$f":"DATAENTRY!BE76","v":0},{"$f":"DATAENTRY!BF76","v":0},{"$f":"DATAENTRY!BG76","v":0},{"$f":"DATAENTRY!BH76","v":""}]
[{"$f":"DATAENTRY!C77","v":0},{"$f":"DATAENTRY!D77","v":0},{"$f":"DATAENTRY!E77","v":0},{"$f":"DATAENTRY!F77","v":0},{"$f":"DATAENTRY!G77","v":0},{"$f":"DATAENTRY!H77","v":0},{"$f":"DATAENTRY!I77","v":0},{"$f":"DATAENTRY!J77","v":0},{"$f":"DATAENTRY!K77","v":0},{"$f":"DATAENTRY!L77","v":0},{"$f":"DATAENTRY!M77","v":0},{"$f":"DATAENTRY!N77","v":0},{"$f":"DATAENTRY!O77","v":0},{"$f":"DATAENTRY!P77","v":0},{"$f":"DATAENTRY!Q77","v":0},{"$f":"DATAENTRY!R77","v":0},{"$f":"DATAENTRY!S77","v":0},{"$f":"DATAENTRY!T77","v":0},{"$f":"DATAENTRY!U77","v":0},{"$f":"DATAENTRY!V77","v":0},{"$f":"DATAENTRY!W77","v":0},{"$f":"DATAENTRY!X77","v":0},{"$f":"DATAENTRY!Y77","v":0},{"$f":"DATAENTRY!Z77","v":0},{"$f":"DATAENTRY!AA77","v":0},{"$f":"DATAENTRY!AB77","v":0},{"$f":"DATAENTRY!AC77","v":0},{"$f":"DATAENTRY!AD77","v":0},{"$f":"DATAENTRY!AE77","v":0},{"$f":"DATAENTRY!AF77","v":0},{"$f":"DATAENTRY!AG77","v":0},{"$f":"DATAENTRY!AH77","v":0},{"$f":"DATAENTRY!AI77","v":0},{"$f":"DATAENTRY!AJ77","v":0},{"$f":"DATAENTRY!AK77","v":0},{"$f":"DATAENTRY!AL77","v":0},{"$f":"DATAENTRY!AM77","v":0},{"$f":"DATAENTRY!AN77","v":0},{"$f":"DATAENTRY!AO77","v":0},{"$f":"DATAENTRY!AP77","v":0},{"$f":"DATAENTRY!AQ77","v":0},{"$f":"DATAENTRY!AR77","v":0},{"$f":"DATAENTRY!AS77","v":0},{"$f":"DATAENTRY!AT77","v":0},{"$f":"DATAENTRY!AU77","v":0},{"$f":"DATAENTRY!AV77","v":0},{"$f":"DATAENTRY!AW77","v":0},{"$f":"DATAENTRY!AX77","v":0},{"$f":"DATAENTRY!AY77","v":0},{"$f":"DATAENTRY!AZ77","v":0},{"$f":"DATAENTRY!BA77","v":0},{"$f":"DATAENTRY!BB77","v":0},{"$f":"DATAENTRY!BC77","v":0},{"$f":"DATAENTRY!BD77","v":0},{"$f":"DATAENTRY!BE77","v":0},{"$f":"DATAENTRY!BF77","v":0},{"$f":"DATAENTRY!BG77","v":0},{"$f":"DATAENTRY!BH77","v":""}]
[{"$f":"DATAENTRY!C78","v":0},{"$f":"DATAENTRY!D78","v":0},{"$f":"DATAENTRY!E78","v":0},{"$f":"DATAENTRY!F78","v":0},{"$f":"DATAENTRY!G78","v":0},{"$f":"DATAENTRY!H78","v":0},{"$f":"DATAENTRY!I78","v":0},{"$f":"DATAENTRY!J78","v":0},{"$f":"DATAENTRY!K78","v":0},{"$f":"DATAENTRY!L78","v":0},{"$f":"DATAENTRY!M78","v":0},{"$f":"DATAENTRY!N78","v":0},{"$f":"DATAENTRY!O78","v":0},{"$f":"DATAENTRY!P78","v":0},{"$f":"DATAENTRY!Q78","v":0},{"$f":"DATAENTRY!R78","v":0},{"$f":"DATAENTRY!S78","v":0},{"$f":"DATAENTRY!T78","v":0},{"$f":"DATAENTRY!U78","v":0},{"$f":"DATAENTRY!V78","v":0},{"$f":"DATAENTRY!W78","v":0},{"$f":"DATAENTRY!X78","v":0},{"$f":"DATAENTRY!Y78","v":0},{"$f":"DATAENTRY!Z78","v":0},{"$f":"DATAENTRY!AA78","v":0},{"$f":"DATAENTRY!AB78","v":0},{"$f":"DATAENTRY!AC78","v":0},{"$f":"DATAENTRY!AD78","v":0},{"$f":"DATAENTRY!AE78","v":0},{"$f":"DATAENTRY!AF78","v":0},{"$f":"DATAENTRY!AG78","v":0},{"$f":"DATAENTRY!AH78","v":0},{"$f":"DATAENTRY!AI78","v":0},{"$f":"DATAENTRY!AJ78","v":0},{"$f":"DATAENTRY!AK78","v":0},{"$f":"DATAENTRY!AL78","v":0},{"$f":"DATAENTRY!AM78","v":0},{"$f":"DATAENTRY!AN78","v":0},{"$f":"DATAENTRY!AO78","v":0},{"$f":"DATAENTRY!AP78","v":0},{"$f":"DATAENTRY!AQ78","v":0},{"$f":"DATAENTRY!AR78","v":0},{"$f":"DATAENTRY!AS78","v":0},{"$f":"DATAENTRY!AT78","v":0},{"$f":"DATAENTRY!AU78","v":0},{"$f":"DATAENTRY!AV78","v":0},{"$f":"DATAENTRY!AW78","v":0},{"$f":"DATAENTRY!AX78","v":0},{"$f":"DATAENTRY!AY78","v":0},{"$f":"DATAENTRY!AZ78","v":0},{"$f":"DATAENTRY!BA78","v":0},{"$f":"DATAENTRY!BB78","v":0},{"$f":"DATAENTRY!BC78","v":0},{"$f":"DATAENTRY!BD78","v":0},{"$f":"DATAENTRY!BE78","v":0},{"$f":"DATAENTRY!BF78","v":0},{"$f":"DATAENTRY!BG78","v":0},{"$f":"DATAENTRY!BH78","v":""}]
[{"$f":"DATAENTRY!C79","v":0},{"$f":"DATAENTRY!D79","v":0},{"$f":"DATAENTRY!E79","v":0},{"$f":"DATAENTRY!F79","v":0},{"$f":"DATAENTRY!G79","v":0},{"$f":"DATAENTRY!H79","v":0},{"$f":"DATAENTRY!I79","v":0},{"$f":"DATAENTRY!J79","v":0},{"$f":"DATAENTRY!K79","v":0},{"$f":"DATAENTRY!L79","v":0},{"$f":"DATAENTRY!M79","v":0},{"$f":"DATAENTRY!N79","v":0},{"$f":"DATAENTRY!O79","v":0},{"$f":"DATAENTRY!P79","v":0},{"$f":"DATAENTRY!Q79","v":0},{"$f":"DATAENTRY!R79","v":0},{"$f":"DATAENTRY!S79","v":0},{"$f":"DATAENTRY!T79","v":0},{"$f":"DATAENTRY!U79","v":0},{"$f":"DATAENTRY!V79","v":0},{"$f":"DATAENTRY!W79","v":0},{"$f":"DATAENTRY!X79","v":0},{"$f":"DATAENTRY!Y79","v":0},{"$f":"DATAENTRY!Z79","v":0},{"$f":"DATAENTRY!AA79","v":0},{"$f":"DATAENTRY!AB79","v":0},{"$f":"DATAENTRY!AC79","v":0},{"$f":"DATAENTRY!AD79","v":0},{"$f":"DATAENTRY!AE79","v":0},{"$f":"DATAENTRY!AF79","v":0},{"$f":"DATAENTRY!AG79","v":0},{"$f":"DATAENTRY!AH79","v":0},{"$f":"DATAENTRY!AI79","v":0},{"$f":"DATAENTRY!AJ79","v":0},{"$f":"DATAENTRY!AK79","v":0},{"$f":"DATAENTRY!AL79","v":0},{"$f":"DATAENTRY!AM79","v":0},{"$f":"DATAENTRY!AN79","v":0},{"$f":"DATAENTRY!AO79","v":0},{"$f":"DATAENTRY!AP79","v":0},{"$f":"DATAENTRY!AQ79","v":0},{"$f":"DATAENTRY!AR79","v":0},{"$f":"DATAENTRY!AS79","v":0},{"$f":"DATAENTRY!AT79","v":0},{"$f":"DATAENTRY!AU79","v":0},{"$f":"DATAENTRY!AV79","v":0},{"$f":"DATAENTRY!AW79","v":0},{"$f":"DATAENTRY!AX79","v":0},{"$f":"DATAENTRY!AY79","v":0},{"$f":"DATAENTRY!AZ79","v":0},{"$f":"DATAENTRY!BA79","v":0},{"$f":"DATAENTRY!BB79","v":0},{"$f":"DATAENTRY!BC79","v":0},{"$f":"DATAENTRY!BD79","v":0},{"$f":"DATAENTRY!BE79","v":0},{"$f":"DATAENTRY!BF79","v":0},{"$f":"DATAENTRY!BG79","v":0},{"$f":"DATAENTRY!BH79","v":""}]
[{"$f":"DATAENTRY!C80","v":0},{"$f":"DATAENTRY!D80","v":0},{"$f":"DATAENTRY!E80","v":0},{"$f":"DATAENTRY!F80","v":0},{"$f":"DATAENTRY!G80","v":0},{"$f":"DATAENTRY!H80","v":0},{"$f":"DATAENTRY!I80","v":0},{"$f":"DATAENTRY!J80","v":0},{"$f":"DATAENTRY!K80","v":0},{"$f":"DATAENTRY!L80","v":0},{"$f":"DATAENTRY!M80","v":0},{"$f":"DATAENTRY!N80","v":0},{"$f":"DATAENTRY!O80","v":0},{"$f":"DATAENTRY!P80","v":0},{"$f":"DATAENTRY!Q80","v":0},{"$f":"DATAENTRY!R80","v":0},{"$f":"DATAENTRY!S80","v":0},{"$f":"DATAENTRY!T80","v":0},{"$f":"DATAENTRY!U80","v":0},{"$f":"DATAENTRY!V80","v":0},{"$f":"DATAENTRY!W80","v":0},{"$f":"DATAENTRY!X80","v":0},{"$f":"DATAENTRY!Y80","v":0},{"$f":"DATAENTRY!Z80","v":0},{"$f":"DATAENTRY!AA80","v":0},{"$f":"DATAENTRY!AB80","v":0},{"$f":"DATAENTRY!AC80","v":0},{"$f":"DATAENTRY!AD80","v":0},{"$f":"DATAENTRY!AE80","v":0},{"$f":"DATAENTRY!AF80","v":0},{"$f":"DATAENTRY!AG80","v":0},{"$f":"DATAENTRY!AH80","v":0},{"$f":"DATAENTRY!AI80","v":0},{"$f":"DATAENTRY!AJ80","v":0},{"$f":"DATAENTRY!AK80","v":0},{"$f":"DATAENTRY!AL80","v":0},{"$f":"DATAENTRY!AM80","v":0},{"$f":"DATAENTRY!AN80","v":0},{"$f":"DATAENTRY!AO80","v":0},{"$f":"DATAENTRY!AP80","v":0},{"$f":"DATAENTRY!AQ80","v":0},{"$f":"DATAENTRY!AR80","v":0},{"$f":"DATAENTRY!AS80","v":0},{"$f":"DATAENTRY!AT80","v":0},{"$f":"DATAENTRY!AU80","v":0},{"$f":"DATAENTRY!AV80","v":0},{"$f":"DATAENTRY!AW80","v":0},{"$f":"DATAENTRY!AX80","v":0},{"$f":"DATAENTRY!AY80","v":0},{"$f":"DATAENTRY!AZ80","v":0},{"$f":"DATAENTRY!BA80","v":0},{"$f":"DATAENTRY!BB80","v":0},{"$f":"DATAENTRY!BC80","v":0},{"$f":"DATAENTRY!BD80","v":0},{"$f":"DATAENTRY!BE80","v":0},{"$f":"DATAENTRY!BF80","v":0},{"$f":"DATAENTRY!BG80","v":0},{"$f":"DATAENTRY!BH80","v":""}]
[{"$f":"DATAENTRY!C81","v":0},{"$f":"DATAENTRY!D81","v":0},{"$f":"DATAENTRY!E81","v":0},{"$f":"DATAENTRY!F81","v":0},{"$f":"DATAENTRY!G81","v":0},{"$f":"DATAENTRY!H81","v":0},{"$f":"DATAENTRY!I81","v":0},{"$f":"DATAENTRY!J81","v":0},{"$f":"DATAENTRY!K81","v":0},{"$f":"DATAENTRY!L81","v":0},{"$f":"DATAENTRY!M81","v":0},{"$f":"DATAENTRY!N81","v":0},{"$f":"DATAENTRY!O81","v":0},{"$f":"DATAENTRY!P81","v":0},{"$f":"DATAENTRY!Q81","v":0},{"$f":"DATAENTRY!R81","v":0},{"$f":"DATAENTRY!S81","v":0},{"$f":"DATAENTRY!T81","v":0},{"$f":"DATAENTRY!U81","v":0},{"$f":"DATAENTRY!V81","v":0},{"$f":"DATAENTRY!W81","v":0},{"$f":"DATAENTRY!X81","v":0},{"$f":"DATAENTRY!Y81","v":0},{"$f":"DATAENTRY!Z81","v":0},{"$f":"DATAENTRY!AA81","v":0},{"$f":"DATAENTRY!AB81","v":0},{"$f":"DATAENTRY!AC81","v":0},{"$f":"DATAENTRY!AD81","v":0},{"$f":"DATAENTRY!AE81","v":0},{"$f":"DATAENTRY!AF81","v":0},{"$f":"DATAENTRY!AG81","v":0},{"$f":"DATAENTRY!AH81","v":0},{"$f":"DATAENTRY!AI81","v":0},{"$f":"DATAENTRY!AJ81","v":0},{"$f":"DATAENTRY!AK81","v":0},{"$f":"DATAENTRY!AL81","v":0},{"$f":"DATAENTRY!AM81","v":0},{"$f":"DATAENTRY!AN81","v":0},{"$f":"DATAENTRY!AO81","v":0},{"$f":"DATAENTRY!AP81","v":0},{"$f":"DATAENTRY!AQ81","v":0},{"$f":"DATAENTRY!AR81","v":0},{"$f":"DATAENTRY!AS81","v":0},{"$f":"DATAENTRY!AT81","v":0},{"$f":"DATAENTRY!AU81","v":0},{"$f":"DATAENTRY!AV81","v":0},{"$f":"DATAENTRY!AW81","v":0},{"$f":"DATAENTRY!AX81","v":0},{"$f":"DATAENTRY!AY81","v":0},{"$f":"DATAENTRY!AZ81","v":0},{"$f":"DATAENTRY!BA81","v":0},{"$f":"DATAENTRY!BB81","v":0},{"$f":"DATAENTRY!BC81","v":0},{"$f":"DATAENTRY!BD81","v":0},{"$f":"DATAENTRY!BE81","v":0},{"$f":"DATAENTRY!BF81","v":0},{"$f":"DATAENTRY!BG81","v":0},{"$f":"DATAENTRY!BH81","v":""}]
[{"$f":"DATAENTRY!C82","v":0},{"$f":"DATAENTRY!D82","v":0},{"$f":"DATAENTRY!E82","v":0},{"$f":"DATAENTRY!F82","v":0},{"$f":"DATAENTRY!G82","v":0},{"$f":"DATAENTRY!H82","v":0},{"$f":"DATAENTRY!I82","v":0},{"$f":"DATAENTRY!J82","v":0},{"$f":"DATAENTRY!K82","v":0},{"$f":"DATAENTRY!L82","v":0},{"$f":"DATAENTRY!M82","v":0},{"$f":"DATAENTRY!N82","v":0},{"$f":"DATAENTRY!O82","v":0},{"$f":"DATAENTRY!P82","v":0},{"$f":"DATAENTRY!Q82","v":0},{"$f":"DATAENTRY!R82","v":0},{"$f":"DATAENTRY!S82","v":0},{"$f":"DATAENTRY!T82","v":0},{"$f":"DATAENTRY!U82","v":0},{"$f":"DATAENTRY!V82","v":0},{"$f":"DATAENTRY!W82","v":0},{"$f":"DATAENTRY!X82","v":0},{"$f":"DATAENTRY!Y82","v":0},{"$f":"DATAENTRY!Z82","v":0},{"$f":"DATAENTRY!AA82","v":0},{"$f":"DATAENTRY!AB82","v":0},{"$f":"DATAENTRY!AC82","v":0},{"$f":"DATAENTRY!AD82","v":0},{"$f":"DATAENTRY!AE82","v":0},{"$f":"DATAENTRY!AF82","v":0},{"$f":"DATAENTRY!AG82","v":0},{"$f":"DATAENTRY!AH82","v":0},{"$f":"DATAENTRY!AI82","v":0},{"$f":"DATAENTRY!AJ82","v":0},{"$f":"DATAENTRY!AK82","v":0},{"$f":"DATAENTRY!AL82","v":0},{"$f":"DATAENTRY!AM82","v":0},{"$f":"DATAENTRY!AN82","v":0},{"$f":"DATAENTRY!AO82","v":0},{"$f":"DATAENTRY!AP82","v":0},{"$f":"DATAENTRY!AQ82","v":0},{"$f":"DATAENTRY!AR82","v":0},{"$f":"DATAENTRY!AS82","v":0},{"$f":"DATAENTRY!AT82","v":0},{"$f":"DATAENTRY!AU82","v":0},{"$f":"DATAENTRY!AV82","v":0},{"$f":"DATAENTRY!AW82","v":0},{"$f":"DATAENTRY!AX82","v":0},{"$f":"DATAENTRY!AY82","v":0},{"$f":"DATAENTRY!AZ82","v":0},{"$f":"DATAENTRY!BA82","v":0},{"$f":"DATAENTRY!BB82","v":0},{"$f":"DATAENTRY!BC82","v":0},{"$f":"DATAENTRY!BD82","v":0},{"$f":"DATAENTRY!BE82","v":0},{"$f":"DATAENTRY!BF82","v":0},{"$f":"DATAENTRY!BG82","v":0},{"$f":"DATAENTRY!BH82","v":""}]
[{"$f":"DATAENTRY!C83","v":0},{"$f":"DATAENTRY!D83","v":0},{"$f":"DATAENTRY!E83","v":0},{"$f":"DATAENTRY!F83","v":0},{"$f":"DATAENTRY!G83","v":0},{"$f":"DATAENTRY!H83","v":0},{"$f":"DATAENTRY!I83","v":0},{"$f":"DATAENTRY!J83","v":0},{"$f":"DATAENTRY!K83","v":0},{"$f":"DATAENTRY!L83","v":0},{"$f":"DATAENTRY!M83","v":0},{"$f":"DATAENTRY!N83","v":0},{"$f":"DATAENTRY!O83","v":0},{"$f":"DATAENTRY!P83","v":0},{"$f":"DATAENTRY!Q83","v":0},{"$f":"DATAENTRY!R83","v":0},{"$f":"DATAENTRY!S83","v":0},{"$f":"DATAENTRY!T83","v":0},{"$f":"DATAENTRY!U83","v":0},{"$f":"DATAENTRY!V83","v":0},{"$f":"DATAENTRY!W83","v":0},{"$f":"DATAENTRY!X83","v":0},{"$f":"DATAENTRY!Y83","v":0},{"$f":"DATAENTRY!Z83","v":0},{"$f":"DATAENTRY!AA83","v":0},{"$f":"DATAENTRY!AB83","v":0},{"$f":"DATAENTRY!AC83","v":0},{"$f":"DATAENTRY!AD83","v":0},{"$f":"DATAENTRY!AE83","v":0},{"$f":"DATAENTRY!AF83","v":0},{"$f":"DATAENTRY!AG83","v":0},{"$f":"DATAENTRY!AH83","v":0},{"$f":"DATAENTRY!AI83","v":0},{"$f":"DATAENTRY!AJ83","v":0},{"$f":"DATAENTRY!AK83","v":0},{"$f":"DATAENTRY!AL83","v":0},{"$f":"DATAENTRY!AM83","v":0},{"$f":"DATAENTRY!AN83","v":0},{"$f":"DATAENTRY!AO83","v":0},{"$f":"DATAENTRY!AP83","v":0},{"$f":"DATAENTRY!AQ83","v":0},{"$f":"DATAENTRY!AR83","v":0},{"$f":"DATAENTRY!AS83","v":0},{"$f":"DATAENTRY!AT83","v":0},{"$f":"DATAENTRY!AU83","v":0},{"$f":"DATAENTRY!AV83","v":0},{"$f":"DATAENTRY!AW83","v":0},{"$f":"DATAENTRY!AX83","v":0},{"$f":"DATAENTRY!AY83","v":0},{"$f":"DATAENTRY!AZ83","v":0},{"$f":"DATAENTRY!BA83","v":0},{"$f":"DATAENTRY!BB83","v":0},{"$f":"DATAENTRY!BC83","v":0},{"$f":"DATAENTRY!BD83","v":0},{"$f":"DATAENTRY!BE83","v":0},{"$f":"DATAENTRY!BF83","v":0},{"$f":"DATAENTRY!BG83","v":0},{"$f":"DATAENTRY!BH83","v":""}]
[{"$f":"DATAENTRY!C84","v":0},{"$f":"DATAENTRY!D84","v":0},{"$f":"DATAENTRY!E84","v":0},{"$f":"DATAENTRY!F84","v":0},{"$f":"DATAENTRY!G84","v":0},{"$f":"DATAENTRY!H84","v":0},{"$f":"DATAENTRY!I84","v":0},{"$f":"DATAENTRY!J84","v":0},{"$f":"DATAENTRY!K84","v":0},{"$f":"DATAENTRY!L84","v":0},{"$f":"DATAENTRY!M84","v":0},{"$f":"DATAENTRY!N84","v":0},{"$f":"DATAENTRY!O84","v":0},{"$f":"DATAENTRY!P84","v":0},{"$f":"DATAENTRY!Q84","v":0},{"$f":"DATAENTRY!R84","v":0},{"$f":"DATAENTRY!S84","v":0},{"$f":"DATAENTRY!T84","v":0},{"$f":"DATAENTRY!U84","v":0},{"$f":"DATAENTRY!V84","v":0},{"$f":"DATAENTRY!W84","v":0},{"$f":"DATAENTRY!X84","v":0},{"$f":"DATAENTRY!Y84","v":0},{"$f":"DATAENTRY!Z84","v":0},{"$f":"DATAENTRY!AA84","v":0},{"$f":"DATAENTRY!AB84","v":0},{"$f":"DATAENTRY!AC84","v":0},{"$f":"DATAENTRY!AD84","v":0},{"$f":"DATAENTRY!AE84","v":0},{"$f":"DATAENTRY!AF84","v":0},{"$f":"DATAENTRY!AG84","v":0},{"$f":"DATAENTRY!AH84","v":0},{"$f":"DATAENTRY!AI84","v":0},{"$f":"DATAENTRY!AJ84","v":0},{"$f":"DATAENTRY!AK84","v":0},{"$f":"DATAENTRY!AL84","v":0},{"$f":"DATAENTRY!AM84","v":0},{"$f":"DATAENTRY!AN84","v":0},{"$f":"DATAENTRY!AO84","v":0},{"$f":"DATAENTRY!AP84","v":0},{"$f":"DATAENTRY!AQ84","v":0},{"$f":"DATAENTRY!AR84","v":0},{"$f":"DATAENTRY!AS84","v":0},{"$f":"DATAENTRY!AT84","v":0},{"$f":"DATAENTRY!AU84","v":0},{"$f":"DATAENTRY!AV84","v":0},{"$f":"DATAENTRY!AW84","v":0},{"$f":"DATAENTRY!AX84","v":0},{"$f":"DATAENTRY!AY84","v":0},{"$f":"DATAENTRY!AZ84","v":0},{"$f":"DATAENTRY!BA84","v":0},{"$f":"DATAENTRY!BB84","v":0},{"$f":"DATAENTRY!BC84","v":0},{"$f":"DATAENTRY!BD84","v":0},{"$f":"DATAENTRY!BE84","v":0},{"$f":"DATAENTRY!BF84","v":0},{"$f":"DATAENTRY!BG84","v":0},{"$f":"DATAENTRY!BH84","v":""}]
[{"$f":"DATAENTRY!C85","v":0},{"$f":"DATAENTRY!D85","v":0},{"$f":"DATAENTRY!E85","v":0},{"$f":"DATAENTRY!F85","v":0},{"$f":"DATAENTRY!G85","v":0},{"$f":"DATAENTRY!H85","v":0},{"$f":"DATAENTRY!I85","v":0},{"$f":"DATAENTRY!J85","v":0},{"$f":"DATAENTRY!K85","v":0},{"$f":"DATAENTRY!L85","v":0},{"$f":"DATAENTRY!M85","v":0},{"$f":"DATAENTRY!N85","v":0},{"$f":"DATAENTRY!O85","v":0},{"$f":"DATAENTRY!P85","v":0},{"$f":"DATAENTRY!Q85","v":0},{"$f":"DATAENTRY!R85","v":0},{"$f":"DATAENTRY!S85","v":0},{"$f":"DATAENTRY!T85","v":0},{"$f":"DATAENTRY!U85","v":0},{"$f":"DATAENTRY!V85","v":0},{"$f":"DATAENTRY!W85","v":0},{"$f":"DATAENTRY!X85","v":0},{"$f":"DATAENTRY!Y85","v":0},{"$f":"DATAENTRY!Z85","v":0},{"$f":"DATAENTRY!AA85","v":0},{"$f":"DATAENTRY!AB85","v":0},{"$f":"DATAENTRY!AC85","v":0},{"$f":"DATAENTRY!AD85","v":0},{"$f":"DATAENTRY!AE85","v":0},{"$f":"DATAENTRY!AF85","v":0},{"$f":"DATAENTRY!AG85","v":0},{"$f":"DATAENTRY!AH85","v":0},{"$f":"DATAENTRY!AI85","v":0},{"$f":"DATAENTRY!AJ85","v":0},{"$f":"DATAENTRY!AK85","v":0},{"$f":"DATAENTRY!AL85","v":0},{"$f":"DATAENTRY!AM85","v":0},{"$f":"DATAENTRY!AN85","v":0},{"$f":"DATAENTRY!AO85","v":0},{"$f":"DATAENTRY!AP85","v":0},{"$f":"DATAENTRY!AQ85","v":0},{"$f":"DATAENTRY!AR85","v":0},{"$f":"DATAENTRY!AS85","v":0},{"$f":"DATAENTRY!AT85","v":0},{"$f":"DATAENTRY!AU85","v":0},{"$f":"DATAENTRY!AV85","v":0},{"$f":"DATAENTRY!AW85","v":0},{"$f":"DATAENTRY!AX85","v":0},{"$f":"DATAENTRY!AY85","v":0},{"$f":"DATAENTRY!AZ85","v":0},{"$f":"DATAENTRY!BA85","v":0},{"$f":"DATAENTRY!BB85","v":0},{"$f":"DATAENTRY!BC85","v":0},{"$f":"DATAENTRY!BD85","v":0},{"$f":"DATAENTRY!BE85","v":0},{"$f":"DATAENTRY!BF85","v":0},{"$f":"DATAENTRY!BG85","v":0},{"$f":"DATAENTRY!BH85","v":""}]
[{"$f":"DATAENTRY!C86","v":0},{"$f":"DATAENTRY!D86","v":0},{"$f":"DATAENTRY!E86","v":0},{"$f":"DATAENTRY!F86","v":0},{"$f":"DATAENTRY!G86","v":0},{"$f":"DATAENTRY!H86","v":0},{"$f":"DATAENTRY!I86","v":0},{"$f":"DATAENTRY!J86","v":0},{"$f":"DATAENTRY!K86","v":0},{"$f":"DATAENTRY!L86","v":0},{"$f":"DATAENTRY!M86","v":0},{"$f":"DATAENTRY!N86","v":0},{"$f":"DATAENTRY!O86","v":0},{"$f":"DATAENTRY!P86","v":0},{"$f":"DATAENTRY!Q86","v":0},{"$f":"DATAENTRY!R86","v":0},{"$f":"DATAENTRY!S86","v":0},{"$f":"DATAENTRY!T86","v":0},{"$f":"DATAENTRY!U86","v":0},{"$f":"DATAENTRY!V86","v":0},{"$f":"DATAENTRY!W86","v":0},{"$f":"DATAENTRY!X86","v":0},{"$f":"DATAENTRY!Y86","v":0},{"$f":"DATAENTRY!Z86","v":0},{"$f":"DATAENTRY!AA86","v":0},{"$f":"DATAENTRY!AB86","v":0},{"$f":"DATAENTRY!AC86","v":0},{"$f":"DATAENTRY!AD86","v":0},{"$f":"DATAENTRY!AE86","v":0},{"$f":"DATAENTRY!AF86","v":0},{"$f":"DATAENTRY!AG86","v":0},{"$f":"DATAENTRY!AH86","v":0},{"$f":"DATAENTRY!AI86","v":0},{"$f":"DATAENTRY!AJ86","v":0},{"$f":"DATAENTRY!AK86","v":0},{"$f":"DATAENTRY!AL86","v":0},{"$f":"DATAENTRY!AM86","v":0},{"$f":"DATAENTRY!AN86","v":0},{"$f":"DATAENTRY!AO86","v":0},{"$f":"DATAENTRY!AP86","v":0},{"$f":"DATAENTRY!AQ86","v":0},{"$f":"DATAENTRY!AR86","v":0},{"$f":"DATAENTRY!AS86","v":0},{"$f":"DATAENTRY!AT86","v":0},{"$f":"DATAENTRY!AU86","v":0},{"$f":"DATAENTRY!AV86","v":0},{"$f":"DATAENTRY!AW86","v":0},{"$f":"DATAENTRY!AX86","v":0},{"$f":"DATAENTRY!AY86","v":0},{"$f":"DATAENTRY!AZ86","v":0},{"$f":"DATAENTRY!BA86","v":0},{"$f":"DATAENTRY!BB86","v":0},{"$f":"DATAENTRY!BC86","v":0},{"$f":"DATAENTRY!BD86","v":0},{"$f":"DATAENTRY!BE86","v":0},{"$f":"DATAENTRY!BF86","v":0},{"$f":"DATAENTRY!BG86","v":0},{"$f":"DATAENTRY!BH86","v":""}]
[{"$f":"DATAENTRY!C87","v":0},{"$f":"DATAENTRY!D87","v":0},{"$f":"DATAENTRY!E87","v":0},{"$f":"DATAENTRY!F87","v":0},{"$f":"DATAENTRY!G87","v":0},{"$f":"DATAENTRY!H87","v":0},{"$f":"DATAENTRY!I87","v":0},{"$f":"DATAENTRY!J87","v":0},{"$f":"DATAENTRY!K87","v":0},{"$f":"DATAENTRY!L87","v":0},{"$f":"DATAENTRY!M87","v":0},{"$f":"DATAENTRY!N87","v":0},{"$f":"DATAENTRY!O87","v":0},{"$f":"DATAENTRY!P87","v":0},{"$f":"DATAENTRY!Q87","v":0},{"$f":"DATAENTRY!R87","v":0},{"$f":"DATAENTRY!S87","v":0},{"$f":"DATAENTRY!T87","v":0},{"$f":"DATAENTRY!U87","v":0},{"$f":"DATAENTRY!V87","v":0},{"$f":"DATAENTRY!W87","v":0},{"$f":"DATAENTRY!X87","v":0},{"$f":"DATAENTRY!Y87","v":0},{"$f":"DATAENTRY!Z87","v":0},{"$f":"DATAENTRY!AA87","v":0},{"$f":"DATAENTRY!AB87","v":0},{"$f":"DATAENTRY!AC87","v":0},{"$f":"DATAENTRY!AD87","v":0},{"$f":"DATAENTRY!AE87","v":0},{"$f":"DATAENTRY!AF87","v":0},{"$f":"DATAENTRY!AG87","v":0},{"$f":"DATAENTRY!AH87","v":0},{"$f":"DATAENTRY!AI87","v":0},{"$f":"DATAENTRY!AJ87","v":0},{"$f":"DATAENTRY!AK87","v":0},{"$f":"DATAENTRY!AL87","v":0},{"$f":"DATAENTRY!AM87","v":0},{"$f":"DATAENTRY!AN87","v":0},{"$f":"DATAENTRY!AO87","v":0},{"$f":"DATAENTRY!AP87","v":0},{"$f":"DATAENTRY!AQ87","v":0},{"$f":"DATAENTRY!AR87","v":0},{"$f":"DATAENTRY!AS87","v":0},{"$f":"DATAENTRY!AT87","v":0},{"$f":"DATAENTRY!AU87","v":0},{"$f":"DATAENTRY!AV87","v":0},{"$f":"DATAENTRY!AW87","v":0},{"$f":"DATAENTRY!AX87","v":0},{"$f":"DATAENTRY!AY87","v":0},{"$f":"DATAENTRY!AZ87","v":0},{"$f":"DATAENTRY!BA87","v":0},{"$f":"DATAENTRY!BB87","v":0},{"$f":"DATAENTRY!BC87","v":0},{"$f":"DATAENTRY!BD87","v":0},{"$f":"DATAENTRY!BE87","v":0},{"$f":"DATAENTRY!BF87","v":0},{"$f":"DATAENTRY!BG87","v":0},{"$f":"DATAENTRY!BH87","v":""}]
[{"$f":"DATAENTRY!C88","v":0},{"$f":"DATAENTRY!D88","v":0},{"$f":"DATAENTRY!E88","v":0},{"$f":"DATAENTRY!F88","v":0},{"$f":"DATAENTRY!G88","v":0},{"$f":"DATAENTRY!H88","v":0},{"$f":"DATAENTRY!I88","v":0},{"$f":"DATAENTRY!J88","v":0},{"$f":"DATAENTRY!K88","v":0},{"$f":"DATAENTRY!L88","v":0},{"$f":"DATAENTRY!M88","v":0},{"$f":"DATAENTRY!N88","v":0},{"$f":"DATAENTRY!O88","v":0},{"$f":"DATAENTRY!P88","v":0},{"$f":"DATAENTRY!Q88","v":0},{"$f":"DATAENTRY!R88","v":0},{"$f":"DATAENTRY!S88","v":0},{"$f":"DATAENTRY!T88","v":0},{"$f":"DATAENTRY!U88","v":0},{"$f":"DATAENTRY!V88","v":0},{"$f":"DATAENTRY!W88","v":0},{"$f":"DATAENTRY!X88","v":0},{"$f":"DATAENTRY!Y88","v":0},{"$f":"DATAENTRY!Z88","v":0},{"$f":"DATAENTRY!AA88","v":0},{"$f":"DATAENTRY!AB88","v":0},{"$f":"DATAENTRY!AC88","v":0},{"$f":"DATAENTRY!AD88","v":0},{"$f":"DATAENTRY!AE88","v":0},{"$f":"DATAENTRY!AF88","v":0},{"$f":"DATAENTRY!AG88","v":0},{"$f":"DATAENTRY!AH88","v":0},{"$f":"DATAENTRY!AI88","v":0},{"$f":"DATAENTRY!AJ88","v":0},{"$f":"DATAENTRY!AK88","v":0},{"$f":"DATAENTRY!AL88","v":0},{"$f":"DATAENTRY!AM88","v":0},{"$f":"DATAENTRY!AN88","v":0},{"$f":"DATAENTRY!AO88","v":0},{"$f":"DATAENTRY!AP88","v":0},{"$f":"DATAENTRY!AQ88","v":0},{"$f":"DATAENTRY!AR88","v":0},{"$f":"DATAENTRY!AS88","v":0},{"$f":"DATAENTRY!AT88","v":0},{"$f":"DATAENTRY!AU88","v":0},{"$f":"DATAENTRY!AV88","v":0},{"$f":"DATAENTRY!AW88","v":0},{"$f":"DATAENTRY!AX88","v":0},{"$f":"DATAENTRY!AY88","v":0},{"$f":"DATAENTRY!AZ88","v":0},{"$f":"DATAENTRY!BA88","v":0},{"$f":"DATAENTRY!BB88","v":0},{"$f":"DATAENTRY!BC88","v":0},{"$f":"DATAENTRY!BD88","v":0},{"$f":"DATAENTRY!BE88","v":0},{"$f":"DATAENTRY!BF88","v":0},{"$f":"DATAENTRY!BG88","v":0},{"$f":"DATAENTRY!BH88","v":""}]
[{"$f":"DATAENTRY!C89","v":0},{"$f":"DATAENTRY!D89","v":0},{"$f":"DATAENTRY!E89","v":0},{"$f":"DATAENTRY!F89","v":0},{"$f":"DATAENTRY!G89","v":0},{"$f":"DATAENTRY!H89","v":0},{"$f":"DATAENTRY!I89","v":0},{"$f":"DATAENTRY!J89","v":0},{"$f":"DATAENTRY!K89","v":0},{"$f":"DATAENTRY!L89","v":0},{"$f":"DATAENTRY!M89","v":0},{"$f":"DATAENTRY!N89","v":0},{"$f":"DATAENTRY!O89","v":0},{"$f":"DATAENTRY!P89","v":0},{"$f":"DATAENTRY!Q89","v":0},{"$f":"DATAENTRY!R89","v":0},{"$f":"DATAENTRY!S89","v":0},{"$f":"DATAENTRY!T89","v":0},{"$f":"DATAENTRY!U89","v":0},{"$f":"DATAENTRY!V89","v":0},{"$f":"DATAENTRY!W89","v":0},{"$f":"DATAENTRY!X89","v":0},{"$f":"DATAENTRY!Y89","v":0},{"$f":"DATAENTRY!Z89","v":0},{"$f":"DATAENTRY!AA89","v":0},{"$f":"DATAENTRY!AB89","v":0},{"$f":"DATAENTRY!AC89","v":0},{"$f":"DATAENTRY!AD89","v":0},{"$f":"DATAENTRY!AE89","v":0},{"$f":"DATAENTRY!AF89","v":0},{"$f":"DATAENTRY!AG89","v":0},{"$f":"DATAENTRY!AH89","v":0},{"$f":"DATAENTRY!AI89","v":0},{"$f":"DATAENTRY!AJ89","v":0},{"$f":"DATAENTRY!AK89","v":0},{"$f":"DATAENTRY!AL89","v":0},{"$f":"DATAENTRY!AM89","v":0},{"$f":"DATAENTRY!AN89","v":0},{"$f":"DATAENTRY!AO89","v":0},{"$f":"DATAENTRY!AP89","v":0},{"$f":"DATAENTRY!AQ89","v":0},{"$f":"DATAENTRY!AR89","v":0},{"$f":"DATAENTRY!AS89","v":0},{"$f":"DATAENTRY!AT89","v":0},{"$f":"DATAENTRY!AU89","v":0},{"$f":"DATAENTRY!AV89","v":0},{"$f":"DATAENTRY!AW89","v":0},{"$f":"DATAENTRY!AX89","v":0},{"$f":"DATAENTRY!AY89","v":0},{"$f":"DATAENTRY!AZ89","v":0},{"$f":"DATAENTRY!BA89","v":0},{"$f":"DATAENTRY!BB89","v":0},{"$f":"DATAENTRY!BC89","v":0},{"$f":"DATAENTRY!BD89","v":0},{"$f":"DATAENTRY!BE89","v":0},{"$f":"DATAENTRY!BF89","v":0},{"$f":"DATAENTRY!BG89","v":0},{"$f":"DATAENTRY!BH89","v":""}]
[{"$f":"DATAENTRY!C90","v":0},{"$f":"DATAENTRY!D90","v":0},{"$f":"DATAENTRY!E90","v":0},{"$f":"DATAENTRY!F90","v":0},{"$f":"DATAENTRY!G90","v":0},{"$f":"DATAENTRY!H90","v":0},{"$f":"DATAENTRY!I90","v":0},{"$f":"DATAENTRY!J90","v":0},{"$f":"DATAENTRY!K90","v":0},{"$f":"DATAENTRY!L90","v":0},{"$f":"DATAENTRY!M90","v":0},{"$f":"DATAENTRY!N90","v":0},{"$f":"DATAENTRY!O90","v":0},{"$f":"DATAENTRY!P90","v":0},{"$f":"DATAENTRY!Q90","v":0},{"$f":"DATAENTRY!R90","v":0},{"$f":"DATAENTRY!S90","v":0},{"$f":"DATAENTRY!T90","v":0},{"$f":"DATAENTRY!U90","v":0},{"$f":"DATAENTRY!V90","v":0},{"$f":"DATAENTRY!W90","v":0},{"$f":"DATAENTRY!X90","v":0},{"$f":"DATAENTRY!Y90","v":0},{"$f":"DATAENTRY!Z90","v":0},{"$f":"DATAENTRY!AA90","v":0},{"$f":"DATAENTRY!AB90","v":0},{"$f":"DATAENTRY!AC90","v":0},{"$f":"DATAENTRY!AD90","v":0},{"$f":"DATAENTRY!AE90","v":0},{"$f":"DATAENTRY!AF90","v":0},{"$f":"DATAENTRY!AG90","v":0},{"$f":"DATAENTRY!AH90","v":0},{"$f":"DATAENTRY!AI90","v":0},{"$f":"DATAENTRY!AJ90","v":0},{"$f":"DATAENTRY!AK90","v":0},{"$f":"DATAENTRY!AL90","v":0},{"$f":"DATAENTRY!AM90","v":0},{"$f":"DATAENTRY!AN90","v":0},{"$f":"DATAENTRY!AO90","v":0},{"$f":"DATAENTRY!AP90","v":0},{"$f":"DATAENTRY!AQ90","v":0},{"$f":"DATAENTRY!AR90","v":0},{"$f":"DATAENTRY!AS90","v":0},{"$f":"DATAENTRY!AT90","v":0},{"$f":"DATAENTRY!AU90","v":0},{"$f":"DATAENTRY!AV90","v":0},{"$f":"DATAENTRY!AW90","v":0},{"$f":"DATAENTRY!AX90","v":0},{"$f":"DATAENTRY!AY90","v":0},{"$f":"DATAENTRY!AZ90","v":0},{"$f":"DATAENTRY!BA90","v":0},{"$f":"DATAENTRY!BB90","v":0},{"$f":"DATAENTRY!BC90","v":0},{"$f":"DATAENTRY!BD90","v":0},{"$f":"DATAENTRY!BE90","v":0},{"$f":"DATAENTRY!BF90","v":0},{"$f":"DATAENTRY!BG90","v":0},{"$f":"DATAENTRY!BH90","v":""}]
[{"$f":"DATAENTRY!C91","v":0},{"$f":"DATAENTRY!D91","v":0},{"$f":"DATAENTRY!E91","v":0},{"$f":"DATAENTRY!F91","v":0},{"$f":"DATAENTRY!G91","v":0},{"$f":"DATAENTRY!H91","v":0},{"$f":"DATAENTRY!I91","v":0},{"$f":"DATAENTRY!J91","v":0},{"$f":"DATAENTRY!K91","v":0},{"$f":"DATAENTRY!L91","v":0},{"$f":"DATAENTRY!M91","v":0},{"$f":"DATAENTRY!N91","v":0},{"$f":"DATAENTRY!O91","v":0},{"$f":"DATAENTRY!P91","v":0},{"$f":"DATAENTRY!Q91","v":0},{"$f":"DATAENTRY!R91","v":0},{"$f":"DATAENTRY!S91","v":0},{"$f":"DATAENTRY!T91","v":0},{"$f":"DATAENTRY!U91","v":0},{"$f":"DATAENTRY!V91","v":0},{"$f":"DATAENTRY!W91","v":0},{"$f":"DATAENTRY!X91","v":0},{"$f":"DATAENTRY!Y91","v":0},{"$f":"DATAENTRY!Z91","v":0},{"$f":"DATAENTRY!AA91","v":0},{"$f":"DATAENTRY!AB91","v":0},{"$f":"DATAENTRY!AC91","v":0},{"$f":"DATAENTRY!AD91","v":0},{"$f":"DATAENTRY!AE91","v":0},{"$f":"DATAENTRY!AF91","v":0},{"$f":"DATAENTRY!AG91","v":0},{"$f":"DATAENTRY!AH91","v":0},{"$f":"DATAENTRY!AI91","v":0},{"$f":"DATAENTRY!AJ91","v":0},{"$f":"DATAENTRY!AK91","v":0},{"$f":"DATAENTRY!AL91","v":0},{"$f":"DATAENTRY!AM91","v":0},{"$f":"DATAENTRY!AN91","v":0},{"$f":"DATAENTRY!AO91","v":0},{"$f":"DATAENTRY!AP91","v":0},{"$f":"DATAENTRY!AQ91","v":0},{"$f":"DATAENTRY!AR91","v":0},{"$f":"DATAENTRY!AS91","v":0},{"$f":"DATAENTRY!AT91","v":0},{"$f":"DATAENTRY!AU91","v":0},{"$f":"DATAENTRY!AV91","v":0},{"$f":"DATAENTRY!AW91","v":0},{"$f":"DATAENTRY!AX91","v":0},{"$f":"DATAENTRY!AY91","v":0},{"$f":"DATAENTRY!AZ91","v":0},{"$f":"DATAENTRY!BA91","v":0},{"$f":"DATAENTRY!BB91","v":0},{"$f":"DATAENTRY!BC91","v":0},{"$f":"DATAENTRY!BD91","v":0},{"$f":"DATAENTRY!BE91","v":0},{"$f":"DATAENTRY!BF91","v":0},{"$f":"DATAENTRY!BG91","v":0},{"$f":"DATAENTRY!BH91","v":""}]
[{"$f":"DATAENTRY!C92","v":0},{"$f":"DATAENTRY!D92","v":0},{"$f":"DATAENTRY!E92","v":0},{"$f":"DATAENTRY!F92","v":0},{"$f":"DATAENTRY!G92","v":0},{"$f":"DATAENTRY!H92","v":0},{"$f":"DATAENTRY!I92","v":0},{"$f":"DATAENTRY!J92","v":0},{"$f":"DATAENTRY!K92","v":0},{"$f":"DATAENTRY!L92","v":0},{"$f":"DATAENTRY!M92","v":0},{"$f":"DATAENTRY!N92","v":0},{"$f":"DATAENTRY!O92","v":0},{"$f":"DATAENTRY!P92","v":0},{"$f":"DATAENTRY!Q92","v":0},{"$f":"DATAENTRY!R92","v":0},{"$f":"DATAENTRY!S92","v":0},{"$f":"DATAENTRY!T92","v":0},{"$f":"DATAENTRY!U92","v":0},{"$f":"DATAENTRY!V92","v":0},{"$f":"DATAENTRY!W92","v":0},{"$f":"DATAENTRY!X92","v":0},{"$f":"DATAENTRY!Y92","v":0},{"$f":"DATAENTRY!Z92","v":0},{"$f":"DATAENTRY!AA92","v":0},{"$f":"DATAENTRY!AB92","v":0},{"$f":"DATAENTRY!AC92","v":0},{"$f":"DATAENTRY!AD92","v":0},{"$f":"DATAENTRY!AE92","v":0},{"$f":"DATAENTRY!AF92","v":0},{"$f":"DATAENTRY!AG92","v":0},{"$f":"DATAENTRY!AH92","v":0},{"$f":"DATAENTRY!AI92","v":0},{"$f":"DATAENTRY!AJ92","v":0},{"$f":"DATAENTRY!AK92","v":0},{"$f":"DATAENTRY!AL92","v":0},{"$f":"DATAENTRY!AM92","v":0},{"$f":"DATAENTRY!AN92","v":0},{"$f":"DATAENTRY!AO92","v":0},{"$f":"DATAENTRY!AP92","v":0},{"$f":"DATAENTRY!AQ92","v":0},{"$f":"DATAENTRY!AR92","v":0},{"$f":"DATAENTRY!AS92","v":0},{"$f":"DATAENTRY!AT92","v":0},{"$f":"DATAENTRY!AU92","v":0},{"$f":"DATAENTRY!AV92","v":0},{"$f":"DATAENTRY!AW92","v":0},{"$f":"DATAENTRY!AX92","v":0},{"$f":"DATAENTRY!AY92","v":0},{"$f":"DATAENTRY!AZ92","v":0},{"$f":"DATAENTRY!BA92","v":0},{"$f":"DATAENTRY!BB92","v":0},{"$f":"DATAENTRY!BC92","v":0},{"$f":"DATAENTRY!BD92","v":0},{"$f":"DATAENTRY!BE92","v":0},{"$f":"DATAENTRY!BF92","v":0},{"$f":"DATAENTRY!BG92","v":0},{"$f":"DATAENTRY!BH92","v":""}]
[{"$f":"DATAENTRY!C93","v":0},{"$f":"DATAENTRY!D93","v":0},{"$f":"DATAENTRY!E93","v":0},{"$f":"DATAENTRY!F93","v":0},{"$f":"DATAENTRY!G93","v":0},{"$f":"DATAENTRY!H93","v":0},{"$f":"DATAENTRY!I93","v":0},{"$f":"DATAENTRY!J93","v":0},{"$f":"DATAENTRY!K93","v":0},{"$f":"DATAENTRY!L93","v":0},{"$f":"DATAENTRY!M93","v":0},{"$f":"DATAENTRY!N93","v":0},{"$f":"DATAENTRY!O93","v":0},{"$f":"DATAENTRY!P93","v":0},{"$f":"DATAENTRY!Q93","v":0},{"$f":"DATAENTRY!R93","v":0},{"$f":"DATAENTRY!S93","v":0},{"$f":"DATAENTRY!T93","v":0},{"$f":"DATAENTRY!U93","v":0},{"$f":"DATAENTRY!V93","v":0},{"$f":"DATAENTRY!W93","v":0},{"$f":"DATAENTRY!X93","v":0},{"$f":"DATAENTRY!Y93","v":0},{"$f":"DATAENTRY!Z93","v":0},{"$f":"DATAENTRY!AA93","v":0},{"$f":"DATAENTRY!AB93","v":0},{"$f":"DATAENTRY!AC93","v":0},{"$f":"DATAENTRY!AD93","v":0},{"$f":"DATAENTRY!AE93","v":0},{"$f":"DATAENTRY!AF93","v":0},{"$f":"DATAENTRY!AG93","v":0},{"$f":"DATAENTRY!AH93","v":0},{"$f":"DATAENTRY!AI93","v":0},{"$f":"DATAENTRY!AJ93","v":0},{"$f":"DATAENTRY!AK93","v":0},{"$f":"DATAENTRY!AL93","v":0},{"$f":"DATAENTRY!AM93","v":0},{"$f":"DATAENTRY!AN93","v":0},{"$f":"DATAENTRY!AO93","v":0},{"$f":"DATAENTRY!AP93","v":0},{"$f":"DATAENTRY!AQ93","v":0},{"$f":"DATAENTRY!AR93","v":0},{"$f":"DATAENTRY!AS93","v":0},{"$f":"DATAENTRY!AT93","v":0},{"$f":"DATAENTRY!AU93","v":0},{"$f":"DATAENTRY!AV93","v":0},{"$f":"DATAENTRY!AW93","v":0},{"$f":"DATAENTRY!AX93","v":0},{"$f":"DATAENTRY!AY93","v":0},{"$f":"DATAENTRY!AZ93","v":0},{"$f":"DATAENTRY!BA93","v":0},{"$f":"DATAENTRY!BB93","v":0},{"$f":"DATAENTRY!BC93","v":0},{"$f":"DATAENTRY!BD93","v":0},{"$f":"DATAENTRY!BE93","v":0},{"$f":"DATAENTRY!BF93","v":0},{"$f":"DATAENTRY!BG93","v":0},{"$f":"DATAENTRY!BH93","v":""}]
[{"$f":"DATAENTRY!C94","v":0},{"$f":"DATAENTRY!D94","v":0},{"$f":"DATAENTRY!E94","v":0},{"$f":"DATAENTRY!F94","v":0},{"$f":"DATAENTRY!G94","v":0},{"$f":"DATAENTRY!H94","v":0},{"$f":"DATAENTRY!I94","v":0},{"$f":"DATAENTRY!J94","v":0},{"$f":"DATAENTRY!K94","v":0},{"$f":"DATAENTRY!L94","v":0},{"$f":"DATAENTRY!M94","v":0},{"$f":"DATAENTRY!N94","v":0},{"$f":"DATAENTRY!O94","v":0},{"$f":"DATAENTRY!P94","v":0},{"$f":"DATAENTRY!Q94","v":0},{"$f":"DATAENTRY!R94","v":0},{"$f":"DATAENTRY!S94","v":0},{"$f":"DATAENTRY!T94","v":0},{"$f":"DATAENTRY!U94","v":0},{"$f":"DATAENTRY!V94","v":0},{"$f":"DATAENTRY!W94","v":0},{"$f":"DATAENTRY!X94","v":0},{"$f":"DATAENTRY!Y94","v":0},{"$f":"DATAENTRY!Z94","v":0},{"$f":"DATAENTRY!AA94","v":0},{"$f":"DATAENTRY!AB94","v":0},{"$f":"DATAENTRY!AC94","v":0},{"$f":"DATAENTRY!AD94","v":0},{"$f":"DATAENTRY!AE94","v":0},{"$f":"DATAENTRY!AF94","v":0},{"$f":"DATAENTRY!AG94","v":0},{"$f":"DATAENTRY!AH94","v":0},{"$f":"DATAENTRY!AI94","v":0},{"$f":"DATAENTRY!AJ94","v":0},{"$f":"DATAENTRY!AK94","v":0},{"$f":"DATAENTRY!AL94","v":0},{"$f":"DATAENTRY!AM94","v":0},{"$f":"DATAENTRY!AN94","v":0},{"$f":"DATAENTRY!AO94","v":0},{"$f":"DATAENTRY!AP94","v":0},{"$f":"DATAENTRY!AQ94","v":0},{"$f":"DATAENTRY!AR94","v":0},{"$f":"DATAENTRY!AS94","v":0},{"$f":"DATAENTRY!AT94","v":0},{"$f":"DATAENTRY!AU94","v":0},{"$f":"DATAENTRY!AV94","v":0},{"$f":"DATAENTRY!AW94","v":0},{"$f":"DATAENTRY!AX94","v":0},{"$f":"DATAENTRY!AY94","v":0},{"$f":"DATAENTRY!AZ94","v":0},{"$f":"DATAENTRY!BA94","v":0},{"$f":"DATAENTRY!BB94","v":0},{"$f":"DATAENTRY!BC94","v":0},{"$f":"DATAENTRY!BD94","v":0},{"$f":"DATAENTRY!BE94","v":0},{"$f":"DATAENTRY!BF94","v":0},{"$f":"DATAENTRY!BG94","v":0},{"$f":"DATAENTRY!BH94","v":""}]
[{"$f":"DATAENTRY!C95","v":0},{"$f":"DATAENTRY!D95","v":0},{"$f":"DATAENTRY!E95","v":0},{"$f":"DATAENTRY!F95","v":0},{"$f":"DATAENTRY!G95","v":0},{"$f":"DATAENTRY!H95","v":0},{"$f":"DATAENTRY!I95","v":0},{"$f":"DATAENTRY!J95","v":0},{"$f":"DATAENTRY!K95","v":0},{"$f":"DATAENTRY!L95","v":0},{"$f":"DATAENTRY!M95","v":0},{"$f":"DATAENTRY!N95","v":0},{"$f":"DATAENTRY!O95","v":0},{"$f":"DATAENTRY!P95","v":0},{"$f":"DATAENTRY!Q95","v":0},{"$f":"DATAENTRY!R95","v":0},{"$f":"DATAENTRY!S95","v":0},{"$f":"DATAENTRY!T95","v":0},{"$f":"DATAENTRY!U95","v":0},{"$f":"DATAENTRY!V95","v":0},{"$f":"DATAENTRY!W95","v":0},{"$f":"DATAENTRY!X95","v":0},{"$f":"DATAENTRY!Y95","v":0},{"$f":"DATAENTRY!Z95","v":0},{"$f":"DATAENTRY!AA95","v":0},{"$f":"DATAENTRY!AB95","v":0},{"$f":"DATAENTRY!AC95","v":0},{"$f":"DATAENTRY!AD95","v":0},{"$f":"DATAENTRY!AE95","v":0},{"$f":"DATAENTRY!AF95","v":0},{"$f":"DATAENTRY!AG95","v":0},{"$f":"DATAENTRY!AH95","v":0},{"$f":"DATAENTRY!AI95","v":0},{"$f":"DATAENTRY!AJ95","v":0},{"$f":"DATAENTRY!AK95","v":0},{"$f":"DATAENTRY!AL95","v":0},{"$f":"DATAENTRY!AM95","v":0},{"$f":"DATAENTRY!AN95","v":0},{"$f":"DATAENTRY!AO95","v":0},{"$f":"DATAENTRY!AP95","v":0},{"$f":"DATAENTRY!AQ95","v":0},{"$f":"DATAENTRY!AR95","v":0},{"$f":"DATAENTRY!AS95","v":0},{"$f":"DATAENTRY!AT95","v":0},{"$f":"DATAENTRY!AU95","v":0},{"$f":"DATAENTRY!AV95","v":0},{"$f":"DATAENTRY!AW95","v":0},{"$f":"DATAENTRY!AX95","v":0},{"$f":"DATAENTRY!AY95","v":0},{"$f":"DATAENTRY!AZ95","v":0},{"$f":"DATAENTRY!BA95","v":0},{"$f":"DATAENTRY!BB95","v":0},{"$f":"DATAENTRY!BC95","v":0},{"$f":"DATAENTRY!BD95","v":0},{"$f":"DATAENTRY!BE95","v":0},{"$f":"DATAENTRY!BF95","v":0},{"$f":"DATAENTRY!BG95","v":0},{"$f":"DATAENTRY!BH95","v":""}]
[{"$f":"DATAENTRY!C96","v":0},{"$f":"DATAENTRY!D96","v":0},{"$f":"DATAENTRY!E96","v":0},{"$f":"DATAENTRY!F96","v":0},{"$f":"DATAENTRY!G96","v":0},{"$f":"DATAENTRY!H96","v":0},{"$f":"DATAENTRY!I96","v":0},{"$f":"DATAENTRY!J96","v":0},{"$f":"DATAENTRY!K96","v":0},{"$f":"DATAENTRY!L96","v":0},{"$f":"DATAENTRY!M96","v":0},{"$f":"DATAENTRY!N96","v":0},{"$f":"DATAENTRY!O96","v":0},{"$f":"DATAENTRY!P96","v":0},{"$f":"DATAENTRY!Q96","v":0},{"$f":"DATAENTRY!R96","v":0},{"$f":"DATAENTRY!S96","v":0},{"$f":"DATAENTRY!T96","v":0},{"$f":"DATAENTRY!U96","v":0},{"$f":"DATAENTRY!V96","v":0},{"$f":"DATAENTRY!W96","v":0},{"$f":"DATAENTRY!X96","v":0},{"$f":"DATAENTRY!Y96","v":0},{"$f":"DATAENTRY!Z96","v":0},{"$f":"DATAENTRY!AA96","v":0},{"$f":"DATAENTRY!AB96","v":0},{"$f":"DATAENTRY!AC96","v":0},{"$f":"DATAENTRY!AD96","v":0},{"$f":"DATAENTRY!AE96","v":0},{"$f":"DATAENTRY!AF96","v":0},{"$f":"DATAENTRY!AG96","v":0},{"$f":"DATAENTRY!AH96","v":0},{"$f":"DATAENTRY!AI96","v":0},{"$f":"DATAENTRY!AJ96","v":0},{"$f":"DATAENTRY!AK96","v":0},{"$f":"DATAENTRY!AL96","v":0},{"$f":"DATAENTRY!AM96","v":0},{"$f":"DATAENTRY!AN96","v":0},{"$f":"DATAENTRY!AO96","v":0},{"$f":"DATAENTRY!AP96","v":0},{"$f":"DATAENTRY!AQ96","v":0},{"$f":"DATAENTRY!AR96","v":0},{"$f":"DATAENTRY!AS96","v":0},{"$f":"DATAENTRY!AT96","v":0},{"$f":"DATAENTRY!AU96","v":0},{"$f":"DATAENTRY!AV96","v":0},{"$f":"DATAENTRY!AW96","v":0},{"$f":"DATAENTRY!AX96","v":0},{"$f":"DATAENTRY!AY96","v":0},{"$f":"DATAENTRY!AZ96","v":0},{"$f":"DATAENTRY!BA96","v":0},{"$f":"DATAENTRY!BB96","v":0},{"$f":"DATAENTRY!BC96","v":0},{"$f":"DATAENTRY!BD96","v":0},{"$f":"DATAENTRY!BE96","v":0},{"$f":"DATAENTRY!BF96","v":0},{"$f":"DATAENTRY!BG96","v":0},{"$f":"DATAENTRY!BH96","v":""}]
[{"$f":"DATAENTRY!C97","v":0},{"$f":"DATAENTRY!D97","v":0},{"$f":"DATAENTRY!E97","v":0},{"$f":"DATAENTRY!F97","v":0},{"$f":"DATAENTRY!G97","v":0},{"$f":"DATAENTRY!H97","v":0},{"$f":"DATAENTRY!I97","v":0},{"$f":"DATAENTRY!J97","v":0},{"$f":"DATAENTRY!K97","v":0},{"$f":"DATAENTRY!L97","v":0},{"$f":"DATAENTRY!M97","v":0},{"$f":"DATAENTRY!N97","v":0},{"$f":"DATAENTRY!O97","v":0},{"$f":"DATAENTRY!P97","v":0},{"$f":"DATAENTRY!Q97","v":0},{"$f":"DATAENTRY!R97","v":0},{"$f":"DATAENTRY!S97","v":0},{"$f":"DATAENTRY!T97","v":0},{"$f":"DATAENTRY!U97","v":0},{"$f":"DATAENTRY!V97","v":0},{"$f":"DATAENTRY!W97","v":0},{"$f":"DATAENTRY!X97","v":0},{"$f":"DATAENTRY!Y97","v":0},{"$f":"DATAENTRY!Z97","v":0},{"$f":"DATAENTRY!AA97","v":0},{"$f":"DATAENTRY!AB97","v":0},{"$f":"DATAENTRY!AC97","v":0},{"$f":"DATAENTRY!AD97","v":0},{"$f":"DATAENTRY!AE97","v":0},{"$f":"DATAENTRY!AF97","v":0},{"$f":"DATAENTRY!AG97","v":0},{"$f":"DATAENTRY!AH97","v":0},{"$f":"DATAENTRY!AI97","v":0},{"$f":"DATAENTRY!AJ97","v":0},{"$f":"DATAENTRY!AK97","v":0},{"$f":"DATAENTRY!AL97","v":0},{"$f":"DATAENTRY!AM97","v":0},{"$f":"DATAENTRY!AN97","v":0},{"$f":"DATAENTRY!AO97","v":0},{"$f":"DATAENTRY!AP97","v":0},{"$f":"DATAENTRY!AQ97","v":0},{"$f":"DATAENTRY!AR97","v":0},{"$f":"DATAENTRY!AS97","v":0},{"$f":"DATAENTRY!AT97","v":0},{"$f":"DATAENTRY!AU97","v":0},{"$f":"DATAENTRY!AV97","v":0},{"$f":"DATAENTRY!AW97","v":0},{"$f":"DATAENTRY!AX97","v":0},{"$f":"DATAENTRY!AY97","v":0},{"$f":"DATAENTRY!AZ97","v":0},{"$f":"DATAENTRY!BA97","v":0},{"$f":"DATAENTRY!BB97","v":0},{"$f":"DATAENTRY!BC97","v":0},{"$f":"DATAENTRY!BD97","v":0},{"$f":"DATAENTRY!BE97","v":0},{"$f":"DATAENTRY!BF97","v":0},{"$f":"DATAENTRY!BG97","v":0},{"$f":"DATAENTRY!BH97","v":""}]
[{"$f":"DATAENTRY!C98","v":0},{"$f":"DATAENTRY!D98","v":0},{"$f":"DATAENTRY!E98","v":0},{"$f":"DATAENTRY!F98","v":0},{"$f":"DATAENTRY!G98","v":0},{"$f":"DATAENTRY!H98","v":0},{"$f":"DATAENTRY!I98","v":0},{"$f":"DATAENTRY!J98","v":0},{"$f":"DATAENTRY!K98","v":0},{"$f":"DATAENTRY!L98","v":0},{"$f":"DATAENTRY!M98","v":0},{"$f":"DATAENTRY!N98","v":0},{"$f":"DATAENTRY!O98","v":0},{"$f":"DATAENTRY!P98","v":0},{"$f":"DATAENTRY!Q98","v":0},{"$f":"DATAENTRY!R98","v":0},{"$f":"DATAENTRY!S98","v":0},{"$f":"DATAENTRY!T98","v":0},{"$f":"DATAENTRY!U98","v":0},{"$f":"DATAENTRY!V98","v":0},{"$f":"DATAENTRY!W98","v":0},{"$f":"DATAENTRY!X98","v":0},{"$f":"DATAENTRY!Y98","v":0},{"$f":"DATAENTRY!Z98","v":0},{"$f":"DATAENTRY!AA98","v":0},{"$f":"DATAENTRY!AB98","v":0},{"$f":"DATAENTRY!AC98","v":0},{"$f":"DATAENTRY!AD98","v":0},{"$f":"DATAENTRY!AE98","v":0},{"$f":"DATAENTRY!AF98","v":0},{"$f":"DATAENTRY!AG98","v":0},{"$f":"DATAENTRY!AH98","v":0},{"$f":"DATAENTRY!AI98","v":0},{"$f":"DATAENTRY!AJ98","v":0},{"$f":"DATAENTRY!AK98","v":0},{"$f":"DATAENTRY!AL98","v":0},{"$f":"DATAENTRY!AM98","v":0},{"$f":"DATAENTRY!AN98","v":0},{"$f":"DATAENTRY!AO98","v":0},{"$f":"DATAENTRY!AP98","v":0},{"$f":"DATAENTRY!AQ98","v":0},{"$f":"DATAENTRY!AR98","v":0},{"$f":"DATAENTRY!AS98","v":0},{"$f":"DATAENTRY!AT98","v":0},{"$f":"DATAENTRY!AU98","v":0},{"$f":"DATAENTRY!AV98","v":0},{"$f":"DATAENTRY!AW98","v":0},{"$f":"DATAENTRY!AX98","v":0},{"$f":"DATAENTRY!AY98","v":0},{"$f":"DATAENTRY!AZ98","v":0},{"$f":"DATAENTRY!BA98","v":0},{"$f":"DATAENTRY!BB98","v":0},{"$f":"DATAENTRY!BC98","v":0},{"$f":"DATAENTRY!BD98","v":0},{"$f":"DATAENTRY!BE98","v":0},{"$f":"DATAENTRY!BF98","v":0},{"$f":"DATAENTRY!BG98","v":0},{"$f":"DATAENTRY!BH98","v":""}]
[{"$f":"DATAENTRY!C99","v":0},{"$f":"DATAENTRY!D99","v":0},{"$f":"DATAENTRY!E99","v":0},{"$f":"DATAENTRY!F99","v":0},{"$f":"DATAENTRY!G99","v":0},{"$f":"DATAENTRY!H99","v":0},{"$f":"DATAENTRY!I99","v":0},{"$f":"DATAENTRY!J99","v":0},{"$f":"DATAENTRY!K99","v":0},{"$f":"DATAENTRY!L99","v":0},{"$f":"DATAENTRY!M99","v":0},{"$f":"DATAENTRY!N99","v":0},{"$f":"DATAENTRY!O99","v":0},{"$f":"DATAENTRY!P99","v":0},{"$f":"DATAENTRY!Q99","v":0},{"$f":"DATAENTRY!R99","v":0},{"$f":"DATAENTRY!S99","v":0},{"$f":"DATAENTRY!T99","v":0},{"$f":"DATAENTRY!U99","v":0},{"$f":"DATAENTRY!V99","v":0},{"$f":"DATAENTRY!W99","v":0},{"$f":"DATAENTRY!X99","v":0},{"$f":"DATAENTRY!Y99","v":0},{"$f":"DATAENTRY!Z99","v":0},{"$f":"DATAENTRY!AA99","v":0},{"$f":"DATAENTRY!AB99","v":0},{"$f":"DATAENTRY!AC99","v":0},{"$f":"DATAENTRY!AD99","v":0},{"$f":"DATAENTRY!AE99","v":0},{"$f":"DATAENTRY!AF99","v":0},{"$f":"DATAENTRY!AG99","v":0},{"$f":"DATAENTRY!AH99","v":0},{"$f":"DATAENTRY!AI99","v":0},{"$f":"DATAENTRY!AJ99","v":0},{"$f":"DATAENTRY!AK99","v":0},{"$f":"DATAENTRY!AL99","v":0},{"$f":"DATAENTRY!AM99","v":0},{"$f":"DATAENTRY!AN99","v":0},{"$f":"DATAENTRY!AO99","v":0},{"$f":"DATAENTRY!AP99","v":0},{"$f":"DATAENTRY!AQ99","v":0},{"$f":"DATAENTRY!AR99","v":0},{"$f":"DATAENTRY!AS99","v":0},{"$f":"DATAENTRY!AT99","v":0},{"$f":"DATAENTRY!AU99","v":0},{"$f":"DATAENTRY!AV99","v":0},{"$f":"DATAENTRY!AW99","v":0},{"$f":"DATAENTRY!AX99","v":0},{"$f":"DATAENTRY!AY99","v":0},{"$f":"DATAENTRY!AZ99","v":0},{"$f":"DATAENTRY!BA99","v":0},{"$f":"DATAENTRY!BB99","v":0},{"$f":"DATAENTRY!BC99","v":0},{"$f":"DATAENTRY!BD99","v":0},{"$f":"DATAENTRY!BE99","v":0},{"$f":"DATAENTRY!BF99","v":0},{"$f":"DATAENTRY!BG99","v":0},{"$f":"DATAENTRY!BH99","v":""}]
[{"$f":"DATAENTRY!C100","v":0},{"$f":"DATAENTRY!D100","v":0},{"$f":"DATAENTRY!E100","v":0},{"$f":"DATAENTRY!F100","v":0},{"$f":"DATAENTRY!G100","v":0},{"$f":"DATAENTRY!H100","v":0},{"$f":"DATAENTRY!I100","v":0},{"$f":"DATAENTRY!J100","v":0},{"$f":"DATAENTRY!K100","v":0},{"$f":"DATAENTRY!L100","v":0},{"$f":"DATAENTRY!M100","v":0},{"$f":"DATAENTRY!N100","v":0},{"$f":"DATAENTRY!O100","v":0},{"$f":"DATAENTRY!P100","v":0},{"$f":"DATAENTRY!Q100","v":0},{"$f":"DATAENTRY!R100","v":0},{"$f":"DATAENTRY!S100","v":0},{"$f":"DATAENTRY!T100","v":0},{"$f":"DATAENTRY!U100","v":0},{"$f":"DATAENTRY!V100","v":0},{"$f":"DATAENTRY!W100","v":0},{"$f":"DATAENTRY!X100","v":0},{"$f":"DATAENTRY!Y100","v":0},{"$f":"DATAENTRY!Z100","v":0},{"$f":"DATAENTRY!AA100","v":0},{"$f":"DATAENTRY!AB100","v":0},{"$f":"DATAENTRY!AC100","v":0},{"$f":"DATAENTRY!AD100","v":0},{"$f":"DATAENTRY!AE100","v":0},{"$f":"DATAENTRY!AF100","v":0},{"$f":"DATAENTRY!AG100","v":0},{"$f":"DATAENTRY!AH100","v":0},{"$f":"DATAENTRY!AI100","v":0},{"$f":"DATAENTRY!AJ100","v":0},{"$f":"DATAENTRY!AK100","v":0},{"$f":"DATAENTRY!AL100","v":0},{"$f":"DATAENTRY!AM100","v":0},{"$f":"DATAENTRY!AN100","v":0},{"$f":"DATAENTRY!AO100","v":0},{"$f":"DATAENTRY!AP100","v":0},{"$f":"DATAENTRY!AQ100","v":0},{"$f":"DATAENTRY!AR100","v":0},{"$f":"DATAENTRY!AS100","v":0},{"$f":"DATAENTRY!AT100","v":0},{"$f":"DATAENTRY!AU100","v":0},{"$f":"DATAENTRY!AV100","v":0},{"$f":"DATAENTRY!AW100","v":0},{"$f":"DATAENTRY!AX100","v":0},{"$f":"DATAENTRY!AY100","v":0},{"$f":"DATAENTRY!AZ100","v":0},{"$f":"DATAENTRY!BA100","v":0},{"$f":"DATAENTRY!BB100","v":0},{"$f":"DATAENTRY!BC100","v":0},{"$f":"DATAENTRY!BD100","v":0},{"$f":"DATAENTRY!BE100","v":0},{"$f":"DATAENTRY!BF100","v":0},{"$f":"DATAENTRY!BG100","v":0},{"$f":"DATAENTRY!BH100","v":""}]
[{"$f":"DATAENTRY!C101","v":0},{"$f":"DATAENTRY!D101","v":0},{"$f":"DATAENTRY!E101","v":0},{"$f":"DATAENTRY!F101","v":0},{"$f":"DATAENTRY!G101","v":0},{"$f":"DATAENTRY!H101","v":0},{"$f":"DATAENTRY!I101","v":0},{"$f":"DATAENTRY!J101","v":0},{"$f":"DATAENTRY!K101","v":0},{"$f":"DATAENTRY!L101","v":0},{"$f":"DATAENTRY!M101","v":0},{"$f":"DATAENTRY!N101","v":0},{"$f":"DATAENTRY!O101","v":0},{"$f":"DATAENTRY!P101","v":0},{"$f":"DATAENTRY!Q101","v":0},{"$f":"DATAENTRY!R101","v":0},{"$f":"DATAENTRY!S101","v":0},{"$f":"DATAENTRY!T101","v":0},{"$f":"DATAENTRY!U101","v":0},{"$f":"DATAENTRY!V101","v":0},{"$f":"DATAENTRY!W101","v":0},{"$f":"DATAENTRY!X101","v":0},{"$f":"DATAENTRY!Y101","v":0},{"$f":"DATAENTRY!Z101","v":0},{"$f":"DATAENTRY!AA101","v":0},{"$f":"DATAENTRY!AB101","v":0},{"$f":"DATAENTRY!AC101","v":0},{"$f":"DATAENTRY!AD101","v":0},{"$f":"DATAENTRY!AE101","v":0},{"$f":"DATAENTRY!AF101","v":0},{"$f":"DATAENTRY!AG101","v":0},{"$f":"DATAENTRY!AH101","v":0},{"$f":"DATAENTRY!AI101","v":0},{"$f":"DATAENTRY!AJ101","v":0},{"$f":"DATAENTRY!AK101","v":0},{"$f":"DATAENTRY!AL101","v":0},{"$f":"DATAENTRY!AM101","v":0},{"$f":"DATAENTRY!AN101","v":0},{"$f":"DATAENTRY!AO101","v":0},{"$f":"DATAENTRY!AP101","v":0},{"$f":"DATAENTRY!AQ101","v":0},{"$f":"DATAENTRY!AR101","v":0},{"$f":"DATAENTRY!AS101","v":0},{"$f":"DATAENTRY!AT101","v":0},{"$f":"DATAENTRY!AU101","v":0},{"$f":"DATAENTRY!AV101","v":0},{"$f":"DATAENTRY!AW101","v":0},{"$f":"DATAENTRY!AX101","v":0},{"$f":"DATAENTRY!AY101","v":0},{"$f":"DATAENTRY!AZ101","v":0},{"$f":"DATAENTRY!BA101","v":0},{"$f":"DATAENTRY!BB101","v":0},{"$f":"DATAENTRY!BC101","v":0},{"$f":"DATAENTRY!BD101","v":0},{"$f":"DATAENTRY!BE101","v":0},{"$f":"DATAENTRY!BF101","v":0},{"$f":"DATAENTRY!BG101","v":0},{"$f":"DATAENTRY!BH101","v":""}]
[{"$f":"DATAENTRY!C102","v":0},{"$f":"DATAENTRY!D102","v":0},{"$f":"DATAENTRY!E102","v":0},{"$f":"DATAENTRY!F102","v":0},{"$f":"DATAENTRY!G102","v":0},{"$f":"DATAENTRY!H102","v":0},{"$f":"DATAENTRY!I102","v":0},{"$f":"DATAENTRY!J102","v":0},{"$f":"DATAENTRY!K102","v":0},{"$f":"DATAENTRY!L102","v":0},{"$f":"DATAENTRY!M102","v":0},{"$f":"DATAENTRY!N102","v":0},{"$f":"DATAENTRY!O102","v":0},{"$f":"DATAENTRY!P102","v":0},{"$f":"DATAENTRY!Q102","v":0},{"$f":"DATAENTRY!R102","v":0},{"$f":"DATAENTRY!S102","v":0},{"$f":"DATAENTRY!T102","v":0},{"$f":"DATAENTRY!U102","v":0},{"$f":"DATAENTRY!V102","v":0},{"$f":"DATAENTRY!W102","v":0},{"$f":"DATAENTRY!X102","v":0},{"$f":"DATAENTRY!Y102","v":0},{"$f":"DATAENTRY!Z102","v":0},{"$f":"DATAENTRY!AA102","v":0},{"$f":"DATAENTRY!AB102","v":0},{"$f":"DATAENTRY!AC102","v":0},{"$f":"DATAENTRY!AD102","v":0},{"$f":"DATAENTRY!AE102","v":0},{"$f":"DATAENTRY!AF102","v":0},{"$f":"DATAENTRY!AG102","v":0},{"$f":"DATAENTRY!AH102","v":0},{"$f":"DATAENTRY!AI102","v":0},{"$f":"DATAENTRY!AJ102","v":0},{"$f":"DATAENTRY!AK102","v":0},{"$f":"DATAENTRY!AL102","v":0},{"$f":"DATAENTRY!AM102","v":0},{"$f":"DATAENTRY!AN102","v":0},{"$f":"DATAENTRY!AO102","v":0},{"$f":"DATAENTRY!AP102","v":0},{"$f":"DATAENTRY!AQ102","v":0},{"$f":"DATAENTRY!AR102","v":0},{"$f":"DATAENTRY!AS102","v":0},{"$f":"DATAENTRY!AT102","v":0},{"$f":"DATAENTRY!AU102","v":0},{"$f":"DATAENTRY!AV102","v":0},{"$f":"DATAENTRY!AW102","v":0},{"$f":"DATAENTRY!AX102","v":0},{"$f":"DATAENTRY!AY102","v":0},{"$f":"DATAENTRY!AZ102","v":0},{"$f":"DATAENTRY!BA102","v":0},{"$f":"DATAENTRY!BB102","v":0},{"$f":"DATAENTRY!BC102","v":0},{"$f":"DATAENTRY!BD102","v":0},{"$f":"DATAENTRY!BE102","v":0},{"$f":"DATAENTRY!BF102","v":0},{"$f":"DATAENTRY!BG102","v":0},{"$f":"DATAENTRY!BH102","v":""}]
[{"$f":"DATAENTRY!C103","v":0},{"$f":"DATAENTRY!D103","v":0},{"$f":"DATAENTRY!E103","v":0},{"$f":"DATAENTRY!F103","v":0},{"$f":"DATAENTRY!G103","v":0},{"$f":"DATAENTRY!H103","v":0},{"$f":"DATAENTRY!I103","v":0},{"$f":"DATAENTRY!J103","v":0},{"$f":"DATAENTRY!K103","v":0},{"$f":"DATAENTRY!L103","v":0},{"$f":"DATAENTRY!M103","v":0},{"$f":"DATAENTRY!N103","v":0},{"$f":"DATAENTRY!O103","v":0},{"$f":"DATAENTRY!P103","v":0},{"$f":"DATAENTRY!Q103","v":0},{"$f":"DATAENTRY!R103","v":0},{"$f":"DATAENTRY!S103","v":0},{"$f":"DATAENTRY!T103","v":0},{"$f":"DATAENTRY!U103","v":0},{"$f":"DATAENTRY!V103","v":0},{"$f":"DATAENTRY!W103","v":0},{"$f":"DATAENTRY!X103","v":0},{"$f":"DATAENTRY!Y103","v":0},{"$f":"DATAENTRY!Z103","v":0},{"$f":"DATAENTRY!AA103","v":0},{"$f":"DATAENTRY!AB103","v":0},{"$f":"DATAENTRY!AC103","v":0},{"$f":"DATAENTRY!AD103","v":0},{"$f":"DATAENTRY!AE103","v":0},{"$f":"DATAENTRY!AF103","v":0},{"$f":"DATAENTRY!AG103","v":0},{"$f":"DATAENTRY!AH103","v":0},{"$f":"DATAENTRY!AI103","v":0},{"$f":"DATAENTRY!AJ103","v":0},{"$f":"DATAENTRY!AK103","v":0},{"$f":"DATAENTRY!AL103","v":0},{"$f":"DATAENTRY!AM103","v":0},{"$f":"DATAENTRY!AN103","v":0},{"$f":"DATAENTRY!AO103","v":0},{"$f":"DATAENTRY!AP103","v":0},{"$f":"DATAENTRY!AQ103","v":0},{"$f":"DATAENTRY!AR103","v":0},{"$f":"DATAENTRY!AS103","v":0},{"$f":"DATAENTRY!AT103","v":0},{"$f":"DATAENTRY!AU103","v":0},{"$f":"DATAENTRY!AV103","v":0},{"$f":"DATAENTRY!AW103","v":0},{"$f":"DATAENTRY!AX103","v":0},{"$f":"DATAENTRY!AY103","v":0},{"$f":"DATAENTRY!AZ103","v":0},{"$f":"DATAENTRY!BA103","v":0},{"$f":"DATAENTRY!BB103","v":0},{"$f":"DATAENTRY!BC103","v":0},{"$f":"DATAENTRY!BD103","v":0},{"$f":"DATAENTRY!BE103","v":0},{"$f":"DATAENTRY!BF103","v":0},{"$f":"DATAENTRY!BG103","v":0},{"$f":"DATAENTRY!BH103","v":""}]
[{"$f":"DATAENTRY!C104","v":0},{"$f":"DATAENTRY!D104","v":0},{"$f":"DATAENTRY!E104","v":0},{"$f":"DATAENTRY!F104","v":0},{"$f":"DATAENTRY!G104","v":0},{"$f":"DATAENTRY!H104","v":0},{"$f":"DATAENTRY!I104","v":0},{"$f":"DATAENTRY!J104","v":0},{"$f":"DATAENTRY!K104","v":0},{"$f":"DATAENTRY!L104","v":0},{"$f":"DATAENTRY!M104","v":0},{"$f":"DATAENTRY!N104","v":0},{"$f":"DATAENTRY!O104","v":0},{"$f":"DATAENTRY!P104","v":0},{"$f":"DATAENTRY!Q104","v":0},{"$f":"DATAENTRY!R104","v":0},{"$f":"DATAENTRY!S104","v":0},{"$f":"DATAENTRY!T104","v":0},{"$f":"DATAENTRY!U104","v":0},{"$f":"DATAENTRY!V104","v":0},{"$f":"DATAENTRY!W104","v":0},{"$f":"DATAENTRY!X104","v":0},{"$f":"DATAENTRY!Y104","v":0},{"$f":"DATAENTRY!Z104","v":0},{"$f":"DATAENTRY!AA104","v":0},{"$f":"DATAENTRY!AB104","v":0},{"$f":"DATAENTRY!AC104","v":0},{"$f":"DATAENTRY!AD104","v":0},{"$f":"DATAENTRY!AE104","v":0},{"$f":"DATAENTRY!AF104","v":0},{"$f":"DATAENTRY!AG104","v":0},{"$f":"DATAENTRY!AH104","v":0},{"$f":"DATAENTRY!AI104","v":0},{"$f":"DATAENTRY!AJ104","v":0},{"$f":"DATAENTRY!AK104","v":0},{"$f":"DATAENTRY!AL104","v":0},{"$f":"DATAENTRY!AM104","v":0},{"$f":"DATAENTRY!AN104","v":0},{"$f":"DATAENTRY!AO104","v":0},{"$f":"DATAENTRY!AP104","v":0},{"$f":"DATAENTRY!AQ104","v":0},{"$f":"DATAENTRY!AR104","v":0},{"$f":"DATAENTRY!AS104","v":0},{"$f":"DATAENTRY!AT104","v":0},{"$f":"DATAENTRY!AU104","v":0},{"$f":"DATAENTRY!AV104","v":0},{"$f":"DATAENTRY!AW104","v":0},{"$f":"DATAENTRY!AX104","v":0},{"$f":"DATAENTRY!AY104","v":0},{"$f":"DATAENTRY!AZ104","v":0},{"$f":"DATAENTRY!BA104","v":0},{"$f":"DATAENTRY!BB104","v":0},{"$f":"DATAENTRY!BC104","v":0},{"$f":"DATAENTRY!BD104","v":0},{"$f":"DATAENTRY!BE104","v":0},{"$f":"DATAENTRY!BF104","v":0},{"$f":"DATAENTRY!BG104","v":0},{"$f":"DATAENTRY!BH104","v":""}]
[{"$f":"DATAENTRY!C105","v":0},{"$f":"DATAENTRY!D105","v":0},{"$f":"DATAENTRY!E105","v":0},{"$f":"DATAENTRY!F105","v":0},{"$f":"DATAENTRY!G105","v":0},{"$f":"DATAENTRY!H105","v":0},{"$f":"DATAENTRY!I105","v":0},{"$f":"DATAENTRY!J105","v":0},{"$f":"DATAENTRY!K105","v":0},{"$f":"DATAENTRY!L105","v":0},{"$f":"DATAENTRY!M105","v":0},{"$f":"DATAENTRY!N105","v":0},{"$f":"DATAENTRY!O105","v":0},{"$f":"DATAENTRY!P105","v":0},{"$f":"DATAENTRY!Q105","v":0},{"$f":"DATAENTRY!R105","v":0},{"$f":"DATAENTRY!S105","v":0},{"$f":"DATAENTRY!T105","v":0},{"$f":"DATAENTRY!U105","v":0},{"$f":"DATAENTRY!V105","v":0},{"$f":"DATAENTRY!W105","v":0},{"$f":"DATAENTRY!X105","v":0},{"$f":"DATAENTRY!Y105","v":0},{"$f":"DATAENTRY!Z105","v":0},{"$f":"DATAENTRY!AA105","v":0},{"$f":"DATAENTRY!AB105","v":0},{"$f":"DATAENTRY!AC105","v":0},{"$f":"DATAENTRY!AD105","v":0},{"$f":"DATAENTRY!AE105","v":0},{"$f":"DATAENTRY!AF105","v":0},{"$f":"DATAENTRY!AG105","v":0},{"$f":"DATAENTRY!AH105","v":0},{"$f":"DATAENTRY!AI105","v":0},{"$f":"DATAENTRY!AJ105","v":0},{"$f":"DATAENTRY!AK105","v":0},{"$f":"DATAENTRY!AL105","v":0},{"$f":"DATAENTRY!AM105","v":0},{"$f":"DATAENTRY!AN105","v":0},{"$f":"DATAENTRY!AO105","v":0},{"$f":"DATAENTRY!AP105","v":0},{"$f":"DATAENTRY!AQ105","v":0},{"$f":"DATAENTRY!AR105","v":0},{"$f":"DATAENTRY!AS105","v":0},{"$f":"DATAENTRY!AT105","v":0},{"$f":"DATAENTRY!AU105","v":0},{"$f":"DATAENTRY!AV105","v":0},{"$f":"DATAENTRY!AW105","v":0},{"$f":"DATAENTRY!AX105","v":0},{"$f":"DATAENTRY!AY105","v":0},{"$f":"DATAENTRY!AZ105","v":0},{"$f":"DATAENTRY!BA105","v":0},{"$f":"DATAENTRY!BB105","v":0},{"$f":"DATAENTRY!BC105","v":0},{"$f":"DATAENTRY!BD105","v":0},{"$f":"DATAENTRY!BE105","v":0},{"$f":"DATAENTRY!BF105","v":0},{"$f":"DATAENTRY!BG105","v":0},{"$f":"DATAENTRY!BH105","v":""}]
[{"$f":"DATAENTRY!C106","v":0},{"$f":"DATAENTRY!D106","v":0},{"$f":"DATAENTRY!E106","v":0},{"$f":"DATAENTRY!F106","v":0},{"$f":"DATAENTRY!G106","v":0},{"$f":"DATAENTRY!H106","v":0},{"$f":"DATAENTRY!I106","v":0},{"$f":"DATAENTRY!J106","v":0},{"$f":"DATAENTRY!K106","v":0},{"$f":"DATAENTRY!L106","v":0},{"$f":"DATAENTRY!M106","v":0},{"$f":"DATAENTRY!N106","v":0},{"$f":"DATAENTRY!O106","v":0},{"$f":"DATAENTRY!P106","v":0},{"$f":"DATAENTRY!Q106","v":0},{"$f":"DATAENTRY!R106","v":0},{"$f":"DATAENTRY!S106","v":0},{"$f":"DATAENTRY!T106","v":0},{"$f":"DATAENTRY!U106","v":0},{"$f":"DATAENTRY!V106","v":0},{"$f":"DATAENTRY!W106","v":0},{"$f":"DATAENTRY!X106","v":0},{"$f":"DATAENTRY!Y106","v":0},{"$f":"DATAENTRY!Z106","v":0},{"$f":"DATAENTRY!AA106","v":0},{"$f":"DATAENTRY!AB106","v":0},{"$f":"DATAENTRY!AC106","v":0},{"$f":"DATAENTRY!AD106","v":0},{"$f":"DATAENTRY!AE106","v":0},{"$f":"DATAENTRY!AF106","v":0},{"$f":"DATAENTRY!AG106","v":0},{"$f":"DATAENTRY!AH106","v":0},{"$f":"DATAENTRY!AI106","v":0},{"$f":"DATAENTRY!AJ106","v":0},{"$f":"DATAENTRY!AK106","v":0},{"$f":"DATAENTRY!AL106","v":0},{"$f":"DATAENTRY!AM106","v":0},{"$f":"DATAENTRY!AN106","v":0},{"$f":"DATAENTRY!AO106","v":0},{"$f":"DATAENTRY!AP106","v":0},{"$f":"DATAENTRY!AQ106","v":0},{"$f":"DATAENTRY!AR106","v":0},{"$f":"DATAENTRY!AS106","v":0},{"$f":"DATAENTRY!AT106","v":0},{"$f":"DATAENTRY!AU106","v":0},{"$f":"DATAENTRY!AV106","v":0},{"$f":"DATAENTRY!AW106","v":0},{"$f":"DATAENTRY!AX106","v":0},{"$f":"DATAENTRY!AY106","v":0},{"$f":"DATAENTRY!AZ106","v":0},{"$f":"DATAENTRY!BA106","v":0},{"$f":"DATAENTRY!BB106","v":0},{"$f":"DATAENTRY!BC106","v":0},{"$f":"DATAENTRY!BD106","v":0},{"$f":"DATAENTRY!BE106","v":0},{"$f":"DATAENTRY!BF106","v":0},{"$f":"DATAENTRY!BG106","v":0},{"$f":"DATAENTRY!BH106","v":""}]
[{"$f":"DATAENTRY!C107","v":0},{"$f":"DATAENTRY!D107","v":0},{"$f":"DATAENTRY!E107","v":0},{"$f":"DATAENTRY!F107","v":0},{"$f":"DATAENTRY!G107","v":0},{"$f":"DATAENTRY!H107","v":0},{"$f":"DATAENTRY!I107","v":0},{"$f":"DATAENTRY!J107","v":0},{"$f":"DATAENTRY!K107","v":0},{"$f":"DATAENTRY!L107","v":0},{"$f":"DATAENTRY!M107","v":0},{"$f":"DATAENTRY!N107","v":0},{"$f":"DATAENTRY!O107","v":0},{"$f":"DATAENTRY!P107","v":0},{"$f":"DATAENTRY!Q107","v":0},{"$f":"DATAENTRY!R107","v":0},{"$f":"DATAENTRY!S107","v":0},{"$f":"DATAENTRY!T107","v":0},{"$f":"DATAENTRY!U107","v":0},{"$f":"DATAENTRY!V107","v":0},{"$f":"DATAENTRY!W107","v":0},{"$f":"DATAENTRY!X107","v":0},{"$f":"DATAENTRY!Y107","v":0},{"$f":"DATAENTRY!Z107","v":0},{"$f":"DATAENTRY!AA107","v":0},{"$f":"DATAENTRY!AB107","v":0},{"$f":"DATAENTRY!AC107","v":0},{"$f":"DATAENTRY!AD107","v":0},{"$f":"DATAENTRY!AE107","v":0},{"$f":"DATAENTRY!AF107","v":0},{"$f":"DATAENTRY!AG107","v":0},{"$f":"DATAENTRY!AH107","v":0},{"$f":"DATAENTRY!AI107","v":0},{"$f":"DATAENTRY!AJ107","v":0},{"$f":"DATAENTRY!AK107","v":0},{"$f":"DATAENTRY!AL107","v":0},{"$f":"DATAENTRY!AM107","v":0},{"$f":"DATAENTRY!AN107","v":0},{"$f":"DATAENTRY!AO107","v":0},{"$f":"DATAENTRY!AP107","v":0},{"$f":"DATAENTRY!AQ107","v":0},{"$f":"DATAENTRY!AR107","v":0},{"$f":"DATAENTRY!AS107","v":0},{"$f":"DATAENTRY!AT107","v":0},{"$f":"DATAENTRY!AU107","v":0},{"$f":"DATAENTRY!AV107","v":0},{"$f":"DATAENTRY!AW107","v":0},{"$f":"DATAENTRY!AX107","v":0},{"$f":"DATAENTRY!AY107","v":0},{"$f":"DATAENTRY!AZ107","v":0},{"$f":"DATAENTRY!BA107","v":0},{"$f":"DATAENTRY!BB107","v":0},{"$f":"DATAENTRY!BC107","v":0},{"$f":"DATAENTRY!BD107","v":0},{"$f":"DATAENTRY!BE107","v":0},{"$f":"DATAENTRY!BF107","v":0},{"$f":"DATAENTRY!BG107","v":0},{"$f":"DATAENTRY!BH107","v":""}]
[{"$f":"DATAENTRY!C108","v":0},{"$f":"DATAENTRY!D108","v":0},{"$f":"DATAENTRY!E108","v":0},{"$f":"DATAENTRY!F108","v":0},{"$f":"DATAENTRY!G108","v":0},{"$f":"DATAENTRY!H108","v":0},{"$f":"DATAENTRY!I108","v":0},{"$f":"DATAENTRY!J108","v":0},{"$f":"DATAENTRY!K108","v":0},{"$f":"DATAENTRY!L108","v":0},{"$f":"DATAENTRY!M108","v":0},{"$f":"DATAENTRY!N108","v":0},{"$f":"DATAENTRY!O108","v":0},{"$f":"DATAENTRY!P108","v":0},{"$f":"DATAENTRY!Q108","v":0},{"$f":"DATAENTRY!R108","v":0},{"$f":"DATAENTRY!S108","v":0},{"$f":"DATAENTRY!T108","v":0},{"$f":"DATAENTRY!U108","v":0},{"$f":"DATAENTRY!V108","v":0},{"$f":"DATAENTRY!W108","v":0},{"$f":"DATAENTRY!X108","v":0},{"$f":"DATAENTRY!Y108","v":0},{"$f":"DATAENTRY!Z108","v":0},{"$f":"DATAENTRY!AA108","v":0},{"$f":"DATAENTRY!AB108","v":0},{"$f":"DATAENTRY!AC108","v":0},{"$f":"DATAENTRY!AD108","v":0},{"$f":"DATAENTRY!AE108","v":0},{"$f":"DATAENTRY!AF108","v":0},{"$f":"DATAENTRY!AG108","v":0},{"$f":"DATAENTRY!AH108","v":0},{"$f":"DATAENTRY!AI108","v":0},{"$f":"DATAENTRY!AJ108","v":0},{"$f":"DATAENTRY!AK108","v":0},{"$f":"DATAENTRY!AL108","v":0},{"$f":"DATAENTRY!AM108","v":0},{"$f":"DATAENTRY!AN108","v":0},{"$f":"DATAENTRY!AO108","v":0},{"$f":"DATAENTRY!AP108","v":0},{"$f":"DATAENTRY!AQ108","v":0},{"$f":"DATAENTRY!AR108","v":0},{"$f":"DATAENTRY!AS108","v":0},{"$f":"DATAENTRY!AT108","v":0},{"$f":"DATAENTRY!AU108","v":0},{"$f":"DATAENTRY!AV108","v":0},{"$f":"DATAENTRY!AW108","v":0},{"$f":"DATAENTRY!AX108","v":0},{"$f":"DATAENTRY!AY108","v":0},{"$f":"DATAENTRY!AZ108","v":0},{"$f":"DATAENTRY!BA108","v":0},{"$f":"DATAENTRY!BB108","v":0},{"$f":"DATAENTRY!BC108","v":0},{"$f":"DATAENTRY!BD108","v":0},{"$f":"DATAENTRY!BE108","v":0},{"$f":"DATAENTRY!BF108","v":0},{"$f":"DATAENTRY!BG108","v":0},{"$f":"DATAENTRY!BH108","v":""}]
[{"$f":"DATAENTRY!C109","v":0},{"$f":"DATAENTRY!D109","v":0},{"$f":"DATAENTRY!E109","v":0},{"$f":"DATAENTRY!F109","v":0},{"$f":"DATAENTRY!G109","v":0},{"$f":"DATAENTRY!H109","v":0},{"$f":"DATAENTRY!I109","v":0},{"$f":"DATAENTRY!J109","v":0},{"$f":"DATAENTRY!K109","v":0},{"$f":"DATAENTRY!L109","v":0},{"$f":"DATAENTRY!M109","v":0},{"$f":"DATAENTRY!N109","v":0},{"$f":"DATAENTRY!O109","v":0},{"$f":"DATAENTRY!P109","v":0},{"$f":"DATAENTRY!Q109","v":0},{"$f":"DATAENTRY!R109","v":0},{"$f":"DATAENTRY!S109","v":0},{"$f":"DATAENTRY!T109","v":0},{"$f":"DATAENTRY!U109","v":0},{"$f":"DATAENTRY!V109","v":0},{"$f":"DATAENTRY!W109","v":0},{"$f":"DATAENTRY!X109","v":0},{"$f":"DATAENTRY!Y109","v":0},{"$f":"DATAENTRY!Z109","v":0},{"$f":"DATAENTRY!AA109","v":0},{"$f":"DATAENTRY!AB109","v":0},{"$f":"DATAENTRY!AC109","v":0},{"$f":"DATAENTRY!AD109","v":0},{"$f":"DATAENTRY!AE109","v":0},{"$f":"DATAENTRY!AF109","v":0},{"$f":"DATAENTRY!AG109","v":0},{"$f":"DATAENTRY!AH109","v":0},{"$f":"DATAENTRY!AI109","v":0},{"$f":"DATAENTRY!AJ109","v":0},{"$f":"DATAENTRY!AK109","v":0},{"$f":"DATAENTRY!AL109","v":0},{"$f":"DATAENTRY!AM109","v":0},{"$f":"DATAENTRY!AN109","v":0},{"$f":"DATAENTRY!AO109","v":0},{"$f":"DATAENTRY!AP109","v":0},{"$f":"DATAENTRY!AQ109","v":0},{"$f":"DATAENTRY!AR109","v":0},{"$f":"DATAENTRY!AS109","v":0},{"$f":"DATAENTRY!AT109","v":0},{"$f":"DATAENTRY!AU109","v":0},{"$f":"DATAENTRY!AV109","v":0},{"$f":"DATAENTRY!AW109","v":0},{"$f":"DATAENTRY!AX109","v":0},{"$f":"DATAENTRY!AY109","v":0},{"$f":"DATAENTRY!AZ109","v":0},{"$f":"DATAENTRY!BA109","v":0},{"$f":"DATAENTRY!BB109","v":0},{"$f":"DATAENTRY!BC109","v":0},{"$f":"DATAENTRY!BD109","v":0},{"$f":"DATAENTRY!BE109","v":0},{"$f":"DATAENTRY!BF109","v":0},{"$f":"DATAENTRY!BG109","v":0},{"$f":"DATAENTRY!BH109","v":""}]
[{"$f":"DATAENTRY!C110","v":0},{"$f":"DATAENTRY!D110","v":0},{"$f":"DATAENTRY!E110","v":0},{"$f":"DATAENTRY!F110","v":0},{"$f":"DATAENTRY!G110","v":0},{"$f":"DATAENTRY!H110","v":0},{"$f":"DATAENTRY!I110","v":0},{"$f":"DATAENTRY!J110","v":0},{"$f":"DATAENTRY!K110","v":0},{"$f":"DATAENTRY!L110","v":0},{"$f":"DATAENTRY!M110","v":0},{"$f":"DATAENTRY!N110","v":0},{"$f":"DATAENTRY!O110","v":0},{"$f":"DATAENTRY!P110","v":0},{"$f":"DATAENTRY!Q110","v":0},{"$f":"DATAENTRY!R110","v":0},{"$f":"DATAENTRY!S110","v":0},{"$f":"DATAENTRY!T110","v":0},{"$f":"DATAENTRY!U110","v":0},{"$f":"DATAENTRY!V110","v":0},{"$f":"DATAENTRY!W110","v":0},{"$f":"DATAENTRY!X110","v":0},{"$f":"DATAENTRY!Y110","v":0},{"$f":"DATAENTRY!Z110","v":0},{"$f":"DATAENTRY!AA110","v":0},{"$f":"DATAENTRY!AB110","v":0},{"$f":"DATAENTRY!AC110","v":0},{"$f":"DATAENTRY!AD110","v":0},{"$f":"DATAENTRY!AE110","v":0},{"$f":"DATAENTRY!AF110","v":0},{"$f":"DATAENTRY!AG110","v":0},{"$f":"DATAENTRY!AH110","v":0},{"$f":"DATAENTRY!AI110","v":0},{"$f":"DATAENTRY!AJ110","v":0},{"$f":"DATAENTRY!AK110","v":0},{"$f":"DATAENTRY!AL110","v":0},{"$f":"DATAENTRY!AM110","v":0},{"$f":"DATAENTRY!AN110","v":0},{"$f":"DATAENTRY!AO110","v":0},{"$f":"DATAENTRY!AP110","v":0},{"$f":"DATAENTRY!AQ110","v":0},{"$f":"DATAENTRY!AR110","v":0},{"$f":"DATAENTRY!AS110","v":0},{"$f":"DATAENTRY!AT110","v":0},{"$f":"DATAENTRY!AU110","v":0},{"$f":"DATAENTRY!AV110","v":0},{"$f":"DATAENTRY!AW110","v":0},{"$f":"DATAENTRY!AX110","v":0},{"$f":"DATAENTRY!AY110","v":0},{"$f":"DATAENTRY!AZ110","v":0},{"$f":"DATAENTRY!BA110","v":0},{"$f":"DATAENTRY!BB110","v":0},{"$f":"DATAENTRY!BC110","v":0},{"$f":"DATAENTRY!BD110","v":0},{"$f":"DATAENTRY!BE110","v":0},{"$f":"DATAENTRY!BF110","v":0},{"$f":"DATAENTRY!BG110","v":0},{"$f":"DATAENTRY!BH110","v":""}]
[{"$f":"DATAENTRY!C111","v":0},{"$f":"DATAENTRY!D111","v":0},{"$f":"DATAENTRY!E111","v":0},{"$f":"DATAENTRY!F111","v":0},{"$f":"DATAENTRY!G111","v":0},{"$f":"DATAENTRY!H111","v":0},{"$f":"DATAENTRY!I111","v":0},{"$f":"DATAENTRY!J111","v":0},{"$f":"DATAENTRY!K111","v":0},{"$f":"DATAENTRY!L111","v":0},{"$f":"DATAENTRY!M111","v":0},{"$f":"DATAENTRY!N111","v":0},{"$f":"DATAENTRY!O111","v":0},{"$f":"DATAENTRY!P111","v":0},{"$f":"DATAENTRY!Q111","v":0},{"$f":"DATAENTRY!R111","v":0},{"$f":"DATAENTRY!S111","v":0},{"$f":"DATAENTRY!T111","v":0},{"$f":"DATAENTRY!U111","v":0},{"$f":"DATAENTRY!V111","v":0},{"$f":"DATAENTRY!W111","v":0},{"$f":"DATAENTRY!X111","v":0},{"$f":"DATAENTRY!Y111","v":0},{"$f":"DATAENTRY!Z111","v":0},{"$f":"DATAENTRY!AA111","v":0},{"$f":"DATAENTRY!AB111","v":0},{"$f":"DATAENTRY!AC111","v":0},{"$f":"DATAENTRY!AD111","v":0},{"$f":"DATAENTRY!AE111","v":0},{"$f":"DATAENTRY!AF111","v":0},{"$f":"DATAENTRY!AG111","v":0},{"$f":"DATAENTRY!AH111","v":0},{"$f":"DATAENTRY!AI111","v":0},{"$f":"DATAENTRY!AJ111","v":0},{"$f":"DATAENTRY!AK111","v":0},{"$f":"DATAENTRY!AL111","v":0},{"$f":"DATAENTRY!AM111","v":0},{"$f":"DATAENTRY!AN111","v":0},{"$f":"DATAENTRY!AO111","v":0},{"$f":"DATAENTRY!AP111","v":0},{"$f":"DATAENTRY!AQ111","v":0},{"$f":"DATAENTRY!AR111","v":0},{"$f":"DATAENTRY!AS111","v":0},{"$f":"DATAENTRY!AT111","v":0},{"$f":"DATAENTRY!AU111","v":0},{"$f":"DATAENTRY!AV111","v":0},{"$f":"DATAENTRY!AW111","v":0},{"$f":"DATAENTRY!AX111","v":0},{"$f":"DATAENTRY!AY111","v":0},{"$f":"DATAENTRY!AZ111","v":0},{"$f":"DATAENTRY!BA111","v":0},{"$f":"DATAENTRY!BB111","v":0},{"$f":"DATAENTRY!BC111","v":0},{"$f":"DATAENTRY!BD111","v":0},{"$f":"DATAENTRY!BE111","v":0},{"$f":"DATAENTRY!BF111","v":0},{"$f":"DATAENTRY!BG111","v":0},{"$f":"DATAENTRY!BH111","v":""}]
[{"$f":"DATAENTRY!C112","v":0},{"$f":"DATAENTRY!D112","v":0},{"$f":"DATAENTRY!E112","v":0},{"$f":"DATAENTRY!F112","v":0},{"$f":"DATAENTRY!G112","v":0},{"$f":"DATAENTRY!H112","v":0},{"$f":"DATAENTRY!I112","v":0},{"$f":"DATAENTRY!J112","v":0},{"$f":"DATAENTRY!K112","v":0},{"$f":"DATAENTRY!L112","v":0},{"$f":"DATAENTRY!M112","v":0},{"$f":"DATAENTRY!N112","v":0},{"$f":"DATAENTRY!O112","v":0},{"$f":"DATAENTRY!P112","v":0},{"$f":"DATAENTRY!Q112","v":0},{"$f":"DATAENTRY!R112","v":0},{"$f":"DATAENTRY!S112","v":0},{"$f":"DATAENTRY!T112","v":0},{"$f":"DATAENTRY!U112","v":0},{"$f":"DATAENTRY!V112","v":0},{"$f":"DATAENTRY!W112","v":0},{"$f":"DATAENTRY!X112","v":0},{"$f":"DATAENTRY!Y112","v":0},{"$f":"DATAENTRY!Z112","v":0},{"$f":"DATAENTRY!AA112","v":0},{"$f":"DATAENTRY!AB112","v":0},{"$f":"DATAENTRY!AC112","v":0},{"$f":"DATAENTRY!AD112","v":0},{"$f":"DATAENTRY!AE112","v":0},{"$f":"DATAENTRY!AF112","v":0},{"$f":"DATAENTRY!AG112","v":0},{"$f":"DATAENTRY!AH112","v":0},{"$f":"DATAENTRY!AI112","v":0},{"$f":"DATAENTRY!AJ112","v":0},{"$f":"DATAENTRY!AK112","v":0},{"$f":"DATAENTRY!AL112","v":0},{"$f":"DATAENTRY!AM112","v":0},{"$f":"DATAENTRY!AN112","v":0},{"$f":"DATAENTRY!AO112","v":0},{"$f":"DATAENTRY!AP112","v":0},{"$f":"DATAENTRY!AQ112","v":0},{"$f":"DATAENTRY!AR112","v":0},{"$f":"DATAENTRY!AS112","v":0},{"$f":"DATAENTRY!AT112","v":0},{"$f":"DATAENTRY!AU112","v":0},{"$f":"DATAENTRY!AV112","v":0},{"$f":"DATAENTRY!AW112","v":0},{"$f":"DATAENTRY!AX112","v":0},{"$f":"DATAENTRY!AY112","v":0},{"$f":"DATAENTRY!AZ112","v":0},{"$f":"DATAENTRY!BA112","v":0},{"$f":"DATAENTRY!BB112","v":0},{"$f":"DATAENTRY!BC112","v":0},{"$f":"DATAENTRY!BD112","v":0},{"$f":"DATAENTRY!BE112","v":0},{"$f":"DATAENTRY!BF112","v":0},{"$f":"DATAENTRY!BG112","v":0},{"$f":"DATAENTRY!BH112","v":""}]
[{"$f":"DATAENTRY!C113","v":0},{"$f":"DATAENTRY!D113","v":0},{"$f":"DATAENTRY!E113","v":0},{"$f":"DATAENTRY!F113","v":0},{"$f":"DATAENTRY!G113","v":0},{"$f":"DATAENTRY!H113","v":0},{"$f":"DATAENTRY!I113","v":0},{"$f":"DATAENTRY!J113","v":0},{"$f":"DATAENTRY!K113","v":0},{"$f":"DATAENTRY!L113","v":0},{"$f":"DATAENTRY!M113","v":0},{"$f":"DATAENTRY!N113","v":0},{"$f":"DATAENTRY!O113","v":0},{"$f":"DATAENTRY!P113","v":0},{"$f":"DATAENTRY!Q113","v":0},{"$f":"DATAENTRY!R113","v":0},{"$f":"DATAENTRY!S113","v":0},{"$f":"DATAENTRY!T113","v":0},{"$f":"DATAENTRY!U113","v":0},{"$f":"DATAENTRY!V113","v":0},{"$f":"DATAENTRY!W113","v":0},{"$f":"DATAENTRY!X113","v":0},{"$f":"DATAENTRY!Y113","v":0},{"$f":"DATAENTRY!Z113","v":0},{"$f":"DATAENTRY!AA113","v":0},{"$f":"DATAENTRY!AB113","v":0},{"$f":"DATAENTRY!AC113","v":0},{"$f":"DATAENTRY!AD113","v":0},{"$f":"DATAENTRY!AE113","v":0},{"$f":"DATAENTRY!AF113","v":0},{"$f":"DATAENTRY!AG113","v":0},{"$f":"DATAENTRY!AH113","v":0},{"$f":"DATAENTRY!AI113","v":0},{"$f":"DATAENTRY!AJ113","v":0},{"$f":"DATAENTRY!AK113","v":0},{"$f":"DATAENTRY!AL113","v":0},{"$f":"DATAENTRY!AM113","v":0},{"$f":"DATAENTRY!AN113","v":0},{"$f":"DATAENTRY!AO113","v":0},{"$f":"DATAENTRY!AP113","v":0},{"$f":"DATAENTRY!AQ113","v":0},{"$f":"DATAENTRY!AR113","v":0},{"$f":"DATAENTRY!AS113","v":0},{"$f":"DATAENTRY!AT113","v":0},{"$f":"DATAENTRY!AU113","v":0},{"$f":"DATAENTRY!AV113","v":0},{"$f":"DATAENTRY!AW113","v":0},{"$f":"DATAENTRY!AX113","v":0},{"$f":"DATAENTRY!AY113","v":0},{"$f":"DATAENTRY!AZ113","v":0},{"$f":"DATAENTRY!BA113","v":0},{"$f":"DATAENTRY!BB113","v":0},{"$f":"DATAENTRY!BC113","v":0},{"$f":"DATAENTRY!BD113","v":0},{"$f":"DATAENTRY!BE113","v":0},{"$f":"DATAENTRY!BF113","v":0},{"$f":"DATAENTRY!BG113","v":0},{"$f":"DATAENTRY!BH113","v":""}]
[{"$f":"DATAENTRY!C114","v":0},{"$f":"DATAENTRY!D114","v":0},{"$f":"DATAENTRY!E114","v":0},{"$f":"DATAENTRY!F114","v":0},{"$f":"DATAENTRY!G114","v":0},{"$f":"DATAENTRY!H114","v":0},{"$f":"DATAENTRY!I114","v":0},{"$f":"DATAENTRY!J114","v":0},{"$f":"DATAENTRY!K114","v":0},{"$f":"DATAENTRY!L114","v":0},{"$f":"DATAENTRY!M114","v":0},{"$f":"DATAENTRY!N114","v":0},{"$f":"DATAENTRY!O114","v":0},{"$f":"DATAENTRY!P114","v":0},{"$f":"DATAENTRY!Q114","v":0},{"$f":"DATAENTRY!R114","v":0},{"$f":"DATAENTRY!S114","v":0},{"$f":"DATAENTRY!T114","v":0},{"$f":"DATAENTRY!U114","v":0},{"$f":"DATAENTRY!V114","v":0},{"$f":"DATAENTRY!W114","v":0},{"$f":"DATAENTRY!X114","v":0},{"$f":"DATAENTRY!Y114","v":0},{"$f":"DATAENTRY!Z114","v":0},{"$f":"DATAENTRY!AA114","v":0},{"$f":"DATAENTRY!AB114","v":0},{"$f":"DATAENTRY!AC114","v":0},{"$f":"DATAENTRY!AD114","v":0},{"$f":"DATAENTRY!AE114","v":0},{"$f":"DATAENTRY!AF114","v":0},{"$f":"DATAENTRY!AG114","v":0},{"$f":"DATAENTRY!AH114","v":0},{"$f":"DATAENTRY!AI114","v":0},{"$f":"DATAENTRY!AJ114","v":0},{"$f":"DATAENTRY!AK114","v":0},{"$f":"DATAENTRY!AL114","v":0},{"$f":"DATAENTRY!AM114","v":0},{"$f":"DATAENTRY!AN114","v":0},{"$f":"DATAENTRY!AO114","v":0},{"$f":"DATAENTRY!AP114","v":0},{"$f":"DATAENTRY!AQ114","v":0},{"$f":"DATAENTRY!AR114","v":0},{"$f":"DATAENTRY!AS114","v":0},{"$f":"DATAENTRY!AT114","v":0},{"$f":"DATAENTRY!AU114","v":0},{"$f":"DATAENTRY!AV114","v":0},{"$f":"DATAENTRY!AW114","v":0},{"$f":"DATAENTRY!AX114","v":0},{"$f":"DATAENTRY!AY114","v":0},{"$f":"DATAENTRY!AZ114","v":0},{"$f":"DATAENTRY!BA114","v":0},{"$f":"DATAENTRY!BB114","v":0},{"$f":"DATAENTRY!BC114","v":0},{"$f":"DATAENTRY!BD114","v":0},{"$f":"DATAENTRY!BE114","v":0},{"$f":"DATAENTRY!BF114","v":0},{"$f":"DATAENTRY!BG114","v":0},{"$f":"DATAENTRY!BH114","v":""}]
[{"$f":"DATAENTRY!C115","v":0},{"$f":"DATAENTRY!D115","v":0},{"$f":"DATAENTRY!E115","v":0},{"$f":"DATAENTRY!F115","v":0},{"$f":"DATAENTRY!G115","v":0},{"$f":"DATAENTRY!H115","v":0},{"$f":"DATAENTRY!I115","v":0},{"$f":"DATAENTRY!J115","v":0},{"$f":"DATAENTRY!K115","v":0},{"$f":"DATAENTRY!L115","v":0},{"$f":"DATAENTRY!M115","v":0},{"$f":"DATAENTRY!N115","v":0},{"$f":"DATAENTRY!O115","v":0},{"$f":"DATAENTRY!P115","v":0},{"$f":"DATAENTRY!Q115","v":0},{"$f":"DATAENTRY!R115","v":0},{"$f":"DATAENTRY!S115","v":0},{"$f":"DATAENTRY!T115","v":0},{"$f":"DATAENTRY!U115","v":0},{"$f":"DATAENTRY!V115","v":0},{"$f":"DATAENTRY!W115","v":0},{"$f":"DATAENTRY!X115","v":0},{"$f":"DATAENTRY!Y115","v":0},{"$f":"DATAENTRY!Z115","v":0},{"$f":"DATAENTRY!AA115","v":0},{"$f":"DATAENTRY!AB115","v":0},{"$f":"DATAENTRY!AC115","v":0},{"$f":"DATAENTRY!AD115","v":0},{"$f":"DATAENTRY!AE115","v":0},{"$f":"DATAENTRY!AF115","v":0},{"$f":"DATAENTRY!AG115","v":0},{"$f":"DATAENTRY!AH115","v":0},{"$f":"DATAENTRY!AI115","v":0},{"$f":"DATAENTRY!AJ115","v":0},{"$f":"DATAENTRY!AK115","v":0},{"$f":"DATAENTRY!AL115","v":0},{"$f":"DATAENTRY!AM115","v":0},{"$f":"DATAENTRY!AN115","v":0},{"$f":"DATAENTRY!AO115","v":0},{"$f":"DATAENTRY!AP115","v":0},{"$f":"DATAENTRY!AQ115","v":0},{"$f":"DATAENTRY!AR115","v":0},{"$f":"DATAENTRY!AS115","v":0},{"$f":"DATAENTRY!AT115","v":0},{"$f":"DATAENTRY!AU115","v":0},{"$f":"DATAENTRY!AV115","v":0},{"$f":"DATAENTRY!AW115","v":0},{"$f":"DATAENTRY!AX115","v":0},{"$f":"DATAENTRY!AY115","v":0},{"$f":"DATAENTRY!AZ115","v":0},{"$f":"DATAENTRY!BA115","v":0},{"$f":"DATAENTRY!BB115","v":0},{"$f":"DATAENTRY!BC115","v":0},{"$f":"DATAENTRY!BD115","v":0},{"$f":"DATAENTRY!BE115","v":0},{"$f":"DATAENTRY!BF115","v":0},{"$f":"DATAENTRY!BG115","v":0},{"$f":"DATAENTRY!BH115","v":""}]
[{"$f":"DATAENTRY!C116","v":0},{"$f":"DATAENTRY!D116","v":0},{"$f":"DATAENTRY!E116","v":0},{"$f":"DATAENTRY!F116","v":0},{"$f":"DATAENTRY!G116","v":0},{"$f":"DATAENTRY!H116","v":0},{"$f":"DATAENTRY!I116","v":0},{"$f":"DATAENTRY!J116","v":0},{"$f":"DATAENTRY!K116","v":0},{"$f":"DATAENTRY!L116","v":0},{"$f":"DATAENTRY!M116","v":0},{"$f":"DATAENTRY!N116","v":0},{"$f":"DATAENTRY!O116","v":0},{"$f":"DATAENTRY!P116","v":0},{"$f":"DATAENTRY!Q116","v":0},{"$f":"DATAENTRY!R116","v":0},{"$f":"DATAENTRY!S116","v":0},{"$f":"DATAENTRY!T116","v":0},{"$f":"DATAENTRY!U116","v":0},{"$f":"DATAENTRY!V116","v":0},{"$f":"DATAENTRY!W116","v":0},{"$f":"DATAENTRY!X116","v":0},{"$f":"DATAENTRY!Y116","v":0},{"$f":"DATAENTRY!Z116","v":0},{"$f":"DATAENTRY!AA116","v":0},{"$f":"DATAENTRY!AB116","v":0},{"$f":"DATAENTRY!AC116","v":0},{"$f":"DATAENTRY!AD116","v":0},{"$f":"DATAENTRY!AE116","v":0},{"$f":"DATAENTRY!AF116","v":0},{"$f":"DATAENTRY!AG116","v":0},{"$f":"DATAENTRY!AH116","v":0},{"$f":"DATAENTRY!AI116","v":0},{"$f":"DATAENTRY!AJ116","v":0},{"$f":"DATAENTRY!AK116","v":0},{"$f":"DATAENTRY!AL116","v":0},{"$f":"DATAENTRY!AM116","v":0},{"$f":"DATAENTRY!AN116","v":0},{"$f":"DATAENTRY!AO116","v":0},{"$f":"DATAENTRY!AP116","v":0},{"$f":"DATAENTRY!AQ116","v":0},{"$f":"DATAENTRY!AR116","v":0},{"$f":"DATAENTRY!AS116","v":0},{"$f":"DATAENTRY!AT116","v":0},{"$f":"DATAENTRY!AU116","v":0},{"$f":"DATAENTRY!AV116","v":0},{"$f":"DATAENTRY!AW116","v":0},{"$f":"DATAENTRY!AX116","v":0},{"$f":"DATAENTRY!AY116","v":0},{"$f":"DATAENTRY!AZ116","v":0},{"$f":"DATAENTRY!BA116","v":0},{"$f":"DATAENTRY!BB116","v":0},{"$f":"DATAENTRY!BC116","v":0},{"$f":"DATAENTRY!BD116","v":0},{"$f":"DATAENTRY!BE116","v":0},{"$f":"DATAENTRY!BF116","v":0},{"$f":"DATAENTRY!BG116","v":0},{"$f":"DATAENTRY!BH116","v":""}]
[{"$f":"DATAENTRY!C117","v":0},{"$f":"DATAENTRY!D117","v":0},{"$f":"DATAENTRY!E117","v":0},{"$f":"DATAENTRY!F117","v":0},{"$f":"DATAENTRY!G117","v":0},{"$f":"DATAENTRY!H117","v":0},{"$f":"DATAENTRY!I117","v":0},{"$f":"DATAENTRY!J117","v":0},{"$f":"DATAENTRY!K117","v":0},{"$f":"DATAENTRY!L117","v":0},{"$f":"DATAENTRY!M117","v":0},{"$f":"DATAENTRY!N117","v":0},{"$f":"DATAENTRY!O117","v":0},{"$f":"DATAENTRY!P117","v":0},{"$f":"DATAENTRY!Q117","v":0},{"$f":"DATAENTRY!R117","v":0},{"$f":"DATAENTRY!S117","v":0},{"$f":"DATAENTRY!T117","v":0},{"$f":"DATAENTRY!U117","v":0},{"$f":"DATAENTRY!V117","v":0},{"$f":"DATAENTRY!W117","v":0},{"$f":"DATAENTRY!X117","v":0},{"$f":"DATAENTRY!Y117","v":0},{"$f":"DATAENTRY!Z117","v":0},{"$f":"DATAENTRY!AA117","v":0},{"$f":"DATAENTRY!AB117","v":0},{"$f":"DATAENTRY!AC117","v":0},{"$f":"DATAENTRY!AD117","v":0},{"$f":"DATAENTRY!AE117","v":0},{"$f":"DATAENTRY!AF117","v":0},{"$f":"DATAENTRY!AG117","v":0},{"$f":"DATAENTRY!AH117","v":0},{"$f":"DATAENTRY!AI117","v":0},{"$f":"DATAENTRY!AJ117","v":0},{"$f":"DATAENTRY!AK117","v":0},{"$f":"DATAENTRY!AL117","v":0},{"$f":"DATAENTRY!AM117","v":0},{"$f":"DATAENTRY!AN117","v":0},{"$f":"DATAENTRY!AO117","v":0},{"$f":"DATAENTRY!AP117","v":0},{"$f":"DATAENTRY!AQ117","v":0},{"$f":"DATAENTRY!AR117","v":0},{"$f":"DATAENTRY!AS117","v":0},{"$f":"DATAENTRY!AT117","v":0},{"$f":"DATAENTRY!AU117","v":0},{"$f":"DATAENTRY!AV117","v":0},{"$f":"DATAENTRY!AW117","v":0},{"$f":"DATAENTRY!AX117","v":0},{"$f":"DATAENTRY!AY117","v":0},{"$f":"DATAENTRY!AZ117","v":0},{"$f":"DATAENTRY!BA117","v":0},{"$f":"DATAENTRY!BB117","v":0},{"$f":"DATAENTRY!BC117","v":0},{"$f":"DATAENTRY!BD117","v":0},{"$f":"DATAENTRY!BE117","v":0},{"$f":"DATAENTRY!BF117","v":0},{"$f":"DATAENTRY!BG117","v":0},{"$f":"DATAENTRY!BH117","v":""}]
[{"$f":"DATAENTRY!C118","v":0},{"$f":"DATAENTRY!D118","v":0},{"$f":"DATAENTRY!E118","v":0},{"$f":"DATAENTRY!F118","v":0},{"$f":"DATAENTRY!G118","v":0},{"$f":"DATAENTRY!H118","v":0},{"$f":"DATAENTRY!I118","v":0},{"$f":"DATAENTRY!J118","v":0},{"$f":"DATAENTRY!K118","v":0},{"$f":"DATAENTRY!L118","v":0},{"$f":"DATAENTRY!M118","v":0},{"$f":"DATAENTRY!N118","v":0},{"$f":"DATAENTRY!O118","v":0},{"$f":"DATAENTRY!P118","v":0},{"$f":"DATAENTRY!Q118","v":0},{"$f":"DATAENTRY!R118","v":0},{"$f":"DATAENTRY!S118","v":0},{"$f":"DATAENTRY!T118","v":0},{"$f":"DATAENTRY!U118","v":0},{"$f":"DATAENTRY!V118","v":0},{"$f":"DATAENTRY!W118","v":0},{"$f":"DATAENTRY!X118","v":0},{"$f":"DATAENTRY!Y118","v":0},{"$f":"DATAENTRY!Z118","v":0},{"$f":"DATAENTRY!AA118","v":0},{"$f":"DATAENTRY!AB118","v":0},{"$f":"DATAENTRY!AC118","v":0},{"$f":"DATAENTRY!AD118","v":0},{"$f":"DATAENTRY!AE118","v":0},{"$f":"DATAENTRY!AF118","v":0},{"$f":"DATAENTRY!AG118","v":0},{"$f":"DATAENTRY!AH118","v":0},{"$f":"DATAENTRY!AI118","v":0},{"$f":"DATAENTRY!AJ118","v":0},{"$f":"DATAENTRY!AK118","v":0},{"$f":"DATAENTRY!AL118","v":0},{"$f":"DATAENTRY!AM118","v":0},{"$f":"DATAENTRY!AN118","v":0},{"$f":"DATAENTRY!AO118","v":0},{"$f":"DATAENTRY!AP118","v":0},{"$f":"DATAENTRY!AQ118","v":0},{"$f":"DATAENTRY!AR118","v":0},{"$f":"DATAENTRY!AS118","v":0},{"$f":"DATAENTRY!AT118","v":0},{"$f":"DATAENTRY!AU118","v":0},{"$f":"DATAENTRY!AV118","v":0},{"$f":"DATAENTRY!AW118","v":0},{"$f":"DATAENTRY!AX118","v":0},{"$f":"DATAENTRY!AY118","v":0},{"$f":"DATAENTRY!AZ118","v":0},{"$f":"DATAENTRY!BA118","v":0},{"$f":"DATAENTRY!BB118","v":0},{"$f":"DATAENTRY!BC118","v":0},{"$f":"DATAENTRY!BD118","v":0},{"$f":"DATAENTRY!BE118","v":0},{"$f":"DATAENTRY!BF118","v":0},{"$f":"DATAENTRY!BG118","v":0},{"$f":"DATAENTRY!BH118","v":""}]
[{"$f":"DATAENTRY!C119","v":0},{"$f":"DATAENTRY!D119","v":0},{"$f":"DATAENTRY!E119","v":0},{"$f":"DATAENTRY!F119","v":0},{"$f":"DATAENTRY!G119","v":0},{"$f":"DATAENTRY!H119","v":0},{"$f":"DATAENTRY!I119","v":0},{"$f":"DATAENTRY!J119","v":0},{"$f":"DATAENTRY!K119","v":0},{"$f":"DATAENTRY!L119","v":0},{"$f":"DATAENTRY!M119","v":0},{"$f":"DATAENTRY!N119","v":0},{"$f":"DATAENTRY!O119","v":0},{"$f":"DATAENTRY!P119","v":0},{"$f":"DATAENTRY!Q119","v":0},{"$f":"DATAENTRY!R119","v":0},{"$f":"DATAENTRY!S119","v":0},{"$f":"DATAENTRY!T119","v":0},{"$f":"DATAENTRY!U119","v":0},{"$f":"DATAENTRY!V119","v":0},{"$f":"DATAENTRY!W119","v":0},{"$f":"DATAENTRY!X119","v":0},{"$f":"DATAENTRY!Y119","v":0},{"$f":"DATAENTRY!Z119","v":0},{"$f":"DATAENTRY!AA119","v":0},{"$f":"DATAENTRY!AB119","v":0},{"$f":"DATAENTRY!AC119","v":0},{"$f":"DATAENTRY!AD119","v":0},{"$f":"DATAENTRY!AE119","v":0},{"$f":"DATAENTRY!AF119","v":0},{"$f":"DATAENTRY!AG119","v":0},{"$f":"DATAENTRY!AH119","v":0},{"$f":"DATAENTRY!AI119","v":0},{"$f":"DATAENTRY!AJ119","v":0},{"$f":"DATAENTRY!AK119","v":0},{"$f":"DATAENTRY!AL119","v":0},{"$f":"DATAENTRY!AM119","v":0},{"$f":"DATAENTRY!AN119","v":0},{"$f":"DATAENTRY!AO119","v":0},{"$f":"DATAENTRY!AP119","v":0},{"$f":"DATAENTRY!AQ119","v":0},{"$f":"DATAENTRY!AR119","v":0},{"$f":"DATAENTRY!AS119","v":0},{"$f":"DATAENTRY!AT119","v":0},{"$f":"DATAENTRY!AU119","v":0},{"$f":"DATAENTRY!AV119","v":0},{"$f":"DATAENTRY!AW119","v":0},{"$f":"DATAENTRY!AX119","v":0},{"$f":"DATAENTRY!AY119","v":0},{"$f":"DATAENTRY!AZ119","v":0},{"$f":"DATAENTRY!BA119","v":0},{"$f":"DATAENTRY!BB119","v":0},{"$f":"DATAENTRY!BC119","v":0},{"$f":"DATAENTRY!BD119","v":0},{"$f":"DATAENTRY!BE119","v":0},{"$f":"DATAENTRY!BF119","v":0},{"$f":"DATAENTRY!BG119","v":0},{"$f":"DATAENTRY!BH119","v":""}]
[{"$f":"DATAENTRY!C120","v":0},{"$f":"DATAENTRY!D120","v":0},{"$f":"DATAENTRY!E120","v":0},{"$f":"DATAENTRY!F120","v":0},{"$f":"DATAENTRY!G120","v":0},{"$f":"DATAENTRY!H120","v":0},{"$f":"DATAENTRY!I120","v":0},{"$f":"DATAENTRY!J120","v":0},{"$f":"DATAENTRY!K120","v":0},{"$f":"DATAENTRY!L120","v":0},{"$f":"DATAENTRY!M120","v":0},{"$f":"DATAENTRY!N120","v":0},{"$f":"DATAENTRY!O120","v":0},{"$f":"DATAENTRY!P120","v":0},{"$f":"DATAENTRY!Q120","v":0},{"$f":"DATAENTRY!R120","v":0},{"$f":"DATAENTRY!S120","v":0},{"$f":"DATAENTRY!T120","v":0},{"$f":"DATAENTRY!U120","v":0},{"$f":"DATAENTRY!V120","v":0},{"$f":"DATAENTRY!W120","v":0},{"$f":"DATAENTRY!X120","v":0},{"$f":"DATAENTRY!Y120","v":0},{"$f":"DATAENTRY!Z120","v":0},{"$f":"DATAENTRY!AA120","v":0},{"$f":"DATAENTRY!AB120","v":0},{"$f":"DATAENTRY!AC120","v":0},{"$f":"DATAENTRY!AD120","v":0},{"$f":"DATAENTRY!AE120","v":0},{"$f":"DATAENTRY!AF120","v":0},{"$f":"DATAENTRY!AG120","v":0},{"$f":"DATAENTRY!AH120","v":0},{"$f":"DATAENTRY!AI120","v":0},{"$f":"DATAENTRY!AJ120","v":0},{"$f":"DATAENTRY!AK120","v":0},{"$f":"DATAENTRY!AL120","v":0},{"$f":"DATAENTRY!AM120","v":0},{"$f":"DATAENTRY!AN120","v":0},{"$f":"DATAENTRY!AO120","v":0},{"$f":"DATAENTRY!AP120","v":0},{"$f":"DATAENTRY!AQ120","v":0},{"$f":"DATAENTRY!AR120","v":0},{"$f":"DATAENTRY!AS120","v":0},{"$f":"DATAENTRY!AT120","v":0},{"$f":"DATAENTRY!AU120","v":0},{"$f":"DATAENTRY!AV120","v":0},{"$f":"DATAENTRY!AW120","v":0},{"$f":"DATAENTRY!AX120","v":0},{"$f":"DATAENTRY!AY120","v":0},{"$f":"DATAENTRY!AZ120","v":0},{"$f":"DATAENTRY!BA120","v":0},{"$f":"DATAENTRY!BB120","v":0},{"$f":"DATAENTRY!BC120","v":0},{"$f":"DATAENTRY!BD120","v":0},{"$f":"DATAENTRY!BE120","v":0},{"$f":"DATAENTRY!BF120","v":0},{"$f":"DATAENTRY!BG120","v":0},{"$f":"DATAENTRY!BH120","v":""}]
[{"$f":"DATAENTRY!C121","v":0},{"$f":"DATAENTRY!D121","v":0},{"$f":"DATAENTRY!E121","v":0},{"$f":"DATAENTRY!F121","v":0},{"$f":"DATAENTRY!G121","v":0},{"$f":"DATAENTRY!H121","v":0},{"$f":"DATAENTRY!I121","v":0},{"$f":"DATAENTRY!J121","v":0},{"$f":"DATAENTRY!K121","v":0},{"$f":"DATAENTRY!L121","v":0},{"$f":"DATAENTRY!M121","v":0},{"$f":"DATAENTRY!N121","v":0},{"$f":"DATAENTRY!O121","v":0},{"$f":"DATAENTRY!P121","v":0},{"$f":"DATAENTRY!Q121","v":0},{"$f":"DATAENTRY!R121","v":0},{"$f":"DATAENTRY!S121","v":0},{"$f":"DATAENTRY!T121","v":0},{"$f":"DATAENTRY!U121","v":0},{"$f":"DATAENTRY!V121","v":0},{"$f":"DATAENTRY!W121","v":0},{"$f":"DATAENTRY!X121","v":0},{"$f":"DATAENTRY!Y121","v":0},{"$f":"DATAENTRY!Z121","v":0},{"$f":"DATAENTRY!AA121","v":0},{"$f":"DATAENTRY!AB121","v":0},{"$f":"DATAENTRY!AC121","v":0},{"$f":"DATAENTRY!AD121","v":0},{"$f":"DATAENTRY!AE121","v":0},{"$f":"DATAENTRY!AF121","v":0},{"$f":"DATAENTRY!AG121","v":0},{"$f":"DATAENTRY!AH121","v":0},{"$f":"DATAENTRY!AI121","v":0},{"$f":"DATAENTRY!AJ121","v":0},{"$f":"DATAENTRY!AK121","v":0},{"$f":"DATAENTRY!AL121","v":0},{"$f":"DATAENTRY!AM121","v":0},{"$f":"DATAENTRY!AN121","v":0},{"$f":"DATAENTRY!AO121","v":0},{"$f":"DATAENTRY!AP121","v":0},{"$f":"DATAENTRY!AQ121","v":0},{"$f":"DATAENTRY!AR121","v":0},{"$f":"DATAENTRY!AS121","v":0},{"$f":"DATAENTRY!AT121","v":0},{"$f":"DATAENTRY!AU121","v":0},{"$f":"DATAENTRY!AV121","v":0},{"$f":"DATAENTRY!AW121","v":0},{"$f":"DATAENTRY!AX121","v":0},{"$f":"DATAENTRY!AY121","v":0},{"$f":"DATAENTRY!AZ121","v":0},{"$f":"DATAENTRY!BA121","v":0},{"$f":"DATAENTRY!BB121","v":0},{"$f":"DATAENTRY!BC121","v":0},{"$f":"DATAENTRY!BD121","v":0},{"$f":"DATAENTRY!BE121","v":0},{"$f":"DATAENTRY!BF121","v":0},{"$f":"DATAENTRY!BG121","v":0},{"$f":"DATAENTRY!BH121","v":""}]
[{"$f":"DATAENTRY!C122","v":0},{"$f":"DATAENTRY!D122","v":0},{"$f":"DATAENTRY!E122","v":0},{"$f":"DATAENTRY!F122","v":0},{"$f":"DATAENTRY!G122","v":0},{"$f":"DATAENTRY!H122","v":0},{"$f":"DATAENTRY!I122","v":0},{"$f":"DATAENTRY!J122","v":0},{"$f":"DATAENTRY!K122","v":0},{"$f":"DATAENTRY!L122","v":0},{"$f":"DATAENTRY!M122","v":0},{"$f":"DATAENTRY!N122","v":0},{"$f":"DATAENTRY!O122","v":0},{"$f":"DATAENTRY!P122","v":0},{"$f":"DATAENTRY!Q122","v":0},{"$f":"DATAENTRY!R122","v":0},{"$f":"DATAENTRY!S122","v":0},{"$f":"DATAENTRY!T122","v":0},{"$f":"DATAENTRY!U122","v":0},{"$f":"DATAENTRY!V122","v":0},{"$f":"DATAENTRY!W122","v":0},{"$f":"DATAENTRY!X122","v":0},{"$f":"DATAENTRY!Y122","v":0},{"$f":"DATAENTRY!Z122","v":0},{"$f":"DATAENTRY!AA122","v":0},{"$f":"DATAENTRY!AB122","v":0},{"$f":"DATAENTRY!AC122","v":0},{"$f":"DATAENTRY!AD122","v":0},{"$f":"DATAENTRY!AE122","v":0},{"$f":"DATAENTRY!AF122","v":0},{"$f":"DATAENTRY!AG122","v":0},{"$f":"DATAENTRY!AH122","v":0},{"$f":"DATAENTRY!AI122","v":0},{"$f":"DATAENTRY!AJ122","v":0},{"$f":"DATAENTRY!AK122","v":0},{"$f":"DATAENTRY!AL122","v":0},{"$f":"DATAENTRY!AM122","v":0},{"$f":"DATAENTRY!AN122","v":0},{"$f":"DATAENTRY!AO122","v":0},{"$f":"DATAENTRY!AP122","v":0},{"$f":"DATAENTRY!AQ122","v":0},{"$f":"DATAENTRY!AR122","v":0},{"$f":"DATAENTRY!AS122","v":0},{"$f":"DATAENTRY!AT122","v":0},{"$f":"DATAENTRY!AU122","v":0},{"$f":"DATAENTRY!AV122","v":0},{"$f":"DATAENTRY!AW122","v":0},{"$f":"DATAENTRY!AX122","v":0},{"$f":"DATAENTRY!AY122","v":0},{"$f":"DATAENTRY!AZ122","v":0},{"$f":"DATAENTRY!BA122","v":0},{"$f":"DATAENTRY!BB122","v":0},{"$f":"DATAENTRY!BC122","v":0},{"$f":"DATAENTRY!BD122","v":0},{"$f":"DATAENTRY!BE122","v":0},{"$f":"DATAENTRY!BF122","v":0},{"$f":"DATAENTRY!BG122","v":0},{"$f":"DATAENTRY!BH122","v":""}]
[{"$f":"DATAENTRY!C123","v":0},{"$f":"DATAENTRY!D123","v":0},{"$f":"DATAENTRY!E123","v":0},{"$f":"DATAENTRY!F123","v":0},{"$f":"DATAENTRY!G123","v":0},{"$f":"DATAENTRY!H123","v":0},{"$f":"DATAENTRY!I123","v":0},{"$f":"DATAENTRY!J123","v":0},{"$f":"DATAENTRY!K123","v":0},{"$f":"DATAENTRY!L123","v":0},{"$f":"DATAENTRY!M123","v":0},{"$f":"DATAENTRY!N123","v":0},{"$f":"DATAENTRY!O123","v":0},{"$f":"DATAENTRY!P123","v":0},{"$f":"DATAENTRY!Q123","v":0},{"$f":"DATAENTRY!R123","v":0},{"$f":"DATAENTRY!S123","v":0},{"$f":"DATAENTRY!T123","v":0},{"$f":"DATAENTRY!U123","v":0},{"$f":"DATAENTRY!V123","v":0},{"$f":"DATAENTRY!W123","v":0},{"$f":"DATAENTRY!X123","v":0},{"$f":"DATAENTRY!Y123","v":0},{"$f":"DATAENTRY!Z123","v":0},{"$f":"DATAENTRY!AA123","v":0},{"$f":"DATAENTRY!AB123","v":0},{"$f":"DATAENTRY!AC123","v":0},{"$f":"DATAENTRY!AD123","v":0},{"$f":"DATAENTRY!AE123","v":0},{"$f":"DATAENTRY!AF123","v":0},{"$f":"DATAENTRY!AG123","v":0},{"$f":"DATAENTRY!AH123","v":0},{"$f":"DATAENTRY!AI123","v":0},{"$f":"DATAENTRY!AJ123","v":0},{"$f":"DATAENTRY!AK123","v":0},{"$f":"DATAENTRY!AL123","v":0},{"$f":"DATAENTRY!AM123","v":0},{"$f":"DATAENTRY!AN123","v":0},{"$f":"DATAENTRY!AO123","v":0},{"$f":"DATAENTRY!AP123","v":0},{"$f":"DATAENTRY!AQ123","v":0},{"$f":"DATAENTRY!AR123","v":0},{"$f":"DATAENTRY!AS123","v":0},{"$f":"DATAENTRY!AT123","v":0},{"$f":"DATAENTRY!AU123","v":0},{"$f":"DATAENTRY!AV123","v":0},{"$f":"DATAENTRY!AW123","v":0},{"$f":"DATAENTRY!AX123","v":0},{"$f":"DATAENTRY!AY123","v":0},{"$f":"DATAENTRY!AZ123","v":0},{"$f":"DATAENTRY!BA123","v":0},{"$f":"DATAENTRY!BB123","v":0},{"$f":"DATAENTRY!BC123","v":0},{"$f":"DATAENTRY!BD123","v":0},{"$f":"DATAENTRY!BE123","v":0},{"$f":"DATAENTRY!BF123","v":0},{"$f":"DATAENTRY!BG123","v":0},{"$f":"DATAENTRY!BH123","v":""}]
[{"$f":"DATAENTRY!C124","v":0},{"$f":"DATAENTRY!D124","v":0},{"$f":"DATAENTRY!E124","v":0},{"$f":"DATAENTRY!F124","v":0},{"$f":"DATAENTRY!G124","v":0},{"$f":"DATAENTRY!H124","v":0},{"$f":"DATAENTRY!I124","v":0},{"$f":"DATAENTRY!J124","v":0},{"$f":"DATAENTRY!K124","v":0},{"$f":"DATAENTRY!L124","v":0},{"$f":"DATAENTRY!M124","v":0},{"$f":"DATAENTRY!N124","v":0},{"$f":"DATAENTRY!O124","v":0},{"$f":"DATAENTRY!P124","v":0},{"$f":"DATAENTRY!Q124","v":0},{"$f":"DATAENTRY!R124","v":0},{"$f":"DATAENTRY!S124","v":0},{"$f":"DATAENTRY!T124","v":0},{"$f":"DATAENTRY!U124","v":0},{"$f":"DATAENTRY!V124","v":0},{"$f":"DATAENTRY!W124","v":0},{"$f":"DATAENTRY!X124","v":0},{"$f":"DATAENTRY!Y124","v":0},{"$f":"DATAENTRY!Z124","v":0},{"$f":"DATAENTRY!AA124","v":0},{"$f":"DATAENTRY!AB124","v":0},{"$f":"DATAENTRY!AC124","v":0},{"$f":"DATAENTRY!AD124","v":0},{"$f":"DATAENTRY!AE124","v":0},{"$f":"DATAENTRY!AF124","v":0},{"$f":"DATAENTRY!AG124","v":0},{"$f":"DATAENTRY!AH124","v":0},{"$f":"DATAENTRY!AI124","v":0},{"$f":"DATAENTRY!AJ124","v":0},{"$f":"DATAENTRY!AK124","v":0},{"$f":"DATAENTRY!AL124","v":0},{"$f":"DATAENTRY!AM124","v":0},{"$f":"DATAENTRY!AN124","v":0},{"$f":"DATAENTRY!AO124","v":0},{"$f":"DATAENTRY!AP124","v":0},{"$f":"DATAENTRY!AQ124","v":0},{"$f":"DATAENTRY!AR124","v":0},{"$f":"DATAENTRY!AS124","v":0},{"$f":"DATAENTRY!AT124","v":0},{"$f":"DATAENTRY!AU124","v":0},{"$f":"DATAENTRY!AV124","v":0},{"$f":"DATAENTRY!AW124","v":0},{"$f":"DATAENTRY!AX124","v":0},{"$f":"DATAENTRY!AY124","v":0},{"$f":"DATAENTRY!AZ124","v":0},{"$f":"DATAENTRY!BA124","v":0},{"$f":"DATAENTRY!BB124","v":0},{"$f":"DATAENTRY!BC124","v":0},{"$f":"DATAENTRY!BD124","v":0},{"$f":"DATAENTRY!BE124","v":0},{"$f":"DATAENTRY!BF124","v":0},{"$f":"DATAENTRY!BG124","v":0},{"$f":"DATAENTRY!BH124","v":""}]
[{"$f":"DATAENTRY!C125","v":0},{"$f":"DATAENTRY!D125","v":0},{"$f":"DATAENTRY!E125","v":0},{"$f":"DATAENTRY!F125","v":0},{"$f":"DATAENTRY!G125","v":0},{"$f":"DATAENTRY!H125","v":0},{"$f":"DATAENTRY!I125","v":0},{"$f":"DATAENTRY!J125","v":0},{"$f":"DATAENTRY!K125","v":0},{"$f":"DATAENTRY!L125","v":0},{"$f":"DATAENTRY!M125","v":0},{"$f":"DATAENTRY!N125","v":0},{"$f":"DATAENTRY!O125","v":0},{"$f":"DATAENTRY!P125","v":0},{"$f":"DATAENTRY!Q125","v":0},{"$f":"DATAENTRY!R125","v":0},{"$f":"DATAENTRY!S125","v":0},{"$f":"DATAENTRY!T125","v":0},{"$f":"DATAENTRY!U125","v":0},{"$f":"DATAENTRY!V125","v":0},{"$f":"DATAENTRY!W125","v":0},{"$f":"DATAENTRY!X125","v":0},{"$f":"DATAENTRY!Y125","v":0},{"$f":"DATAENTRY!Z125","v":0},{"$f":"DATAENTRY!AA125","v":0},{"$f":"DATAENTRY!AB125","v":0},{"$f":"DATAENTRY!AC125","v":0},{"$f":"DATAENTRY!AD125","v":0},{"$f":"DATAENTRY!AE125","v":0},{"$f":"DATAENTRY!AF125","v":0},{"$f":"DATAENTRY!AG125","v":0},{"$f":"DATAENTRY!AH125","v":0},{"$f":"DATAENTRY!AI125","v":0},{"$f":"DATAENTRY!AJ125","v":0},{"$f":"DATAENTRY!AK125","v":0},{"$f":"DATAENTRY!AL125","v":0},{"$f":"DATAENTRY!AM125","v":0},{"$f":"DATAENTRY!AN125","v":0},{"$f":"DATAENTRY!AO125","v":0},{"$f":"DATAENTRY!AP125","v":0},{"$f":"DATAENTRY!AQ125","v":0},{"$f":"DATAENTRY!AR125","v":0},{"$f":"DATAENTRY!AS125","v":0},{"$f":"DATAENTRY!AT125","v":0},{"$f":"DATAENTRY!AU125","v":0},{"$f":"DATAENTRY!AV125","v":0},{"$f":"DATAENTRY!AW125","v":0},{"$f":"DATAENTRY!AX125","v":0},{"$f":"DATAENTRY!AY125","v":0},{"$f":"DATAENTRY!AZ125","v":0},{"$f":"DATAENTRY!BA125","v":0},{"$f":"DATAENTRY!BB125","v":0},{"$f":"DATAENTRY!BC125","v":0},{"$f":"DATAENTRY!BD125","v":0},{"$f":"DATAENTRY!BE125","v":0},{"$f":"DATAENTRY!BF125","v":0},{"$f":"DATAENTRY!BG125","v":0},{"$f":"DATAENTRY!BH125","v":""}]
[{"$f":"DATAENTRY!C126","v":0},{"$f":"DATAENTRY!D126","v":0},{"$f":"DATAENTRY!E126","v":0},{"$f":"DATAENTRY!F126","v":0},{"$f":"DATAENTRY!G126","v":0},{"$f":"DATAENTRY!H126","v":0},{"$f":"DATAENTRY!I126","v":0},{"$f":"DATAENTRY!J126","v":0},{"$f":"DATAENTRY!K126","v":0},{"$f":"DATAENTRY!L126","v":0},{"$f":"DATAENTRY!M126","v":0},{"$f":"DATAENTRY!N126","v":0},{"$f":"DATAENTRY!O126","v":0},{"$f":"DATAENTRY!P126","v":0},{"$f":"DATAENTRY!Q126","v":0},{"$f":"DATAENTRY!R126","v":0},{"$f":"DATAENTRY!S126","v":0},{"$f":"DATAENTRY!T126","v":0},{"$f":"DATAENTRY!U126","v":0},{"$f":"DATAENTRY!V126","v":0},{"$f":"DATAENTRY!W126","v":0},{"$f":"DATAENTRY!X126","v":0},{"$f":"DATAENTRY!Y126","v":0},{"$f":"DATAENTRY!Z126","v":0},{"$f":"DATAENTRY!AA126","v":0},{"$f":"DATAENTRY!AB126","v":0},{"$f":"DATAENTRY!AC126","v":0},{"$f":"DATAENTRY!AD126","v":0},{"$f":"DATAENTRY!AE126","v":0},{"$f":"DATAENTRY!AF126","v":0},{"$f":"DATAENTRY!AG126","v":0},{"$f":"DATAENTRY!AH126","v":0},{"$f":"DATAENTRY!AI126","v":0},{"$f":"DATAENTRY!AJ126","v":0},{"$f":"DATAENTRY!AK126","v":0},{"$f":"DATAENTRY!AL126","v":0},{"$f":"DATAENTRY!AM126","v":0},{"$f":"DATAENTRY!AN126","v":0},{"$f":"DATAENTRY!AO126","v":0},{"$f":"DATAENTRY!AP126","v":0},{"$f":"DATAENTRY!AQ126","v":0},{"$f":"DATAENTRY!AR126","v":0},{"$f":"DATAENTRY!AS126","v":0},{"$f":"DATAENTRY!AT126","v":0},{"$f":"DATAENTRY!AU126","v":0},{"$f":"DATAENTRY!AV126","v":0},{"$f":"DATAENTRY!AW126","v":0},{"$f":"DATAENTRY!AX126","v":0},{"$f":"DATAENTRY!AY126","v":0},{"$f":"DATAENTRY!AZ126","v":0},{"$f":"DATAENTRY!BA126","v":0},{"$f":"DATAENTRY!BB126","v":0},{"$f":"DATAENTRY!BC126","v":0},{"$f":"DATAENTRY!BD126","v":0},{"$f":"DATAENTRY!BE126","v":0},{"$f":"DATAENTRY!BF126","v":0},{"$f":"DATAENTRY!BG126","v":0},{"$f":"DATAENTRY!BH126","v":""}]
[{"$f":"DATAENTRY!C127","v":0},{"$f":"DATAENTRY!D127","v":0},{"$f":"DATAENTRY!E127","v":0},{"$f":"DATAENTRY!F127","v":0},{"$f":"DATAENTRY!G127","v":0},{"$f":"DATAENTRY!H127","v":0},{"$f":"DATAENTRY!I127","v":0},{"$f":"DATAENTRY!J127","v":0},{"$f":"DATAENTRY!K127","v":0},{"$f":"DATAENTRY!L127","v":0},{"$f":"DATAENTRY!M127","v":0},{"$f":"DATAENTRY!N127","v":0},{"$f":"DATAENTRY!O127","v":0},{"$f":"DATAENTRY!P127","v":0},{"$f":"DATAENTRY!Q127","v":0},{"$f":"DATAENTRY!R127","v":0},{"$f":"DATAENTRY!S127","v":0},{"$f":"DATAENTRY!T127","v":0},{"$f":"DATAENTRY!U127","v":0},{"$f":"DATAENTRY!V127","v":0},{"$f":"DATAENTRY!W127","v":0},{"$f":"DATAENTRY!X127","v":0},{"$f":"DATAENTRY!Y127","v":0},{"$f":"DATAENTRY!Z127","v":0},{"$f":"DATAENTRY!AA127","v":0},{"$f":"DATAENTRY!AB127","v":0},{"$f":"DATAENTRY!AC127","v":0},{"$f":"DATAENTRY!AD127","v":0},{"$f":"DATAENTRY!AE127","v":0},{"$f":"DATAENTRY!AF127","v":0},{"$f":"DATAENTRY!AG127","v":0},{"$f":"DATAENTRY!AH127","v":0},{"$f":"DATAENTRY!AI127","v":0},{"$f":"DATAENTRY!AJ127","v":0},{"$f":"DATAENTRY!AK127","v":0},{"$f":"DATAENTRY!AL127","v":0},{"$f":"DATAENTRY!AM127","v":0},{"$f":"DATAENTRY!AN127","v":0},{"$f":"DATAENTRY!AO127","v":0},{"$f":"DATAENTRY!AP127","v":0},{"$f":"DATAENTRY!AQ127","v":0},{"$f":"DATAENTRY!AR127","v":0},{"$f":"DATAENTRY!AS127","v":0},{"$f":"DATAENTRY!AT127","v":0},{"$f":"DATAENTRY!AU127","v":0},{"$f":"DATAENTRY!AV127","v":0},{"$f":"DATAENTRY!AW127","v":0},{"$f":"DATAENTRY!AX127","v":0},{"$f":"DATAENTRY!AY127","v":0},{"$f":"DATAENTRY!AZ127","v":0},{"$f":"DATAENTRY!BA127","v":0},{"$f":"DATAENTRY!BB127","v":0},{"$f":"DATAENTRY!BC127","v":0},{"$f":"DATAENTRY!BD127","v":0},{"$f":"DATAENTRY!BE127","v":0},{"$f":"DATAENTRY!BF127","v":0},{"$f":"DATAENTRY!BG127","v":0},{"$f":"DATAENTRY!BH127","v":""}]
[{"$f":"DATAENTRY!C128","v":0},{"$f":"DATAENTRY!D128","v":0},{"$f":"DATAENTRY!E128","v":0},{"$f":"DATAENTRY!F128","v":0},{"$f":"DATAENTRY!G128","v":0},{"$f":"DATAENTRY!H128","v":0},{"$f":"DATAENTRY!I128","v":0},{"$f":"DATAENTRY!J128","v":0},{"$f":"DATAENTRY!K128","v":0},{"$f":"DATAENTRY!L128","v":0},{"$f":"DATAENTRY!M128","v":0},{"$f":"DATAENTRY!N128","v":0},{"$f":"DATAENTRY!O128","v":0},{"$f":"DATAENTRY!P128","v":0},{"$f":"DATAENTRY!Q128","v":0},{"$f":"DATAENTRY!R128","v":0},{"$f":"DATAENTRY!S128","v":0},{"$f":"DATAENTRY!T128","v":0},{"$f":"DATAENTRY!U128","v":0},{"$f":"DATAENTRY!V128","v":0},{"$f":"DATAENTRY!W128","v":0},{"$f":"DATAENTRY!X128","v":0},{"$f":"DATAENTRY!Y128","v":0},{"$f":"DATAENTRY!Z128","v":0},{"$f":"DATAENTRY!AA128","v":0},{"$f":"DATAENTRY!AB128","v":0},{"$f":"DATAENTRY!AC128","v":0},{"$f":"DATAENTRY!AD128","v":0},{"$f":"DATAENTRY!AE128","v":0},{"$f":"DATAENTRY!AF128","v":0},{"$f":"DATAENTRY!AG128","v":0},{"$f":"DATAENTRY!AH128","v":0},{"$f":"DATAENTRY!AI128","v":0},{"$f":"DATAENTRY!AJ128","v":0},{"$f":"DATAENTRY!AK128","v":0},{"$f":"DATAENTRY!AL128","v":0},{"$f":"DATAENTRY!AM128","v":0},{"$f":"DATAENTRY!AN128","v":0},{"$f":"DATAENTRY!AO128","v":0},{"$f":"DATAENTRY!AP128","v":0},{"$f":"DATAENTRY!AQ128","v":0},{"$f":"DATAENTRY!AR128","v":0},{"$f":"DATAENTRY!AS128","v":0},{"$f":"DATAENTRY!AT128","v":0},{"$f":"DATAENTRY!AU128","v":0},{"$f":"DATAENTRY!AV128","v":0},{"$f":"DATAENTRY!AW128","v":0},{"$f":"DATAENTRY!AX128","v":0},{"$f":"DATAENTRY!AY128","v":0},{"$f":"DATAENTRY!AZ128","v":0},{"$f":"DATAENTRY!BA128","v":0},{"$f":"DATAENTRY!BB128","v":0},{"$f":"DATAENTRY!BC128","v":0},{"$f":"DATAENTRY!BD128","v":0},{"$f":"DATAENTRY!BE128","v":0},{"$f":"DATAENTRY!BF128","v":0},{"$f":"DATAENTRY!BG128","v":0},{"$f":"DATAENTRY!BH128","v":""}]
[{"$f":"DATAENTRY!C129","v":0},{"$f":"DATAENTRY!D129","v":0},{"$f":"DATAENTRY!E129","v":0},{"$f":"DATAENTRY!F129","v":0},{"$f":"DATAENTRY!G129","v":0},{"$f":"DATAENTRY!H129","v":0},{"$f":"DATAENTRY!I129","v":0},{"$f":"DATAENTRY!J129","v":0},{"$f":"DATAENTRY!K129","v":0},{"$f":"DATAENTRY!L129","v":0},{"$f":"DATAENTRY!M129","v":0},{"$f":"DATAENTRY!N129","v":0},{"$f":"DATAENTRY!O129","v":0},{"$f":"DATAENTRY!P129","v":0},{"$f":"DATAENTRY!Q129","v":0},{"$f":"DATAENTRY!R129","v":0},{"$f":"DATAENTRY!S129","v":0},{"$f":"DATAENTRY!T129","v":0},{"$f":"DATAENTRY!U129","v":0},{"$f":"DATAENTRY!V129","v":0},{"$f":"DATAENTRY!W129","v":0},{"$f":"DATAENTRY!X129","v":0},{"$f":"DATAENTRY!Y129","v":0},{"$f":"DATAENTRY!Z129","v":0},{"$f":"DATAENTRY!AA129","v":0},{"$f":"DATAENTRY!AB129","v":0},{"$f":"DATAENTRY!AC129","v":0},{"$f":"DATAENTRY!AD129","v":0},{"$f":"DATAENTRY!AE129","v":0},{"$f":"DATAENTRY!AF129","v":0},{"$f":"DATAENTRY!AG129","v":0},{"$f":"DATAENTRY!AH129","v":0},{"$f":"DATAENTRY!AI129","v":0},{"$f":"DATAENTRY!AJ129","v":0},{"$f":"DATAENTRY!AK129","v":0},{"$f":"DATAENTRY!AL129","v":0},{"$f":"DATAENTRY!AM129","v":0},{"$f":"DATAENTRY!AN129","v":0},{"$f":"DATAENTRY!AO129","v":0},{"$f":"DATAENTRY!AP129","v":0},{"$f":"DATAENTRY!AQ129","v":0},{"$f":"DATAENTRY!AR129","v":0},{"$f":"DATAENTRY!AS129","v":0},{"$f":"DATAENTRY!AT129","v":0},{"$f":"DATAENTRY!AU129","v":0},{"$f":"DATAENTRY!AV129","v":0},{"$f":"DATAENTRY!AW129","v":0},{"$f":"DATAENTRY!AX129","v":0},{"$f":"DATAENTRY!AY129","v":0},{"$f":"DATAENTRY!AZ129","v":0},{"$f":"DATAENTRY!BA129","v":0},{"$f":"DATAENTRY!BB129","v":0},{"$f":"DATAENTRY!BC129","v":0},{"$f":"DATAENTRY!BD129","v":0},{"$f":"DATAENTRY!BE129","v":0},{"$f":"DATAENTRY!BF129","v":0},{"$f":"DATAENTRY!BG129","v":0},{"$f":"DATAENTRY!BH129","v":""}]
[{"$f":"DATAENTRY!C130","v":0},{"$f":"DATAENTRY!D130","v":0},{"$f":"DATAENTRY!E130","v":0},{"$f":"DATAENTRY!F130","v":0},{"$f":"DATAENTRY!G130","v":0},{"$f":"DATAENTRY!H130","v":0},{"$f":"DATAENTRY!I130","v":0},{"$f":"DATAENTRY!J130","v":0},{"$f":"DATAENTRY!K130","v":0},{"$f":"DATAENTRY!L130","v":0},{"$f":"DATAENTRY!M130","v":0},{"$f":"DATAENTRY!N130","v":0},{"$f":"DATAENTRY!O130","v":0},{"$f":"DATAENTRY!P130","v":0},{"$f":"DATAENTRY!Q130","v":0},{"$f":"DATAENTRY!R130","v":0},{"$f":"DATAENTRY!S130","v":0},{"$f":"DATAENTRY!T130","v":0},{"$f":"DATAENTRY!U130","v":0},{"$f":"DATAENTRY!V130","v":0},{"$f":"DATAENTRY!W130","v":0},{"$f":"DATAENTRY!X130","v":0},{"$f":"DATAENTRY!Y130","v":0},{"$f":"DATAENTRY!Z130","v":0},{"$f":"DATAENTRY!AA130","v":0},{"$f":"DATAENTRY!AB130","v":0},{"$f":"DATAENTRY!AC130","v":0},{"$f":"DATAENTRY!AD130","v":0},{"$f":"DATAENTRY!AE130","v":0},{"$f":"DATAENTRY!AF130","v":0},{"$f":"DATAENTRY!AG130","v":0},{"$f":"DATAENTRY!AH130","v":0},{"$f":"DATAENTRY!AI130","v":0},{"$f":"DATAENTRY!AJ130","v":0},{"$f":"DATAENTRY!AK130","v":0},{"$f":"DATAENTRY!AL130","v":0},{"$f":"DATAENTRY!AM130","v":0},{"$f":"DATAENTRY!AN130","v":0},{"$f":"DATAENTRY!AO130","v":0},{"$f":"DATAENTRY!AP130","v":0},{"$f":"DATAENTRY!AQ130","v":0},{"$f":"DATAENTRY!AR130","v":0},{"$f":"DATAENTRY!AS130","v":0},{"$f":"DATAENTRY!AT130","v":0},{"$f":"DATAENTRY!AU130","v":0},{"$f":"DATAENTRY!AV130","v":0},{"$f":"DATAENTRY!AW130","v":0},{"$f":"DATAENTRY!AX130","v":0},{"$f":"DATAENTRY!AY130","v":0},{"$f":"DATAENTRY!AZ130","v":0},{"$f":"DATAENTRY!BA130","v":0},{"$f":"DATAENTRY!BB130","v":0},{"$f":"DATAENTRY!BC130","v":0},{"$f":"DATAENTRY!BD130","v":0},{"$f":"DATAENTRY!BE130","v":0},{"$f":"DATAENTRY!BF130","v":0},{"$f":"DATAENTRY!BG130","v":0},{"$f":"DATAENTRY!BH130","v":""}]
[{"$f":"DATAENTRY!C131","v":0},{"$f":"DATAENTRY!D131","v":0},{"$f":"DATAENTRY!E131","v":0},{"$f":"DATAENTRY!F131","v":0},{"$f":"DATAENTRY!G131","v":0},{"$f":"DATAENTRY!H131","v":0},{"$f":"DATAENTRY!I131","v":0},{"$f":"DATAENTRY!J131","v":0},{"$f":"DATAENTRY!K131","v":0},{"$f":"DATAENTRY!L131","v":0},{"$f":"DATAENTRY!M131","v":0},{"$f":"DATAENTRY!N131","v":0},{"$f":"DATAENTRY!O131","v":0},{"$f":"DATAENTRY!P131","v":0},{"$f":"DATAENTRY!Q131","v":0},{"$f":"DATAENTRY!R131","v":0},{"$f":"DATAENTRY!S131","v":0},{"$f":"DATAENTRY!T131","v":0},{"$f":"DATAENTRY!U131","v":0},{"$f":"DATAENTRY!V131","v":0},{"$f":"DATAENTRY!W131","v":0},{"$f":"DATAENTRY!X131","v":0},{"$f":"DATAENTRY!Y131","v":0},{"$f":"DATAENTRY!Z131","v":0},{"$f":"DATAENTRY!AA131","v":0},{"$f":"DATAENTRY!AB131","v":0},{"$f":"DATAENTRY!AC131","v":0},{"$f":"DATAENTRY!AD131","v":0},{"$f":"DATAENTRY!AE131","v":0},{"$f":"DATAENTRY!AF131","v":0},{"$f":"DATAENTRY!AG131","v":0},{"$f":"DATAENTRY!AH131","v":0},{"$f":"DATAENTRY!AI131","v":0},{"$f":"DATAENTRY!AJ131","v":0},{"$f":"DATAENTRY!AK131","v":0},{"$f":"DATAENTRY!AL131","v":0},{"$f":"DATAENTRY!AM131","v":0},{"$f":"DATAENTRY!AN131","v":0},{"$f":"DATAENTRY!AO131","v":0},{"$f":"DATAENTRY!AP131","v":0},{"$f":"DATAENTRY!AQ131","v":0},{"$f":"DATAENTRY!AR131","v":0},{"$f":"DATAENTRY!AS131","v":0},{"$f":"DATAENTRY!AT131","v":0},{"$f":"DATAENTRY!AU131","v":0},{"$f":"DATAENTRY!AV131","v":0},{"$f":"DATAENTRY!AW131","v":0},{"$f":"DATAENTRY!AX131","v":0},{"$f":"DATAENTRY!AY131","v":0},{"$f":"DATAENTRY!AZ131","v":0},{"$f":"DATAENTRY!BA131","v":0},{"$f":"DATAENTRY!BB131","v":0},{"$f":"DATAENTRY!BC131","v":0},{"$f":"DATAENTRY!BD131","v":0},{"$f":"DATAENTRY!BE131","v":0},{"$f":"DATAENTRY!BF131","v":0},{"$f":"DATAENTRY!BG131","v":0},{"$f":"DATAENTRY!BH131","v":""}]
[{"$f":"DATAENTRY!C132","v":0},{"$f":"DATAENTRY!D132","v":0},{"$f":"DATAENTRY!E132","v":0},{"$f":"DATAENTRY!F132","v":0},{"$f":"DATAENTRY!G132","v":0},{"$f":"DATAENTRY!H132","v":0},{"$f":"DATAENTRY!I132","v":0},{"$f":"DATAENTRY!J132","v":0},{"$f":"DATAENTRY!K132","v":0},{"$f":"DATAENTRY!L132","v":0},{"$f":"DATAENTRY!M132","v":0},{"$f":"DATAENTRY!N132","v":0},{"$f":"DATAENTRY!O132","v":0},{"$f":"DATAENTRY!P132","v":0},{"$f":"DATAENTRY!Q132","v":0},{"$f":"DATAENTRY!R132","v":0},{"$f":"DATAENTRY!S132","v":0},{"$f":"DATAENTRY!T132","v":0},{"$f":"DATAENTRY!U132","v":0},{"$f":"DATAENTRY!V132","v":0},{"$f":"DATAENTRY!W132","v":0},{"$f":"DATAENTRY!X132","v":0},{"$f":"DATAENTRY!Y132","v":0},{"$f":"DATAENTRY!Z132","v":0},{"$f":"DATAENTRY!AA132","v":0},{"$f":"DATAENTRY!AB132","v":0},{"$f":"DATAENTRY!AC132","v":0},{"$f":"DATAENTRY!AD132","v":0},{"$f":"DATAENTRY!AE132","v":0},{"$f":"DATAENTRY!AF132","v":0},{"$f":"DATAENTRY!AG132","v":0},{"$f":"DATAENTRY!AH132","v":0},{"$f":"DATAENTRY!AI132","v":0},{"$f":"DATAENTRY!AJ132","v":0},{"$f":"DATAENTRY!AK132","v":0},{"$f":"DATAENTRY!AL132","v":0},{"$f":"DATAENTRY!AM132","v":0},{"$f":"DATAENTRY!AN132","v":0},{"$f":"DATAENTRY!AO132","v":0},{"$f":"DATAENTRY!AP132","v":0},{"$f":"DATAENTRY!AQ132","v":0},{"$f":"DATAENTRY!AR132","v":0},{"$f":"DATAENTRY!AS132","v":0},{"$f":"DATAENTRY!AT132","v":0},{"$f":"DATAENTRY!AU132","v":0},{"$f":"DATAENTRY!AV132","v":0},{"$f":"DATAENTRY!AW132","v":0},{"$f":"DATAENTRY!AX132","v":0},{"$f":"DATAENTRY!AY132","v":0},{"$f":"DATAENTRY!AZ132","v":0},{"$f":"DATAENTRY!BA132","v":0},{"$f":"DATAENTRY!BB132","v":0},{"$f":"DATAENTRY!BC132","v":0},{"$f":"DATAENTRY!BD132","v":0},{"$f":"DATAENTRY!BE132","v":0},{"$f":"DATAENTRY!BF132","v":0},{"$f":"DATAENTRY!BG132","v":0},{"$f":"DATAENTRY!BH132","v":""}]
[{"$f":"DATAENTRY!C133","v":0},{"$f":"DATAENTRY!D133","v":0},{"$f":"DATAENTRY!E133","v":0},{"$f":"DATAENTRY!F133","v":0},{"$f":"DATAENTRY!G133","v":0},{"$f":"DATAENTRY!H133","v":0},{"$f":"DATAENTRY!I133","v":0},{"$f":"DATAENTRY!J133","v":0},{"$f":"DATAENTRY!K133","v":0},{"$f":"DATAENTRY!L133","v":0},{"$f":"DATAENTRY!M133","v":0},{"$f":"DATAENTRY!N133","v":0},{"$f":"DATAENTRY!O133","v":0},{"$f":"DATAENTRY!P133","v":0},{"$f":"DATAENTRY!Q133","v":0},{"$f":"DATAENTRY!R133","v":0},{"$f":"DATAENTRY!S133","v":0},{"$f":"DATAENTRY!T133","v":0},{"$f":"DATAENTRY!U133","v":0},{"$f":"DATAENTRY!V133","v":0},{"$f":"DATAENTRY!W133","v":0},{"$f":"DATAENTRY!X133","v":0},{"$f":"DATAENTRY!Y133","v":0},{"$f":"DATAENTRY!Z133","v":0},{"$f":"DATAENTRY!AA133","v":0},{"$f":"DATAENTRY!AB133","v":0},{"$f":"DATAENTRY!AC133","v":0},{"$f":"DATAENTRY!AD133","v":0},{"$f":"DATAENTRY!AE133","v":0},{"$f":"DATAENTRY!AF133","v":0},{"$f":"DATAENTRY!AG133","v":0},{"$f":"DATAENTRY!AH133","v":0},{"$f":"DATAENTRY!AI133","v":0},{"$f":"DATAENTRY!AJ133","v":0},{"$f":"DATAENTRY!AK133","v":0},{"$f":"DATAENTRY!AL133","v":0},{"$f":"DATAENTRY!AM133","v":0},{"$f":"DATAENTRY!AN133","v":0},{"$f":"DATAENTRY!AO133","v":0},{"$f":"DATAENTRY!AP133","v":0},{"$f":"DATAENTRY!AQ133","v":0},{"$f":"DATAENTRY!AR133","v":0},{"$f":"DATAENTRY!AS133","v":0},{"$f":"DATAENTRY!AT133","v":0},{"$f":"DATAENTRY!AU133","v":0},{"$f":"DATAENTRY!AV133","v":0},{"$f":"DATAENTRY!AW133","v":0},{"$f":"DATAENTRY!AX133","v":0},{"$f":"DATAENTRY!AY133","v":0},{"$f":"DATAENTRY!AZ133","v":0},{"$f":"DATAENTRY!BA133","v":0},{"$f":"DATAENTRY!BB133","v":0},{"$f":"DATAENTRY!BC133","v":0},{"$f":"DATAENTRY!BD133","v":0},{"$f":"DATAENTRY!BE133","v":0},{"$f":"DATAENTRY!BF133","v":0},{"$f":"DATAENTRY!BG133","v":0},{"$f":"DATAENTRY!BH133","v":""}]
[{"$f":"DATAENTRY!C134","v":0},{"$f":"DATAENTRY!D134","v":0},{"$f":"DATAENTRY!E134","v":0},{"$f":"DATAENTRY!F134","v":0},{"$f":"DATAENTRY!G134","v":0},{"$f":"DATAENTRY!H134","v":0},{"$f":"DATAENTRY!I134","v":0},{"$f":"DATAENTRY!J134","v":0},{"$f":"DATAENTRY!K134","v":0},{"$f":"DATAENTRY!L134","v":0},{"$f":"DATAENTRY!M134","v":0},{"$f":"DATAENTRY!N134","v":0},{"$f":"DATAENTRY!O134","v":0},{"$f":"DATAENTRY!P134","v":0},{"$f":"DATAENTRY!Q134","v":0},{"$f":"DATAENTRY!R134","v":0},{"$f":"DATAENTRY!S134","v":0},{"$f":"DATAENTRY!T134","v":0},{"$f":"DATAENTRY!U134","v":0},{"$f":"DATAENTRY!V134","v":0},{"$f":"DATAENTRY!W134","v":0},{"$f":"DATAENTRY!X134","v":0},{"$f":"DATAENTRY!Y134","v":0},{"$f":"DATAENTRY!Z134","v":0},{"$f":"DATAENTRY!AA134","v":0},{"$f":"DATAENTRY!AB134","v":0},{"$f":"DATAENTRY!AC134","v":0},{"$f":"DATAENTRY!AD134","v":0},{"$f":"DATAENTRY!AE134","v":0},{"$f":"DATAENTRY!AF134","v":0},{"$f":"DATAENTRY!AG134","v":0},{"$f":"DATAENTRY!AH134","v":0},{"$f":"DATAENTRY!AI134","v":0},{"$f":"DATAENTRY!AJ134","v":0},{"$f":"DATAENTRY!AK134","v":0},{"$f":"DATAENTRY!AL134","v":0},{"$f":"DATAENTRY!AM134","v":0},{"$f":"DATAENTRY!AN134","v":0},{"$f":"DATAENTRY!AO134","v":0},{"$f":"DATAENTRY!AP134","v":0},{"$f":"DATAENTRY!AQ134","v":0},{"$f":"DATAENTRY!AR134","v":0},{"$f":"DATAENTRY!AS134","v":0},{"$f":"DATAENTRY!AT134","v":0},{"$f":"DATAENTRY!AU134","v":0},{"$f":"DATAENTRY!AV134","v":0},{"$f":"DATAENTRY!AW134","v":0},{"$f":"DATAENTRY!AX134","v":0},{"$f":"DATAENTRY!AY134","v":0},{"$f":"DATAENTRY!AZ134","v":0},{"$f":"DATAENTRY!BA134","v":0},{"$f":"DATAENTRY!BB134","v":0},{"$f":"DATAENTRY!BC134","v":0},{"$f":"DATAENTRY!BD134","v":0},{"$f":"DATAENTRY!BE134","v":0},{"$f":"DATAENTRY!BF134","v":0},{"$f":"DATAENTRY!BG134","v":0},{"$f":"DATAENTRY!BH134","v":""}]
[{"$f":"DATAENTRY!C135","v":0},{"$f":"DATAENTRY!D135","v":0},{"$f":"DATAENTRY!E135","v":0},{"$f":"DATAENTRY!F135","v":0},{"$f":"DATAENTRY!G135","v":0},{"$f":"DATAENTRY!H135","v":0},{"$f":"DATAENTRY!I135","v":0},{"$f":"DATAENTRY!J135","v":0},{"$f":"DATAENTRY!K135","v":0},{"$f":"DATAENTRY!L135","v":0},{"$f":"DATAENTRY!M135","v":0},{"$f":"DATAENTRY!N135","v":0},{"$f":"DATAENTRY!O135","v":0},{"$f":"DATAENTRY!P135","v":0},{"$f":"DATAENTRY!Q135","v":0},{"$f":"DATAENTRY!R135","v":0},{"$f":"DATAENTRY!S135","v":0},{"$f":"DATAENTRY!T135","v":0},{"$f":"DATAENTRY!U135","v":0},{"$f":"DATAENTRY!V135","v":0},{"$f":"DATAENTRY!W135","v":0},{"$f":"DATAENTRY!X135","v":0},{"$f":"DATAENTRY!Y135","v":0},{"$f":"DATAENTRY!Z135","v":0},{"$f":"DATAENTRY!AA135","v":0},{"$f":"DATAENTRY!AB135","v":0},{"$f":"DATAENTRY!AC135","v":0},{"$f":"DATAENTRY!AD135","v":0},{"$f":"DATAENTRY!AE135","v":0},{"$f":"DATAENTRY!AF135","v":0},{"$f":"DATAENTRY!AG135","v":0},{"$f":"DATAENTRY!AH135","v":0},{"$f":"DATAENTRY!AI135","v":0},{"$f":"DATAENTRY!AJ135","v":0},{"$f":"DATAENTRY!AK135","v":0},{"$f":"DATAENTRY!AL135","v":0},{"$f":"DATAENTRY!AM135","v":0},{"$f":"DATAENTRY!AN135","v":0},{"$f":"DATAENTRY!AO135","v":0},{"$f":"DATAENTRY!AP135","v":0},{"$f":"DATAENTRY!AQ135","v":0},{"$f":"DATAENTRY!AR135","v":0},{"$f":"DATAENTRY!AS135","v":0},{"$f":"DATAENTRY!AT135","v":0},{"$f":"DATAENTRY!AU135","v":0},{"$f":"DATAENTRY!AV135","v":0},{"$f":"DATAENTRY!AW135","v":0},{"$f":"DATAENTRY!AX135","v":0},{"$f":"DATAENTRY!AY135","v":0},{"$f":"DATAENTRY!AZ135","v":0},{"$f":"DATAENTRY!BA135","v":0},{"$f":"DATAENTRY!BB135","v":0},{"$f":"DATAENTRY!BC135","v":0},{"$f":"DATAENTRY!BD135","v":0},{"$f":"DATAENTRY!BE135","v":0},{"$f":"DATAENTRY!BF135","v":0},{"$f":"DATAENTRY!BG135","v":0},{"$f":"DATAENTRY!BH135","v":""}]
[{"$f":"DATAENTRY!C136","v":0},{"$f":"DATAENTRY!D136","v":0},{"$f":"DATAENTRY!E136","v":0},{"$f":"DATAENTRY!F136","v":0},{"$f":"DATAENTRY!G136","v":0},{"$f":"DATAENTRY!H136","v":0},{"$f":"DATAENTRY!I136","v":0},{"$f":"DATAENTRY!J136","v":0},{"$f":"DATAENTRY!K136","v":0},{"$f":"DATAENTRY!L136","v":0},{"$f":"DATAENTRY!M136","v":0},{"$f":"DATAENTRY!N136","v":0},{"$f":"DATAENTRY!O136","v":0},{"$f":"DATAENTRY!P136","v":0},{"$f":"DATAENTRY!Q136","v":0},{"$f":"DATAENTRY!R136","v":0},{"$f":"DATAENTRY!S136","v":0},{"$f":"DATAENTRY!T136","v":0},{"$f":"DATAENTRY!U136","v":0},{"$f":"DATAENTRY!V136","v":0},{"$f":"DATAENTRY!W136","v":0},{"$f":"DATAENTRY!X136","v":0},{"$f":"DATAENTRY!Y136","v":0},{"$f":"DATAENTRY!Z136","v":0},{"$f":"DATAENTRY!AA136","v":0},{"$f":"DATAENTRY!AB136","v":0},{"$f":"DATAENTRY!AC136","v":0},{"$f":"DATAENTRY!AD136","v":0},{"$f":"DATAENTRY!AE136","v":0},{"$f":"DATAENTRY!AF136","v":0},{"$f":"DATAENTRY!AG136","v":0},{"$f":"DATAENTRY!AH136","v":0},{"$f":"DATAENTRY!AI136","v":0},{"$f":"DATAENTRY!AJ136","v":0},{"$f":"DATAENTRY!AK136","v":0},{"$f":"DATAENTRY!AL136","v":0},{"$f":"DATAENTRY!AM136","v":0},{"$f":"DATAENTRY!AN136","v":0},{"$f":"DATAENTRY!AO136","v":0},{"$f":"DATAENTRY!AP136","v":0},{"$f":"DATAENTRY!AQ136","v":0},{"$f":"DATAENTRY!AR136","v":0},{"$f":"DATAENTRY!AS136","v":0},{"$f":"DATAENTRY!AT136","v":0},{"$f":"DATAENTRY!AU136","v":0},{"$f":"DATAENTRY!AV136","v":0},{"$f":"DATAENTRY!AW136","v":0},{"$f":"DATAENTRY!AX136","v":0},{"$f":"DATAENTRY!AY136","v":0},{"$f":"DATAENTRY!AZ136","v":0},{"$f":"DATAENTRY!BA136","v":0},{"$f":"DATAENTRY!BB136","v":0},{"$f":"DATAENTRY!BC136","v":0},{"$f":"DATAENTRY!BD136","v":0},{"$f":"DATAENTRY!BE136","v":0},{"$f":"DATAENTRY!BF136","v":0},{"$f":"DATAENTRY!BG136","v":0},{"$f":"DATAENTRY!BH136","v":""}]
[{"$f":"DATAENTRY!C137","v":0},{"$f":"DATAENTRY!D137","v":0},{"$f":"DATAENTRY!E137","v":0},{"$f":"DATAENTRY!F137","v":0},{"$f":"DATAENTRY!G137","v":0},{"$f":"DATAENTRY!H137","v":0},{"$f":"DATAENTRY!I137","v":0},{"$f":"DATAENTRY!J137","v":0},{"$f":"DATAENTRY!K137","v":0},{"$f":"DATAENTRY!L137","v":0},{"$f":"DATAENTRY!M137","v":0},{"$f":"DATAENTRY!N137","v":0},{"$f":"DATAENTRY!O137","v":0},{"$f":"DATAENTRY!P137","v":0},{"$f":"DATAENTRY!Q137","v":0},{"$f":"DATAENTRY!R137","v":0},{"$f":"DATAENTRY!S137","v":0},{"$f":"DATAENTRY!T137","v":0},{"$f":"DATAENTRY!U137","v":0},{"$f":"DATAENTRY!V137","v":0},{"$f":"DATAENTRY!W137","v":0},{"$f":"DATAENTRY!X137","v":0},{"$f":"DATAENTRY!Y137","v":0},{"$f":"DATAENTRY!Z137","v":0},{"$f":"DATAENTRY!AA137","v":0},{"$f":"DATAENTRY!AB137","v":0},{"$f":"DATAENTRY!AC137","v":0},{"$f":"DATAENTRY!AD137","v":0},{"$f":"DATAENTRY!AE137","v":0},{"$f":"DATAENTRY!AF137","v":0},{"$f":"DATAENTRY!AG137","v":0},{"$f":"DATAENTRY!AH137","v":0},{"$f":"DATAENTRY!AI137","v":0},{"$f":"DATAENTRY!AJ137","v":0},{"$f":"DATAENTRY!AK137","v":0},{"$f":"DATAENTRY!AL137","v":0},{"$f":"DATAENTRY!AM137","v":0},{"$f":"DATAENTRY!AN137","v":0},{"$f":"DATAENTRY!AO137","v":0},{"$f":"DATAENTRY!AP137","v":0},{"$f":"DATAENTRY!AQ137","v":0},{"$f":"DATAENTRY!AR137","v":0},{"$f":"DATAENTRY!AS137","v":0},{"$f":"DATAENTRY!AT137","v":0},{"$f":"DATAENTRY!AU137","v":0},{"$f":"DATAENTRY!AV137","v":0},{"$f":"DATAENTRY!AW137","v":0},{"$f":"DATAENTRY!AX137","v":0},{"$f":"DATAENTRY!AY137","v":0},{"$f":"DATAENTRY!AZ137","v":0},{"$f":"DATAENTRY!BA137","v":0},{"$f":"DATAENTRY!BB137","v":0},{"$f":"DATAENTRY!BC137","v":0},{"$f":"DATAENTRY!BD137","v":0},{"$f":"DATAENTRY!BE137","v":0},{"$f":"DATAENTRY!BF137","v":0},{"$f":"DATAENTRY!BG137","v":0},{"$f":"DATAENTRY!BH137","v":""}]
[{"$f":"DATAENTRY!C138","v":0},{"$f":"DATAENTRY!D138","v":0},{"$f":"DATAENTRY!E138","v":0},{"$f":"DATAENTRY!F138","v":0},{"$f":"DATAENTRY!G138","v":0},{"$f":"DATAENTRY!H138","v":0},{"$f":"DATAENTRY!I138","v":0},{"$f":"DATAENTRY!J138","v":0},{"$f":"DATAENTRY!K138","v":0},{"$f":"DATAENTRY!L138","v":0},{"$f":"DATAENTRY!M138","v":0},{"$f":"DATAENTRY!N138","v":0},{"$f":"DATAENTRY!O138","v":0},{"$f":"DATAENTRY!P138","v":0},{"$f":"DATAENTRY!Q138","v":0},{"$f":"DATAENTRY!R138","v":0},{"$f":"DATAENTRY!S138","v":0},{"$f":"DATAENTRY!T138","v":0},{"$f":"DATAENTRY!U138","v":0},{"$f":"DATAENTRY!V138","v":0},{"$f":"DATAENTRY!W138","v":0},{"$f":"DATAENTRY!X138","v":0},{"$f":"DATAENTRY!Y138","v":0},{"$f":"DATAENTRY!Z138","v":0},{"$f":"DATAENTRY!AA138","v":0},{"$f":"DATAENTRY!AB138","v":0},{"$f":"DATAENTRY!AC138","v":0},{"$f":"DATAENTRY!AD138","v":0},{"$f":"DATAENTRY!AE138","v":0},{"$f":"DATAENTRY!AF138","v":0},{"$f":"DATAENTRY!AG138","v":0},{"$f":"DATAENTRY!AH138","v":0},{"$f":"DATAENTRY!AI138","v":0},{"$f":"DATAENTRY!AJ138","v":0},{"$f":"DATAENTRY!AK138","v":0},{"$f":"DATAENTRY!AL138","v":0},{"$f":"DATAENTRY!AM138","v":0},{"$f":"DATAENTRY!AN138","v":0},{"$f":"DATAENTRY!AO138","v":0},{"$f":"DATAENTRY!AP138","v":0},{"$f":"DATAENTRY!AQ138","v":0},{"$f":"DATAENTRY!AR138","v":0},{"$f":"DATAENTRY!AS138","v":0},{"$f":"DATAENTRY!AT138","v":0},{"$f":"DATAENTRY!AU138","v":0},{"$f":"DATAENTRY!AV138","v":0},{"$f":"DATAENTRY!AW138","v":0},{"$f":"DATAENTRY!AX138","v":0},{"$f":"DATAENTRY!AY138","v":0},{"$f":"DATAENTRY!AZ138","v":0},{"$f":"DATAENTRY!BA138","v":0},{"$f":"DATAENTRY!BB138","v":0},{"$f":"DATAENTRY!BC138","v":0},{"$f":"DATAENTRY!BD138","v":0},{"$f":"DATAENTRY!BE138","v":0},{"$f":"DATAENTRY!BF138","v":0},{"$f":"DATAENTRY!BG138","v":0},{"$f":"DATAENTRY!BH138","v":""}]
[{"$f":"DATAENTRY!C139","v":0},{"$f":"DATAENTRY!D139","v":0},{"$f":"DATAENTRY!E139","v":0},{"$f":"DATAENTRY!F139","v":0},{"$f":"DATAENTRY!G139","v":0},{"$f":"DATAENTRY!H139","v":0},{"$f":"DATAENTRY!I139","v":0},{"$f":"DATAENTRY!J139","v":0},{"$f":"DATAENTRY!K139","v":0},{"$f":"DATAENTRY!L139","v":0},{"$f":"DATAENTRY!M139","v":0},{"$f":"DATAENTRY!N139","v":0},{"$f":"DATAENTRY!O139","v":0},{"$f":"DATAENTRY!P139","v":0},{"$f":"DATAENTRY!Q139","v":0},{"$f":"DATAENTRY!R139","v":0},{"$f":"DATAENTRY!S139","v":0},{"$f":"DATAENTRY!T139","v":0},{"$f":"DATAENTRY!U139","v":0},{"$f":"DATAENTRY!V139","v":0},{"$f":"DATAENTRY!W139","v":0},{"$f":"DATAENTRY!X139","v":0},{"$f":"DATAENTRY!Y139","v":0},{"$f":"DATAENTRY!Z139","v":0},{"$f":"DATAENTRY!AA139","v":0},{"$f":"DATAENTRY!AB139","v":0},{"$f":"DATAENTRY!AC139","v":0},{"$f":"DATAENTRY!AD139","v":0},{"$f":"DATAENTRY!AE139","v":0},{"$f":"DATAENTRY!AF139","v":0},{"$f":"DATAENTRY!AG139","v":0},{"$f":"DATAENTRY!AH139","v":0},{"$f":"DATAENTRY!AI139","v":0},{"$f":"DATAENTRY!AJ139","v":0},{"$f":"DATAENTRY!AK139","v":0},{"$f":"DATAENTRY!AL139","v":0},{"$f":"DATAENTRY!AM139","v":0},{"$f":"DATAENTRY!AN139","v":0},{"$f":"DATAENTRY!AO139","v":0},{"$f":"DATAENTRY!AP139","v":0},{"$f":"DATAENTRY!AQ139","v":0},{"$f":"DATAENTRY!AR139","v":0},{"$f":"DATAENTRY!AS139","v":0},{"$f":"DATAENTRY!AT139","v":0},{"$f":"DATAENTRY!AU139","v":0},{"$f":"DATAENTRY!AV139","v":0},{"$f":"DATAENTRY!AW139","v":0},{"$f":"DATAENTRY!AX139","v":0},{"$f":"DATAENTRY!AY139","v":0},{"$f":"DATAENTRY!AZ139","v":0},{"$f":"DATAENTRY!BA139","v":0},{"$f":"DATAENTRY!BB139","v":0},{"$f":"DATAENTRY!BC139","v":0},{"$f":"DATAENTRY!BD139","v":0},{"$f":"DATAENTRY!BE139","v":0},{"$f":"DATAENTRY!BF139","v":0},{"$f":"DATAENTRY!BG139","v":0},{"$f":"DATAENTRY!BH139","v":""}]
[{"$f":"DATAENTRY!C140","v":0},{"$f":"DATAENTRY!D140","v":0},{"$f":"DATAENTRY!E140","v":0},{"$f":"DATAENTRY!F140","v":0},{"$f":"DATAENTRY!G140","v":0},{"$f":"DATAENTRY!H140","v":0},{"$f":"DATAENTRY!I140","v":0},{"$f":"DATAENTRY!J140","v":0},{"$f":"DATAENTRY!K140","v":0},{"$f":"DATAENTRY!L140","v":0},{"$f":"DATAENTRY!M140","v":0},{"$f":"DATAENTRY!N140","v":0},{"$f":"DATAENTRY!O140","v":0},{"$f":"DATAENTRY!P140","v":0},{"$f":"DATAENTRY!Q140","v":0},{"$f":"DATAENTRY!R140","v":0},{"$f":"DATAENTRY!S140","v":0},{"$f":"DATAENTRY!T140","v":0},{"$f":"DATAENTRY!U140","v":0},{"$f":"DATAENTRY!V140","v":0},{"$f":"DATAENTRY!W140","v":0},{"$f":"DATAENTRY!X140","v":0},{"$f":"DATAENTRY!Y140","v":0},{"$f":"DATAENTRY!Z140","v":0},{"$f":"DATAENTRY!AA140","v":0},{"$f":"DATAENTRY!AB140","v":0},{"$f":"DATAENTRY!AC140","v":0},{"$f":"DATAENTRY!AD140","v":0},{"$f":"DATAENTRY!AE140","v":0},{"$f":"DATAENTRY!AF140","v":0},{"$f":"DATAENTRY!AG140","v":0},{"$f":"DATAENTRY!AH140","v":0},{"$f":"DATAENTRY!AI140","v":0},{"$f":"DATAENTRY!AJ140","v":0},{"$f":"DATAENTRY!AK140","v":0},{"$f":"DATAENTRY!AL140","v":0},{"$f":"DATAENTRY!AM140","v":0},{"$f":"DATAENTRY!AN140","v":0},{"$f":"DATAENTRY!AO140","v":0},{"$f":"DATAENTRY!AP140","v":0},{"$f":"DATAENTRY!AQ140","v":0},{"$f":"DATAENTRY!AR140","v":0},{"$f":"DATAENTRY!AS140","v":0},{"$f":"DATAENTRY!AT140","v":0},{"$f":"DATAENTRY!AU140","v":0},{"$f":"DATAENTRY!AV140","v":0},{"$f":"DATAENTRY!AW140","v":0},{"$f":"DATAENTRY!AX140","v":0},{"$f":"DATAENTRY!AY140","v":0},{"$f":"DATAENTRY!AZ140","v":0},{"$f":"DATAENTRY!BA140","v":0},{"$f":"DATAENTRY!BB140","v":0},{"$f":"DATAENTRY!BC140","v":0},{"$f":"DATAENTRY!BD140","v":0},{"$f":"DATAENTRY!BE140","v":0},{"$f":"DATAENTRY!BF140","v":0},{"$f":"DATAENTRY!BG140","v":0},{"$f":"DATAENTRY!BH140","v":""}]
[{"$f":"DATAENTRY!C141","v":0},{"$f":"DATAENTRY!D141","v":0},{"$f":"DATAENTRY!E141","v":0},{"$f":"DATAENTRY!F141","v":0},{"$f":"DATAENTRY!G141","v":0},{"$f":"DATAENTRY!H141","v":0},{"$f":"DATAENTRY!I141","v":0},{"$f":"DATAENTRY!J141","v":0},{"$f":"DATAENTRY!K141","v":0},{"$f":"DATAENTRY!L141","v":0},{"$f":"DATAENTRY!M141","v":0},{"$f":"DATAENTRY!N141","v":0},{"$f":"DATAENTRY!O141","v":0},{"$f":"DATAENTRY!P141","v":0},{"$f":"DATAENTRY!Q141","v":0},{"$f":"DATAENTRY!R141","v":0},{"$f":"DATAENTRY!S141","v":0},{"$f":"DATAENTRY!T141","v":0},{"$f":"DATAENTRY!U141","v":0},{"$f":"DATAENTRY!V141","v":0},{"$f":"DATAENTRY!W141","v":0},{"$f":"DATAENTRY!X141","v":0},{"$f":"DATAENTRY!Y141","v":0},{"$f":"DATAENTRY!Z141","v":0},{"$f":"DATAENTRY!AA141","v":0},{"$f":"DATAENTRY!AB141","v":0},{"$f":"DATAENTRY!AC141","v":0},{"$f":"DATAENTRY!AD141","v":0},{"$f":"DATAENTRY!AE141","v":0},{"$f":"DATAENTRY!AF141","v":0},{"$f":"DATAENTRY!AG141","v":0},{"$f":"DATAENTRY!AH141","v":0},{"$f":"DATAENTRY!AI141","v":0},{"$f":"DATAENTRY!AJ141","v":0},{"$f":"DATAENTRY!AK141","v":0},{"$f":"DATAENTRY!AL141","v":0},{"$f":"DATAENTRY!AM141","v":0},{"$f":"DATAENTRY!AN141","v":0},{"$f":"DATAENTRY!AO141","v":0},{"$f":"DATAENTRY!AP141","v":0},{"$f":"DATAENTRY!AQ141","v":0},{"$f":"DATAENTRY!AR141","v":0},{"$f":"DATAENTRY!AS141","v":0},{"$f":"DATAENTRY!AT141","v":0},{"$f":"DATAENTRY!AU141","v":0},{"$f":"DATAENTRY!AV141","v":0},{"$f":"DATAENTRY!AW141","v":0},{"$f":"DATAENTRY!AX141","v":0},{"$f":"DATAENTRY!AY141","v":0},{"$f":"DATAENTRY!AZ141","v":0},{"$f":"DATAENTRY!BA141","v":0},{"$f":"DATAENTRY!BB141","v":0},{"$f":"DATAENTRY!BC141","v":0},{"$f":"DATAENTRY!BD141","v":0},{"$f":"DATAENTRY!BE141","v":0},{"$f":"DATAENTRY!BF141","v":0},{"$f":"DATAENTRY!BG141","v":0},{"$f":"DATAENTRY!BH141","v":""}]
[{"$f":"DATAENTRY!C142","v":0},{"$f":"DATAENTRY!D142","v":0},{"$f":"DATAENTRY!E142","v":0},{"$f":"DATAENTRY!F142","v":0},{"$f":"DATAENTRY!G142","v":0},{"$f":"DATAENTRY!H142","v":0},{"$f":"DATAENTRY!I142","v":0},{"$f":"DATAENTRY!J142","v":0},{"$f":"DATAENTRY!K142","v":0},{"$f":"DATAENTRY!L142","v":0},{"$f":"DATAENTRY!M142","v":0},{"$f":"DATAENTRY!N142","v":0},{"$f":"DATAENTRY!O142","v":0},{"$f":"DATAENTRY!P142","v":0},{"$f":"DATAENTRY!Q142","v":0},{"$f":"DATAENTRY!R142","v":0},{"$f":"DATAENTRY!S142","v":0},{"$f":"DATAENTRY!T142","v":0},{"$f":"DATAENTRY!U142","v":0},{"$f":"DATAENTRY!V142","v":0},{"$f":"DATAENTRY!W142","v":0},{"$f":"DATAENTRY!X142","v":0},{"$f":"DATAENTRY!Y142","v":0},{"$f":"DATAENTRY!Z142","v":0},{"$f":"DATAENTRY!AA142","v":0},{"$f":"DATAENTRY!AB142","v":0},{"$f":"DATAENTRY!AC142","v":0},{"$f":"DATAENTRY!AD142","v":0},{"$f":"DATAENTRY!AE142","v":0},{"$f":"DATAENTRY!AF142","v":0},{"$f":"DATAENTRY!AG142","v":0},{"$f":"DATAENTRY!AH142","v":0},{"$f":"DATAENTRY!AI142","v":0},{"$f":"DATAENTRY!AJ142","v":0},{"$f":"DATAENTRY!AK142","v":0},{"$f":"DATAENTRY!AL142","v":0},{"$f":"DATAENTRY!AM142","v":0},{"$f":"DATAENTRY!AN142","v":0},{"$f":"DATAENTRY!AO142","v":0},{"$f":"DATAENTRY!AP142","v":0},{"$f":"DATAENTRY!AQ142","v":0},{"$f":"DATAENTRY!AR142","v":0},{"$f":"DATAENTRY!AS142","v":0},{"$f":"DATAENTRY!AT142","v":0},{"$f":"DATAENTRY!AU142","v":0},{"$f":"DATAENTRY!AV142","v":0},{"$f":"DATAENTRY!AW142","v":0},{"$f":"DATAENTRY!AX142","v":0},{"$f":"DATAENTRY!AY142","v":0},{"$f":"DATAENTRY!AZ142","v":0},{"$f":"DATAENTRY!BA142","v":0},{"$f":"DATAENTRY!BB142","v":0},{"$f":"DATAENTRY!BC142","v":0},{"$f":"DATAENTRY!BD142","v":0},{"$f":"DATAENTRY!BE142","v":0},{"$f":"DATAENTRY!BF142","v":0},{"$f":"DATAENTRY!BG142","v":0},{"$f":"DATAENTRY!BH142","v":""}]
[{"$f":"DATAENTRY!C143","v":0},{"$f":"DATAENTRY!D143","v":0},{"$f":"DATAENTRY!E143","v":0},{"$f":"DATAENTRY!F143","v":0},{"$f":"DATAENTRY!G143","v":0},{"$f":"DATAENTRY!H143","v":0},{"$f":"DATAENTRY!I143","v":0},{"$f":"DATAENTRY!J143","v":0},{"$f":"DATAENTRY!K143","v":0},{"$f":"DATAENTRY!L143","v":0},{"$f":"DATAENTRY!M143","v":0},{"$f":"DATAENTRY!N143","v":0},{"$f":"DATAENTRY!O143","v":0},{"$f":"DATAENTRY!P143","v":0},{"$f":"DATAENTRY!Q143","v":0},{"$f":"DATAENTRY!R143","v":0},{"$f":"DATAENTRY!S143","v":0},{"$f":"DATAENTRY!T143","v":0},{"$f":"DATAENTRY!U143","v":0},{"$f":"DATAENTRY!V143","v":0},{"$f":"DATAENTRY!W143","v":0},{"$f":"DATAENTRY!X143","v":0},{"$f":"DATAENTRY!Y143","v":0},{"$f":"DATAENTRY!Z143","v":0},{"$f":"DATAENTRY!AA143","v":0},{"$f":"DATAENTRY!AB143","v":0},{"$f":"DATAENTRY!AC143","v":0},{"$f":"DATAENTRY!AD143","v":0},{"$f":"DATAENTRY!AE143","v":0},{"$f":"DATAENTRY!AF143","v":0},{"$f":"DATAENTRY!AG143","v":0},{"$f":"DATAENTRY!AH143","v":0},{"$f":"DATAENTRY!AI143","v":0},{"$f":"DATAENTRY!AJ143","v":0},{"$f":"DATAENTRY!AK143","v":0},{"$f":"DATAENTRY!AL143","v":0},{"$f":"DATAENTRY!AM143","v":0},{"$f":"DATAENTRY!AN143","v":0},{"$f":"DATAENTRY!AO143","v":0},{"$f":"DATAENTRY!AP143","v":0},{"$f":"DATAENTRY!AQ143","v":0},{"$f":"DATAENTRY!AR143","v":0},{"$f":"DATAENTRY!AS143","v":0},{"$f":"DATAENTRY!AT143","v":0},{"$f":"DATAENTRY!AU143","v":0},{"$f":"DATAENTRY!AV143","v":0},{"$f":"DATAENTRY!AW143","v":0},{"$f":"DATAENTRY!AX143","v":0},{"$f":"DATAENTRY!AY143","v":0},{"$f":"DATAENTRY!AZ143","v":0},{"$f":"DATAENTRY!BA143","v":0},{"$f":"DATAENTRY!BB143","v":0},{"$f":"DATAENTRY!BC143","v":0},{"$f":"DATAENTRY!BD143","v":0},{"$f":"DATAENTRY!BE143","v":0},{"$f":"DATAENTRY!BF143","v":0},{"$f":"DATAENTRY!BG143","v":0},{"$f":"DATAENTRY!BH143","v":""}]
[{"$f":"DATAENTRY!C144","v":0},{"$f":"DATAENTRY!D144","v":0},{"$f":"DATAENTRY!E144","v":0},{"$f":"DATAENTRY!F144","v":0},{"$f":"DATAENTRY!G144","v":0},{"$f":"DATAENTRY!H144","v":0},{"$f":"DATAENTRY!I144","v":0},{"$f":"DATAENTRY!J144","v":0},{"$f":"DATAENTRY!K144","v":0},{"$f":"DATAENTRY!L144","v":0},{"$f":"DATAENTRY!M144","v":0},{"$f":"DATAENTRY!N144","v":0},{"$f":"DATAENTRY!O144","v":0},{"$f":"DATAENTRY!P144","v":0},{"$f":"DATAENTRY!Q144","v":0},{"$f":"DATAENTRY!R144","v":0},{"$f":"DATAENTRY!S144","v":0},{"$f":"DATAENTRY!T144","v":0},{"$f":"DATAENTRY!U144","v":0},{"$f":"DATAENTRY!V144","v":0},{"$f":"DATAENTRY!W144","v":0},{"$f":"DATAENTRY!X144","v":0},{"$f":"DATAENTRY!Y144","v":0},{"$f":"DATAENTRY!Z144","v":0},{"$f":"DATAENTRY!AA144","v":0},{"$f":"DATAENTRY!AB144","v":0},{"$f":"DATAENTRY!AC144","v":0},{"$f":"DATAENTRY!AD144","v":0},{"$f":"DATAENTRY!AE144","v":0},{"$f":"DATAENTRY!AF144","v":0},{"$f":"DATAENTRY!AG144","v":0},{"$f":"DATAENTRY!AH144","v":0},{"$f":"DATAENTRY!AI144","v":0},{"$f":"DATAENTRY!AJ144","v":0},{"$f":"DATAENTRY!AK144","v":0},{"$f":"DATAENTRY!AL144","v":0},{"$f":"DATAENTRY!AM144","v":0},{"$f":"DATAENTRY!AN144","v":0},{"$f":"DATAENTRY!AO144","v":0},{"$f":"DATAENTRY!AP144","v":0},{"$f":"DATAENTRY!AQ144","v":0},{"$f":"DATAENTRY!AR144","v":0},{"$f":"DATAENTRY!AS144","v":0},{"$f":"DATAENTRY!AT144","v":0},{"$f":"DATAENTRY!AU144","v":0},{"$f":"DATAENTRY!AV144","v":0},{"$f":"DATAENTRY!AW144","v":0},{"$f":"DATAENTRY!AX144","v":0},{"$f":"DATAENTRY!AY144","v":0},{"$f":"DATAENTRY!AZ144","v":0},{"$f":"DATAENTRY!BA144","v":0},{"$f":"DATAENTRY!BB144","v":0},{"$f":"DATAENTRY!BC144","v":0},{"$f":"DATAENTRY!BD144","v":0},{"$f":"DATAENTRY!BE144","v":0},{"$f":"DATAENTRY!BF144","v":0},{"$f":"DATAENTRY!BG144","v":0},{"$f":"DATAENTRY!BH144","v":""}]
[{"$f":"DATAENTRY!C145","v":0},{"$f":"DATAENTRY!D145","v":0},{"$f":"DATAENTRY!E145","v":0},{"$f":"DATAENTRY!F145","v":0},{"$f":"DATAENTRY!G145","v":0},{"$f":"DATAENTRY!H145","v":0},{"$f":"DATAENTRY!I145","v":0},{"$f":"DATAENTRY!J145","v":0},{"$f":"DATAENTRY!K145","v":0},{"$f":"DATAENTRY!L145","v":0},{"$f":"DATAENTRY!M145","v":0},{"$f":"DATAENTRY!N145","v":0},{"$f":"DATAENTRY!O145","v":0},{"$f":"DATAENTRY!P145","v":0},{"$f":"DATAENTRY!Q145","v":0},{"$f":"DATAENTRY!R145","v":0},{"$f":"DATAENTRY!S145","v":0},{"$f":"DATAENTRY!T145","v":0},{"$f":"DATAENTRY!U145","v":0},{"$f":"DATAENTRY!V145","v":0},{"$f":"DATAENTRY!W145","v":0},{"$f":"DATAENTRY!X145","v":0},{"$f":"DATAENTRY!Y145","v":0},{"$f":"DATAENTRY!Z145","v":0},{"$f":"DATAENTRY!AA145","v":0},{"$f":"DATAENTRY!AB145","v":0},{"$f":"DATAENTRY!AC145","v":0},{"$f":"DATAENTRY!AD145","v":0},{"$f":"DATAENTRY!AE145","v":0},{"$f":"DATAENTRY!AF145","v":0},{"$f":"DATAENTRY!AG145","v":0},{"$f":"DATAENTRY!AH145","v":0},{"$f":"DATAENTRY!AI145","v":0},{"$f":"DATAENTRY!AJ145","v":0},{"$f":"DATAENTRY!AK145","v":0},{"$f":"DATAENTRY!AL145","v":0},{"$f":"DATAENTRY!AM145","v":0},{"$f":"DATAENTRY!AN145","v":0},{"$f":"DATAENTRY!AO145","v":0},{"$f":"DATAENTRY!AP145","v":0},{"$f":"DATAENTRY!AQ145","v":0},{"$f":"DATAENTRY!AR145","v":0},{"$f":"DATAENTRY!AS145","v":0},{"$f":"DATAENTRY!AT145","v":0},{"$f":"DATAENTRY!AU145","v":0},{"$f":"DATAENTRY!AV145","v":0},{"$f":"DATAENTRY!AW145","v":0},{"$f":"DATAENTRY!AX145","v":0},{"$f":"DATAENTRY!AY145","v":0},{"$f":"DATAENTRY!AZ145","v":0},{"$f":"DATAENTRY!BA145","v":0},{"$f":"DATAENTRY!BB145","v":0},{"$f":"DATAENTRY!BC145","v":0},{"$f":"DATAENTRY!BD145","v":0},{"$f":"DATAENTRY!BE145","v":0},{"$f":"DATAENTRY!BF145","v":0},{"$f":"DATAENTRY!BG145","v":0},{"$f":"DATAENTRY!BH145","v":""}]
[{"$f":"DATAENTRY!C146","v":0},{"$f":"DATAENTRY!D146","v":0},{"$f":"DATAENTRY!E146","v":0},{"$f":"DATAENTRY!F146","v":0},{"$f":"DATAENTRY!G146","v":0},{"$f":"DATAENTRY!H146","v":0},{"$f":"DATAENTRY!I146","v":0},{"$f":"DATAENTRY!J146","v":0},{"$f":"DATAENTRY!K146","v":0},{"$f":"DATAENTRY!L146","v":0},{"$f":"DATAENTRY!M146","v":0},{"$f":"DATAENTRY!N146","v":0},{"$f":"DATAENTRY!O146","v":0},{"$f":"DATAENTRY!P146","v":0},{"$f":"DATAENTRY!Q146","v":0},{"$f":"DATAENTRY!R146","v":0},{"$f":"DATAENTRY!S146","v":0},{"$f":"DATAENTRY!T146","v":0},{"$f":"DATAENTRY!U146","v":0},{"$f":"DATAENTRY!V146","v":0},{"$f":"DATAENTRY!W146","v":0},{"$f":"DATAENTRY!X146","v":0},{"$f":"DATAENTRY!Y146","v":0},{"$f":"DATAENTRY!Z146","v":0},{"$f":"DATAENTRY!AA146","v":0},{"$f":"DATAENTRY!AB146","v":0},{"$f":"DATAENTRY!AC146","v":0},{"$f":"DATAENTRY!AD146","v":0},{"$f":"DATAENTRY!AE146","v":0},{"$f":"DATAENTRY!AF146","v":0},{"$f":"DATAENTRY!AG146","v":0},{"$f":"DATAENTRY!AH146","v":0},{"$f":"DATAENTRY!AI146","v":0},{"$f":"DATAENTRY!AJ146","v":0},{"$f":"DATAENTRY!AK146","v":0},{"$f":"DATAENTRY!AL146","v":0},{"$f":"DATAENTRY!AM146","v":0},{"$f":"DATAENTRY!AN146","v":0},{"$f":"DATAENTRY!AO146","v":0},{"$f":"DATAENTRY!AP146","v":0},{"$f":"DATAENTRY!AQ146","v":0},{"$f":"DATAENTRY!AR146","v":0},{"$f":"DATAENTRY!AS146","v":0},{"$f":"DATAENTRY!AT146","v":0},{"$f":"DATAENTRY!AU146","v":0},{"$f":"DATAENTRY!AV146","v":0},{"$f":"DATAENTRY!AW146","v":0},{"$f":"DATAENTRY!AX146","v":0},{"$f":"DATAENTRY!AY146","v":0},{"$f":"DATAENTRY!AZ146","v":0},{"$f":"DATAENTRY!BA146","v":0},{"$f":"DATAENTRY!BB146","v":0},{"$f":"DATAENTRY!BC146","v":0},{"$f":"DATAENTRY!BD146","v":0},{"$f":"DATAENTRY!BE146","v":0},{"$f":"DATAENTRY!BF146","v":0},{"$f":"DATAENTRY!BG146","v":0},{"$f":"DATAENTRY!BH146","v":""}]
[{"$f":"DATAENTRY!C147","v":0},{"$f":"DATAENTRY!D147","v":0},{"$f":"DATAENTRY!E147","v":0},{"$f":"DATAENTRY!F147","v":0},{"$f":"DATAENTRY!G147","v":0},{"$f":"DATAENTRY!H147","v":0},{"$f":"DATAENTRY!I147","v":0},{"$f":"DATAENTRY!J147","v":0},{"$f":"DATAENTRY!K147","v":0},{"$f":"DATAENTRY!L147","v":0},{"$f":"DATAENTRY!M147","v":0},{"$f":"DATAENTRY!N147","v":0},{"$f":"DATAENTRY!O147","v":0},{"$f":"DATAENTRY!P147","v":0},{"$f":"DATAENTRY!Q147","v":0},{"$f":"DATAENTRY!R147","v":0},{"$f":"DATAENTRY!S147","v":0},{"$f":"DATAENTRY!T147","v":0},{"$f":"DATAENTRY!U147","v":0},{"$f":"DATAENTRY!V147","v":0},{"$f":"DATAENTRY!W147","v":0},{"$f":"DATAENTRY!X147","v":0},{"$f":"DATAENTRY!Y147","v":0},{"$f":"DATAENTRY!Z147","v":0},{"$f":"DATAENTRY!AA147","v":0},{"$f":"DATAENTRY!AB147","v":0},{"$f":"DATAENTRY!AC147","v":0},{"$f":"DATAENTRY!AD147","v":0},{"$f":"DATAENTRY!AE147","v":0},{"$f":"DATAENTRY!AF147","v":0},{"$f":"DATAENTRY!AG147","v":0},{"$f":"DATAENTRY!AH147","v":0},{"$f":"DATAENTRY!AI147","v":0},{"$f":"DATAENTRY!AJ147","v":0},{"$f":"DATAENTRY!AK147","v":0},{"$f":"DATAENTRY!AL147","v":0},{"$f":"DATAENTRY!AM147","v":0},{"$f":"DATAENTRY!AN147","v":0},{"$f":"DATAENTRY!AO147","v":0},{"$f":"DATAENTRY!AP147","v":0},{"$f":"DATAENTRY!AQ147","v":0},{"$f":"DATAENTRY!AR147","v":0},{"$f":"DATAENTRY!AS147","v":0},{"$f":"DATAENTRY!AT147","v":0},{"$f":"DATAENTRY!AU147","v":0},{"$f":"DATAENTRY!AV147","v":0},{"$f":"DATAENTRY!AW147","v":0},{"$f":"DATAENTRY!AX147","v":0},{"$f":"DATAENTRY!AY147","v":0},{"$f":"DATAENTRY!AZ147","v":0},{"$f":"DATAENTRY!BA147","v":0},{"$f":"DATAENTRY!BB147","v":0},{"$f":"DATAENTRY!BC147","v":0},{"$f":"DATAENTRY!BD147","v":0},{"$f":"DATAENTRY!BE147","v":0},{"$f":"DATAENTRY!BF147","v":0},{"$f":"DATAENTRY!BG147","v":0},{"$f":"DATAENTRY!BH147","v":""}]
[{"$f":"DATAENTRY!C148","v":0},{"$f":"DATAENTRY!D148","v":0},{"$f":"DATAENTRY!E148","v":0},{"$f":"DATAENTRY!F148","v":0},{"$f":"DATAENTRY!G148","v":0},{"$f":"DATAENTRY!H148","v":0},{"$f":"DATAENTRY!I148","v":0},{"$f":"DATAENTRY!J148","v":0},{"$f":"DATAENTRY!K148","v":0},{"$f":"DATAENTRY!L148","v":0},{"$f":"DATAENTRY!M148","v":0},{"$f":"DATAENTRY!N148","v":0},{"$f":"DATAENTRY!O148","v":0},{"$f":"DATAENTRY!P148","v":0},{"$f":"DATAENTRY!Q148","v":0},{"$f":"DATAENTRY!R148","v":0},{"$f":"DATAENTRY!S148","v":0},{"$f":"DATAENTRY!T148","v":0},{"$f":"DATAENTRY!U148","v":0},{"$f":"DATAENTRY!V148","v":0},{"$f":"DATAENTRY!W148","v":0},{"$f":"DATAENTRY!X148","v":0},{"$f":"DATAENTRY!Y148","v":0},{"$f":"DATAENTRY!Z148","v":0},{"$f":"DATAENTRY!AA148","v":0},{"$f":"DATAENTRY!AB148","v":0},{"$f":"DATAENTRY!AC148","v":0},{"$f":"DATAENTRY!AD148","v":0},{"$f":"DATAENTRY!AE148","v":0},{"$f":"DATAENTRY!AF148","v":0},{"$f":"DATAENTRY!AG148","v":0},{"$f":"DATAENTRY!AH148","v":0},{"$f":"DATAENTRY!AI148","v":0},{"$f":"DATAENTRY!AJ148","v":0},{"$f":"DATAENTRY!AK148","v":0},{"$f":"DATAENTRY!AL148","v":0},{"$f":"DATAENTRY!AM148","v":0},{"$f":"DATAENTRY!AN148","v":0},{"$f":"DATAENTRY!AO148","v":0},{"$f":"DATAENTRY!AP148","v":0},{"$f":"DATAENTRY!AQ148","v":0},{"$f":"DATAENTRY!AR148","v":0},{"$f":"DATAENTRY!AS148","v":0},{"$f":"DATAENTRY!AT148","v":0},{"$f":"DATAENTRY!AU148","v":0},{"$f":"DATAENTRY!AV148","v":0},{"$f":"DATAENTRY!AW148","v":0},{"$f":"DATAENTRY!AX148","v":0},{"$f":"DATAENTRY!AY148","v":0},{"$f":"DATAENTRY!AZ148","v":0},{"$f":"DATAENTRY!BA148","v":0},{"$f":"DATAENTRY!BB148","v":0},{"$f":"DATAENTRY!BC148","v":0},{"$f":"DATAENTRY!BD148","v":0},{"$f":"DATAENTRY!BE148","v":0},{"$f":"DATAENTRY!BF148","v":0},{"$f":"DATAENTRY!BG148","v":0},{"$f":"DATAENTRY!BH148","v":""}]
[{"$f":"DATAENTRY!C149","v":0},{"$f":"DATAENTRY!D149","v":0},{"$f":"DATAENTRY!E149","v":0},{"$f":"DATAENTRY!F149","v":0},{"$f":"DATAENTRY!G149","v":0},{"$f":"DATAENTRY!H149","v":0},{"$f":"DATAENTRY!I149","v":0},{"$f":"DATAENTRY!J149","v":0},{"$f":"DATAENTRY!K149","v":0},{"$f":"DATAENTRY!L149","v":0},{"$f":"DATAENTRY!M149","v":0},{"$f":"DATAENTRY!N149","v":0},{"$f":"DATAENTRY!O149","v":0},{"$f":"DATAENTRY!P149","v":0},{"$f":"DATAENTRY!Q149","v":0},{"$f":"DATAENTRY!R149","v":0},{"$f":"DATAENTRY!S149","v":0},{"$f":"DATAENTRY!T149","v":0},{"$f":"DATAENTRY!U149","v":0},{"$f":"DATAENTRY!V149","v":0},{"$f":"DATAENTRY!W149","v":0},{"$f":"DATAENTRY!X149","v":0},{"$f":"DATAENTRY!Y149","v":0},{"$f":"DATAENTRY!Z149","v":0},{"$f":"DATAENTRY!AA149","v":0},{"$f":"DATAENTRY!AB149","v":0},{"$f":"DATAENTRY!AC149","v":0},{"$f":"DATAENTRY!AD149","v":0},{"$f":"DATAENTRY!AE149","v":0},{"$f":"DATAENTRY!AF149","v":0},{"$f":"DATAENTRY!AG149","v":0},{"$f":"DATAENTRY!AH149","v":0},{"$f":"DATAENTRY!AI149","v":0},{"$f":"DATAENTRY!AJ149","v":0},{"$f":"DATAENTRY!AK149","v":0},{"$f":"DATAENTRY!AL149","v":0},{"$f":"DATAENTRY!AM149","v":0},{"$f":"DATAENTRY!AN149","v":0},{"$f":"DATAENTRY!AO149","v":0},{"$f":"DATAENTRY!AP149","v":0},{"$f":"DATAENTRY!AQ149","v":0},{"$f":"DATAENTRY!AR149","v":0},{"$f":"DATAENTRY!AS149","v":0},{"$f":"DATAENTRY!AT149","v":0},{"$f":"DATAENTRY!AU149","v":0},{"$f":"DATAENTRY!AV149","v":0},{"$f":"DATAENTRY!AW149","v":0},{"$f":"DATAENTRY!AX149","v":0},{"$f":"DATAENTRY!AY149","v":0},{"$f":"DATAENTRY!AZ149","v":0},{"$f":"DATAENTRY!BA149","v":0},{"$f":"DATAENTRY!BB149","v":0},{"$f":"DATAENTRY!BC149","v":0},{"$f":"DATAENTRY!BD149","v":0},{"$f":"DATAENTRY!BE149","v":0},{"$f":"DATAENTRY!BF149","v":0},{"$f":"DATAENTRY!BG149","v":0},{"$f":"DATAENTRY!BH149","v":""}]
[{"$f":"DATAENTRY!C150","v":0},{"$f":"DATAENTRY!D150","v":0},{"$f":"DATAENTRY!E150","v":0},{"$f":"DATAENTRY!F150","v":0},{"$f":"DATAENTRY!G150","v":0},{"$f":"DATAENTRY!H150","v":0},{"$f":"DATAENTRY!I150","v":0},{"$f":"DATAENTRY!J150","v":0},{"$f":"DATAENTRY!K150","v":0},{"$f":"DATAENTRY!L150","v":0},{"$f":"DATAENTRY!M150","v":0},{"$f":"DATAENTRY!N150","v":0},{"$f":"DATAENTRY!O150","v":0},{"$f":"DATAENTRY!P150","v":0},{"$f":"DATAENTRY!Q150","v":0},{"$f":"DATAENTRY!R150","v":0},{"$f":"DATAENTRY!S150","v":0},{"$f":"DATAENTRY!T150","v":0},{"$f":"DATAENTRY!U150","v":0},{"$f":"DATAENTRY!V150","v":0},{"$f":"DATAENTRY!W150","v":0},{"$f":"DATAENTRY!X150","v":0},{"$f":"DATAENTRY!Y150","v":0},{"$f":"DATAENTRY!Z150","v":0},{"$f":"DATAENTRY!AA150","v":0},{"$f":"DATAENTRY!AB150","v":0},{"$f":"DATAENTRY!AC150","v":0},{"$f":"DATAENTRY!AD150","v":0},{"$f":"DATAENTRY!AE150","v":0},{"$f":"DATAENTRY!AF150","v":0},{"$f":"DATAENTRY!AG150","v":0},{"$f":"DATAENTRY!AH150","v":0},{"$f":"DATAENTRY!AI150","v":0},{"$f":"DATAENTRY!AJ150","v":0},{"$f":"DATAENTRY!AK150","v":0},{"$f":"DATAENTRY!AL150","v":0},{"$f":"DATAENTRY!AM150","v":0},{"$f":"DATAENTRY!AN150","v":0},{"$f":"DATAENTRY!AO150","v":0},{"$f":"DATAENTRY!AP150","v":0},{"$f":"DATAENTRY!AQ150","v":0},{"$f":"DATAENTRY!AR150","v":0},{"$f":"DATAENTRY!AS150","v":0},{"$f":"DATAENTRY!AT150","v":0},{"$f":"DATAENTRY!AU150","v":0},{"$f":"DATAENTRY!AV150","v":0},{"$f":"DATAENTRY!AW150","v":0},{"$f":"DATAENTRY!AX150","v":0},{"$f":"DATAENTRY!AY150","v":0},{"$f":"DATAENTRY!AZ150","v":0},{"$f":"DATAENTRY!BA150","v":0},{"$f":"DATAENTRY!BB150","v":0},{"$f":"DATAENTRY!BC150","v":0},{"$f":"DATAENTRY!BD150","v":0},{"$f":"DATAENTRY!BE150","v":0},{"$f":"DATAENTRY!BF150","v":0},{"$f":"DATAENTRY!BG150","v":0},{"$f":"DATAENTRY!BH150","v":""}]
[{"$f":"DATAENTRY!C151","v":0},{"$f":"DATAENTRY!D151","v":0},{"$f":"DATAENTRY!E151","v":0},{"$f":"DATAENTRY!F151","v":0},{"$f":"DATAENTRY!G151","v":0},{"$f":"DATAENTRY!H151","v":0},{"$f":"DATAENTRY!I151","v":0},{"$f":"DATAENTRY!J151","v":0},{"$f":"DATAENTRY!K151","v":0},{"$f":"DATAENTRY!L151","v":0},{"$f":"DATAENTRY!M151","v":0},{"$f":"DATAENTRY!N151","v":0},{"$f":"DATAENTRY!O151","v":0},{"$f":"DATAENTRY!P151","v":0},{"$f":"DATAENTRY!Q151","v":0},{"$f":"DATAENTRY!R151","v":0},{"$f":"DATAENTRY!S151","v":0},{"$f":"DATAENTRY!T151","v":0},{"$f":"DATAENTRY!U151","v":0},{"$f":"DATAENTRY!V151","v":0},{"$f":"DATAENTRY!W151","v":0},{"$f":"DATAENTRY!X151","v":0},{"$f":"DATAENTRY!Y151","v":0},{"$f":"DATAENTRY!Z151","v":0},{"$f":"DATAENTRY!AA151","v":0},{"$f":"DATAENTRY!AB151","v":0},{"$f":"DATAENTRY!AC151","v":0},{"$f":"DATAENTRY!AD151","v":0},{"$f":"DATAENTRY!AE151","v":0},{"$f":"DATAENTRY!AF151","v":0},{"$f":"DATAENTRY!AG151","v":0},{"$f":"DATAENTRY!AH151","v":0},{"$f":"DATAENTRY!AI151","v":0},{"$f":"DATAENTRY!AJ151","v":0},{"$f":"DATAENTRY!AK151","v":0},{"$f":"DATAENTRY!AL151","v":0},{"$f":"DATAENTRY!AM151","v":0},{"$f":"DATAENTRY!AN151","v":0},{"$f":"DATAENTRY!AO151","v":0},{"$f":"DATAENTRY!AP151","v":0},{"$f":"DATAENTRY!AQ151","v":0},{"$f":"DATAENTRY!AR151","v":0},{"$f":"DATAENTRY!AS151","v":0},{"$f":"DATAENTRY!AT151","v":0},{"$f":"DATAENTRY!AU151","v":0},{"$f":"DATAENTRY!AV151","v":0},{"$f":"DATAENTRY!AW151","v":0},{"$f":"DATAENTRY!AX151","v":0},{"$f":"DATAENTRY!AY151","v":0},{"$f":"DATAENTRY!AZ151","v":0},{"$f":"DATAENTRY!BA151","v":0},{"$f":"DATAENTRY!BB151","v":0},{"$f":"DATAENTRY!BC151","v":0},{"$f":"DATAENTRY!BD151","v":0},{"$f":"DATAENTRY!BE151","v":0},{"$f":"DATAENTRY!BF151","v":0},{"$f":"DATAENTRY!BG151","v":0},{"$f":"DATAENTRY!BH151","v":""}]
[{"$f":"DATAENTRY!C152","v":0},{"$f":"DATAENTRY!D152","v":0},{"$f":"DATAENTRY!E152","v":0},{"$f":"DATAENTRY!F152","v":0},{"$f":"DATAENTRY!G152","v":0},{"$f":"DATAENTRY!H152","v":0},{"$f":"DATAENTRY!I152","v":0},{"$f":"DATAENTRY!J152","v":0},{"$f":"DATAENTRY!K152","v":0},{"$f":"DATAENTRY!L152","v":0},{"$f":"DATAENTRY!M152","v":0},{"$f":"DATAENTRY!N152","v":0},{"$f":"DATAENTRY!O152","v":0},{"$f":"DATAENTRY!P152","v":0},{"$f":"DATAENTRY!Q152","v":0},{"$f":"DATAENTRY!R152","v":0},{"$f":"DATAENTRY!S152","v":0},{"$f":"DATAENTRY!T152","v":0},{"$f":"DATAENTRY!U152","v":0},{"$f":"DATAENTRY!V152","v":0},{"$f":"DATAENTRY!W152","v":0},{"$f":"DATAENTRY!X152","v":0},{"$f":"DATAENTRY!Y152","v":0},{"$f":"DATAENTRY!Z152","v":0},{"$f":"DATAENTRY!AA152","v":0},{"$f":"DATAENTRY!AB152","v":0},{"$f":"DATAENTRY!AC152","v":0},{"$f":"DATAENTRY!AD152","v":0},{"$f":"DATAENTRY!AE152","v":0},{"$f":"DATAENTRY!AF152","v":0},{"$f":"DATAENTRY!AG152","v":0},{"$f":"DATAENTRY!AH152","v":0},{"$f":"DATAENTRY!AI152","v":0},{"$f":"DATAENTRY!AJ152","v":0},{"$f":"DATAENTRY!AK152","v":0},{"$f":"DATAENTRY!AL152","v":0},{"$f":"DATAENTRY!AM152","v":0},{"$f":"DATAENTRY!AN152","v":0},{"$f":"DATAENTRY!AO152","v":0},{"$f":"DATAENTRY!AP152","v":0},{"$f":"DATAENTRY!AQ152","v":0},{"$f":"DATAENTRY!AR152","v":0},{"$f":"DATAENTRY!AS152","v":0},{"$f":"DATAENTRY!AT152","v":0},{"$f":"DATAENTRY!AU152","v":0},{"$f":"DATAENTRY!AV152","v":0},{"$f":"DATAENTRY!AW152","v":0},{"$f":"DATAENTRY!AX152","v":0},{"$f":"DATAENTRY!AY152","v":0},{"$f":"DATAENTRY!AZ152","v":0},{"$f":"DATAENTRY!BA152","v":0},{"$f":"DATAENTRY!BB152","v":0},{"$f":"DATAENTRY!BC152","v":0},{"$f":"DATAENTRY!BD152","v":0},{"$f":"DATAENTRY!BE152","v":0},{"$f":"DATAENTRY!BF152","v":0},{"$f":"DATAENTRY!BG152","v":0},{"$f":"DATAENTRY!BH152","v":""}]
[{"$f":"DATAENTRY!C153","v":0},{"$f":"DATAENTRY!D153","v":0},{"$f":"DATAENTRY!E153","v":0},{"$f":"DATAENTRY!F153","v":0},{"$f":"DATAENTRY!G153","v":0},{"$f":"DATAENTRY!H153","v":0},{"$f":"DATAENTRY!I153","v":0},{"$f":"DATAENTRY!J153","v":0},{"$f":"DATAENTRY!K153","v":0},{"$f":"DATAENTRY!L153","v":0},{"$f":"DATAENTRY!M153","v":0},{"$f":"DATAENTRY!N153","v":0},{"$f":"DATAENTRY!O153","v":0},{"$f":"DATAENTRY!P153","v":0},{"$f":"DATAENTRY!Q153","v":0},{"$f":"DATAENTRY!R153","v":0},{"$f":"DATAENTRY!S153","v":0},{"$f":"DATAENTRY!T153","v":0},{"$f":"DATAENTRY!U153","v":0},{"$f":"DATAENTRY!V153","v":0},{"$f":"DATAENTRY!W153","v":0},{"$f":"DATAENTRY!X153","v":0},{"$f":"DATAENTRY!Y153","v":0},{"$f":"DATAENTRY!Z153","v":0},{"$f":"DATAENTRY!AA153","v":0},{"$f":"DATAENTRY!AB153","v":0},{"$f":"DATAENTRY!AC153","v":0},{"$f":"DATAENTRY!AD153","v":0},{"$f":"DATAENTRY!AE153","v":0},{"$f":"DATAENTRY!AF153","v":0},{"$f":"DATAENTRY!AG153","v":0},{"$f":"DATAENTRY!AH153","v":0},{"$f":"DATAENTRY!AI153","v":0},{"$f":"DATAENTRY!AJ153","v":0},{"$f":"DATAENTRY!AK153","v":0},{"$f":"DATAENTRY!AL153","v":0},{"$f":"DATAENTRY!AM153","v":0},{"$f":"DATAENTRY!AN153","v":0},{"$f":"DATAENTRY!AO153","v":0},{"$f":"DATAENTRY!AP153","v":0},{"$f":"DATAENTRY!AQ153","v":0},{"$f":"DATAENTRY!AR153","v":0},{"$f":"DATAENTRY!AS153","v":0},{"$f":"DATAENTRY!AT153","v":0},{"$f":"DATAENTRY!AU153","v":0},{"$f":"DATAENTRY!AV153","v":0},{"$f":"DATAENTRY!AW153","v":0},{"$f":"DATAENTRY!AX153","v":0},{"$f":"DATAENTRY!AY153","v":0},{"$f":"DATAENTRY!AZ153","v":0},{"$f":"DATAENTRY!BA153","v":0},{"$f":"DATAENTRY!BB153","v":0},{"$f":"DATAENTRY!BC153","v":0},{"$f":"DATAENTRY!BD153","v":0},{"$f":"DATAENTRY!BE153","v":0},{"$f":"DATAENTRY!BF153","v":0},{"$f":"DATAENTRY!BG153","v":0},{"$f":"DATAENTRY!BH153","v":""}]
[{"$f":"DATAENTRY!C154","v":0},{"$f":"DATAENTRY!D154","v":0},{"$f":"DATAENTRY!E154","v":0},{"$f":"DATAENTRY!F154","v":0},{"$f":"DATAENTRY!G154","v":0},{"$f":"DATAENTRY!H154","v":0},{"$f":"DATAENTRY!I154","v":0},{"$f":"DATAENTRY!J154","v":0},{"$f":"DATAENTRY!K154","v":0},{"$f":"DATAENTRY!L154","v":0},{"$f":"DATAENTRY!M154","v":0},{"$f":"DATAENTRY!N154","v":0},{"$f":"DATAENTRY!O154","v":0},{"$f":"DATAENTRY!P154","v":0},{"$f":"DATAENTRY!Q154","v":0},{"$f":"DATAENTRY!R154","v":0},{"$f":"DATAENTRY!S154","v":0},{"$f":"DATAENTRY!T154","v":0},{"$f":"DATAENTRY!U154","v":0},{"$f":"DATAENTRY!V154","v":0},{"$f":"DATAENTRY!W154","v":0},{"$f":"DATAENTRY!X154","v":0},{"$f":"DATAENTRY!Y154","v":0},{"$f":"DATAENTRY!Z154","v":0},{"$f":"DATAENTRY!AA154","v":0},{"$f":"DATAENTRY!AB154","v":0},{"$f":"DATAENTRY!AC154","v":0},{"$f":"DATAENTRY!AD154","v":0},{"$f":"DATAENTRY!AE154","v":0},{"$f":"DATAENTRY!AF154","v":0},{"$f":"DATAENTRY!AG154","v":0},{"$f":"DATAENTRY!AH154","v":0},{"$f":"DATAENTRY!AI154","v":0},{"$f":"DATAENTRY!AJ154","v":0},{"$f":"DATAENTRY!AK154","v":0},{"$f":"DATAENTRY!AL154","v":0},{"$f":"DATAENTRY!AM154","v":0},{"$f":"DATAENTRY!AN154","v":0},{"$f":"DATAENTRY!AO154","v":0},{"$f":"DATAENTRY!AP154","v":0},{"$f":"DATAENTRY!AQ154","v":0},{"$f":"DATAENTRY!AR154","v":0},{"$f":"DATAENTRY!AS154","v":0},{"$f":"DATAENTRY!AT154","v":0},{"$f":"DATAENTRY!AU154","v":0},{"$f":"DATAENTRY!AV154","v":0},{"$f":"DATAENTRY!AW154","v":0},{"$f":"DATAENTRY!AX154","v":0},{"$f":"DATAENTRY!AY154","v":0},{"$f":"DATAENTRY!AZ154","v":0},{"$f":"DATAENTRY!BA154","v":0},{"$f":"DATAENTRY!BB154","v":0},{"$f":"DATAENTRY!BC154","v":0},{"$f":"DATAENTRY!BD154","v":0},{"$f":"DATAENTRY!BE154","v":0},{"$f":"DATAENTRY!BF154","v":0},{"$f":"DATAENTRY!BG154","v":0},{"$f":"DATAENTRY!BH154","v":""}]
[{"$f":"DATAENTRY!C155","v":0},{"$f":"DATAENTRY!D155","v":0},{"$f":"DATAENTRY!E155","v":0},{"$f":"DATAENTRY!F155","v":0},{"$f":"DATAENTRY!G155","v":0},{"$f":"DATAENTRY!H155","v":0},{"$f":"DATAENTRY!I155","v":0},{"$f":"DATAENTRY!J155","v":0},{"$f":"DATAENTRY!K155","v":0},{"$f":"DATAENTRY!L155","v":0},{"$f":"DATAENTRY!M155","v":0},{"$f":"DATAENTRY!N155","v":0},{"$f":"DATAENTRY!O155","v":0},{"$f":"DATAENTRY!P155","v":0},{"$f":"DATAENTRY!Q155","v":0},{"$f":"DATAENTRY!R155","v":0},{"$f":"DATAENTRY!S155","v":0},{"$f":"DATAENTRY!T155","v":0},{"$f":"DATAENTRY!U155","v":0},{"$f":"DATAENTRY!V155","v":0},{"$f":"DATAENTRY!W155","v":0},{"$f":"DATAENTRY!X155","v":0},{"$f":"DATAENTRY!Y155","v":0},{"$f":"DATAENTRY!Z155","v":0},{"$f":"DATAENTRY!AA155","v":0},{"$f":"DATAENTRY!AB155","v":0},{"$f":"DATAENTRY!AC155","v":0},{"$f":"DATAENTRY!AD155","v":0},{"$f":"DATAENTRY!AE155","v":0},{"$f":"DATAENTRY!AF155","v":0},{"$f":"DATAENTRY!AG155","v":0},{"$f":"DATAENTRY!AH155","v":0},{"$f":"DATAENTRY!AI155","v":0},{"$f":"DATAENTRY!AJ155","v":0},{"$f":"DATAENTRY!AK155","v":0},{"$f":"DATAENTRY!AL155","v":0},{"$f":"DATAENTRY!AM155","v":0},{"$f":"DATAENTRY!AN155","v":0},{"$f":"DATAENTRY!AO155","v":0},{"$f":"DATAENTRY!AP155","v":0},{"$f":"DATAENTRY!AQ155","v":0},{"$f":"DATAENTRY!AR155","v":0},{"$f":"DATAENTRY!AS155","v":0},{"$f":"DATAENTRY!AT155","v":0},{"$f":"DATAENTRY!AU155","v":0},{"$f":"DATAENTRY!AV155","v":0},{"$f":"DATAENTRY!AW155","v":0},{"$f":"DATAENTRY!AX155","v":0},{"$f":"DATAENTRY!AY155","v":0},{"$f":"DATAENTRY!AZ155","v":0},{"$f":"DATAENTRY!BA155","v":0},{"$f":"DATAENTRY!BB155","v":0},{"$f":"DATAENTRY!BC155","v":0},{"$f":"DATAENTRY!BD155","v":0},{"$f":"DATAENTRY!BE155","v":0},{"$f":"DATAENTRY!BF155","v":0},{"$f":"DATAENTRY!BG155","v":0},{"$f":"DATAENTRY!BH155","v":""}]
[{"$f":"DATAENTRY!C156","v":0},{"$f":"DATAENTRY!D156","v":0},{"$f":"DATAENTRY!E156","v":0},{"$f":"DATAENTRY!F156","v":0},{"$f":"DATAENTRY!G156","v":0},{"$f":"DATAENTRY!H156","v":0},{"$f":"DATAENTRY!I156","v":0},{"$f":"DATAENTRY!J156","v":0},{"$f":"DATAENTRY!K156","v":0},{"$f":"DATAENTRY!L156","v":0},{"$f":"DATAENTRY!M156","v":0},{"$f":"DATAENTRY!N156","v":0},{"$f":"DATAENTRY!O156","v":0},{"$f":"DATAENTRY!P156","v":0},{"$f":"DATAENTRY!Q156","v":0},{"$f":"DATAENTRY!R156","v":0},{"$f":"DATAENTRY!S156","v":0},{"$f":"DATAENTRY!T156","v":0},{"$f":"DATAENTRY!U156","v":0},{"$f":"DATAENTRY!V156","v":0},{"$f":"DATAENTRY!W156","v":0},{"$f":"DATAENTRY!X156","v":0},{"$f":"DATAENTRY!Y156","v":0},{"$f":"DATAENTRY!Z156","v":0},{"$f":"DATAENTRY!AA156","v":0},{"$f":"DATAENTRY!AB156","v":0},{"$f":"DATAENTRY!AC156","v":0},{"$f":"DATAENTRY!AD156","v":0},{"$f":"DATAENTRY!AE156","v":0},{"$f":"DATAENTRY!AF156","v":0},{"$f":"DATAENTRY!AG156","v":0},{"$f":"DATAENTRY!AH156","v":0},{"$f":"DATAENTRY!AI156","v":0},{"$f":"DATAENTRY!AJ156","v":0},{"$f":"DATAENTRY!AK156","v":0},{"$f":"DATAENTRY!AL156","v":0},{"$f":"DATAENTRY!AM156","v":0},{"$f":"DATAENTRY!AN156","v":0},{"$f":"DATAENTRY!AO156","v":0},{"$f":"DATAENTRY!AP156","v":0},{"$f":"DATAENTRY!AQ156","v":0},{"$f":"DATAENTRY!AR156","v":0},{"$f":"DATAENTRY!AS156","v":0},{"$f":"DATAENTRY!AT156","v":0},{"$f":"DATAENTRY!AU156","v":0},{"$f":"DATAENTRY!AV156","v":0},{"$f":"DATAENTRY!AW156","v":0},{"$f":"DATAENTRY!AX156","v":0},{"$f":"DATAENTRY!AY156","v":0},{"$f":"DATAENTRY!AZ156","v":0},{"$f":"DATAENTRY!BA156","v":0},{"$f":"DATAENTRY!BB156","v":0},{"$f":"DATAENTRY!BC156","v":0},{"$f":"DATAENTRY!BD156","v":0},{"$f":"DATAENTRY!BE156","v":0},{"$f":"DATAENTRY!BF156","v":0},{"$f":"DATAENTRY!BG156","v":0},{"$f":"DATAENTRY!BH156","v":""}]
[{"$f":"DATAENTRY!C157","v":0},{"$f":"DATAENTRY!D157","v":0},{"$f":"DATAENTRY!E157","v":0},{"$f":"DATAENTRY!F157","v":0},{"$f":"DATAENTRY!G157","v":0},{"$f":"DATAENTRY!H157","v":0},{"$f":"DATAENTRY!I157","v":0},{"$f":"DATAENTRY!J157","v":0},{"$f":"DATAENTRY!K157","v":0},{"$f":"DATAENTRY!L157","v":0},{"$f":"DATAENTRY!M157","v":0},{"$f":"DATAENTRY!N157","v":0},{"$f":"DATAENTRY!O157","v":0},{"$f":"DATAENTRY!P157","v":0},{"$f":"DATAENTRY!Q157","v":0},{"$f":"DATAENTRY!R157","v":0},{"$f":"DATAENTRY!S157","v":0},{"$f":"DATAENTRY!T157","v":0},{"$f":"DATAENTRY!U157","v":0},{"$f":"DATAENTRY!V157","v":0},{"$f":"DATAENTRY!W157","v":0},{"$f":"DATAENTRY!X157","v":0},{"$f":"DATAENTRY!Y157","v":0},{"$f":"DATAENTRY!Z157","v":0},{"$f":"DATAENTRY!AA157","v":0},{"$f":"DATAENTRY!AB157","v":0},{"$f":"DATAENTRY!AC157","v":0},{"$f":"DATAENTRY!AD157","v":0},{"$f":"DATAENTRY!AE157","v":0},{"$f":"DATAENTRY!AF157","v":0},{"$f":"DATAENTRY!AG157","v":0},{"$f":"DATAENTRY!AH157","v":0},{"$f":"DATAENTRY!AI157","v":0},{"$f":"DATAENTRY!AJ157","v":0},{"$f":"DATAENTRY!AK157","v":0},{"$f":"DATAENTRY!AL157","v":0},{"$f":"DATAENTRY!AM157","v":0},{"$f":"DATAENTRY!AN157","v":0},{"$f":"DATAENTRY!AO157","v":0},{"$f":"DATAENTRY!AP157","v":0},{"$f":"DATAENTRY!AQ157","v":0},{"$f":"DATAENTRY!AR157","v":0},{"$f":"DATAENTRY!AS157","v":0},{"$f":"DATAENTRY!AT157","v":0},{"$f":"DATAENTRY!AU157","v":0},{"$f":"DATAENTRY!AV157","v":0},{"$f":"DATAENTRY!AW157","v":0},{"$f":"DATAENTRY!AX157","v":0},{"$f":"DATAENTRY!AY157","v":0},{"$f":"DATAENTRY!AZ157","v":0},{"$f":"DATAENTRY!BA157","v":0},{"$f":"DATAENTRY!BB157","v":0},{"$f":"DATAENTRY!BC157","v":0},{"$f":"DATAENTRY!BD157","v":0},{"$f":"DATAENTRY!BE157","v":0},{"$f":"DATAENTRY!BF157","v":0},{"$f":"DATAENTRY!BG157","v":0},{"$f":"DATAENTRY!BH157","v":""}]
[{"$f":"DATAENTRY!C158","v":0},{"$f":"DATAENTRY!D158","v":0},{"$f":"DATAENTRY!E158","v":0},{"$f":"DATAENTRY!F158","v":0},{"$f":"DATAENTRY!G158","v":0},{"$f":"DATAENTRY!H158","v":0},{"$f":"DATAENTRY!I158","v":0},{"$f":"DATAENTRY!J158","v":0},{"$f":"DATAENTRY!K158","v":0},{"$f":"DATAENTRY!L158","v":0},{"$f":"DATAENTRY!M158","v":0},{"$f":"DATAENTRY!N158","v":0},{"$f":"DATAENTRY!O158","v":0},{"$f":"DATAENTRY!P158","v":0},{"$f":"DATAENTRY!Q158","v":0},{"$f":"DATAENTRY!R158","v":0},{"$f":"DATAENTRY!S158","v":0},{"$f":"DATAENTRY!T158","v":0},{"$f":"DATAENTRY!U158","v":0},{"$f":"DATAENTRY!V158","v":0},{"$f":"DATAENTRY!W158","v":0},{"$f":"DATAENTRY!X158","v":0},{"$f":"DATAENTRY!Y158","v":0},{"$f":"DATAENTRY!Z158","v":0},{"$f":"DATAENTRY!AA158","v":0},{"$f":"DATAENTRY!AB158","v":0},{"$f":"DATAENTRY!AC158","v":0},{"$f":"DATAENTRY!AD158","v":0},{"$f":"DATAENTRY!AE158","v":0},{"$f":"DATAENTRY!AF158","v":0},{"$f":"DATAENTRY!AG158","v":0},{"$f":"DATAENTRY!AH158","v":0},{"$f":"DATAENTRY!AI158","v":0},{"$f":"DATAENTRY!AJ158","v":0},{"$f":"DATAENTRY!AK158","v":0},{"$f":"DATAENTRY!AL158","v":0},{"$f":"DATAENTRY!AM158","v":0},{"$f":"DATAENTRY!AN158","v":0},{"$f":"DATAENTRY!AO158","v":0},{"$f":"DATAENTRY!AP158","v":0},{"$f":"DATAENTRY!AQ158","v":0},{"$f":"DATAENTRY!AR158","v":0},{"$f":"DATAENTRY!AS158","v":0},{"$f":"DATAENTRY!AT158","v":0},{"$f":"DATAENTRY!AU158","v":0},{"$f":"DATAENTRY!AV158","v":0},{"$f":"DATAENTRY!AW158","v":0},{"$f":"DATAENTRY!AX158","v":0},{"$f":"DATAENTRY!AY158","v":0},{"$f":"DATAENTRY!AZ158","v":0},{"$f":"DATAENTRY!BA158","v":0},{"$f":"DATAENTRY!BB158","v":0},{"$f":"DATAENTRY!BC158","v":0},{"$f":"DATAENTRY!BD158","v":0},{"$f":"DATAENTRY!BE158","v":0},{"$f":"DATAENTRY!BF158","v":0},{"$f":"DATAENTRY!BG158","v":0},{"$f":"DATAENTRY!BH158","v":""}]
[{"$f":"DATAENTRY!C159","v":0},{"$f":"DATAENTRY!D159","v":0},{"$f":"DATAENTRY!E159","v":0},{"$f":"DATAENTRY!F159","v":0},{"$f":"DATAENTRY!G159","v":0},{"$f":"DATAENTRY!H159","v":0},{"$f":"DATAENTRY!I159","v":0},{"$f":"DATAENTRY!J159","v":0},{"$f":"DATAENTRY!K159","v":0},{"$f":"DATAENTRY!L159","v":0},{"$f":"DATAENTRY!M159","v":0},{"$f":"DATAENTRY!N159","v":0},{"$f":"DATAENTRY!O159","v":0},{"$f":"DATAENTRY!P159","v":0},{"$f":"DATAENTRY!Q159","v":0},{"$f":"DATAENTRY!R159","v":0},{"$f":"DATAENTRY!S159","v":0},{"$f":"DATAENTRY!T159","v":0},{"$f":"DATAENTRY!U159","v":0},{"$f":"DATAENTRY!V159","v":0},{"$f":"DATAENTRY!W159","v":0},{"$f":"DATAENTRY!X159","v":0},{"$f":"DATAENTRY!Y159","v":0},{"$f":"DATAENTRY!Z159","v":0},{"$f":"DATAENTRY!AA159","v":0},{"$f":"DATAENTRY!AB159","v":0},{"$f":"DATAENTRY!AC159","v":0},{"$f":"DATAENTRY!AD159","v":0},{"$f":"DATAENTRY!AE159","v":0},{"$f":"DATAENTRY!AF159","v":0},{"$f":"DATAENTRY!AG159","v":0},{"$f":"DATAENTRY!AH159","v":0},{"$f":"DATAENTRY!AI159","v":0},{"$f":"DATAENTRY!AJ159","v":0},{"$f":"DATAENTRY!AK159","v":0},{"$f":"DATAENTRY!AL159","v":0},{"$f":"DATAENTRY!AM159","v":0},{"$f":"DATAENTRY!AN159","v":0},{"$f":"DATAENTRY!AO159","v":0},{"$f":"DATAENTRY!AP159","v":0},{"$f":"DATAENTRY!AQ159","v":0},{"$f":"DATAENTRY!AR159","v":0},{"$f":"DATAENTRY!AS159","v":0},{"$f":"DATAENTRY!AT159","v":0},{"$f":"DATAENTRY!AU159","v":0},{"$f":"DATAENTRY!AV159","v":0},{"$f":"DATAENTRY!AW159","v":0},{"$f":"DATAENTRY!AX159","v":0},{"$f":"DATAENTRY!AY159","v":0},{"$f":"DATAENTRY!AZ159","v":0},{"$f":"DATAENTRY!BA159","v":0},{"$f":"DATAENTRY!BB159","v":0},{"$f":"DATAENTRY!BC159","v":0},{"$f":"DATAENTRY!BD159","v":0},{"$f":"DATAENTRY!BE159","v":0},{"$f":"DATAENTRY!BF159","v":0},{"$f":"DATAENTRY!BG159","v":0},{"$f":"DATAENTRY!BH159","v":""}]
[{"$f":"DATAENTRY!C160","v":0},{"$f":"DATAENTRY!D160","v":0},{"$f":"DATAENTRY!E160","v":0},{"$f":"DATAENTRY!F160","v":0},{"$f":"DATAENTRY!G160","v":0},{"$f":"DATAENTRY!H160","v":0},{"$f":"DATAENTRY!I160","v":0},{"$f":"DATAENTRY!J160","v":0},{"$f":"DATAENTRY!K160","v":0},{"$f":"DATAENTRY!L160","v":0},{"$f":"DATAENTRY!M160","v":0},{"$f":"DATAENTRY!N160","v":0},{"$f":"DATAENTRY!O160","v":0},{"$f":"DATAENTRY!P160","v":0},{"$f":"DATAENTRY!Q160","v":0},{"$f":"DATAENTRY!R160","v":0},{"$f":"DATAENTRY!S160","v":0},{"$f":"DATAENTRY!T160","v":0},{"$f":"DATAENTRY!U160","v":0},{"$f":"DATAENTRY!V160","v":0},{"$f":"DATAENTRY!W160","v":0},{"$f":"DATAENTRY!X160","v":0},{"$f":"DATAENTRY!Y160","v":0},{"$f":"DATAENTRY!Z160","v":0},{"$f":"DATAENTRY!AA160","v":0},{"$f":"DATAENTRY!AB160","v":0},{"$f":"DATAENTRY!AC160","v":0},{"$f":"DATAENTRY!AD160","v":0},{"$f":"DATAENTRY!AE160","v":0},{"$f":"DATAENTRY!AF160","v":0},{"$f":"DATAENTRY!AG160","v":0},{"$f":"DATAENTRY!AH160","v":0},{"$f":"DATAENTRY!AI160","v":0},{"$f":"DATAENTRY!AJ160","v":0},{"$f":"DATAENTRY!AK160","v":0},{"$f":"DATAENTRY!AL160","v":0},{"$f":"DATAENTRY!AM160","v":0},{"$f":"DATAENTRY!AN160","v":0},{"$f":"DATAENTRY!AO160","v":0},{"$f":"DATAENTRY!AP160","v":0},{"$f":"DATAENTRY!AQ160","v":0},{"$f":"DATAENTRY!AR160","v":0},{"$f":"DATAENTRY!AS160","v":0},{"$f":"DATAENTRY!AT160","v":0},{"$f":"DATAENTRY!AU160","v":0},{"$f":"DATAENTRY!AV160","v":0},{"$f":"DATAENTRY!AW160","v":0},{"$f":"DATAENTRY!AX160","v":0},{"$f":"DATAENTRY!AY160","v":0},{"$f":"DATAENTRY!AZ160","v":0},{"$f":"DATAENTRY!BA160","v":0},{"$f":"DATAENTRY!BB160","v":0},{"$f":"DATAENTRY!BC160","v":0},{"$f":"DATAENTRY!BD160","v":0},{"$f":"DATAENTRY!BE160","v":0},{"$f":"DATAENTRY!BF160","v":0},{"$f":"DATAENTRY!BG160","v":0},{"$f":"DATAENTRY!BH160","v":""}]
[{"$f":"DATAENTRY!C161","v":0},{"$f":"DATAENTRY!D161","v":0},{"$f":"DATAENTRY!E161","v":0},{"$f":"DATAENTRY!F161","v":0},{"$f":"DATAENTRY!G161","v":0},{"$f":"DATAENTRY!H161","v":0},{"$f":"DATAENTRY!I161","v":0},{"$f":"DATAENTRY!J161","v":0},{"$f":"DATAENTRY!K161","v":0},{"$f":"DATAENTRY!L161","v":0},{"$f":"DATAENTRY!M161","v":0},{"$f":"DATAENTRY!N161","v":0},{"$f":"DATAENTRY!O161","v":0},{"$f":"DATAENTRY!P161","v":0},{"$f":"DATAENTRY!Q161","v":0},{"$f":"DATAENTRY!R161","v":0},{"$f":"DATAENTRY!S161","v":0},{"$f":"DATAENTRY!T161","v":0},{"$f":"DATAENTRY!U161","v":0},{"$f":"DATAENTRY!V161","v":0},{"$f":"DATAENTRY!W161","v":0},{"$f":"DATAENTRY!X161","v":0},{"$f":"DATAENTRY!Y161","v":0},{"$f":"DATAENTRY!Z161","v":0},{"$f":"DATAENTRY!AA161","v":0},{"$f":"DATAENTRY!AB161","v":0},{"$f":"DATAENTRY!AC161","v":0},{"$f":"DATAENTRY!AD161","v":0},{"$f":"DATAENTRY!AE161","v":0},{"$f":"DATAENTRY!AF161","v":0},{"$f":"DATAENTRY!AG161","v":0},{"$f":"DATAENTRY!AH161","v":0},{"$f":"DATAENTRY!AI161","v":0},{"$f":"DATAENTRY!AJ161","v":0},{"$f":"DATAENTRY!AK161","v":0},{"$f":"DATAENTRY!AL161","v":0},{"$f":"DATAENTRY!AM161","v":0},{"$f":"DATAENTRY!AN161","v":0},{"$f":"DATAENTRY!AO161","v":0},{"$f":"DATAENTRY!AP161","v":0},{"$f":"DATAENTRY!AQ161","v":0},{"$f":"DATAENTRY!AR161","v":0},{"$f":"DATAENTRY!AS161","v":0},{"$f":"DATAENTRY!AT161","v":0},{"$f":"DATAENTRY!AU161","v":0},{"$f":"DATAENTRY!AV161","v":0},{"$f":"DATAENTRY!AW161","v":0},{"$f":"DATAENTRY!AX161","v":0},{"$f":"DATAENTRY!AY161","v":0},{"$f":"DATAENTRY!AZ161","v":0},{"$f":"DATAENTRY!BA161","v":0},{"$f":"DATAENTRY!BB161","v":0},{"$f":"DATAENTRY!BC161","v":0},{"$f":"DATAENTRY!BD161","v":0},{"$f":"DATAENTRY!BE161","v":0},{"$f":"DATAENTRY!BF161","v":0},{"$f":"DATAENTRY!BG161","v":0},{"$f":"DATAENTRY!BH161","v":""}]
[{"$f":"DATAENTRY!C162","v":0},{"$f":"DATAENTRY!D162","v":0},{"$f":"DATAENTRY!E162","v":0},{"$f":"DATAENTRY!F162","v":0},{"$f":"DATAENTRY!G162","v":0},{"$f":"DATAENTRY!H162","v":0},{"$f":"DATAENTRY!I162","v":0},{"$f":"DATAENTRY!J162","v":0},{"$f":"DATAENTRY!K162","v":0},{"$f":"DATAENTRY!L162","v":0},{"$f":"DATAENTRY!M162","v":0},{"$f":"DATAENTRY!N162","v":0},{"$f":"DATAENTRY!O162","v":0},{"$f":"DATAENTRY!P162","v":0},{"$f":"DATAENTRY!Q162","v":0},{"$f":"DATAENTRY!R162","v":0},{"$f":"DATAENTRY!S162","v":0},{"$f":"DATAENTRY!T162","v":0},{"$f":"DATAENTRY!U162","v":0},{"$f":"DATAENTRY!V162","v":0},{"$f":"DATAENTRY!W162","v":0},{"$f":"DATAENTRY!X162","v":0},{"$f":"DATAENTRY!Y162","v":0},{"$f":"DATAENTRY!Z162","v":0},{"$f":"DATAENTRY!AA162","v":0},{"$f":"DATAENTRY!AB162","v":0},{"$f":"DATAENTRY!AC162","v":0},{"$f":"DATAENTRY!AD162","v":0},{"$f":"DATAENTRY!AE162","v":0},{"$f":"DATAENTRY!AF162","v":0},{"$f":"DATAENTRY!AG162","v":0},{"$f":"DATAENTRY!AH162","v":0},{"$f":"DATAENTRY!AI162","v":0},{"$f":"DATAENTRY!AJ162","v":0},{"$f":"DATAENTRY!AK162","v":0},{"$f":"DATAENTRY!AL162","v":0},{"$f":"DATAENTRY!AM162","v":0},{"$f":"DATAENTRY!AN162","v":0},{"$f":"DATAENTRY!AO162","v":0},{"$f":"DATAENTRY!AP162","v":0},{"$f":"DATAENTRY!AQ162","v":0},{"$f":"DATAENTRY!AR162","v":0},{"$f":"DATAENTRY!AS162","v":0},{"$f":"DATAENTRY!AT162","v":0},{"$f":"DATAENTRY!AU162","v":0},{"$f":"DATAENTRY!AV162","v":0},{"$f":"DATAENTRY!AW162","v":0},{"$f":"DATAENTRY!AX162","v":0},{"$f":"DATAENTRY!AY162","v":0},{"$f":"DATAENTRY!AZ162","v":0},{"$f":"DATAENTRY!BA162","v":0},{"$f":"DATAENTRY!BB162","v":0},{"$f":"DATAENTRY!BC162","v":0},{"$f":"DATAENTRY!BD162","v":0},{"$f":"DATAENTRY!BE162","v":0},{"$f":"DATAENTRY!BF162","v":0},{"$f":"DATAENTRY!BG162","v":0},{"$f":"DATAENTRY!BH162","v":""}]
[{"$f":"DATAENTRY!C163","v":0},{"$f":"DATAENTRY!D163","v":0},{"$f":"DATAENTRY!E163","v":0},{"$f":"DATAENTRY!F163","v":0},{"$f":"DATAENTRY!G163","v":0},{"$f":"DATAENTRY!H163","v":0},{"$f":"DATAENTRY!I163","v":0},{"$f":"DATAENTRY!J163","v":0},{"$f":"DATAENTRY!K163","v":0},{"$f":"DATAENTRY!L163","v":0},{"$f":"DATAENTRY!M163","v":0},{"$f":"DATAENTRY!N163","v":0},{"$f":"DATAENTRY!O163","v":0},{"$f":"DATAENTRY!P163","v":0},{"$f":"DATAENTRY!Q163","v":0},{"$f":"DATAENTRY!R163","v":0},{"$f":"DATAENTRY!S163","v":0},{"$f":"DATAENTRY!T163","v":0},{"$f":"DATAENTRY!U163","v":0},{"$f":"DATAENTRY!V163","v":0},{"$f":"DATAENTRY!W163","v":0},{"$f":"DATAENTRY!X163","v":0},{"$f":"DATAENTRY!Y163","v":0},{"$f":"DATAENTRY!Z163","v":0},{"$f":"DATAENTRY!AA163","v":0},{"$f":"DATAENTRY!AB163","v":0},{"$f":"DATAENTRY!AC163","v":0},{"$f":"DATAENTRY!AD163","v":0},{"$f":"DATAENTRY!AE163","v":0},{"$f":"DATAENTRY!AF163","v":0},{"$f":"DATAENTRY!AG163","v":0},{"$f":"DATAENTRY!AH163","v":0},{"$f":"DATAENTRY!AI163","v":0},{"$f":"DATAENTRY!AJ163","v":0},{"$f":"DATAENTRY!AK163","v":0},{"$f":"DATAENTRY!AL163","v":0},{"$f":"DATAENTRY!AM163","v":0},{"$f":"DATAENTRY!AN163","v":0},{"$f":"DATAENTRY!AO163","v":0},{"$f":"DATAENTRY!AP163","v":0},{"$f":"DATAENTRY!AQ163","v":0},{"$f":"DATAENTRY!AR163","v":0},{"$f":"DATAENTRY!AS163","v":0},{"$f":"DATAENTRY!AT163","v":0},{"$f":"DATAENTRY!AU163","v":0},{"$f":"DATAENTRY!AV163","v":0},{"$f":"DATAENTRY!AW163","v":0},{"$f":"DATAENTRY!AX163","v":0},{"$f":"DATAENTRY!AY163","v":0},{"$f":"DATAENTRY!AZ163","v":0},{"$f":"DATAENTRY!BA163","v":0},{"$f":"DATAENTRY!BB163","v":0},{"$f":"DATAENTRY!BC163","v":0},{"$f":"DATAENTRY!BD163","v":0},{"$f":"DATAENTRY!BE163","v":0},{"$f":"DATAENTRY!BF163","v":0},{"$f":"DATAENTRY!BG163","v":0},{"$f":"DATAENTRY!BH163","v":""}]
[{"$f":"DATAENTRY!C164","v":0},{"$f":"DATAENTRY!D164","v":0},{"$f":"DATAENTRY!E164","v":0},{"$f":"DATAENTRY!F164","v":0},{"$f":"DATAENTRY!G164","v":0},{"$f":"DATAENTRY!H164","v":0},{"$f":"DATAENTRY!I164","v":0},{"$f":"DATAENTRY!J164","v":0},{"$f":"DATAENTRY!K164","v":0},{"$f":"DATAENTRY!L164","v":0},{"$f":"DATAENTRY!M164","v":0},{"$f":"DATAENTRY!N164","v":0},{"$f":"DATAENTRY!O164","v":0},{"$f":"DATAENTRY!P164","v":0},{"$f":"DATAENTRY!Q164","v":0},{"$f":"DATAENTRY!R164","v":0},{"$f":"DATAENTRY!S164","v":0},{"$f":"DATAENTRY!T164","v":0},{"$f":"DATAENTRY!U164","v":0},{"$f":"DATAENTRY!V164","v":0},{"$f":"DATAENTRY!W164","v":0},{"$f":"DATAENTRY!X164","v":0},{"$f":"DATAENTRY!Y164","v":0},{"$f":"DATAENTRY!Z164","v":0},{"$f":"DATAENTRY!AA164","v":0},{"$f":"DATAENTRY!AB164","v":0},{"$f":"DATAENTRY!AC164","v":0},{"$f":"DATAENTRY!AD164","v":0},{"$f":"DATAENTRY!AE164","v":0},{"$f":"DATAENTRY!AF164","v":0},{"$f":"DATAENTRY!AG164","v":0},{"$f":"DATAENTRY!AH164","v":0},{"$f":"DATAENTRY!AI164","v":0},{"$f":"DATAENTRY!AJ164","v":0},{"$f":"DATAENTRY!AK164","v":0},{"$f":"DATAENTRY!AL164","v":0},{"$f":"DATAENTRY!AM164","v":0},{"$f":"DATAENTRY!AN164","v":0},{"$f":"DATAENTRY!AO164","v":0},{"$f":"DATAENTRY!AP164","v":0},{"$f":"DATAENTRY!AQ164","v":0},{"$f":"DATAENTRY!AR164","v":0},{"$f":"DATAENTRY!AS164","v":0},{"$f":"DATAENTRY!AT164","v":0},{"$f":"DATAENTRY!AU164","v":0},{"$f":"DATAENTRY!AV164","v":0},{"$f":"DATAENTRY!AW164","v":0},{"$f":"DATAENTRY!AX164","v":0},{"$f":"DATAENTRY!AY164","v":0},{"$f":"DATAENTRY!AZ164","v":0},{"$f":"DATAENTRY!BA164","v":0},{"$f":"DATAENTRY!BB164","v":0},{"$f":"DATAENTRY!BC164","v":0},{"$f":"DATAENTRY!BD164","v":0},{"$f":"DATAENTRY!BE164","v":0},{"$f":"DATAENTRY!BF164","v":0},{"$f":"DATAENTRY!BG164","v":0},{"$f":"DATAENTRY!BH164","v":""}]
[{"$f":"DATAENTRY!C165","v":0},{"$f":"DATAENTRY!D165","v":0},{"$f":"DATAENTRY!E165","v":0},{"$f":"DATAENTRY!F165","v":0},{"$f":"DATAENTRY!G165","v":0},{"$f":"DATAENTRY!H165","v":0},{"$f":"DATAENTRY!I165","v":0},{"$f":"DATAENTRY!J165","v":0},{"$f":"DATAENTRY!K165","v":0},{"$f":"DATAENTRY!L165","v":0},{"$f":"DATAENTRY!M165","v":0},{"$f":"DATAENTRY!N165","v":0},{"$f":"DATAENTRY!O165","v":0},{"$f":"DATAENTRY!P165","v":0},{"$f":"DATAENTRY!Q165","v":0},{"$f":"DATAENTRY!R165","v":0},{"$f":"DATAENTRY!S165","v":0},{"$f":"DATAENTRY!T165","v":0},{"$f":"DATAENTRY!U165","v":0},{"$f":"DATAENTRY!V165","v":0},{"$f":"DATAENTRY!W165","v":0},{"$f":"DATAENTRY!X165","v":0},{"$f":"DATAENTRY!Y165","v":0},{"$f":"DATAENTRY!Z165","v":0},{"$f":"DATAENTRY!AA165","v":0},{"$f":"DATAENTRY!AB165","v":0},{"$f":"DATAENTRY!AC165","v":0},{"$f":"DATAENTRY!AD165","v":0},{"$f":"DATAENTRY!AE165","v":0},{"$f":"DATAENTRY!AF165","v":0},{"$f":"DATAENTRY!AG165","v":0},{"$f":"DATAENTRY!AH165","v":0},{"$f":"DATAENTRY!AI165","v":0},{"$f":"DATAENTRY!AJ165","v":0},{"$f":"DATAENTRY!AK165","v":0},{"$f":"DATAENTRY!AL165","v":0},{"$f":"DATAENTRY!AM165","v":0},{"$f":"DATAENTRY!AN165","v":0},{"$f":"DATAENTRY!AO165","v":0},{"$f":"DATAENTRY!AP165","v":0},{"$f":"DATAENTRY!AQ165","v":0},{"$f":"DATAENTRY!AR165","v":0},{"$f":"DATAENTRY!AS165","v":0},{"$f":"DATAENTRY!AT165","v":0},{"$f":"DATAENTRY!AU165","v":0},{"$f":"DATAENTRY!AV165","v":0},{"$f":"DATAENTRY!AW165","v":0},{"$f":"DATAENTRY!AX165","v":0},{"$f":"DATAENTRY!AY165","v":0},{"$f":"DATAENTRY!AZ165","v":0},{"$f":"DATAENTRY!BA165","v":0},{"$f":"DATAENTRY!BB165","v":0},{"$f":"DATAENTRY!BC165","v":0},{"$f":"DATAENTRY!BD165","v":0},{"$f":"DATAENTRY!BE165","v":0},{"$f":"DATAENTRY!BF165","v":0},{"$f":"DATAENTRY!BG165","v":0},{"$f":"DATAENTRY!BH165","v":""}]
[{"$f":"DATAENTRY!C166","v":0},{"$f":"DATAENTRY!D166","v":0},{"$f":"DATAENTRY!E166","v":0},{"$f":"DATAENTRY!F166","v":0},{"$f":"DATAENTRY!G166","v":0},{"$f":"DATAENTRY!H166","v":0},{"$f":"DATAENTRY!I166","v":0},{"$f":"DATAENTRY!J166","v":0},{"$f":"DATAENTRY!K166","v":0},{"$f":"DATAENTRY!L166","v":0},{"$f":"DATAENTRY!M166","v":0},{"$f":"DATAENTRY!N166","v":0},{"$f":"DATAENTRY!O166","v":0},{"$f":"DATAENTRY!P166","v":0},{"$f":"DATAENTRY!Q166","v":0},{"$f":"DATAENTRY!R166","v":0},{"$f":"DATAENTRY!S166","v":0},{"$f":"DATAENTRY!T166","v":0},{"$f":"DATAENTRY!U166","v":0},{"$f":"DATAENTRY!V166","v":0},{"$f":"DATAENTRY!W166","v":0},{"$f":"DATAENTRY!X166","v":0},{"$f":"DATAENTRY!Y166","v":0},{"$f":"DATAENTRY!Z166","v":0},{"$f":"DATAENTRY!AA166","v":0},{"$f":"DATAENTRY!AB166","v":0},{"$f":"DATAENTRY!AC166","v":0},{"$f":"DATAENTRY!AD166","v":0},{"$f":"DATAENTRY!AE166","v":0},{"$f":"DATAENTRY!AF166","v":0},{"$f":"DATAENTRY!AG166","v":0},{"$f":"DATAENTRY!AH166","v":0},{"$f":"DATAENTRY!AI166","v":0},{"$f":"DATAENTRY!AJ166","v":0},{"$f":"DATAENTRY!AK166","v":0},{"$f":"DATAENTRY!AL166","v":0},{"$f":"DATAENTRY!AM166","v":0},{"$f":"DATAENTRY!AN166","v":0},{"$f":"DATAENTRY!AO166","v":0},{"$f":"DATAENTRY!AP166","v":0},{"$f":"DATAENTRY!AQ166","v":0},{"$f":"DATAENTRY!AR166","v":0},{"$f":"DATAENTRY!AS166","v":0},{"$f":"DATAENTRY!AT166","v":0},{"$f":"DATAENTRY!AU166","v":0},{"$f":"DATAENTRY!AV166","v":0},{"$f":"DATAENTRY!AW166","v":0},{"$f":"DATAENTRY!AX166","v":0},{"$f":"DATAENTRY!AY166","v":0},{"$f":"DATAENTRY!AZ166","v":0},{"$f":"DATAENTRY!BA166","v":0},{"$f":"DATAENTRY!BB166","v":0},{"$f":"DATAENTRY!BC166","v":0},{"$f":"DATAENTRY!BD166","v":0},{"$f":"DATAENTRY!BE166","v":0},{"$f":"DATAENTRY!BF166","v":0},{"$f":"DATAENTRY!BG166","v":0},{"$f":"DATAENTRY!BH166","v":""}]
[{"$f":"DATAENTRY!C167","v":0},{"$f":"DATAENTRY!D167","v":0},{"$f":"DATAENTRY!E167","v":0},{"$f":"DATAENTRY!F167","v":0},{"$f":"DATAENTRY!G167","v":0},{"$f":"DATAENTRY!H167","v":0},{"$f":"DATAENTRY!I167","v":0},{"$f":"DATAENTRY!J167","v":0},{"$f":"DATAENTRY!K167","v":0},{"$f":"DATAENTRY!L167","v":0},{"$f":"DATAENTRY!M167","v":0},{"$f":"DATAENTRY!N167","v":0},{"$f":"DATAENTRY!O167","v":0},{"$f":"DATAENTRY!P167","v":0},{"$f":"DATAENTRY!Q167","v":0},{"$f":"DATAENTRY!R167","v":0},{"$f":"DATAENTRY!S167","v":0},{"$f":"DATAENTRY!T167","v":0},{"$f":"DATAENTRY!U167","v":0},{"$f":"DATAENTRY!V167","v":0},{"$f":"DATAENTRY!W167","v":0},{"$f":"DATAENTRY!X167","v":0},{"$f":"DATAENTRY!Y167","v":0},{"$f":"DATAENTRY!Z167","v":0},{"$f":"DATAENTRY!AA167","v":0},{"$f":"DATAENTRY!AB167","v":0},{"$f":"DATAENTRY!AC167","v":0},{"$f":"DATAENTRY!AD167","v":0},{"$f":"DATAENTRY!AE167","v":0},{"$f":"DATAENTRY!AF167","v":0},{"$f":"DATAENTRY!AG167","v":0},{"$f":"DATAENTRY!AH167","v":0},{"$f":"DATAENTRY!AI167","v":0},{"$f":"DATAENTRY!AJ167","v":0},{"$f":"DATAENTRY!AK167","v":0},{"$f":"DATAENTRY!AL167","v":0},{"$f":"DATAENTRY!AM167","v":0},{"$f":"DATAENTRY!AN167","v":0},{"$f":"DATAENTRY!AO167","v":0},{"$f":"DATAENTRY!AP167","v":0},{"$f":"DATAENTRY!AQ167","v":0},{"$f":"DATAENTRY!AR167","v":0},{"$f":"DATAENTRY!AS167","v":0},{"$f":"DATAENTRY!AT167","v":0},{"$f":"DATAENTRY!AU167","v":0},{"$f":"DATAENTRY!AV167","v":0},{"$f":"DATAENTRY!AW167","v":0},{"$f":"DATAENTRY!AX167","v":0},{"$f":"DATAENTRY!AY167","v":0},{"$f":"DATAENTRY!AZ167","v":0},{"$f":"DATAENTRY!BA167","v":0},{"$f":"DATAENTRY!BB167","v":0},{"$f":"DATAENTRY!BC167","v":0},{"$f":"DATAENTRY!BD167","v":0},{"$f":"DATAENTRY!BE167","v":0},{"$f":"DATAENTRY!BF167","v":0},{"$f":"DATAENTRY!BG167","v":0},{"$f":"DATAENTRY!BH167","v":""}]
[{"$f":"DATAENTRY!C168","v":0},{"$f":"DATAENTRY!D168","v":0},{"$f":"DATAENTRY!E168","v":0},{"$f":"DATAENTRY!F168","v":0},{"$f":"DATAENTRY!G168","v":0},{"$f":"DATAENTRY!H168","v":0},{"$f":"DATAENTRY!I168","v":0},{"$f":"DATAENTRY!J168","v":0},{"$f":"DATAENTRY!K168","v":0},{"$f":"DATAENTRY!L168","v":0},{"$f":"DATAENTRY!M168","v":0},{"$f":"DATAENTRY!N168","v":0},{"$f":"DATAENTRY!O168","v":0},{"$f":"DATAENTRY!P168","v":0},{"$f":"DATAENTRY!Q168","v":0},{"$f":"DATAENTRY!R168","v":0},{"$f":"DATAENTRY!S168","v":0},{"$f":"DATAENTRY!T168","v":0},{"$f":"DATAENTRY!U168","v":0},{"$f":"DATAENTRY!V168","v":0},{"$f":"DATAENTRY!W168","v":0},{"$f":"DATAENTRY!X168","v":0},{"$f":"DATAENTRY!Y168","v":0},{"$f":"DATAENTRY!Z168","v":0},{"$f":"DATAENTRY!AA168","v":0},{"$f":"DATAENTRY!AB168","v":0},{"$f":"DATAENTRY!AC168","v":0},{"$f":"DATAENTRY!AD168","v":0},{"$f":"DATAENTRY!AE168","v":0},{"$f":"DATAENTRY!AF168","v":0},{"$f":"DATAENTRY!AG168","v":0},{"$f":"DATAENTRY!AH168","v":0},{"$f":"DATAENTRY!AI168","v":0},{"$f":"DATAENTRY!AJ168","v":0},{"$f":"DATAENTRY!AK168","v":0},{"$f":"DATAENTRY!AL168","v":0},{"$f":"DATAENTRY!AM168","v":0},{"$f":"DATAENTRY!AN168","v":0},{"$f":"DATAENTRY!AO168","v":0},{"$f":"DATAENTRY!AP168","v":0},{"$f":"DATAENTRY!AQ168","v":0},{"$f":"DATAENTRY!AR168","v":0},{"$f":"DATAENTRY!AS168","v":0},{"$f":"DATAENTRY!AT168","v":0},{"$f":"DATAENTRY!AU168","v":0},{"$f":"DATAENTRY!AV168","v":0},{"$f":"DATAENTRY!AW168","v":0},{"$f":"DATAENTRY!AX168","v":0},{"$f":"DATAENTRY!AY168","v":0},{"$f":"DATAENTRY!AZ168","v":0},{"$f":"DATAENTRY!BA168","v":0},{"$f":"DATAENTRY!BB168","v":0},{"$f":"DATAENTRY!BC168","v":0},{"$f":"DATAENTRY!BD168","v":0},{"$f":"DATAENTRY!BE168","v":0},{"$f":"DATAENTRY!BF168","v":0},{"$f":"DATAENTRY!BG168","v":0},{"$f":"DATAENTRY!BH168","v":""}]
[{"$f":"DATAENTRY!C169","v":0},{"$f":"DATAENTRY!D169","v":0},{"$f":"DATAENTRY!E169","v":0},{"$f":"DATAENTRY!F169","v":0},{"$f":"DATAENTRY!G169","v":0},{"$f":"DATAENTRY!H169","v":0},{"$f":"DATAENTRY!I169","v":0},{"$f":"DATAENTRY!J169","v":0},{"$f":"DATAENTRY!K169","v":0},{"$f":"DATAENTRY!L169","v":0},{"$f":"DATAENTRY!M169","v":0},{"$f":"DATAENTRY!N169","v":0},{"$f":"DATAENTRY!O169","v":0},{"$f":"DATAENTRY!P169","v":0},{"$f":"DATAENTRY!Q169","v":0},{"$f":"DATAENTRY!R169","v":0},{"$f":"DATAENTRY!S169","v":0},{"$f":"DATAENTRY!T169","v":0},{"$f":"DATAENTRY!U169","v":0},{"$f":"DATAENTRY!V169","v":0},{"$f":"DATAENTRY!W169","v":0},{"$f":"DATAENTRY!X169","v":0},{"$f":"DATAENTRY!Y169","v":0},{"$f":"DATAENTRY!Z169","v":0},{"$f":"DATAENTRY!AA169","v":0},{"$f":"DATAENTRY!AB169","v":0},{"$f":"DATAENTRY!AC169","v":0},{"$f":"DATAENTRY!AD169","v":0},{"$f":"DATAENTRY!AE169","v":0},{"$f":"DATAENTRY!AF169","v":0},{"$f":"DATAENTRY!AG169","v":0},{"$f":"DATAENTRY!AH169","v":0},{"$f":"DATAENTRY!AI169","v":0},{"$f":"DATAENTRY!AJ169","v":0},{"$f":"DATAENTRY!AK169","v":0},{"$f":"DATAENTRY!AL169","v":0},{"$f":"DATAENTRY!AM169","v":0},{"$f":"DATAENTRY!AN169","v":0},{"$f":"DATAENTRY!AO169","v":0},{"$f":"DATAENTRY!AP169","v":0},{"$f":"DATAENTRY!AQ169","v":0},{"$f":"DATAENTRY!AR169","v":0},{"$f":"DATAENTRY!AS169","v":0},{"$f":"DATAENTRY!AT169","v":0},{"$f":"DATAENTRY!AU169","v":0},{"$f":"DATAENTRY!AV169","v":0},{"$f":"DATAENTRY!AW169","v":0},{"$f":"DATAENTRY!AX169","v":0},{"$f":"DATAENTRY!AY169","v":0},{"$f":"DATAENTRY!AZ169","v":0},{"$f":"DATAENTRY!BA169","v":0},{"$f":"DATAENTRY!BB169","v":0},{"$f":"DATAENTRY!BC169","v":0},{"$f":"DATAENTRY!BD169","v":0},{"$f":"DATAENTRY!BE169","v":0},{"$f":"DATAENTRY!BF169","v":0},{"$f":"DATAENTRY!BG169","v":0},{"$f":"DATAENTRY!BH169","v":""}]
[{"$f":"DATAENTRY!C170","v":0},{"$f":"DATAENTRY!D170","v":0},{"$f":"DATAENTRY!E170","v":0},{"$f":"DATAENTRY!F170","v":0},{"$f":"DATAENTRY!G170","v":0},{"$f":"DATAENTRY!H170","v":0},{"$f":"DATAENTRY!I170","v":0},{"$f":"DATAENTRY!J170","v":0},{"$f":"DATAENTRY!K170","v":0},{"$f":"DATAENTRY!L170","v":0},{"$f":"DATAENTRY!M170","v":0},{"$f":"DATAENTRY!N170","v":0},{"$f":"DATAENTRY!O170","v":0},{"$f":"DATAENTRY!P170","v":0},{"$f":"DATAENTRY!Q170","v":0},{"$f":"DATAENTRY!R170","v":0},{"$f":"DATAENTRY!S170","v":0},{"$f":"DATAENTRY!T170","v":0},{"$f":"DATAENTRY!U170","v":0},{"$f":"DATAENTRY!V170","v":0},{"$f":"DATAENTRY!W170","v":0},{"$f":"DATAENTRY!X170","v":0},{"$f":"DATAENTRY!Y170","v":0},{"$f":"DATAENTRY!Z170","v":0},{"$f":"DATAENTRY!AA170","v":0},{"$f":"DATAENTRY!AB170","v":0},{"$f":"DATAENTRY!AC170","v":0},{"$f":"DATAENTRY!AD170","v":0},{"$f":"DATAENTRY!AE170","v":0},{"$f":"DATAENTRY!AF170","v":0},{"$f":"DATAENTRY!AG170","v":0},{"$f":"DATAENTRY!AH170","v":0},{"$f":"DATAENTRY!AI170","v":0},{"$f":"DATAENTRY!AJ170","v":0},{"$f":"DATAENTRY!AK170","v":0},{"$f":"DATAENTRY!AL170","v":0},{"$f":"DATAENTRY!AM170","v":0},{"$f":"DATAENTRY!AN170","v":0},{"$f":"DATAENTRY!AO170","v":0},{"$f":"DATAENTRY!AP170","v":0},{"$f":"DATAENTRY!AQ170","v":0},{"$f":"DATAENTRY!AR170","v":0},{"$f":"DATAENTRY!AS170","v":0},{"$f":"DATAENTRY!AT170","v":0},{"$f":"DATAENTRY!AU170","v":0},{"$f":"DATAENTRY!AV170","v":0},{"$f":"DATAENTRY!AW170","v":0},{"$f":"DATAENTRY!AX170","v":0},{"$f":"DATAENTRY!AY170","v":0},{"$f":"DATAENTRY!AZ170","v":0},{"$f":"DATAENTRY!BA170","v":0},{"$f":"DATAENTRY!BB170","v":0},{"$f":"DATAENTRY!BC170","v":0},{"$f":"DATAENTRY!BD170","v":0},{"$f":"DATAENTRY!BE170","v":0},{"$f":"DATAENTRY!BF170","v":0},{"$f":"DATAENTRY!BG170","v":0},{"$f":"DATAENTRY!BH170","v":""}]
[{"$f":"DATAENTRY!C171","v":0},{"$f":"DATAENTRY!D171","v":0},{"$f":"DATAENTRY!E171","v":0},{"$f":"DATAENTRY!F171","v":0},{"$f":"DATAENTRY!G171","v":0},{"$f":"DATAENTRY!H171","v":0},{"$f":"DATAENTRY!I171","v":0},{"$f":"DATAENTRY!J171","v":0},{"$f":"DATAENTRY!K171","v":0},{"$f":"DATAENTRY!L171","v":0},{"$f":"DATAENTRY!M171","v":0},{"$f":"DATAENTRY!N171","v":0},{"$f":"DATAENTRY!O171","v":0},{"$f":"DATAENTRY!P171","v":0},{"$f":"DATAENTRY!Q171","v":0},{"$f":"DATAENTRY!R171","v":0},{"$f":"DATAENTRY!S171","v":0},{"$f":"DATAENTRY!T171","v":0},{"$f":"DATAENTRY!U171","v":0},{"$f":"DATAENTRY!V171","v":0},{"$f":"DATAENTRY!W171","v":0},{"$f":"DATAENTRY!X171","v":0},{"$f":"DATAENTRY!Y171","v":0},{"$f":"DATAENTRY!Z171","v":0},{"$f":"DATAENTRY!AA171","v":0},{"$f":"DATAENTRY!AB171","v":0},{"$f":"DATAENTRY!AC171","v":0},{"$f":"DATAENTRY!AD171","v":0},{"$f":"DATAENTRY!AE171","v":0},{"$f":"DATAENTRY!AF171","v":0},{"$f":"DATAENTRY!AG171","v":0},{"$f":"DATAENTRY!AH171","v":0},{"$f":"DATAENTRY!AI171","v":0},{"$f":"DATAENTRY!AJ171","v":0},{"$f":"DATAENTRY!AK171","v":0},{"$f":"DATAENTRY!AL171","v":0},{"$f":"DATAENTRY!AM171","v":0},{"$f":"DATAENTRY!AN171","v":0},{"$f":"DATAENTRY!AO171","v":0},{"$f":"DATAENTRY!AP171","v":0},{"$f":"DATAENTRY!AQ171","v":0},{"$f":"DATAENTRY!AR171","v":0},{"$f":"DATAENTRY!AS171","v":0},{"$f":"DATAENTRY!AT171","v":0},{"$f":"DATAENTRY!AU171","v":0},{"$f":"DATAENTRY!AV171","v":0},{"$f":"DATAENTRY!AW171","v":0},{"$f":"DATAENTRY!AX171","v":0},{"$f":"DATAENTRY!AY171","v":0},{"$f":"DATAENTRY!AZ171","v":0},{"$f":"DATAENTRY!BA171","v":0},{"$f":"DATAENTRY!BB171","v":0},{"$f":"DATAENTRY!BC171","v":0},{"$f":"DATAENTRY!BD171","v":0},{"$f":"DATAENTRY!BE171","v":0},{"$f":"DATAENTRY!BF171","v":0},{"$f":"DATAENTRY!BG171","v":0},{"$f":"DATAENTRY!BH171","v":""}]
[{"$f":"DATAENTRY!C172","v":0},{"$f":"DATAENTRY!D172","v":0},{"$f":"DATAENTRY!E172","v":0},{"$f":"DATAENTRY!F172","v":0},{"$f":"DATAENTRY!G172","v":0},{"$f":"DATAENTRY!H172","v":0},{"$f":"DATAENTRY!I172","v":0},{"$f":"DATAENTRY!J172","v":0},{"$f":"DATAENTRY!K172","v":0},{"$f":"DATAENTRY!L172","v":0},{"$f":"DATAENTRY!M172","v":0},{"$f":"DATAENTRY!N172","v":0},{"$f":"DATAENTRY!O172","v":0},{"$f":"DATAENTRY!P172","v":0},{"$f":"DATAENTRY!Q172","v":0},{"$f":"DATAENTRY!R172","v":0},{"$f":"DATAENTRY!S172","v":0},{"$f":"DATAENTRY!T172","v":0},{"$f":"DATAENTRY!U172","v":0},{"$f":"DATAENTRY!V172","v":0},{"$f":"DATAENTRY!W172","v":0},{"$f":"DATAENTRY!X172","v":0},{"$f":"DATAENTRY!Y172","v":0},{"$f":"DATAENTRY!Z172","v":0},{"$f":"DATAENTRY!AA172","v":0},{"$f":"DATAENTRY!AB172","v":0},{"$f":"DATAENTRY!AC172","v":0},{"$f":"DATAENTRY!AD172","v":0},{"$f":"DATAENTRY!AE172","v":0},{"$f":"DATAENTRY!AF172","v":0},{"$f":"DATAENTRY!AG172","v":0},{"$f":"DATAENTRY!AH172","v":0},{"$f":"DATAENTRY!AI172","v":0},{"$f":"DATAENTRY!AJ172","v":0},{"$f":"DATAENTRY!AK172","v":0},{"$f":"DATAENTRY!AL172","v":0},{"$f":"DATAENTRY!AM172","v":0},{"$f":"DATAENTRY!AN172","v":0},{"$f":"DATAENTRY!AO172","v":0},{"$f":"DATAENTRY!AP172","v":0},{"$f":"DATAENTRY!AQ172","v":0},{"$f":"DATAENTRY!AR172","v":0},{"$f":"DATAENTRY!AS172","v":0},{"$f":"DATAENTRY!AT172","v":0},{"$f":"DATAENTRY!AU172","v":0},{"$f":"DATAENTRY!AV172","v":0},{"$f":"DATAENTRY!AW172","v":0},{"$f":"DATAENTRY!AX172","v":0},{"$f":"DATAENTRY!AY172","v":0},{"$f":"DATAENTRY!AZ172","v":0},{"$f":"DATAENTRY!BA172","v":0},{"$f":"DATAENTRY!BB172","v":0},{"$f":"DATAENTRY!BC172","v":0},{"$f":"DATAENTRY!BD172","v":0},{"$f":"DATAENTRY!BE172","v":0},{"$f":"DATAENTRY!BF172","v":0},{"$f":"DATAENTRY!BG172","v":0},{"$f":"DATAENTRY!BH172","v":""}]
[{"$f":"DATAENTRY!C173","v":0},{"$f":"DATAENTRY!D173","v":0},{"$f":"DATAENTRY!E173","v":0},{"$f":"DATAENTRY!F173","v":0},{"$f":"DATAENTRY!G173","v":0},{"$f":"DATAENTRY!H173","v":0},{"$f":"DATAENTRY!I173","v":0},{"$f":"DATAENTRY!J173","v":0},{"$f":"DATAENTRY!K173","v":0},{"$f":"DATAENTRY!L173","v":0},{"$f":"DATAENTRY!M173","v":0},{"$f":"DATAENTRY!N173","v":0},{"$f":"DATAENTRY!O173","v":0},{"$f":"DATAENTRY!P173","v":0},{"$f":"DATAENTRY!Q173","v":0},{"$f":"DATAENTRY!R173","v":0},{"$f":"DATAENTRY!S173","v":0},{"$f":"DATAENTRY!T173","v":0},{"$f":"DATAENTRY!U173","v":0},{"$f":"DATAENTRY!V173","v":0},{"$f":"DATAENTRY!W173","v":0},{"$f":"DATAENTRY!X173","v":0},{"$f":"DATAENTRY!Y173","v":0},{"$f":"DATAENTRY!Z173","v":0},{"$f":"DATAENTRY!AA173","v":0},{"$f":"DATAENTRY!AB173","v":0},{"$f":"DATAENTRY!AC173","v":0},{"$f":"DATAENTRY!AD173","v":0},{"$f":"DATAENTRY!AE173","v":0},{"$f":"DATAENTRY!AF173","v":0},{"$f":"DATAENTRY!AG173","v":0},{"$f":"DATAENTRY!AH173","v":0},{"$f":"DATAENTRY!AI173","v":0},{"$f":"DATAENTRY!AJ173","v":0},{"$f":"DATAENTRY!AK173","v":0},{"$f":"DATAENTRY!AL173","v":0},{"$f":"DATAENTRY!AM173","v":0},{"$f":"DATAENTRY!AN173","v":0},{"$f":"DATAENTRY!AO173","v":0},{"$f":"DATAENTRY!AP173","v":0},{"$f":"DATAENTRY!AQ173","v":0},{"$f":"DATAENTRY!AR173","v":0},{"$f":"DATAENTRY!AS173","v":0},{"$f":"DATAENTRY!AT173","v":0},{"$f":"DATAENTRY!AU173","v":0},{"$f":"DATAENTRY!AV173","v":0},{"$f":"DATAENTRY!AW173","v":0},{"$f":"DATAENTRY!AX173","v":0},{"$f":"DATAENTRY!AY173","v":0},{"$f":"DATAENTRY!AZ173","v":0},{"$f":"DATAENTRY!BA173","v":0},{"$f":"DATAENTRY!BB173","v":0},{"$f":"DATAENTRY!BC173","v":0},{"$f":"DATAENTRY!BD173","v":0},{"$f":"DATAENTRY!BE173","v":0},{"$f":"DATAENTRY!BF173","v":0},{"$f":"DATAENTRY!BG173","v":0},{"$f":"DATAENTRY!BH173","v":""}]
[{"$f":"DATAENTRY!C174","v":0},{"$f":"DATAENTRY!D174","v":0},{"$f":"DATAENTRY!E174","v":0},{"$f":"DATAENTRY!F174","v":0},{"$f":"DATAENTRY!G174","v":0},{"$f":"DATAENTRY!H174","v":0},{"$f":"DATAENTRY!I174","v":0},{"$f":"DATAENTRY!J174","v":0},{"$f":"DATAENTRY!K174","v":0},{"$f":"DATAENTRY!L174","v":0},{"$f":"DATAENTRY!M174","v":0},{"$f":"DATAENTRY!N174","v":0},{"$f":"DATAENTRY!O174","v":0},{"$f":"DATAENTRY!P174","v":0},{"$f":"DATAENTRY!Q174","v":0},{"$f":"DATAENTRY!R174","v":0},{"$f":"DATAENTRY!S174","v":0},{"$f":"DATAENTRY!T174","v":0},{"$f":"DATAENTRY!U174","v":0},{"$f":"DATAENTRY!V174","v":0},{"$f":"DATAENTRY!W174","v":0},{"$f":"DATAENTRY!X174","v":0},{"$f":"DATAENTRY!Y174","v":0},{"$f":"DATAENTRY!Z174","v":0},{"$f":"DATAENTRY!AA174","v":0},{"$f":"DATAENTRY!AB174","v":0},{"$f":"DATAENTRY!AC174","v":0},{"$f":"DATAENTRY!AD174","v":0},{"$f":"DATAENTRY!AE174","v":0},{"$f":"DATAENTRY!AF174","v":0},{"$f":"DATAENTRY!AG174","v":0},{"$f":"DATAENTRY!AH174","v":0},{"$f":"DATAENTRY!AI174","v":0},{"$f":"DATAENTRY!AJ174","v":0},{"$f":"DATAENTRY!AK174","v":0},{"$f":"DATAENTRY!AL174","v":0},{"$f":"DATAENTRY!AM174","v":0},{"$f":"DATAENTRY!AN174","v":0},{"$f":"DATAENTRY!AO174","v":0},{"$f":"DATAENTRY!AP174","v":0},{"$f":"DATAENTRY!AQ174","v":0},{"$f":"DATAENTRY!AR174","v":0},{"$f":"DATAENTRY!AS174","v":0},{"$f":"DATAENTRY!AT174","v":0},{"$f":"DATAENTRY!AU174","v":0},{"$f":"DATAENTRY!AV174","v":0},{"$f":"DATAENTRY!AW174","v":0},{"$f":"DATAENTRY!AX174","v":0},{"$f":"DATAENTRY!AY174","v":0},{"$f":"DATAENTRY!AZ174","v":0},{"$f":"DATAENTRY!BA174","v":0},{"$f":"DATAENTRY!BB174","v":0},{"$f":"DATAENTRY!BC174","v":0},{"$f":"DATAENTRY!BD174","v":0},{"$f":"DATAENTRY!BE174","v":0},{"$f":"DATAENTRY!BF174","v":0},{"$f":"DATAENTRY!BG174","v":0},{"$f":"DATAENTRY!BH174","v":""}]
[{"$f":"DATAENTRY!C175","v":0},{"$f":"DATAENTRY!D175","v":0},{"$f":"DATAENTRY!E175","v":0},{"$f":"DATAENTRY!F175","v":0},{"$f":"DATAENTRY!G175","v":0},{"$f":"DATAENTRY!H175","v":0},{"$f":"DATAENTRY!I175","v":0},{"$f":"DATAENTRY!J175","v":0},{"$f":"DATAENTRY!K175","v":0},{"$f":"DATAENTRY!L175","v":0},{"$f":"DATAENTRY!M175","v":0},{"$f":"DATAENTRY!N175","v":0},{"$f":"DATAENTRY!O175","v":0},{"$f":"DATAENTRY!P175","v":0},{"$f":"DATAENTRY!Q175","v":0},{"$f":"DATAENTRY!R175","v":0},{"$f":"DATAENTRY!S175","v":0},{"$f":"DATAENTRY!T175","v":0},{"$f":"DATAENTRY!U175","v":0},{"$f":"DATAENTRY!V175","v":0},{"$f":"DATAENTRY!W175","v":0},{"$f":"DATAENTRY!X175","v":0},{"$f":"DATAENTRY!Y175","v":0},{"$f":"DATAENTRY!Z175","v":0},{"$f":"DATAENTRY!AA175","v":0},{"$f":"DATAENTRY!AB175","v":0},{"$f":"DATAENTRY!AC175","v":0},{"$f":"DATAENTRY!AD175","v":0},{"$f":"DATAENTRY!AE175","v":0},{"$f":"DATAENTRY!AF175","v":0},{"$f":"DATAENTRY!AG175","v":0},{"$f":"DATAENTRY!AH175","v":0},{"$f":"DATAENTRY!AI175","v":0},{"$f":"DATAENTRY!AJ175","v":0},{"$f":"DATAENTRY!AK175","v":0},{"$f":"DATAENTRY!AL175","v":0},{"$f":"DATAENTRY!AM175","v":0},{"$f":"DATAENTRY!AN175","v":0},{"$f":"DATAENTRY!AO175","v":0},{"$f":"DATAENTRY!AP175","v":0},{"$f":"DATAENTRY!AQ175","v":0},{"$f":"DATAENTRY!AR175","v":0},{"$f":"DATAENTRY!AS175","v":0},{"$f":"DATAENTRY!AT175","v":0},{"$f":"DATAENTRY!AU175","v":0},{"$f":"DATAENTRY!AV175","v":0},{"$f":"DATAENTRY!AW175","v":0},{"$f":"DATAENTRY!AX175","v":0},{"$f":"DATAENTRY!AY175","v":0},{"$f":"DATAENTRY!AZ175","v":0},{"$f":"DATAENTRY!BA175","v":0},{"$f":"DATAENTRY!BB175","v":0},{"$f":"DATAENTRY!BC175","v":0},{"$f":"DATAENTRY!BD175","v":0},{"$f":"DATAENTRY!BE175","v":0},{"$f":"DATAENTRY!BF175","v":0},{"$f":"DATAENTRY!BG175","v":0},{"$f":"DATAENTRY!BH175","v":""}]
[{"$f":"DATAENTRY!C176","v":0},{"$f":"DATAENTRY!D176","v":0},{"$f":"DATAENTRY!E176","v":0},{"$f":"DATAENTRY!F176","v":0},{"$f":"DATAENTRY!G176","v":0},{"$f":"DATAENTRY!H176","v":0},{"$f":"DATAENTRY!I176","v":0},{"$f":"DATAENTRY!J176","v":0},{"$f":"DATAENTRY!K176","v":0},{"$f":"DATAENTRY!L176","v":0},{"$f":"DATAENTRY!M176","v":0},{"$f":"DATAENTRY!N176","v":0},{"$f":"DATAENTRY!O176","v":0},{"$f":"DATAENTRY!P176","v":0},{"$f":"DATAENTRY!Q176","v":0},{"$f":"DATAENTRY!R176","v":0},{"$f":"DATAENTRY!S176","v":0},{"$f":"DATAENTRY!T176","v":0},{"$f":"DATAENTRY!U176","v":0},{"$f":"DATAENTRY!V176","v":0},{"$f":"DATAENTRY!W176","v":0},{"$f":"DATAENTRY!X176","v":0},{"$f":"DATAENTRY!Y176","v":0},{"$f":"DATAENTRY!Z176","v":0},{"$f":"DATAENTRY!AA176","v":0},{"$f":"DATAENTRY!AB176","v":0},{"$f":"DATAENTRY!AC176","v":0},{"$f":"DATAENTRY!AD176","v":0},{"$f":"DATAENTRY!AE176","v":0},{"$f":"DATAENTRY!AF176","v":0},{"$f":"DATAENTRY!AG176","v":0},{"$f":"DATAENTRY!AH176","v":0},{"$f":"DATAENTRY!AI176","v":0},{"$f":"DATAENTRY!AJ176","v":0},{"$f":"DATAENTRY!AK176","v":0},{"$f":"DATAENTRY!AL176","v":0},{"$f":"DATAENTRY!AM176","v":0},{"$f":"DATAENTRY!AN176","v":0},{"$f":"DATAENTRY!AO176","v":0},{"$f":"DATAENTRY!AP176","v":0},{"$f":"DATAENTRY!AQ176","v":0},{"$f":"DATAENTRY!AR176","v":0},{"$f":"DATAENTRY!AS176","v":0},{"$f":"DATAENTRY!AT176","v":0},{"$f":"DATAENTRY!AU176","v":0},{"$f":"DATAENTRY!AV176","v":0},{"$f":"DATAENTRY!AW176","v":0},{"$f":"DATAENTRY!AX176","v":0},{"$f":"DATAENTRY!AY176","v":0},{"$f":"DATAENTRY!AZ176","v":0},{"$f":"DATAENTRY!BA176","v":0},{"$f":"DATAENTRY!BB176","v":0},{"$f":"DATAENTRY!BC176","v":0},{"$f":"DATAENTRY!BD176","v":0},{"$f":"DATAENTRY!BE176","v":0},{"$f":"DATAENTRY!BF176","v":0},{"$f":"DATAENTRY!BG176","v":0},{"$f":"DATAENTRY!BH176","v":""}]
[{"$f":"DATAENTRY!C177","v":0},{"$f":"DATAENTRY!D177","v":0},{"$f":"DATAENTRY!E177","v":0},{"$f":"DATAENTRY!F177","v":0},{"$f":"DATAENTRY!G177","v":0},{"$f":"DATAENTRY!H177","v":0},{"$f":"DATAENTRY!I177","v":0},{"$f":"DATAENTRY!J177","v":0},{"$f":"DATAENTRY!K177","v":0},{"$f":"DATAENTRY!L177","v":0},{"$f":"DATAENTRY!M177","v":0},{"$f":"DATAENTRY!N177","v":0},{"$f":"DATAENTRY!O177","v":0},{"$f":"DATAENTRY!P177","v":0},{"$f":"DATAENTRY!Q177","v":0},{"$f":"DATAENTRY!R177","v":0},{"$f":"DATAENTRY!S177","v":0},{"$f":"DATAENTRY!T177","v":0},{"$f":"DATAENTRY!U177","v":0},{"$f":"DATAENTRY!V177","v":0},{"$f":"DATAENTRY!W177","v":0},{"$f":"DATAENTRY!X177","v":0},{"$f":"DATAENTRY!Y177","v":0},{"$f":"DATAENTRY!Z177","v":0},{"$f":"DATAENTRY!AA177","v":0},{"$f":"DATAENTRY!AB177","v":0},{"$f":"DATAENTRY!AC177","v":0},{"$f":"DATAENTRY!AD177","v":0},{"$f":"DATAENTRY!AE177","v":0},{"$f":"DATAENTRY!AF177","v":0},{"$f":"DATAENTRY!AG177","v":0},{"$f":"DATAENTRY!AH177","v":0},{"$f":"DATAENTRY!AI177","v":0},{"$f":"DATAENTRY!AJ177","v":0},{"$f":"DATAENTRY!AK177","v":0},{"$f":"DATAENTRY!AL177","v":0},{"$f":"DATAENTRY!AM177","v":0},{"$f":"DATAENTRY!AN177","v":0},{"$f":"DATAENTRY!AO177","v":0},{"$f":"DATAENTRY!AP177","v":0},{"$f":"DATAENTRY!AQ177","v":0},{"$f":"DATAENTRY!AR177","v":0},{"$f":"DATAENTRY!AS177","v":0},{"$f":"DATAENTRY!AT177","v":0},{"$f":"DATAENTRY!AU177","v":0},{"$f":"DATAENTRY!AV177","v":0},{"$f":"DATAENTRY!AW177","v":0},{"$f":"DATAENTRY!AX177","v":0},{"$f":"DATAENTRY!AY177","v":0},{"$f":"DATAENTRY!AZ177","v":0},{"$f":"DATAENTRY!BA177","v":0},{"$f":"DATAENTRY!BB177","v":0},{"$f":"DATAENTRY!BC177","v":0},{"$f":"DATAENTRY!BD177","v":0},{"$f":"DATAENTRY!BE177","v":0},{"$f":"DATAENTRY!BF177","v":0},{"$f":"DATAENTRY!BG177","v":0},{"$f":"DATAENTRY!BH177","v":""}]
[{"$f":"DATAENTRY!C178","v":0},{"$f":"DATAENTRY!D178","v":0},{"$f":"DATAENTRY!E178","v":0},{"$f":"DATAENTRY!F178","v":0},{"$f":"DATAENTRY!G178","v":0},{"$f":"DATAENTRY!H178","v":0},{"$f":"DATAENTRY!I178","v":0},{"$f":"DATAENTRY!J178","v":0},{"$f":"DATAENTRY!K178","v":0},{"$f":"DATAENTRY!L178","v":0},{"$f":"DATAENTRY!M178","v":0},{"$f":"DATAENTRY!N178","v":0},{"$f":"DATAENTRY!O178","v":0},{"$f":"DATAENTRY!P178","v":0},{"$f":"DATAENTRY!Q178","v":0},{"$f":"DATAENTRY!R178","v":0},{"$f":"DATAENTRY!S178","v":0},{"$f":"DATAENTRY!T178","v":0},{"$f":"DATAENTRY!U178","v":0},{"$f":"DATAENTRY!V178","v":0},{"$f":"DATAENTRY!W178","v":0},{"$f":"DATAENTRY!X178","v":0},{"$f":"DATAENTRY!Y178","v":0},{"$f":"DATAENTRY!Z178","v":0},{"$f":"DATAENTRY!AA178","v":0},{"$f":"DATAENTRY!AB178","v":0},{"$f":"DATAENTRY!AC178","v":0},{"$f":"DATAENTRY!AD178","v":0},{"$f":"DATAENTRY!AE178","v":0},{"$f":"DATAENTRY!AF178","v":0},{"$f":"DATAENTRY!AG178","v":0},{"$f":"DATAENTRY!AH178","v":0},{"$f":"DATAENTRY!AI178","v":0},{"$f":"DATAENTRY!AJ178","v":0},{"$f":"DATAENTRY!AK178","v":0},{"$f":"DATAENTRY!AL178","v":0},{"$f":"DATAENTRY!AM178","v":0},{"$f":"DATAENTRY!AN178","v":0},{"$f":"DATAENTRY!AO178","v":0},{"$f":"DATAENTRY!AP178","v":0},{"$f":"DATAENTRY!AQ178","v":0},{"$f":"DATAENTRY!AR178","v":0},{"$f":"DATAENTRY!AS178","v":0},{"$f":"DATAENTRY!AT178","v":0},{"$f":"DATAENTRY!AU178","v":0},{"$f":"DATAENTRY!AV178","v":0},{"$f":"DATAENTRY!AW178","v":0},{"$f":"DATAENTRY!AX178","v":0},{"$f":"DATAENTRY!AY178","v":0},{"$f":"DATAENTRY!AZ178","v":0},{"$f":"DATAENTRY!BA178","v":0},{"$f":"DATAENTRY!BB178","v":0},{"$f":"DATAENTRY!BC178","v":0},{"$f":"DATAENTRY!BD178","v":0},{"$f":"DATAENTRY!BE178","v":0},{"$f":"DATAENTRY!BF178","v":0},{"$f":"DATAENTRY!BG178","v":0},{"$f":"DATAENTRY!BH178","v":""}]
[{"$f":"DATAENTRY!C179","v":0},{"$f":"DATAENTRY!D179","v":0},{"$f":"DATAENTRY!E179","v":0},{"$f":"DATAENTRY!F179","v":0},{"$f":"DATAENTRY!G179","v":0},{"$f":"DATAENTRY!H179","v":0},{"$f":"DATAENTRY!I179","v":0},{"$f":"DATAENTRY!J179","v":0},{"$f":"DATAENTRY!K179","v":0},{"$f":"DATAENTRY!L179","v":0},{"$f":"DATAENTRY!M179","v":0},{"$f":"DATAENTRY!N179","v":0},{"$f":"DATAENTRY!O179","v":0},{"$f":"DATAENTRY!P179","v":0},{"$f":"DATAENTRY!Q179","v":0},{"$f":"DATAENTRY!R179","v":0},{"$f":"DATAENTRY!S179","v":0},{"$f":"DATAENTRY!T179","v":0},{"$f":"DATAENTRY!U179","v":0},{"$f":"DATAENTRY!V179","v":0},{"$f":"DATAENTRY!W179","v":0},{"$f":"DATAENTRY!X179","v":0},{"$f":"DATAENTRY!Y179","v":0},{"$f":"DATAENTRY!Z179","v":0},{"$f":"DATAENTRY!AA179","v":0},{"$f":"DATAENTRY!AB179","v":0},{"$f":"DATAENTRY!AC179","v":0},{"$f":"DATAENTRY!AD179","v":0},{"$f":"DATAENTRY!AE179","v":0},{"$f":"DATAENTRY!AF179","v":0},{"$f":"DATAENTRY!AG179","v":0},{"$f":"DATAENTRY!AH179","v":0},{"$f":"DATAENTRY!AI179","v":0},{"$f":"DATAENTRY!AJ179","v":0},{"$f":"DATAENTRY!AK179","v":0},{"$f":"DATAENTRY!AL179","v":0},{"$f":"DATAENTRY!AM179","v":0},{"$f":"DATAENTRY!AN179","v":0},{"$f":"DATAENTRY!AO179","v":0},{"$f":"DATAENTRY!AP179","v":0},{"$f":"DATAENTRY!AQ179","v":0},{"$f":"DATAENTRY!AR179","v":0},{"$f":"DATAENTRY!AS179","v":0},{"$f":"DATAENTRY!AT179","v":0},{"$f":"DATAENTRY!AU179","v":0},{"$f":"DATAENTRY!AV179","v":0},{"$f":"DATAENTRY!AW179","v":0},{"$f":"DATAENTRY!AX179","v":0},{"$f":"DATAENTRY!AY179","v":0},{"$f":"DATAENTRY!AZ179","v":0},{"$f":"DATAENTRY!BA179","v":0},{"$f":"DATAENTRY!BB179","v":0},{"$f":"DATAENTRY!BC179","v":0},{"$f":"DATAENTRY!BD179","v":0},{"$f":"DATAENTRY!BE179","v":0},{"$f":"DATAENTRY!BF179","v":0},{"$f":"DATAENTRY!BG179","v":0},{"$f":"DATAENTRY!BH179","v":""}]
[{"$f":"DATAENTRY!C180","v":0},{"$f":"DATAENTRY!D180","v":0},{"$f":"DATAENTRY!E180","v":0},{"$f":"DATAENTRY!F180","v":0},{"$f":"DATAENTRY!G180","v":0},{"$f":"DATAENTRY!H180","v":0},{"$f":"DATAENTRY!I180","v":0},{"$f":"DATAENTRY!J180","v":0},{"$f":"DATAENTRY!K180","v":0},{"$f":"DATAENTRY!L180","v":0},{"$f":"DATAENTRY!M180","v":0},{"$f":"DATAENTRY!N180","v":0},{"$f":"DATAENTRY!O180","v":0},{"$f":"DATAENTRY!P180","v":0},{"$f":"DATAENTRY!Q180","v":0},{"$f":"DATAENTRY!R180","v":0},{"$f":"DATAENTRY!S180","v":0},{"$f":"DATAENTRY!T180","v":0},{"$f":"DATAENTRY!U180","v":0},{"$f":"DATAENTRY!V180","v":0},{"$f":"DATAENTRY!W180","v":0},{"$f":"DATAENTRY!X180","v":0},{"$f":"DATAENTRY!Y180","v":0},{"$f":"DATAENTRY!Z180","v":0},{"$f":"DATAENTRY!AA180","v":0},{"$f":"DATAENTRY!AB180","v":0},{"$f":"DATAENTRY!AC180","v":0},{"$f":"DATAENTRY!AD180","v":0},{"$f":"DATAENTRY!AE180","v":0},{"$f":"DATAENTRY!AF180","v":0},{"$f":"DATAENTRY!AG180","v":0},{"$f":"DATAENTRY!AH180","v":0},{"$f":"DATAENTRY!AI180","v":0},{"$f":"DATAENTRY!AJ180","v":0},{"$f":"DATAENTRY!AK180","v":0},{"$f":"DATAENTRY!AL180","v":0},{"$f":"DATAENTRY!AM180","v":0},{"$f":"DATAENTRY!AN180","v":0},{"$f":"DATAENTRY!AO180","v":0},{"$f":"DATAENTRY!AP180","v":0},{"$f":"DATAENTRY!AQ180","v":0},{"$f":"DATAENTRY!AR180","v":0},{"$f":"DATAENTRY!AS180","v":0},{"$f":"DATAENTRY!AT180","v":0},{"$f":"DATAENTRY!AU180","v":0},{"$f":"DATAENTRY!AV180","v":0},{"$f":"DATAENTRY!AW180","v":0},{"$f":"DATAENTRY!AX180","v":0},{"$f":"DATAENTRY!AY180","v":0},{"$f":"DATAENTRY!AZ180","v":0},{"$f":"DATAENTRY!BA180","v":0},{"$f":"DATAENTRY!BB180","v":0},{"$f":"DATAENTRY!BC180","v":0},{"$f":"DATAENTRY!BD180","v":0},{"$f":"DATAENTRY!BE180","v":0},{"$f":"DATAENTRY!BF180","v":0},{"$f":"DATAENTRY!BG180","v":0},{"$f":"DATAENTRY!BH180","v":""}]
[{"$f":"DATAENTRY!C181","v":0},{"$f":"DATAENTRY!D181","v":0},{"$f":"DATAENTRY!E181","v":0},{"$f":"DATAENTRY!F181","v":0},{"$f":"DATAENTRY!G181","v":0},{"$f":"DATAENTRY!H181","v":0},{"$f":"DATAENTRY!I181","v":0},{"$f":"DATAENTRY!J181","v":0},{"$f":"DATAENTRY!K181","v":0},{"$f":"DATAENTRY!L181","v":0},{"$f":"DATAENTRY!M181","v":0},{"$f":"DATAENTRY!N181","v":0},{"$f":"DATAENTRY!O181","v":0},{"$f":"DATAENTRY!P181","v":0},{"$f":"DATAENTRY!Q181","v":0},{"$f":"DATAENTRY!R181","v":0},{"$f":"DATAENTRY!S181","v":0},{"$f":"DATAENTRY!T181","v":0},{"$f":"DATAENTRY!U181","v":0},{"$f":"DATAENTRY!V181","v":0},{"$f":"DATAENTRY!W181","v":0},{"$f":"DATAENTRY!X181","v":0},{"$f":"DATAENTRY!Y181","v":0},{"$f":"DATAENTRY!Z181","v":0},{"$f":"DATAENTRY!AA181","v":0},{"$f":"DATAENTRY!AB181","v":0},{"$f":"DATAENTRY!AC181","v":0},{"$f":"DATAENTRY!AD181","v":0},{"$f":"DATAENTRY!AE181","v":0},{"$f":"DATAENTRY!AF181","v":0},{"$f":"DATAENTRY!AG181","v":0},{"$f":"DATAENTRY!AH181","v":0},{"$f":"DATAENTRY!AI181","v":0},{"$f":"DATAENTRY!AJ181","v":0},{"$f":"DATAENTRY!AK181","v":0},{"$f":"DATAENTRY!AL181","v":0},{"$f":"DATAENTRY!AM181","v":0},{"$f":"DATAENTRY!AN181","v":0},{"$f":"DATAENTRY!AO181","v":0},{"$f":"DATAENTRY!AP181","v":0},{"$f":"DATAENTRY!AQ181","v":0},{"$f":"DATAENTRY!AR181","v":0},{"$f":"DATAENTRY!AS181","v":0},{"$f":"DATAENTRY!AT181","v":0},{"$f":"DATAENTRY!AU181","v":0},{"$f":"DATAENTRY!AV181","v":0},{"$f":"DATAENTRY!AW181","v":0},{"$f":"DATAENTRY!AX181","v":0},{"$f":"DATAENTRY!AY181","v":0},{"$f":"DATAENTRY!AZ181","v":0},{"$f":"DATAENTRY!BA181","v":0},{"$f":"DATAENTRY!BB181","v":0},{"$f":"DATAENTRY!BC181","v":0},{"$f":"DATAENTRY!BD181","v":0},{"$f":"DATAENTRY!BE181","v":0},{"$f":"DATAENTRY!BF181","v":0},{"$f":"DATAENTRY!BG181","v":0},{"$f":"DATAENTRY!BH181","v":""}]
[{"$f":"DATAENTRY!C182","v":0},{"$f":"DATAENTRY!D182","v":0},{"$f":"DATAENTRY!E182","v":0},{"$f":"DATAENTRY!F182","v":0},{"$f":"DATAENTRY!G182","v":0},{"$f":"DATAENTRY!H182","v":0},{"$f":"DATAENTRY!I182","v":0},{"$f":"DATAENTRY!J182","v":0},{"$f":"DATAENTRY!K182","v":0},{"$f":"DATAENTRY!L182","v":0},{"$f":"DATAENTRY!M182","v":0},{"$f":"DATAENTRY!N182","v":0},{"$f":"DATAENTRY!O182","v":0},{"$f":"DATAENTRY!P182","v":0},{"$f":"DATAENTRY!Q182","v":0},{"$f":"DATAENTRY!R182","v":0},{"$f":"DATAENTRY!S182","v":0},{"$f":"DATAENTRY!T182","v":0},{"$f":"DATAENTRY!U182","v":0},{"$f":"DATAENTRY!V182","v":0},{"$f":"DATAENTRY!W182","v":0},{"$f":"DATAENTRY!X182","v":0},{"$f":"DATAENTRY!Y182","v":0},{"$f":"DATAENTRY!Z182","v":0},{"$f":"DATAENTRY!AA182","v":0},{"$f":"DATAENTRY!AB182","v":0},{"$f":"DATAENTRY!AC182","v":0},{"$f":"DATAENTRY!AD182","v":0},{"$f":"DATAENTRY!AE182","v":0},{"$f":"DATAENTRY!AF182","v":0},{"$f":"DATAENTRY!AG182","v":0},{"$f":"DATAENTRY!AH182","v":0},{"$f":"DATAENTRY!AI182","v":0},{"$f":"DATAENTRY!AJ182","v":0},{"$f":"DATAENTRY!AK182","v":0},{"$f":"DATAENTRY!AL182","v":0},{"$f":"DATAENTRY!AM182","v":0},{"$f":"DATAENTRY!AN182","v":0},{"$f":"DATAENTRY!AO182","v":0},{"$f":"DATAENTRY!AP182","v":0},{"$f":"DATAENTRY!AQ182","v":0},{"$f":"DATAENTRY!AR182","v":0},{"$f":"DATAENTRY!AS182","v":0},{"$f":"DATAENTRY!AT182","v":0},{"$f":"DATAENTRY!AU182","v":0},{"$f":"DATAENTRY!AV182","v":0},{"$f":"DATAENTRY!AW182","v":0},{"$f":"DATAENTRY!AX182","v":0},{"$f":"DATAENTRY!AY182","v":0},{"$f":"DATAENTRY!AZ182","v":0},{"$f":"DATAENTRY!BA182","v":0},{"$f":"DATAENTRY!BB182","v":0},{"$f":"DATAENTRY!BC182","v":0},{"$f":"DATAENTRY!BD182","v":0},{"$f":"DATAENTRY!BE182","v":0},{"$f":"DATAENTRY!BF182","v":0},{"$f":"DATAENTRY!BG182","v":0},{"$f":"DATAENTRY!BH182","v":""}]
[{"$f":"DATAENTRY!C183","v":0},{"$f":"DATAENTRY!D183","v":0},{"$f":"DATAENTRY!E183","v":0},{"$f":"DATAENTRY!F183","v":0},{"$f":"DATAENTRY!G183","v":0},{"$f":"DATAENTRY!H183","v":0},{"$f":"DATAENTRY!I183","v":0},{"$f":"DATAENTRY!J183","v":0},{"$f":"DATAENTRY!K183","v":0},{"$f":"DATAENTRY!L183","v":0},{"$f":"DATAENTRY!M183","v":0},{"$f":"DATAENTRY!N183","v":0},{"$f":"DATAENTRY!O183","v":0},{"$f":"DATAENTRY!P183","v":0},{"$f":"DATAENTRY!Q183","v":0},{"$f":"DATAENTRY!R183","v":0},{"$f":"DATAENTRY!S183","v":0},{"$f":"DATAENTRY!T183","v":0},{"$f":"DATAENTRY!U183","v":0},{"$f":"DATAENTRY!V183","v":0},{"$f":"DATAENTRY!W183","v":0},{"$f":"DATAENTRY!X183","v":0},{"$f":"DATAENTRY!Y183","v":0},{"$f":"DATAENTRY!Z183","v":0},{"$f":"DATAENTRY!AA183","v":0},{"$f":"DATAENTRY!AB183","v":0},{"$f":"DATAENTRY!AC183","v":0},{"$f":"DATAENTRY!AD183","v":0},{"$f":"DATAENTRY!AE183","v":0},{"$f":"DATAENTRY!AF183","v":0},{"$f":"DATAENTRY!AG183","v":0},{"$f":"DATAENTRY!AH183","v":0},{"$f":"DATAENTRY!AI183","v":0},{"$f":"DATAENTRY!AJ183","v":0},{"$f":"DATAENTRY!AK183","v":0},{"$f":"DATAENTRY!AL183","v":0},{"$f":"DATAENTRY!AM183","v":0},{"$f":"DATAENTRY!AN183","v":0},{"$f":"DATAENTRY!AO183","v":0},{"$f":"DATAENTRY!AP183","v":0},{"$f":"DATAENTRY!AQ183","v":0},{"$f":"DATAENTRY!AR183","v":0},{"$f":"DATAENTRY!AS183","v":0},{"$f":"DATAENTRY!AT183","v":0},{"$f":"DATAENTRY!AU183","v":0},{"$f":"DATAENTRY!AV183","v":0},{"$f":"DATAENTRY!AW183","v":0},{"$f":"DATAENTRY!AX183","v":0},{"$f":"DATAENTRY!AY183","v":0},{"$f":"DATAENTRY!AZ183","v":0},{"$f":"DATAENTRY!BA183","v":0},{"$f":"DATAENTRY!BB183","v":0},{"$f":"DATAENTRY!BC183","v":0},{"$f":"DATAENTRY!BD183","v":0},{"$f":"DATAENTRY!BE183","v":0},{"$f":"DATAENTRY!BF183","v":0},{"$f":"DATAENTRY!BG183","v":0},{"$f":"DATAENTRY!BH183","v":""}]
[{"$f":"DATAENTRY!C184","v":0},{"$f":"DATAENTRY!D184","v":0},{"$f":"DATAENTRY!E184","v":0},{"$f":"DATAENTRY!F184","v":0},{"$f":"DATAENTRY!G184","v":0},{"$f":"DATAENTRY!H184","v":0},{"$f":"DATAENTRY!I184","v":0},{"$f":"DATAENTRY!J184","v":0},{"$f":"DATAENTRY!K184","v":0},{"$f":"DATAENTRY!L184","v":0},{"$f":"DATAENTRY!M184","v":0},{"$f":"DATAENTRY!N184","v":0},{"$f":"DATAENTRY!O184","v":0},{"$f":"DATAENTRY!P184","v":0},{"$f":"DATAENTRY!Q184","v":0},{"$f":"DATAENTRY!R184","v":0},{"$f":"DATAENTRY!S184","v":0},{"$f":"DATAENTRY!T184","v":0},{"$f":"DATAENTRY!U184","v":0},{"$f":"DATAENTRY!V184","v":0},{"$f":"DATAENTRY!W184","v":0},{"$f":"DATAENTRY!X184","v":0},{"$f":"DATAENTRY!Y184","v":0},{"$f":"DATAENTRY!Z184","v":0},{"$f":"DATAENTRY!AA184","v":0},{"$f":"DATAENTRY!AB184","v":0},{"$f":"DATAENTRY!AC184","v":0},{"$f":"DATAENTRY!AD184","v":0},{"$f":"DATAENTRY!AE184","v":0},{"$f":"DATAENTRY!AF184","v":0},{"$f":"DATAENTRY!AG184","v":0},{"$f":"DATAENTRY!AH184","v":0},{"$f":"DATAENTRY!AI184","v":0},{"$f":"DATAENTRY!AJ184","v":0},{"$f":"DATAENTRY!AK184","v":0},{"$f":"DATAENTRY!AL184","v":0},{"$f":"DATAENTRY!AM184","v":0},{"$f":"DATAENTRY!AN184","v":0},{"$f":"DATAENTRY!AO184","v":0},{"$f":"DATAENTRY!AP184","v":0},{"$f":"DATAENTRY!AQ184","v":0},{"$f":"DATAENTRY!AR184","v":0},{"$f":"DATAENTRY!AS184","v":0},{"$f":"DATAENTRY!AT184","v":0},{"$f":"DATAENTRY!AU184","v":0},{"$f":"DATAENTRY!AV184","v":0},{"$f":"DATAENTRY!AW184","v":0},{"$f":"DATAENTRY!AX184","v":0},{"$f":"DATAENTRY!AY184","v":0},{"$f":"DATAENTRY!AZ184","v":0},{"$f":"DATAENTRY!BA184","v":0},{"$f":"DATAENTRY!BB184","v":0},{"$f":"DATAENTRY!BC184","v":0},{"$f":"DATAENTRY!BD184","v":0},{"$f":"DATAENTRY!BE184","v":0},{"$f":"DATAENTRY!BF184","v":0},{"$f":"DATAENTRY!BG184","v":0},{"$f":"DATAENTRY!BH184","v":""}]
[{"$f":"DATAENTRY!C185","v":0},{"$f":"DATAENTRY!D185","v":0},{"$f":"DATAENTRY!E185","v":0},{"$f":"DATAENTRY!F185","v":0},{"$f":"DATAENTRY!G185","v":0},{"$f":"DATAENTRY!H185","v":0},{"$f":"DATAENTRY!I185","v":0},{"$f":"DATAENTRY!J185","v":0},{"$f":"DATAENTRY!K185","v":0},{"$f":"DATAENTRY!L185","v":0},{"$f":"DATAENTRY!M185","v":0},{"$f":"DATAENTRY!N185","v":0},{"$f":"DATAENTRY!O185","v":0},{"$f":"DATAENTRY!P185","v":0},{"$f":"DATAENTRY!Q185","v":0},{"$f":"DATAENTRY!R185","v":0},{"$f":"DATAENTRY!S185","v":0},{"$f":"DATAENTRY!T185","v":0},{"$f":"DATAENTRY!U185","v":0},{"$f":"DATAENTRY!V185","v":0},{"$f":"DATAENTRY!W185","v":0},{"$f":"DATAENTRY!X185","v":0},{"$f":"DATAENTRY!Y185","v":0},{"$f":"DATAENTRY!Z185","v":0},{"$f":"DATAENTRY!AA185","v":0},{"$f":"DATAENTRY!AB185","v":0},{"$f":"DATAENTRY!AC185","v":0},{"$f":"DATAENTRY!AD185","v":0},{"$f":"DATAENTRY!AE185","v":0},{"$f":"DATAENTRY!AF185","v":0},{"$f":"DATAENTRY!AG185","v":0},{"$f":"DATAENTRY!AH185","v":0},{"$f":"DATAENTRY!AI185","v":0},{"$f":"DATAENTRY!AJ185","v":0},{"$f":"DATAENTRY!AK185","v":0},{"$f":"DATAENTRY!AL185","v":0},{"$f":"DATAENTRY!AM185","v":0},{"$f":"DATAENTRY!AN185","v":0},{"$f":"DATAENTRY!AO185","v":0},{"$f":"DATAENTRY!AP185","v":0},{"$f":"DATAENTRY!AQ185","v":0},{"$f":"DATAENTRY!AR185","v":0},{"$f":"DATAENTRY!AS185","v":0},{"$f":"DATAENTRY!AT185","v":0},{"$f":"DATAENTRY!AU185","v":0},{"$f":"DATAENTRY!AV185","v":0},{"$f":"DATAENTRY!AW185","v":0},{"$f":"DATAENTRY!AX185","v":0},{"$f":"DATAENTRY!AY185","v":0},{"$f":"DATAENTRY!AZ185","v":0},{"$f":"DATAENTRY!BA185","v":0},{"$f":"DATAENTRY!BB185","v":0},{"$f":"DATAENTRY!BC185","v":0},{"$f":"DATAENTRY!BD185","v":0},{"$f":"DATAENTRY!BE185","v":0},{"$f":"DATAENTRY!BF185","v":0},{"$f":"DATAENTRY!BG185","v":0},{"$f":"DATAENTRY!BH185","v":""}]
[{"$f":"DATAENTRY!C186","v":0},{"$f":"DATAENTRY!D186","v":0},{"$f":"DATAENTRY!E186","v":0},{"$f":"DATAENTRY!F186","v":0},{"$f":"DATAENTRY!G186","v":0},{"$f":"DATAENTRY!H186","v":0},{"$f":"DATAENTRY!I186","v":0},{"$f":"DATAENTRY!J186","v":0},{"$f":"DATAENTRY!K186","v":0},{"$f":"DATAENTRY!L186","v":0},{"$f":"DATAENTRY!M186","v":0},{"$f":"DATAENTRY!N186","v":0},{"$f":"DATAENTRY!O186","v":0},{"$f":"DATAENTRY!P186","v":0},{"$f":"DATAENTRY!Q186","v":0},{"$f":"DATAENTRY!R186","v":0},{"$f":"DATAENTRY!S186","v":0},{"$f":"DATAENTRY!T186","v":0},{"$f":"DATAENTRY!U186","v":0},{"$f":"DATAENTRY!V186","v":0},{"$f":"DATAENTRY!W186","v":0},{"$f":"DATAENTRY!X186","v":0},{"$f":"DATAENTRY!Y186","v":0},{"$f":"DATAENTRY!Z186","v":0},{"$f":"DATAENTRY!AA186","v":0},{"$f":"DATAENTRY!AB186","v":0},{"$f":"DATAENTRY!AC186","v":0},{"$f":"DATAENTRY!AD186","v":0},{"$f":"DATAENTRY!AE186","v":0},{"$f":"DATAENTRY!AF186","v":0},{"$f":"DATAENTRY!AG186","v":0},{"$f":"DATAENTRY!AH186","v":0},{"$f":"DATAENTRY!AI186","v":0},{"$f":"DATAENTRY!AJ186","v":0},{"$f":"DATAENTRY!AK186","v":0},{"$f":"DATAENTRY!AL186","v":0},{"$f":"DATAENTRY!AM186","v":0},{"$f":"DATAENTRY!AN186","v":0},{"$f":"DATAENTRY!AO186","v":0},{"$f":"DATAENTRY!AP186","v":0},{"$f":"DATAENTRY!AQ186","v":0},{"$f":"DATAENTRY!AR186","v":0},{"$f":"DATAENTRY!AS186","v":0},{"$f":"DATAENTRY!AT186","v":0},{"$f":"DATAENTRY!AU186","v":0},{"$f":"DATAENTRY!AV186","v":0},{"$f":"DATAENTRY!AW186","v":0},{"$f":"DATAENTRY!AX186","v":0},{"$f":"DATAENTRY!AY186","v":0},{"$f":"DATAENTRY!AZ186","v":0},{"$f":"DATAENTRY!BA186","v":0},{"$f":"DATAENTRY!BB186","v":0},{"$f":"DATAENTRY!BC186","v":0},{"$f":"DATAENTRY!BD186","v":0},{"$f":"DATAENTRY!BE186","v":0},{"$f":"DATAENTRY!BF186","v":0},{"$f":"DATAENTRY!BG186","v":0},{"$f":"DATAENTRY!BH186","v":""}]
[{"$f":"DATAENTRY!C187","v":0},{"$f":"DATAENTRY!D187","v":0},{"$f":"DATAENTRY!E187","v":0},{"$f":"DATAENTRY!F187","v":0},{"$f":"DATAENTRY!G187","v":0},{"$f":"DATAENTRY!H187","v":0},{"$f":"DATAENTRY!I187","v":0},{"$f":"DATAENTRY!J187","v":0},{"$f":"DATAENTRY!K187","v":0},{"$f":"DATAENTRY!L187","v":0},{"$f":"DATAENTRY!M187","v":0},{"$f":"DATAENTRY!N187","v":0},{"$f":"DATAENTRY!O187","v":0},{"$f":"DATAENTRY!P187","v":0},{"$f":"DATAENTRY!Q187","v":0},{"$f":"DATAENTRY!R187","v":0},{"$f":"DATAENTRY!S187","v":0},{"$f":"DATAENTRY!T187","v":0},{"$f":"DATAENTRY!U187","v":0},{"$f":"DATAENTRY!V187","v":0},{"$f":"DATAENTRY!W187","v":0},{"$f":"DATAENTRY!X187","v":0},{"$f":"DATAENTRY!Y187","v":0},{"$f":"DATAENTRY!Z187","v":0},{"$f":"DATAENTRY!AA187","v":0},{"$f":"DATAENTRY!AB187","v":0},{"$f":"DATAENTRY!AC187","v":0},{"$f":"DATAENTRY!AD187","v":0},{"$f":"DATAENTRY!AE187","v":0},{"$f":"DATAENTRY!AF187","v":0},{"$f":"DATAENTRY!AG187","v":0},{"$f":"DATAENTRY!AH187","v":0},{"$f":"DATAENTRY!AI187","v":0},{"$f":"DATAENTRY!AJ187","v":0},{"$f":"DATAENTRY!AK187","v":0},{"$f":"DATAENTRY!AL187","v":0},{"$f":"DATAENTRY!AM187","v":0},{"$f":"DATAENTRY!AN187","v":0},{"$f":"DATAENTRY!AO187","v":0},{"$f":"DATAENTRY!AP187","v":0},{"$f":"DATAENTRY!AQ187","v":0},{"$f":"DATAENTRY!AR187","v":0},{"$f":"DATAENTRY!AS187","v":0},{"$f":"DATAENTRY!AT187","v":0},{"$f":"DATAENTRY!AU187","v":0},{"$f":"DATAENTRY!AV187","v":0},{"$f":"DATAENTRY!AW187","v":0},{"$f":"DATAENTRY!AX187","v":0},{"$f":"DATAENTRY!AY187","v":0},{"$f":"DATAENTRY!AZ187","v":0},{"$f":"DATAENTRY!BA187","v":0},{"$f":"DATAENTRY!BB187","v":0},{"$f":"DATAENTRY!BC187","v":0},{"$f":"DATAENTRY!BD187","v":0},{"$f":"DATAENTRY!BE187","v":0},{"$f":"DATAENTRY!BF187","v":0},{"$f":"DATAENTRY!BG187","v":0},{"$f":"DATAENTRY!BH187","v":""}]
[{"$f":"DATAENTRY!C188","v":0},{"$f":"DATAENTRY!D188","v":0},{"$f":"DATAENTRY!E188","v":0},{"$f":"DATAENTRY!F188","v":0},{"$f":"DATAENTRY!G188","v":0},{"$f":"DATAENTRY!H188","v":0},{"$f":"DATAENTRY!I188","v":0},{"$f":"DATAENTRY!J188","v":0},{"$f":"DATAENTRY!K188","v":0},{"$f":"DATAENTRY!L188","v":0},{"$f":"DATAENTRY!M188","v":0},{"$f":"DATAENTRY!N188","v":0},{"$f":"DATAENTRY!O188","v":0},{"$f":"DATAENTRY!P188","v":0},{"$f":"DATAENTRY!Q188","v":0},{"$f":"DATAENTRY!R188","v":0},{"$f":"DATAENTRY!S188","v":0},{"$f":"DATAENTRY!T188","v":0},{"$f":"DATAENTRY!U188","v":0},{"$f":"DATAENTRY!V188","v":0},{"$f":"DATAENTRY!W188","v":0},{"$f":"DATAENTRY!X188","v":0},{"$f":"DATAENTRY!Y188","v":0},{"$f":"DATAENTRY!Z188","v":0},{"$f":"DATAENTRY!AA188","v":0},{"$f":"DATAENTRY!AB188","v":0},{"$f":"DATAENTRY!AC188","v":0},{"$f":"DATAENTRY!AD188","v":0},{"$f":"DATAENTRY!AE188","v":0},{"$f":"DATAENTRY!AF188","v":0},{"$f":"DATAENTRY!AG188","v":0},{"$f":"DATAENTRY!AH188","v":0},{"$f":"DATAENTRY!AI188","v":0},{"$f":"DATAENTRY!AJ188","v":0},{"$f":"DATAENTRY!AK188","v":0},{"$f":"DATAENTRY!AL188","v":0},{"$f":"DATAENTRY!AM188","v":0},{"$f":"DATAENTRY!AN188","v":0},{"$f":"DATAENTRY!AO188","v":0},{"$f":"DATAENTRY!AP188","v":0},{"$f":"DATAENTRY!AQ188","v":0},{"$f":"DATAENTRY!AR188","v":0},{"$f":"DATAENTRY!AS188","v":0},{"$f":"DATAENTRY!AT188","v":0},{"$f":"DATAENTRY!AU188","v":0},{"$f":"DATAENTRY!AV188","v":0},{"$f":"DATAENTRY!AW188","v":0},{"$f":"DATAENTRY!AX188","v":0},{"$f":"DATAENTRY!AY188","v":0},{"$f":"DATAENTRY!AZ188","v":0},{"$f":"DATAENTRY!BA188","v":0},{"$f":"DATAENTRY!BB188","v":0},{"$f":"DATAENTRY!BC188","v":0},{"$f":"DATAENTRY!BD188","v":0},{"$f":"DATAENTRY!BE188","v":0},{"$f":"DATAENTRY!BF188","v":0},{"$f":"DATAENTRY!BG188","v":0},{"$f":"DATAENTRY!BH188","v":""}]
[{"$f":"DATAENTRY!C189","v":0},{"$f":"DATAENTRY!D189","v":0},{"$f":"DATAENTRY!E189","v":0},{"$f":"DATAENTRY!F189","v":0},{"$f":"DATAENTRY!G189","v":0},{"$f":"DATAENTRY!H189","v":0},{"$f":"DATAENTRY!I189","v":0},{"$f":"DATAENTRY!J189","v":0},{"$f":"DATAENTRY!K189","v":0},{"$f":"DATAENTRY!L189","v":0},{"$f":"DATAENTRY!M189","v":0},{"$f":"DATAENTRY!N189","v":0},{"$f":"DATAENTRY!O189","v":0},{"$f":"DATAENTRY!P189","v":0},{"$f":"DATAENTRY!Q189","v":0},{"$f":"DATAENTRY!R189","v":0},{"$f":"DATAENTRY!S189","v":0},{"$f":"DATAENTRY!T189","v":0},{"$f":"DATAENTRY!U189","v":0},{"$f":"DATAENTRY!V189","v":0},{"$f":"DATAENTRY!W189","v":0},{"$f":"DATAENTRY!X189","v":0},{"$f":"DATAENTRY!Y189","v":0},{"$f":"DATAENTRY!Z189","v":0},{"$f":"DATAENTRY!AA189","v":0},{"$f":"DATAENTRY!AB189","v":0},{"$f":"DATAENTRY!AC189","v":0},{"$f":"DATAENTRY!AD189","v":0},{"$f":"DATAENTRY!AE189","v":0},{"$f":"DATAENTRY!AF189","v":0},{"$f":"DATAENTRY!AG189","v":0},{"$f":"DATAENTRY!AH189","v":0},{"$f":"DATAENTRY!AI189","v":0},{"$f":"DATAENTRY!AJ189","v":0},{"$f":"DATAENTRY!AK189","v":0},{"$f":"DATAENTRY!AL189","v":0},{"$f":"DATAENTRY!AM189","v":0},{"$f":"DATAENTRY!AN189","v":0},{"$f":"DATAENTRY!AO189","v":0},{"$f":"DATAENTRY!AP189","v":0},{"$f":"DATAENTRY!AQ189","v":0},{"$f":"DATAENTRY!AR189","v":0},{"$f":"DATAENTRY!AS189","v":0},{"$f":"DATAENTRY!AT189","v":0},{"$f":"DATAENTRY!AU189","v":0},{"$f":"DATAENTRY!AV189","v":0},{"$f":"DATAENTRY!AW189","v":0},{"$f":"DATAENTRY!AX189","v":0},{"$f":"DATAENTRY!AY189","v":0},{"$f":"DATAENTRY!AZ189","v":0},{"$f":"DATAENTRY!BA189","v":0},{"$f":"DATAENTRY!BB189","v":0},{"$f":"DATAENTRY!BC189","v":0},{"$f":"DATAENTRY!BD189","v":0},{"$f":"DATAENTRY!BE189","v":0},{"$f":"DATAENTRY!BF189","v":0},{"$f":"DATAENTRY!BG189","v":0},{"$f":"DATAENTRY!BH189","v":""}]
[{"$f":"DATAENTRY!C190","v":0},{"$f":"DATAENTRY!D190","v":0},{"$f":"DATAENTRY!E190","v":0},{"$f":"DATAENTRY!F190","v":0},{"$f":"DATAENTRY!G190","v":0},{"$f":"DATAENTRY!H190","v":0},{"$f":"DATAENTRY!I190","v":0},{"$f":"DATAENTRY!J190","v":0},{"$f":"DATAENTRY!K190","v":0},{"$f":"DATAENTRY!L190","v":0},{"$f":"DATAENTRY!M190","v":0},{"$f":"DATAENTRY!N190","v":0},{"$f":"DATAENTRY!O190","v":0},{"$f":"DATAENTRY!P190","v":0},{"$f":"DATAENTRY!Q190","v":0},{"$f":"DATAENTRY!R190","v":0},{"$f":"DATAENTRY!S190","v":0},{"$f":"DATAENTRY!T190","v":0},{"$f":"DATAENTRY!U190","v":0},{"$f":"DATAENTRY!V190","v":0},{"$f":"DATAENTRY!W190","v":0},{"$f":"DATAENTRY!X190","v":0},{"$f":"DATAENTRY!Y190","v":0},{"$f":"DATAENTRY!Z190","v":0},{"$f":"DATAENTRY!AA190","v":0},{"$f":"DATAENTRY!AB190","v":0},{"$f":"DATAENTRY!AC190","v":0},{"$f":"DATAENTRY!AD190","v":0},{"$f":"DATAENTRY!AE190","v":0},{"$f":"DATAENTRY!AF190","v":0},{"$f":"DATAENTRY!AG190","v":0},{"$f":"DATAENTRY!AH190","v":0},{"$f":"DATAENTRY!AI190","v":0},{"$f":"DATAENTRY!AJ190","v":0},{"$f":"DATAENTRY!AK190","v":0},{"$f":"DATAENTRY!AL190","v":0},{"$f":"DATAENTRY!AM190","v":0},{"$f":"DATAENTRY!AN190","v":0},{"$f":"DATAENTRY!AO190","v":0},{"$f":"DATAENTRY!AP190","v":0},{"$f":"DATAENTRY!AQ190","v":0},{"$f":"DATAENTRY!AR190","v":0},{"$f":"DATAENTRY!AS190","v":0},{"$f":"DATAENTRY!AT190","v":0},{"$f":"DATAENTRY!AU190","v":0},{"$f":"DATAENTRY!AV190","v":0},{"$f":"DATAENTRY!AW190","v":0},{"$f":"DATAENTRY!AX190","v":0},{"$f":"DATAENTRY!AY190","v":0},{"$f":"DATAENTRY!AZ190","v":0},{"$f":"DATAENTRY!BA190","v":0},{"$f":"DATAENTRY!BB190","v":0},{"$f":"DATAENTRY!BC190","v":0},{"$f":"DATAENTRY!BD190","v":0},{"$f":"DATAENTRY!BE190","v":0},{"$f":"DATAENTRY!BF190","v":0},{"$f":"DATAENTRY!BG190","v":0},{"$f":"DATAENTRY!BH190","v":""}]
[{"$f":"DATAENTRY!C191","v":0},{"$f":"DATAENTRY!D191","v":0},{"$f":"DATAENTRY!E191","v":0},{"$f":"DATAENTRY!F191","v":0},{"$f":"DATAENTRY!G191","v":0},{"$f":"DATAENTRY!H191","v":0},{"$f":"DATAENTRY!I191","v":0},{"$f":"DATAENTRY!J191","v":0},{"$f":"DATAENTRY!K191","v":0},{"$f":"DATAENTRY!L191","v":0},{"$f":"DATAENTRY!M191","v":0},{"$f":"DATAENTRY!N191","v":0},{"$f":"DATAENTRY!O191","v":0},{"$f":"DATAENTRY!P191","v":0},{"$f":"DATAENTRY!Q191","v":0},{"$f":"DATAENTRY!R191","v":0},{"$f":"DATAENTRY!S191","v":0},{"$f":"DATAENTRY!T191","v":0},{"$f":"DATAENTRY!U191","v":0},{"$f":"DATAENTRY!V191","v":0},{"$f":"DATAENTRY!W191","v":0},{"$f":"DATAENTRY!X191","v":0},{"$f":"DATAENTRY!Y191","v":0},{"$f":"DATAENTRY!Z191","v":0},{"$f":"DATAENTRY!AA191","v":0},{"$f":"DATAENTRY!AB191","v":0},{"$f":"DATAENTRY!AC191","v":0},{"$f":"DATAENTRY!AD191","v":0},{"$f":"DATAENTRY!AE191","v":0},{"$f":"DATAENTRY!AF191","v":0},{"$f":"DATAENTRY!AG191","v":0},{"$f":"DATAENTRY!AH191","v":0},{"$f":"DATAENTRY!AI191","v":0},{"$f":"DATAENTRY!AJ191","v":0},{"$f":"DATAENTRY!AK191","v":0},{"$f":"DATAENTRY!AL191","v":0},{"$f":"DATAENTRY!AM191","v":0},{"$f":"DATAENTRY!AN191","v":0},{"$f":"DATAENTRY!AO191","v":0},{"$f":"DATAENTRY!AP191","v":0},{"$f":"DATAENTRY!AQ191","v":0},{"$f":"DATAENTRY!AR191","v":0},{"$f":"DATAENTRY!AS191","v":0},{"$f":"DATAENTRY!AT191","v":0},{"$f":"DATAENTRY!AU191","v":0},{"$f":"DATAENTRY!AV191","v":0},{"$f":"DATAENTRY!AW191","v":0},{"$f":"DATAENTRY!AX191","v":0},{"$f":"DATAENTRY!AY191","v":0},{"$f":"DATAENTRY!AZ191","v":0},{"$f":"DATAENTRY!BA191","v":0},{"$f":"DATAENTRY!BB191","v":0},{"$f":"DATAENTRY!BC191","v":0},{"$f":"DATAENTRY!BD191","v":0},{"$f":"DATAENTRY!BE191","v":0},{"$f":"DATAENTRY!BF191","v":0},{"$f":"DATAENTRY!BG191","v":0},{"$f":"DATAENTRY!BH191","v":""}]
[{"$f":"DATAENTRY!C192","v":0},{"$f":"DATAENTRY!D192","v":0},{"$f":"DATAENTRY!E192","v":0},{"$f":"DATAENTRY!F192","v":0},{"$f":"DATAENTRY!G192","v":0},{"$f":"DATAENTRY!H192","v":0},{"$f":"DATAENTRY!I192","v":0},{"$f":"DATAENTRY!J192","v":0},{"$f":"DATAENTRY!K192","v":0},{"$f":"DATAENTRY!L192","v":0},{"$f":"DATAENTRY!M192","v":0},{"$f":"DATAENTRY!N192","v":0},{"$f":"DATAENTRY!O192","v":0},{"$f":"DATAENTRY!P192","v":0},{"$f":"DATAENTRY!Q192","v":0},{"$f":"DATAENTRY!R192","v":0},{"$f":"DATAENTRY!S192","v":0},{"$f":"DATAENTRY!T192","v":0},{"$f":"DATAENTRY!U192","v":0},{"$f":"DATAENTRY!V192","v":0},{"$f":"DATAENTRY!W192","v":0},{"$f":"DATAENTRY!X192","v":0},{"$f":"DATAENTRY!Y192","v":0},{"$f":"DATAENTRY!Z192","v":0},{"$f":"DATAENTRY!AA192","v":0},{"$f":"DATAENTRY!AB192","v":0},{"$f":"DATAENTRY!AC192","v":0},{"$f":"DATAENTRY!AD192","v":0},{"$f":"DATAENTRY!AE192","v":0},{"$f":"DATAENTRY!AF192","v":0},{"$f":"DATAENTRY!AG192","v":0},{"$f":"DATAENTRY!AH192","v":0},{"$f":"DATAENTRY!AI192","v":0},{"$f":"DATAENTRY!AJ192","v":0},{"$f":"DATAENTRY!AK192","v":0},{"$f":"DATAENTRY!AL192","v":0},{"$f":"DATAENTRY!AM192","v":0},{"$f":"DATAENTRY!AN192","v":0},{"$f":"DATAENTRY!AO192","v":0},{"$f":"DATAENTRY!AP192","v":0},{"$f":"DATAENTRY!AQ192","v":0},{"$f":"DATAENTRY!AR192","v":0},{"$f":"DATAENTRY!AS192","v":0},{"$f":"DATAENTRY!AT192","v":0},{"$f":"DATAENTRY!AU192","v":0},{"$f":"DATAENTRY!AV192","v":0},{"$f":"DATAENTRY!AW192","v":0},{"$f":"DATAENTRY!AX192","v":0},{"$f":"DATAENTRY!AY192","v":0},{"$f":"DATAENTRY!AZ192","v":0},{"$f":"DATAENTRY!BA192","v":0},{"$f":"DATAENTRY!BB192","v":0},{"$f":"DATAENTRY!BC192","v":0},{"$f":"DATAENTRY!BD192","v":0},{"$f":"DATAENTRY!BE192","v":0},{"$f":"DATAENTRY!BF192","v":0},{"$f":"DATAENTRY!BG192","v":0},{"$f":"DATAENTRY!BH192","v":""}]
[{"$f":"DATAENTRY!C193","v":0},{"$f":"DATAENTRY!D193","v":0},{"$f":"DATAENTRY!E193","v":0},{"$f":"DATAENTRY!F193","v":0},{"$f":"DATAENTRY!G193","v":0},{"$f":"DATAENTRY!H193","v":0},{"$f":"DATAENTRY!I193","v":0},{"$f":"DATAENTRY!J193","v":0},{"$f":"DATAENTRY!K193","v":0},{"$f":"DATAENTRY!L193","v":0},{"$f":"DATAENTRY!M193","v":0},{"$f":"DATAENTRY!N193","v":0},{"$f":"DATAENTRY!O193","v":0},{"$f":"DATAENTRY!P193","v":0},{"$f":"DATAENTRY!Q193","v":0},{"$f":"DATAENTRY!R193","v":0},{"$f":"DATAENTRY!S193","v":0},{"$f":"DATAENTRY!T193","v":0},{"$f":"DATAENTRY!U193","v":0},{"$f":"DATAENTRY!V193","v":0},{"$f":"DATAENTRY!W193","v":0},{"$f":"DATAENTRY!X193","v":0},{"$f":"DATAENTRY!Y193","v":0},{"$f":"DATAENTRY!Z193","v":0},{"$f":"DATAENTRY!AA193","v":0},{"$f":"DATAENTRY!AB193","v":0},{"$f":"DATAENTRY!AC193","v":0},{"$f":"DATAENTRY!AD193","v":0},{"$f":"DATAENTRY!AE193","v":0},{"$f":"DATAENTRY!AF193","v":0},{"$f":"DATAENTRY!AG193","v":0},{"$f":"DATAENTRY!AH193","v":0},{"$f":"DATAENTRY!AI193","v":0},{"$f":"DATAENTRY!AJ193","v":0},{"$f":"DATAENTRY!AK193","v":0},{"$f":"DATAENTRY!AL193","v":0},{"$f":"DATAENTRY!AM193","v":0},{"$f":"DATAENTRY!AN193","v":0},{"$f":"DATAENTRY!AO193","v":0},{"$f":"DATAENTRY!AP193","v":0},{"$f":"DATAENTRY!AQ193","v":0},{"$f":"DATAENTRY!AR193","v":0},{"$f":"DATAENTRY!AS193","v":0},{"$f":"DATAENTRY!AT193","v":0},{"$f":"DATAENTRY!AU193","v":0},{"$f":"DATAENTRY!AV193","v":0},{"$f":"DATAENTRY!AW193","v":0},{"$f":"DATAENTRY!AX193","v":0},{"$f":"DATAENTRY!AY193","v":0},{"$f":"DATAENTRY!AZ193","v":0},{"$f":"DATAENTRY!BA193","v":0},{"$f":"DATAENTRY!BB193","v":0},{"$f":"DATAENTRY!BC193","v":0},{"$f":"DATAENTRY!BD193","v":0},{"$f":"DATAENTRY!BE193","v":0},{"$f":"DATAENTRY!BF193","v":0},{"$f":"DATAENTRY!BG193","v":0},{"$f":"DATAENTRY!BH193","v":""}]
[{"$f":"DATAENTRY!C194","v":0},{"$f":"DATAENTRY!D194","v":0},{"$f":"DATAENTRY!E194","v":0},{"$f":"DATAENTRY!F194","v":0},{"$f":"DATAENTRY!G194","v":0},{"$f":"DATAENTRY!H194","v":0},{"$f":"DATAENTRY!I194","v":0},{"$f":"DATAENTRY!J194","v":0},{"$f":"DATAENTRY!K194","v":0},{"$f":"DATAENTRY!L194","v":0},{"$f":"DATAENTRY!M194","v":0},{"$f":"DATAENTRY!N194","v":0},{"$f":"DATAENTRY!O194","v":0},{"$f":"DATAENTRY!P194","v":0},{"$f":"DATAENTRY!Q194","v":0},{"$f":"DATAENTRY!R194","v":0},{"$f":"DATAENTRY!S194","v":0},{"$f":"DATAENTRY!T194","v":0},{"$f":"DATAENTRY!U194","v":0},{"$f":"DATAENTRY!V194","v":0},{"$f":"DATAENTRY!W194","v":0},{"$f":"DATAENTRY!X194","v":0},{"$f":"DATAENTRY!Y194","v":0},{"$f":"DATAENTRY!Z194","v":0},{"$f":"DATAENTRY!AA194","v":0},{"$f":"DATAENTRY!AB194","v":0},{"$f":"DATAENTRY!AC194","v":0},{"$f":"DATAENTRY!AD194","v":0},{"$f":"DATAENTRY!AE194","v":0},{"$f":"DATAENTRY!AF194","v":0},{"$f":"DATAENTRY!AG194","v":0},{"$f":"DATAENTRY!AH194","v":0},{"$f":"DATAENTRY!AI194","v":0},{"$f":"DATAENTRY!AJ194","v":0},{"$f":"DATAENTRY!AK194","v":0},{"$f":"DATAENTRY!AL194","v":0},{"$f":"DATAENTRY!AM194","v":0},{"$f":"DATAENTRY!AN194","v":0},{"$f":"DATAENTRY!AO194","v":0},{"$f":"DATAENTRY!AP194","v":0},{"$f":"DATAENTRY!AQ194","v":0},{"$f":"DATAENTRY!AR194","v":0},{"$f":"DATAENTRY!AS194","v":0},{"$f":"DATAENTRY!AT194","v":0},{"$f":"DATAENTRY!AU194","v":0},{"$f":"DATAENTRY!AV194","v":0},{"$f":"DATAENTRY!AW194","v":0},{"$f":"DATAENTRY!AX194","v":0},{"$f":"DATAENTRY!AY194","v":0},{"$f":"DATAENTRY!AZ194","v":0},{"$f":"DATAENTRY!BA194","v":0},{"$f":"DATAENTRY!BB194","v":0},{"$f":"DATAENTRY!BC194","v":0},{"$f":"DATAENTRY!BD194","v":0},{"$f":"DATAENTRY!BE194","v":0},{"$f":"DATAENTRY!BF194","v":0},{"$f":"DATAENTRY!BG194","v":0},{"$f":"DATAENTRY!BH194","v":""}]
[{"$f":"DATAENTRY!C195","v":0},{"$f":"DATAENTRY!D195","v":0},{"$f":"DATAENTRY!E195","v":0},{"$f":"DATAENTRY!F195","v":0},{"$f":"DATAENTRY!G195","v":0},{"$f":"DATAENTRY!H195","v":0},{"$f":"DATAENTRY!I195","v":0},{"$f":"DATAENTRY!J195","v":0},{"$f":"DATAENTRY!K195","v":0},{"$f":"DATAENTRY!L195","v":0},{"$f":"DATAENTRY!M195","v":0},{"$f":"DATAENTRY!N195","v":0},{"$f":"DATAENTRY!O195","v":0},{"$f":"DATAENTRY!P195","v":0},{"$f":"DATAENTRY!Q195","v":0},{"$f":"DATAENTRY!R195","v":0},{"$f":"DATAENTRY!S195","v":0},{"$f":"DATAENTRY!T195","v":0},{"$f":"DATAENTRY!U195","v":0},{"$f":"DATAENTRY!V195","v":0},{"$f":"DATAENTRY!W195","v":0},{"$f":"DATAENTRY!X195","v":0},{"$f":"DATAENTRY!Y195","v":0},{"$f":"DATAENTRY!Z195","v":0},{"$f":"DATAENTRY!AA195","v":0},{"$f":"DATAENTRY!AB195","v":0},{"$f":"DATAENTRY!AC195","v":0},{"$f":"DATAENTRY!AD195","v":0},{"$f":"DATAENTRY!AE195","v":0},{"$f":"DATAENTRY!AF195","v":0},{"$f":"DATAENTRY!AG195","v":0},{"$f":"DATAENTRY!AH195","v":0},{"$f":"DATAENTRY!AI195","v":0},{"$f":"DATAENTRY!AJ195","v":0},{"$f":"DATAENTRY!AK195","v":0},{"$f":"DATAENTRY!AL195","v":0},{"$f":"DATAENTRY!AM195","v":0},{"$f":"DATAENTRY!AN195","v":0},{"$f":"DATAENTRY!AO195","v":0},{"$f":"DATAENTRY!AP195","v":0},{"$f":"DATAENTRY!AQ195","v":0},{"$f":"DATAENTRY!AR195","v":0},{"$f":"DATAENTRY!AS195","v":0},{"$f":"DATAENTRY!AT195","v":0},{"$f":"DATAENTRY!AU195","v":0},{"$f":"DATAENTRY!AV195","v":0},{"$f":"DATAENTRY!AW195","v":0},{"$f":"DATAENTRY!AX195","v":0},{"$f":"DATAENTRY!AY195","v":0},{"$f":"DATAENTRY!AZ195","v":0},{"$f":"DATAENTRY!BA195","v":0},{"$f":"DATAENTRY!BB195","v":0},{"$f":"DATAENTRY!BC195","v":0},{"$f":"DATAENTRY!BD195","v":0},{"$f":"DATAENTRY!BE195","v":0},{"$f":"DATAENTRY!BF195","v":0},{"$f":"DATAENTRY!BG195","v":0},{"$f":"DATAENTRY!BH195","v":""}]
[{"$f":"DATAENTRY!C196","v":0},{"$f":"DATAENTRY!D196","v":0},{"$f":"DATAENTRY!E196","v":0},{"$f":"DATAENTRY!F196","v":0},{"$f":"DATAENTRY!G196","v":0},{"$f":"DATAENTRY!H196","v":0},{"$f":"DATAENTRY!I196","v":0},{"$f":"DATAENTRY!J196","v":0},{"$f":"DATAENTRY!K196","v":0},{"$f":"DATAENTRY!L196","v":0},{"$f":"DATAENTRY!M196","v":0},{"$f":"DATAENTRY!N196","v":0},{"$f":"DATAENTRY!O196","v":0},{"$f":"DATAENTRY!P196","v":0},{"$f":"DATAENTRY!Q196","v":0},{"$f":"DATAENTRY!R196","v":0},{"$f":"DATAENTRY!S196","v":0},{"$f":"DATAENTRY!T196","v":0},{"$f":"DATAENTRY!U196","v":0},{"$f":"DATAENTRY!V196","v":0},{"$f":"DATAENTRY!W196","v":0},{"$f":"DATAENTRY!X196","v":0},{"$f":"DATAENTRY!Y196","v":0},{"$f":"DATAENTRY!Z196","v":0},{"$f":"DATAENTRY!AA196","v":0},{"$f":"DATAENTRY!AB196","v":0},{"$f":"DATAENTRY!AC196","v":0},{"$f":"DATAENTRY!AD196","v":0},{"$f":"DATAENTRY!AE196","v":0},{"$f":"DATAENTRY!AF196","v":0},{"$f":"DATAENTRY!AG196","v":0},{"$f":"DATAENTRY!AH196","v":0},{"$f":"DATAENTRY!AI196","v":0},{"$f":"DATAENTRY!AJ196","v":0},{"$f":"DATAENTRY!AK196","v":0},{"$f":"DATAENTRY!AL196","v":0},{"$f":"DATAENTRY!AM196","v":0},{"$f":"DATAENTRY!AN196","v":0},{"$f":"DATAENTRY!AO196","v":0},{"$f":"DATAENTRY!AP196","v":0},{"$f":"DATAENTRY!AQ196","v":0},{"$f":"DATAENTRY!AR196","v":0},{"$f":"DATAENTRY!AS196","v":0},{"$f":"DATAENTRY!AT196","v":0},{"$f":"DATAENTRY!AU196","v":0},{"$f":"DATAENTRY!AV196","v":0},{"$f":"DATAENTRY!AW196","v":0},{"$f":"DATAENTRY!AX196","v":0},{"$f":"DATAENTRY!AY196","v":0},{"$f":"DATAENTRY!AZ196","v":0},{"$f":"DATAENTRY!BA196","v":0},{"$f":"DATAENTRY!BB196","v":0},{"$f":"DATAENTRY!BC196","v":0},{"$f":"DATAENTRY!BD196","v":0},{"$f":"DATAENTRY!BE196","v":0},{"$f":"DATAENTRY!BF196","v":0},{"$f":"DATAENTRY!BG196","v":0},{"$f":"DATAENTRY!BH196","v":""}]
[{"$f":"DATAENTRY!C197","v":0},{"$f":"DATAENTRY!D197","v":0},{"$f":"DATAENTRY!E197","v":0},{"$f":"DATAENTRY!F197","v":0},{"$f":"DATAENTRY!G197","v":0},{"$f":"DATAENTRY!H197","v":0},{"$f":"DATAENTRY!I197","v":0},{"$f":"DATAENTRY!J197","v":0},{"$f":"DATAENTRY!K197","v":0},{"$f":"DATAENTRY!L197","v":0},{"$f":"DATAENTRY!M197","v":0},{"$f":"DATAENTRY!N197","v":0},{"$f":"DATAENTRY!O197","v":0},{"$f":"DATAENTRY!P197","v":0},{"$f":"DATAENTRY!Q197","v":0},{"$f":"DATAENTRY!R197","v":0},{"$f":"DATAENTRY!S197","v":0},{"$f":"DATAENTRY!T197","v":0},{"$f":"DATAENTRY!U197","v":0},{"$f":"DATAENTRY!V197","v":0},{"$f":"DATAENTRY!W197","v":0},{"$f":"DATAENTRY!X197","v":0},{"$f":"DATAENTRY!Y197","v":0},{"$f":"DATAENTRY!Z197","v":0},{"$f":"DATAENTRY!AA197","v":0},{"$f":"DATAENTRY!AB197","v":0},{"$f":"DATAENTRY!AC197","v":0},{"$f":"DATAENTRY!AD197","v":0},{"$f":"DATAENTRY!AE197","v":0},{"$f":"DATAENTRY!AF197","v":0},{"$f":"DATAENTRY!AG197","v":0},{"$f":"DATAENTRY!AH197","v":0},{"$f":"DATAENTRY!AI197","v":0},{"$f":"DATAENTRY!AJ197","v":0},{"$f":"DATAENTRY!AK197","v":0},{"$f":"DATAENTRY!AL197","v":0},{"$f":"DATAENTRY!AM197","v":0},{"$f":"DATAENTRY!AN197","v":0},{"$f":"DATAENTRY!AO197","v":0},{"$f":"DATAENTRY!AP197","v":0},{"$f":"DATAENTRY!AQ197","v":0},{"$f":"DATAENTRY!AR197","v":0},{"$f":"DATAENTRY!AS197","v":0},{"$f":"DATAENTRY!AT197","v":0},{"$f":"DATAENTRY!AU197","v":0},{"$f":"DATAENTRY!AV197","v":0},{"$f":"DATAENTRY!AW197","v":0},{"$f":"DATAENTRY!AX197","v":0},{"$f":"DATAENTRY!AY197","v":0},{"$f":"DATAENTRY!AZ197","v":0},{"$f":"DATAENTRY!BA197","v":0},{"$f":"DATAENTRY!BB197","v":0},{"$f":"DATAENTRY!BC197","v":0},{"$f":"DATAENTRY!BD197","v":0},{"$f":"DATAENTRY!BE197","v":0},{"$f":"DATAENTRY!BF197","v":0},{"$f":"DATAENTRY!BG197","v":0},{"$f":"DATAENTRY!BH197","v":""}]
[{"$f":"DATAENTRY!C198","v":0},{"$f":"DATAENTRY!D198","v":0},{"$f":"DATAENTRY!E198","v":0},{"$f":"DATAENTRY!F198","v":0},{"$f":"DATAENTRY!G198","v":0},{"$f":"DATAENTRY!H198","v":0},{"$f":"DATAENTRY!I198","v":0},{"$f":"DATAENTRY!J198","v":0},{"$f":"DATAENTRY!K198","v":0},{"$f":"DATAENTRY!L198","v":0},{"$f":"DATAENTRY!M198","v":0},{"$f":"DATAENTRY!N198","v":0},{"$f":"DATAENTRY!O198","v":0},{"$f":"DATAENTRY!P198","v":0},{"$f":"DATAENTRY!Q198","v":0},{"$f":"DATAENTRY!R198","v":0},{"$f":"DATAENTRY!S198","v":0},{"$f":"DATAENTRY!T198","v":0},{"$f":"DATAENTRY!U198","v":0},{"$f":"DATAENTRY!V198","v":0},{"$f":"DATAENTRY!W198","v":0},{"$f":"DATAENTRY!X198","v":0},{"$f":"DATAENTRY!Y198","v":0},{"$f":"DATAENTRY!Z198","v":0},{"$f":"DATAENTRY!AA198","v":0},{"$f":"DATAENTRY!AB198","v":0},{"$f":"DATAENTRY!AC198","v":0},{"$f":"DATAENTRY!AD198","v":0},{"$f":"DATAENTRY!AE198","v":0},{"$f":"DATAENTRY!AF198","v":0},{"$f":"DATAENTRY!AG198","v":0},{"$f":"DATAENTRY!AH198","v":0},{"$f":"DATAENTRY!AI198","v":0},{"$f":"DATAENTRY!AJ198","v":0},{"$f":"DATAENTRY!AK198","v":0},{"$f":"DATAENTRY!AL198","v":0},{"$f":"DATAENTRY!AM198","v":0},{"$f":"DATAENTRY!AN198","v":0},{"$f":"DATAENTRY!AO198","v":0},{"$f":"DATAENTRY!AP198","v":0},{"$f":"DATAENTRY!AQ198","v":0},{"$f":"DATAENTRY!AR198","v":0},{"$f":"DATAENTRY!AS198","v":0},{"$f":"DATAENTRY!AT198","v":0},{"$f":"DATAENTRY!AU198","v":0},{"$f":"DATAENTRY!AV198","v":0},{"$f":"DATAENTRY!AW198","v":0},{"$f":"DATAENTRY!AX198","v":0},{"$f":"DATAENTRY!AY198","v":0},{"$f":"DATAENTRY!AZ198","v":0},{"$f":"DATAENTRY!BA198","v":0},{"$f":"DATAENTRY!BB198","v":0},{"$f":"DATAENTRY!BC198","v":0},{"$f":"DATAENTRY!BD198","v":0},{"$f":"DATAENTRY!BE198","v":0},{"$f":"DATAENTRY!BF198","v":0},{"$f":"DATAENTRY!BG198","v":0},{"$f":"DATAENTRY!BH198","v":""}]
[{"$f":"DATAENTRY!C199","v":0},{"$f":"DATAENTRY!D199","v":0},{"$f":"DATAENTRY!E199","v":0},{"$f":"DATAENTRY!F199","v":0},{"$f":"DATAENTRY!G199","v":0},{"$f":"DATAENTRY!H199","v":0},{"$f":"DATAENTRY!I199","v":0},{"$f":"DATAENTRY!J199","v":0},{"$f":"DATAENTRY!K199","v":0},{"$f":"DATAENTRY!L199","v":0},{"$f":"DATAENTRY!M199","v":0},{"$f":"DATAENTRY!N199","v":0},{"$f":"DATAENTRY!O199","v":0},{"$f":"DATAENTRY!P199","v":0},{"$f":"DATAENTRY!Q199","v":0},{"$f":"DATAENTRY!R199","v":0},{"$f":"DATAENTRY!S199","v":0},{"$f":"DATAENTRY!T199","v":0},{"$f":"DATAENTRY!U199","v":0},{"$f":"DATAENTRY!V199","v":0},{"$f":"DATAENTRY!W199","v":0},{"$f":"DATAENTRY!X199","v":0},{"$f":"DATAENTRY!Y199","v":0},{"$f":"DATAENTRY!Z199","v":0},{"$f":"DATAENTRY!AA199","v":0},{"$f":"DATAENTRY!AB199","v":0},{"$f":"DATAENTRY!AC199","v":0},{"$f":"DATAENTRY!AD199","v":0},{"$f":"DATAENTRY!AE199","v":0},{"$f":"DATAENTRY!AF199","v":0},{"$f":"DATAENTRY!AG199","v":0},{"$f":"DATAENTRY!AH199","v":0},{"$f":"DATAENTRY!AI199","v":0},{"$f":"DATAENTRY!AJ199","v":0},{"$f":"DATAENTRY!AK199","v":0},{"$f":"DATAENTRY!AL199","v":0},{"$f":"DATAENTRY!AM199","v":0},{"$f":"DATAENTRY!AN199","v":0},{"$f":"DATAENTRY!AO199","v":0},{"$f":"DATAENTRY!AP199","v":0},{"$f":"DATAENTRY!AQ199","v":0},{"$f":"DATAENTRY!AR199","v":0},{"$f":"DATAENTRY!AS199","v":0},{"$f":"DATAENTRY!AT199","v":0},{"$f":"DATAENTRY!AU199","v":0},{"$f":"DATAENTRY!AV199","v":0},{"$f":"DATAENTRY!AW199","v":0},{"$f":"DATAENTRY!AX199","v":0},{"$f":"DATAENTRY!AY199","v":0},{"$f":"DATAENTRY!AZ199","v":0},{"$f":"DATAENTRY!BA199","v":0},{"$f":"DATAENTRY!BB199","v":0},{"$f":"DATAENTRY!BC199","v":0},{"$f":"DATAENTRY!BD199","v":0},{"$f":"DATAENTRY!BE199","v":0},{"$f":"DATAENTRY!BF199","v":0},{"$f":"DATAENTRY!BG199","v":0},{"$f":"DATAENTRY!BH199","v":""}]
[{"$f":"DATAENTRY!C200","v":0},{"$f":"DATAENTRY!D200","v":0},{"$f":"DATAENTRY!E200","v":0},{"$f":"DATAENTRY!F200","v":0},{"$f":"DATAENTRY!G200","v":0},{"$f":"DATAENTRY!H200","v":0},{"$f":"DATAENTRY!I200","v":0},{"$f":"DATAENTRY!J200","v":0},{"$f":"DATAENTRY!K200","v":0},{"$f":"DATAENTRY!L200","v":0},{"$f":"DATAENTRY!M200","v":0},{"$f":"DATAENTRY!N200","v":0},{"$f":"DATAENTRY!O200","v":0},{"$f":"DATAENTRY!P200","v":0},{"$f":"DATAENTRY!Q200","v":0},{"$f":"DATAENTRY!R200","v":0},{"$f":"DATAENTRY!S200","v":0},{"$f":"DATAENTRY!T200","v":0},{"$f":"DATAENTRY!U200","v":0},{"$f":"DATAENTRY!V200","v":0},{"$f":"DATAENTRY!W200","v":0},{"$f":"DATAENTRY!X200","v":0},{"$f":"DATAENTRY!Y200","v":0},{"$f":"DATAENTRY!Z200","v":0},{"$f":"DATAENTRY!AA200","v":0},{"$f":"DATAENTRY!AB200","v":0},{"$f":"DATAENTRY!AC200","v":0},{"$f":"DATAENTRY!AD200","v":0},{"$f":"DATAENTRY!AE200","v":0},{"$f":"DATAENTRY!AF200","v":0},{"$f":"DATAENTRY!AG200","v":0},{"$f":"DATAENTRY!AH200","v":0},{"$f":"DATAENTRY!AI200","v":0},{"$f":"DATAENTRY!AJ200","v":0},{"$f":"DATAENTRY!AK200","v":0},{"$f":"DATAENTRY!AL200","v":0},{"$f":"DATAENTRY!AM200","v":0},{"$f":"DATAENTRY!AN200","v":0},{"$f":"DATAENTRY!AO200","v":0},{"$f":"DATAENTRY!AP200","v":0},{"$f":"DATAENTRY!AQ200","v":0},{"$f":"DATAENTRY!AR200","v":0},{"$f":"DATAENTRY!AS200","v":0},{"$f":"DATAENTRY!AT200","v":0},{"$f":"DATAENTRY!AU200","v":0},{"$f":"DATAENTRY!AV200","v":0},{"$f":"DATAENTRY!AW200","v":0},{"$f":"DATAENTRY!AX200","v":0},{"$f":"DATAENTRY!AY200","v":0},{"$f":"DATAENTRY!AZ200","v":0},{"$f":"DATAENTRY!BA200","v":0},{"$f":"DATAENTRY!BB200","v":0},{"$f":"DATAENTRY!BC200","v":0},{"$f":"DATAENTRY!BD200","v":0},{"$f":"DATAENTRY!BE200","v":0},{"$f":"DATAENTRY!BF200","v":0},{"$f":"DATAENTRY!BG200","v":0},{"$f":"DATAENTRY!BH200","v":""}]
[{"$f":"DATAENTRY!C201","v":0},{"$f":"DATAENTRY!D201","v":0},{"$f":"DATAENTRY!E201","v":0},{"$f":"DATAENTRY!F201","v":0},{"$f":"DATAENTRY!G201","v":0},{"$f":"DATAENTRY!H201","v":0},{"$f":"DATAENTRY!I201","v":0},{"$f":"DATAENTRY!J201","v":0},{"$f":"DATAENTRY!K201","v":0},{"$f":"DATAENTRY!L201","v":0},{"$f":"DATAENTRY!M201","v":0},{"$f":"DATAENTRY!N201","v":0},{"$f":"DATAENTRY!O201","v":0},{"$f":"DATAENTRY!P201","v":0},{"$f":"DATAENTRY!Q201","v":0},{"$f":"DATAENTRY!R201","v":0},{"$f":"DATAENTRY!S201","v":0},{"$f":"DATAENTRY!T201","v":0},{"$f":"DATAENTRY!U201","v":0},{"$f":"DATAENTRY!V201","v":0},{"$f":"DATAENTRY!W201","v":0},{"$f":"DATAENTRY!X201","v":0},{"$f":"DATAENTRY!Y201","v":0},{"$f":"DATAENTRY!Z201","v":0},{"$f":"DATAENTRY!AA201","v":0},{"$f":"DATAENTRY!AB201","v":0},{"$f":"DATAENTRY!AC201","v":0},{"$f":"DATAENTRY!AD201","v":0},{"$f":"DATAENTRY!AE201","v":0},{"$f":"DATAENTRY!AF201","v":0},{"$f":"DATAENTRY!AG201","v":0},{"$f":"DATAENTRY!AH201","v":0},{"$f":"DATAENTRY!AI201","v":0},{"$f":"DATAENTRY!AJ201","v":0},{"$f":"DATAENTRY!AK201","v":0},{"$f":"DATAENTRY!AL201","v":0},{"$f":"DATAENTRY!AM201","v":0},{"$f":"DATAENTRY!AN201","v":0},{"$f":"DATAENTRY!AO201","v":0},{"$f":"DATAENTRY!AP201","v":0},{"$f":"DATAENTRY!AQ201","v":0},{"$f":"DATAENTRY!AR201","v":0},{"$f":"DATAENTRY!AS201","v":0},{"$f":"DATAENTRY!AT201","v":0},{"$f":"DATAENTRY!AU201","v":0},{"$f":"DATAENTRY!AV201","v":0},{"$f":"DATAENTRY!AW201","v":0},{"$f":"DATAENTRY!AX201","v":0},{"$f":"DATAENTRY!AY201","v":0},{"$f":"DATAENTRY!AZ201","v":0},{"$f":"DATAENTRY!BA201","v":0},{"$f":"DATAENTRY!BB201","v":0},{"$f":"DATAENTRY!BC201","v":0},{"$f":"DATAENTRY!BD201","v":0},{"$f":"DATAENTRY!BE201","v":0},{"$f":"DATAENTRY!BF201","v":0},{"$f":"DATAENTRY!BG201","v":0},{"$f":"DATAENTRY!BH201","v":""}]
[{"$f":"DATAENTRY!C202","v":0},{"$f":"DATAENTRY!D202","v":0},{"$f":"DATAENTRY!E202","v":0},{"$f":"DATAENTRY!F202","v":0},{"$f":"DATAENTRY!G202","v":0},{"$f":"DATAENTRY!H202","v":0},{"$f":"DATAENTRY!I202","v":0},{"$f":"DATAENTRY!J202","v":0},{"$f":"DATAENTRY!K202","v":0},{"$f":"DATAENTRY!L202","v":0},{"$f":"DATAENTRY!M202","v":0},{"$f":"DATAENTRY!N202","v":0},{"$f":"DATAENTRY!O202","v":0},{"$f":"DATAENTRY!P202","v":0},{"$f":"DATAENTRY!Q202","v":0},{"$f":"DATAENTRY!R202","v":0},{"$f":"DATAENTRY!S202","v":0},{"$f":"DATAENTRY!T202","v":0},{"$f":"DATAENTRY!U202","v":0},{"$f":"DATAENTRY!V202","v":0},{"$f":"DATAENTRY!W202","v":0},{"$f":"DATAENTRY!X202","v":0},{"$f":"DATAENTRY!Y202","v":0},{"$f":"DATAENTRY!Z202","v":0},{"$f":"DATAENTRY!AA202","v":0},{"$f":"DATAENTRY!AB202","v":0},{"$f":"DATAENTRY!AC202","v":0},{"$f":"DATAENTRY!AD202","v":0},{"$f":"DATAENTRY!AE202","v":0},{"$f":"DATAENTRY!AF202","v":0},{"$f":"DATAENTRY!AG202","v":0},{"$f":"DATAENTRY!AH202","v":0},{"$f":"DATAENTRY!AI202","v":0},{"$f":"DATAENTRY!AJ202","v":0},{"$f":"DATAENTRY!AK202","v":0},{"$f":"DATAENTRY!AL202","v":0},{"$f":"DATAENTRY!AM202","v":0},{"$f":"DATAENTRY!AN202","v":0},{"$f":"DATAENTRY!AO202","v":0},{"$f":"DATAENTRY!AP202","v":0},{"$f":"DATAENTRY!AQ202","v":0},{"$f":"DATAENTRY!AR202","v":0},{"$f":"DATAENTRY!AS202","v":0},{"$f":"DATAENTRY!AT202","v":0},{"$f":"DATAENTRY!AU202","v":0},{"$f":"DATAENTRY!AV202","v":0},{"$f":"DATAENTRY!AW202","v":0},{"$f":"DATAENTRY!AX202","v":0},{"$f":"DATAENTRY!AY202","v":0},{"$f":"DATAENTRY!AZ202","v":0},{"$f":"DATAENTRY!BA202","v":0},{"$f":"DATAENTRY!BB202","v":0},{"$f":"DATAENTRY!BC202","v":0},{"$f":"DATAENTRY!BD202","v":0},{"$f":"DATAENTRY!BE202","v":0},{"$f":"DATAENTRY!BF202","v":0},{"$f":"DATAENTRY!BG202","v":0},{"$f":"DATAENTRY!BH202","v":""}]
[{"$f":"DATAENTRY!C203","v":0},{"$f":"DATAENTRY!D203","v":0},{"$f":"DATAENTRY!E203","v":0},{"$f":"DATAENTRY!F203","v":0},{"$f":"DATAENTRY!G203","v":0},{"$f":"DATAENTRY!H203","v":0},{"$f":"DATAENTRY!I203","v":0},{"$f":"DATAENTRY!J203","v":0},{"$f":"DATAENTRY!K203","v":0},{"$f":"DATAENTRY!L203","v":0},{"$f":"DATAENTRY!M203","v":0},{"$f":"DATAENTRY!N203","v":0},{"$f":"DATAENTRY!O203","v":0},{"$f":"DATAENTRY!P203","v":0},{"$f":"DATAENTRY!Q203","v":0},{"$f":"DATAENTRY!R203","v":0},{"$f":"DATAENTRY!S203","v":0},{"$f":"DATAENTRY!T203","v":0},{"$f":"DATAENTRY!U203","v":0},{"$f":"DATAENTRY!V203","v":0},{"$f":"DATAENTRY!W203","v":0},{"$f":"DATAENTRY!X203","v":0},{"$f":"DATAENTRY!Y203","v":0},{"$f":"DATAENTRY!Z203","v":0},{"$f":"DATAENTRY!AA203","v":0},{"$f":"DATAENTRY!AB203","v":0},{"$f":"DATAENTRY!AC203","v":0},{"$f":"DATAENTRY!AD203","v":0},{"$f":"DATAENTRY!AE203","v":0},{"$f":"DATAENTRY!AF203","v":0},{"$f":"DATAENTRY!AG203","v":0},{"$f":"DATAENTRY!AH203","v":0},{"$f":"DATAENTRY!AI203","v":0},{"$f":"DATAENTRY!AJ203","v":0},{"$f":"DATAENTRY!AK203","v":0},{"$f":"DATAENTRY!AL203","v":0},{"$f":"DATAENTRY!AM203","v":0},{"$f":"DATAENTRY!AN203","v":0},{"$f":"DATAENTRY!AO203","v":0},{"$f":"DATAENTRY!AP203","v":0},{"$f":"DATAENTRY!AQ203","v":0},{"$f":"DATAENTRY!AR203","v":0},{"$f":"DATAENTRY!AS203","v":0},{"$f":"DATAENTRY!AT203","v":0},{"$f":"DATAENTRY!AU203","v":0},{"$f":"DATAENTRY!AV203","v":0},{"$f":"DATAENTRY!AW203","v":0},{"$f":"DATAENTRY!AX203","v":0},{"$f":"DATAENTRY!AY203","v":0},{"$f":"DATAENTRY!AZ203","v":0},{"$f":"DATAENTRY!BA203","v":0},{"$f":"DATAENTRY!BB203","v":0},{"$f":"DATAENTRY!BC203","v":0},{"$f":"DATAENTRY!BD203","v":0},{"$f":"DATAENTRY!BE203","v":0},{"$f":"DATAENTRY!BF203","v":0},{"$f":"DATAENTRY!BG203","v":0},{"$f":"DATAENTRY!BH203","v":""}]
[{"$f":"DATAENTRY!C204","v":0},{"$f":"DATAENTRY!D204","v":0},{"$f":"DATAENTRY!E204","v":0},{"$f":"DATAENTRY!F204","v":0},{"$f":"DATAENTRY!G204","v":0},{"$f":"DATAENTRY!H204","v":0},{"$f":"DATAENTRY!I204","v":0},{"$f":"DATAENTRY!J204","v":0},{"$f":"DATAENTRY!K204","v":0},{"$f":"DATAENTRY!L204","v":0},{"$f":"DATAENTRY!M204","v":0},{"$f":"DATAENTRY!N204","v":0},{"$f":"DATAENTRY!O204","v":0},{"$f":"DATAENTRY!P204","v":0},{"$f":"DATAENTRY!Q204","v":0},{"$f":"DATAENTRY!R204","v":0},{"$f":"DATAENTRY!S204","v":0},{"$f":"DATAENTRY!T204","v":0},{"$f":"DATAENTRY!U204","v":0},{"$f":"DATAENTRY!V204","v":0},{"$f":"DATAENTRY!W204","v":0},{"$f":"DATAENTRY!X204","v":0},{"$f":"DATAENTRY!Y204","v":0},{"$f":"DATAENTRY!Z204","v":0},{"$f":"DATAENTRY!AA204","v":0},{"$f":"DATAENTRY!AB204","v":0},{"$f":"DATAENTRY!AC204","v":0},{"$f":"DATAENTRY!AD204","v":0},{"$f":"DATAENTRY!AE204","v":0},{"$f":"DATAENTRY!AF204","v":0},{"$f":"DATAENTRY!AG204","v":0},{"$f":"DATAENTRY!AH204","v":0},{"$f":"DATAENTRY!AI204","v":0},{"$f":"DATAENTRY!AJ204","v":0},{"$f":"DATAENTRY!AK204","v":0},{"$f":"DATAENTRY!AL204","v":0},{"$f":"DATAENTRY!AM204","v":0},{"$f":"DATAENTRY!AN204","v":0},{"$f":"DATAENTRY!AO204","v":0},{"$f":"DATAENTRY!AP204","v":0},{"$f":"DATAENTRY!AQ204","v":0},{"$f":"DATAENTRY!AR204","v":0},{"$f":"DATAENTRY!AS204","v":0},{"$f":"DATAENTRY!AT204","v":0},{"$f":"DATAENTRY!AU204","v":0},{"$f":"DATAENTRY!AV204","v":0},{"$f":"DATAENTRY!AW204","v":0},{"$f":"DATAENTRY!AX204","v":0},{"$f":"DATAENTRY!AY204","v":0},{"$f":"DATAENTRY!AZ204","v":0},{"$f":"DATAENTRY!BA204","v":0},{"$f":"DATAENTRY!BB204","v":0},{"$f":"DATAENTRY!BC204","v":0},{"$f":"DATAENTRY!BD204","v":0},{"$f":"DATAENTRY!BE204","v":0},{"$f":"DATAENTRY!BF204","v":0},{"$f":"DATAENTRY!BG204","v":0},{"$f":"DATAENTRY!BH204","v":""}]
[{"$f":"DATAENTRY!C205","v":0},{"$f":"DATAENTRY!D205","v":0},{"$f":"DATAENTRY!E205","v":0},{"$f":"DATAENTRY!F205","v":0},{"$f":"DATAENTRY!G205","v":0},{"$f":"DATAENTRY!H205","v":0},{"$f":"DATAENTRY!I205","v":0},{"$f":"DATAENTRY!J205","v":0},{"$f":"DATAENTRY!K205","v":0},{"$f":"DATAENTRY!L205","v":0},{"$f":"DATAENTRY!M205","v":0},{"$f":"DATAENTRY!N205","v":0},{"$f":"DATAENTRY!O205","v":0},{"$f":"DATAENTRY!P205","v":0},{"$f":"DATAENTRY!Q205","v":0},{"$f":"DATAENTRY!R205","v":0},{"$f":"DATAENTRY!S205","v":0},{"$f":"DATAENTRY!T205","v":0},{"$f":"DATAENTRY!U205","v":0},{"$f":"DATAENTRY!V205","v":0},{"$f":"DATAENTRY!W205","v":0},{"$f":"DATAENTRY!X205","v":0},{"$f":"DATAENTRY!Y205","v":0},{"$f":"DATAENTRY!Z205","v":0},{"$f":"DATAENTRY!AA205","v":0},{"$f":"DATAENTRY!AB205","v":0},{"$f":"DATAENTRY!AC205","v":0},{"$f":"DATAENTRY!AD205","v":0},{"$f":"DATAENTRY!AE205","v":0},{"$f":"DATAENTRY!AF205","v":0},{"$f":"DATAENTRY!AG205","v":0},{"$f":"DATAENTRY!AH205","v":0},{"$f":"DATAENTRY!AI205","v":0},{"$f":"DATAENTRY!AJ205","v":0},{"$f":"DATAENTRY!AK205","v":0},{"$f":"DATAENTRY!AL205","v":0},{"$f":"DATAENTRY!AM205","v":0},{"$f":"DATAENTRY!AN205","v":0},{"$f":"DATAENTRY!AO205","v":0},{"$f":"DATAENTRY!AP205","v":0},{"$f":"DATAENTRY!AQ205","v":0},{"$f":"DATAENTRY!AR205","v":0},{"$f":"DATAENTRY!AS205","v":0},{"$f":"DATAENTRY!AT205","v":0},{"$f":"DATAENTRY!AU205","v":0},{"$f":"DATAENTRY!AV205","v":0},{"$f":"DATAENTRY!AW205","v":0},{"$f":"DATAENTRY!AX205","v":0},{"$f":"DATAENTRY!AY205","v":0},{"$f":"DATAENTRY!AZ205","v":0},{"$f":"DATAENTRY!BA205","v":0},{"$f":"DATAENTRY!BB205","v":0},{"$f":"DATAENTRY!BC205","v":0},{"$f":"DATAENTRY!BD205","v":0},{"$f":"DATAENTRY!BE205","v":0},{"$f":"DATAENTRY!BF205","v":0},{"$f":"DATAENTRY!BG205","v":0},{"$f":"DATAENTRY!BH205","v":""}]
[{"$f":"DATAENTRY!C206","v":0},{"$f":"DATAENTRY!D206","v":0},{"$f":"DATAENTRY!E206","v":0},{"$f":"DATAENTRY!F206","v":0},{"$f":"DATAENTRY!G206","v":0},{"$f":"DATAENTRY!H206","v":0},{"$f":"DATAENTRY!I206","v":0},{"$f":"DATAENTRY!J206","v":0},{"$f":"DATAENTRY!K206","v":0},{"$f":"DATAENTRY!L206","v":0},{"$f":"DATAENTRY!M206","v":0},{"$f":"DATAENTRY!N206","v":0},{"$f":"DATAENTRY!O206","v":0},{"$f":"DATAENTRY!P206","v":0},{"$f":"DATAENTRY!Q206","v":0},{"$f":"DATAENTRY!R206","v":0},{"$f":"DATAENTRY!S206","v":0},{"$f":"DATAENTRY!T206","v":0},{"$f":"DATAENTRY!U206","v":0},{"$f":"DATAENTRY!V206","v":0},{"$f":"DATAENTRY!W206","v":0},{"$f":"DATAENTRY!X206","v":0},{"$f":"DATAENTRY!Y206","v":0},{"$f":"DATAENTRY!Z206","v":0},{"$f":"DATAENTRY!AA206","v":0},{"$f":"DATAENTRY!AB206","v":0},{"$f":"DATAENTRY!AC206","v":0},{"$f":"DATAENTRY!AD206","v":0},{"$f":"DATAENTRY!AE206","v":0},{"$f":"DATAENTRY!AF206","v":0},{"$f":"DATAENTRY!AG206","v":0},{"$f":"DATAENTRY!AH206","v":0},{"$f":"DATAENTRY!AI206","v":0},{"$f":"DATAENTRY!AJ206","v":0},{"$f":"DATAENTRY!AK206","v":0},{"$f":"DATAENTRY!AL206","v":0},{"$f":"DATAENTRY!AM206","v":0},{"$f":"DATAENTRY!AN206","v":0},{"$f":"DATAENTRY!AO206","v":0},{"$f":"DATAENTRY!AP206","v":0},{"$f":"DATAENTRY!AQ206","v":0},{"$f":"DATAENTRY!AR206","v":0},{"$f":"DATAENTRY!AS206","v":0},{"$f":"DATAENTRY!AT206","v":0},{"$f":"DATAENTRY!AU206","v":0},{"$f":"DATAENTRY!AV206","v":0},{"$f":"DATAENTRY!AW206","v":0},{"$f":"DATAENTRY!AX206","v":0},{"$f":"DATAENTRY!AY206","v":0},{"$f":"DATAENTRY!AZ206","v":0},{"$f":"DATAENTRY!BA206","v":0},{"$f":"DATAENTRY!BB206","v":0},{"$f":"DATAENTRY!BC206","v":0},{"$f":"DATAENTRY!BD206","v":0},{"$f":"DATAENTRY!BE206","v":0},{"$f":"DATAENTRY!BF206","v":0},{"$f":"DATAENTRY!BG206","v":0},{"$f":"DATAENTRY!BH206","v":""}]
[{"$f":"DATAENTRY!C207","v":0},{"$f":"DATAENTRY!D207","v":0},{"$f":"DATAENTRY!E207","v":0},{"$f":"DATAENTRY!F207","v":0},{"$f":"DATAENTRY!G207","v":0},{"$f":"DATAENTRY!H207","v":0},{"$f":"DATAENTRY!I207","v":0},{"$f":"DATAENTRY!J207","v":0},{"$f":"DATAENTRY!K207","v":0},{"$f":"DATAENTRY!L207","v":0},{"$f":"DATAENTRY!M207","v":0},{"$f":"DATAENTRY!N207","v":0},{"$f":"DATAENTRY!O207","v":0},{"$f":"DATAENTRY!P207","v":0},{"$f":"DATAENTRY!Q207","v":0},{"$f":"DATAENTRY!R207","v":0},{"$f":"DATAENTRY!S207","v":0},{"$f":"DATAENTRY!T207","v":0},{"$f":"DATAENTRY!U207","v":0},{"$f":"DATAENTRY!V207","v":0},{"$f":"DATAENTRY!W207","v":0},{"$f":"DATAENTRY!X207","v":0},{"$f":"DATAENTRY!Y207","v":0},{"$f":"DATAENTRY!Z207","v":0},{"$f":"DATAENTRY!AA207","v":0},{"$f":"DATAENTRY!AB207","v":0},{"$f":"DATAENTRY!AC207","v":0},{"$f":"DATAENTRY!AD207","v":0},{"$f":"DATAENTRY!AE207","v":0},{"$f":"DATAENTRY!AF207","v":0},{"$f":"DATAENTRY!AG207","v":0},{"$f":"DATAENTRY!AH207","v":0},{"$f":"DATAENTRY!AI207","v":0},{"$f":"DATAENTRY!AJ207","v":0},{"$f":"DATAENTRY!AK207","v":0},{"$f":"DATAENTRY!AL207","v":0},{"$f":"DATAENTRY!AM207","v":0},{"$f":"DATAENTRY!AN207","v":0},{"$f":"DATAENTRY!AO207","v":0},{"$f":"DATAENTRY!AP207","v":0},{"$f":"DATAENTRY!AQ207","v":0},{"$f":"DATAENTRY!AR207","v":0},{"$f":"DATAENTRY!AS207","v":0},{"$f":"DATAENTRY!AT207","v":0},{"$f":"DATAENTRY!AU207","v":0},{"$f":"DATAENTRY!AV207","v":0},{"$f":"DATAENTRY!AW207","v":0},{"$f":"DATAENTRY!AX207","v":0},{"$f":"DATAENTRY!AY207","v":0},{"$f":"DATAENTRY!AZ207","v":0},{"$f":"DATAENTRY!BA207","v":0},{"$f":"DATAENTRY!BB207","v":0},{"$f":"DATAENTRY!BC207","v":0},{"$f":"DATAENTRY!BD207","v":0},{"$f":"DATAENTRY!BE207","v":0},{"$f":"DATAENTRY!BF207","v":0},{"$f":"DATAENTRY!BG207","v":0},{"$f":"DATAENTRY!BH207","v":""}]
[{"$f":"DATAENTRY!C208","v":0},{"$f":"DATAENTRY!D208","v":0},{"$f":"DATAENTRY!E208","v":0},{"$f":"DATAENTRY!F208","v":0},{"$f":"DATAENTRY!G208","v":0},{"$f":"DATAENTRY!H208","v":0},{"$f":"DATAENTRY!I208","v":0},{"$f":"DATAENTRY!J208","v":0},{"$f":"DATAENTRY!K208","v":0},{"$f":"DATAENTRY!L208","v":0},{"$f":"DATAENTRY!M208","v":0},{"$f":"DATAENTRY!N208","v":0},{"$f":"DATAENTRY!O208","v":0},{"$f":"DATAENTRY!P208","v":0},{"$f":"DATAENTRY!Q208","v":0},{"$f":"DATAENTRY!R208","v":0},{"$f":"DATAENTRY!S208","v":0},{"$f":"DATAENTRY!T208","v":0},{"$f":"DATAENTRY!U208","v":0},{"$f":"DATAENTRY!V208","v":0},{"$f":"DATAENTRY!W208","v":0},{"$f":"DATAENTRY!X208","v":0},{"$f":"DATAENTRY!Y208","v":0},{"$f":"DATAENTRY!Z208","v":0},{"$f":"DATAENTRY!AA208","v":0},{"$f":"DATAENTRY!AB208","v":0},{"$f":"DATAENTRY!AC208","v":0},{"$f":"DATAENTRY!AD208","v":0},{"$f":"DATAENTRY!AE208","v":0},{"$f":"DATAENTRY!AF208","v":0},{"$f":"DATAENTRY!AG208","v":0},{"$f":"DATAENTRY!AH208","v":0},{"$f":"DATAENTRY!AI208","v":0},{"$f":"DATAENTRY!AJ208","v":0},{"$f":"DATAENTRY!AK208","v":0},{"$f":"DATAENTRY!AL208","v":0},{"$f":"DATAENTRY!AM208","v":0},{"$f":"DATAENTRY!AN208","v":0},{"$f":"DATAENTRY!AO208","v":0},{"$f":"DATAENTRY!AP208","v":0},{"$f":"DATAENTRY!AQ208","v":0},{"$f":"DATAENTRY!AR208","v":0},{"$f":"DATAENTRY!AS208","v":0},{"$f":"DATAENTRY!AT208","v":0},{"$f":"DATAENTRY!AU208","v":0},{"$f":"DATAENTRY!AV208","v":0},{"$f":"DATAENTRY!AW208","v":0},{"$f":"DATAENTRY!AX208","v":0},{"$f":"DATAENTRY!AY208","v":0},{"$f":"DATAENTRY!AZ208","v":0},{"$f":"DATAENTRY!BA208","v":0},{"$f":"DATAENTRY!BB208","v":0},{"$f":"DATAENTRY!BC208","v":0},{"$f":"DATAENTRY!BD208","v":0},{"$f":"DATAENTRY!BE208","v":0},{"$f":"DATAENTRY!BF208","v":0},{"$f":"DATAENTRY!BG208","v":0},{"$f":"DATAENTRY!BH208","v":""}]
[{"$f":"DATAENTRY!C209","v":0},{"$f":"DATAENTRY!D209","v":0},{"$f":"DATAENTRY!E209","v":0},{"$f":"DATAENTRY!F209","v":0},{"$f":"DATAENTRY!G209","v":0},{"$f":"DATAENTRY!H209","v":0},{"$f":"DATAENTRY!I209","v":0},{"$f":"DATAENTRY!J209","v":0},{"$f":"DATAENTRY!K209","v":0},{"$f":"DATAENTRY!L209","v":0},{"$f":"DATAENTRY!M209","v":0},{"$f":"DATAENTRY!N209","v":0},{"$f":"DATAENTRY!O209","v":0},{"$f":"DATAENTRY!P209","v":0},{"$f":"DATAENTRY!Q209","v":0},{"$f":"DATAENTRY!R209","v":0},{"$f":"DATAENTRY!S209","v":0},{"$f":"DATAENTRY!T209","v":0},{"$f":"DATAENTRY!U209","v":0},{"$f":"DATAENTRY!V209","v":0},{"$f":"DATAENTRY!W209","v":0},{"$f":"DATAENTRY!X209","v":0},{"$f":"DATAENTRY!Y209","v":0},{"$f":"DATAENTRY!Z209","v":0},{"$f":"DATAENTRY!AA209","v":0},{"$f":"DATAENTRY!AB209","v":0},{"$f":"DATAENTRY!AC209","v":0},{"$f":"DATAENTRY!AD209","v":0},{"$f":"DATAENTRY!AE209","v":0},{"$f":"DATAENTRY!AF209","v":0},{"$f":"DATAENTRY!AG209","v":0},{"$f":"DATAENTRY!AH209","v":0},{"$f":"DATAENTRY!AI209","v":0},{"$f":"DATAENTRY!AJ209","v":0},{"$f":"DATAENTRY!AK209","v":0},{"$f":"DATAENTRY!AL209","v":0},{"$f":"DATAENTRY!AM209","v":0},{"$f":"DATAENTRY!AN209","v":0},{"$f":"DATAENTRY!AO209","v":0},{"$f":"DATAENTRY!AP209","v":0},{"$f":"DATAENTRY!AQ209","v":0},{"$f":"DATAENTRY!AR209","v":0},{"$f":"DATAENTRY!AS209","v":0},{"$f":"DATAENTRY!AT209","v":0},{"$f":"DATAENTRY!AU209","v":0},{"$f":"DATAENTRY!AV209","v":0},{"$f":"DATAENTRY!AW209","v":0},{"$f":"DATAENTRY!AX209","v":0},{"$f":"DATAENTRY!AY209","v":0},{"$f":"DATAENTRY!AZ209","v":0},{"$f":"DATAENTRY!BA209","v":0},{"$f":"DATAENTRY!BB209","v":0},{"$f":"DATAENTRY!BC209","v":0},{"$f":"DATAENTRY!BD209","v":0},{"$f":"DATAENTRY!BE209","v":0},{"$f":"DATAENTRY!BF209","v":0},{"$f":"DATAENTRY!BG209","v":0},{"$f":"DATAENTRY!BH209","v":""}]
[{"$f":"DATAENTRY!C210","v":0},{"$f":"DATAENTRY!D210","v":0},{"$f":"DATAENTRY!E210","v":0},{"$f":"DATAENTRY!F210","v":0},{"$f":"DATAENTRY!G210","v":0},{"$f":"DATAENTRY!H210","v":0},{"$f":"DATAENTRY!I210","v":0},{"$f":"DATAENTRY!J210","v":0},{"$f":"DATAENTRY!K210","v":0},{"$f":"DATAENTRY!L210","v":0},{"$f":"DATAENTRY!M210","v":0},{"$f":"DATAENTRY!N210","v":0},{"$f":"DATAENTRY!O210","v":0},{"$f":"DATAENTRY!P210","v":0},{"$f":"DATAENTRY!Q210","v":0},{"$f":"DATAENTRY!R210","v":0},{"$f":"DATAENTRY!S210","v":0},{"$f":"DATAENTRY!T210","v":0},{"$f":"DATAENTRY!U210","v":0},{"$f":"DATAENTRY!V210","v":0},{"$f":"DATAENTRY!W210","v":0},{"$f":"DATAENTRY!X210","v":0},{"$f":"DATAENTRY!Y210","v":0},{"$f":"DATAENTRY!Z210","v":0},{"$f":"DATAENTRY!AA210","v":0},{"$f":"DATAENTRY!AB210","v":0},{"$f":"DATAENTRY!AC210","v":0},{"$f":"DATAENTRY!AD210","v":0},{"$f":"DATAENTRY!AE210","v":0},{"$f":"DATAENTRY!AF210","v":0},{"$f":"DATAENTRY!AG210","v":0},{"$f":"DATAENTRY!AH210","v":0},{"$f":"DATAENTRY!AI210","v":0},{"$f":"DATAENTRY!AJ210","v":0},{"$f":"DATAENTRY!AK210","v":0},{"$f":"DATAENTRY!AL210","v":0},{"$f":"DATAENTRY!AM210","v":0},{"$f":"DATAENTRY!AN210","v":0},{"$f":"DATAENTRY!AO210","v":0},{"$f":"DATAENTRY!AP210","v":0},{"$f":"DATAENTRY!AQ210","v":0},{"$f":"DATAENTRY!AR210","v":0},{"$f":"DATAENTRY!AS210","v":0},{"$f":"DATAENTRY!AT210","v":0},{"$f":"DATAENTRY!AU210","v":0},{"$f":"DATAENTRY!AV210","v":0},{"$f":"DATAENTRY!AW210","v":0},{"$f":"DATAENTRY!AX210","v":0},{"$f":"DATAENTRY!AY210","v":0},{"$f":"DATAENTRY!AZ210","v":0},{"$f":"DATAENTRY!BA210","v":0},{"$f":"DATAENTRY!BB210","v":0},{"$f":"DATAENTRY!BC210","v":0},{"$f":"DATAENTRY!BD210","v":0},{"$f":"DATAENTRY!BE210","v":0},{"$f":"DATAENTRY!BF210","v":0},{"$f":"DATAENTRY!BG210","v":0},{"$f":"DATAENTRY!BH210","v":""}]
[{"$f":"DATAENTRY!C211","v":0},{"$f":"DATAENTRY!D211","v":0},{"$f":"DATAENTRY!E211","v":0},{"$f":"DATAENTRY!F211","v":0},{"$f":"DATAENTRY!G211","v":0},{"$f":"DATAENTRY!H211","v":0},{"$f":"DATAENTRY!I211","v":0},{"$f":"DATAENTRY!J211","v":0},{"$f":"DATAENTRY!K211","v":0},{"$f":"DATAENTRY!L211","v":0},{"$f":"DATAENTRY!M211","v":0},{"$f":"DATAENTRY!N211","v":0},{"$f":"DATAENTRY!O211","v":0},{"$f":"DATAENTRY!P211","v":0},{"$f":"DATAENTRY!Q211","v":0},{"$f":"DATAENTRY!R211","v":0},{"$f":"DATAENTRY!S211","v":0},{"$f":"DATAENTRY!T211","v":0},{"$f":"DATAENTRY!U211","v":0},{"$f":"DATAENTRY!V211","v":0},{"$f":"DATAENTRY!W211","v":0},{"$f":"DATAENTRY!X211","v":0},{"$f":"DATAENTRY!Y211","v":0},{"$f":"DATAENTRY!Z211","v":0},{"$f":"DATAENTRY!AA211","v":0},{"$f":"DATAENTRY!AB211","v":0},{"$f":"DATAENTRY!AC211","v":0},{"$f":"DATAENTRY!AD211","v":0},{"$f":"DATAENTRY!AE211","v":0},{"$f":"DATAENTRY!AF211","v":0},{"$f":"DATAENTRY!AG211","v":0},{"$f":"DATAENTRY!AH211","v":0},{"$f":"DATAENTRY!AI211","v":0},{"$f":"DATAENTRY!AJ211","v":0},{"$f":"DATAENTRY!AK211","v":0},{"$f":"DATAENTRY!AL211","v":0},{"$f":"DATAENTRY!AM211","v":0},{"$f":"DATAENTRY!AN211","v":0},{"$f":"DATAENTRY!AO211","v":0},{"$f":"DATAENTRY!AP211","v":0},{"$f":"DATAENTRY!AQ211","v":0},{"$f":"DATAENTRY!AR211","v":0},{"$f":"DATAENTRY!AS211","v":0},{"$f":"DATAENTRY!AT211","v":0},{"$f":"DATAENTRY!AU211","v":0},{"$f":"DATAENTRY!AV211","v":0},{"$f":"DATAENTRY!AW211","v":0},{"$f":"DATAENTRY!AX211","v":0},{"$f":"DATAENTRY!AY211","v":0},{"$f":"DATAENTRY!AZ211","v":0},{"$f":"DATAENTRY!BA211","v":0},{"$f":"DATAENTRY!BB211","v":0},{"$f":"DATAENTRY!BC211","v":0},{"$f":"DATAENTRY!BD211","v":0},{"$f":"DATAENTRY!BE211","v":0},{"$f":"DATAENTRY!BF211","v":0},{"$f":"DATAENTRY!BG211","v":0},{"$f":"DATAENTRY!BH211","v":""}]
[{"$f":"DATAENTRY!C212","v":0},{"$f":"DATAENTRY!D212","v":0},{"$f":"DATAENTRY!E212","v":0},{"$f":"DATAENTRY!F212","v":0},{"$f":"DATAENTRY!G212","v":0},{"$f":"DATAENTRY!H212","v":0},{"$f":"DATAENTRY!I212","v":0},{"$f":"DATAENTRY!J212","v":0},{"$f":"DATAENTRY!K212","v":0},{"$f":"DATAENTRY!L212","v":0},{"$f":"DATAENTRY!M212","v":0},{"$f":"DATAENTRY!N212","v":0},{"$f":"DATAENTRY!O212","v":0},{"$f":"DATAENTRY!P212","v":0},{"$f":"DATAENTRY!Q212","v":0},{"$f":"DATAENTRY!R212","v":0},{"$f":"DATAENTRY!S212","v":0},{"$f":"DATAENTRY!T212","v":0},{"$f":"DATAENTRY!U212","v":0},{"$f":"DATAENTRY!V212","v":0},{"$f":"DATAENTRY!W212","v":0},{"$f":"DATAENTRY!X212","v":0},{"$f":"DATAENTRY!Y212","v":0},{"$f":"DATAENTRY!Z212","v":0},{"$f":"DATAENTRY!AA212","v":0},{"$f":"DATAENTRY!AB212","v":0},{"$f":"DATAENTRY!AC212","v":0},{"$f":"DATAENTRY!AD212","v":0},{"$f":"DATAENTRY!AE212","v":0},{"$f":"DATAENTRY!AF212","v":0},{"$f":"DATAENTRY!AG212","v":0},{"$f":"DATAENTRY!AH212","v":0},{"$f":"DATAENTRY!AI212","v":0},{"$f":"DATAENTRY!AJ212","v":0},{"$f":"DATAENTRY!AK212","v":0},{"$f":"DATAENTRY!AL212","v":0},{"$f":"DATAENTRY!AM212","v":0},{"$f":"DATAENTRY!AN212","v":0},{"$f":"DATAENTRY!AO212","v":0},{"$f":"DATAENTRY!AP212","v":0},{"$f":"DATAENTRY!AQ212","v":0},{"$f":"DATAENTRY!AR212","v":0},{"$f":"DATAENTRY!AS212","v":0},{"$f":"DATAENTRY!AT212","v":0},{"$f":"DATAENTRY!AU212","v":0},{"$f":"DATAENTRY!AV212","v":0},{"$f":"DATAENTRY!AW212","v":0},{"$f":"DATAENTRY!AX212","v":0},{"$f":"DATAENTRY!AY212","v":0},{"$f":"DATAENTRY!AZ212","v":0},{"$f":"DATAENTRY!BA212","v":0},{"$f":"DATAENTRY!BB212","v":0},{"$f":"DATAENTRY!BC212","v":0},{"$f":"DATAENTRY!BD212","v":0},{"$f":"DATAENTRY!BE212","v":0},{"$f":"DATAENTRY!BF212","v":0},{"$f":"DATAENTRY!BG212","v":0},{"$f":"DATAENTRY!BH212","v":""}]
[{"$f":"DATAENTRY!C213","v":0},{"$f":"DATAENTRY!D213","v":0},{"$f":"DATAENTRY!E213","v":0},{"$f":"DATAENTRY!F213","v":0},{"$f":"DATAENTRY!G213","v":0},{"$f":"DATAENTRY!H213","v":0},{"$f":"DATAENTRY!I213","v":0},{"$f":"DATAENTRY!J213","v":0},{"$f":"DATAENTRY!K213","v":0},{"$f":"DATAENTRY!L213","v":0},{"$f":"DATAENTRY!M213","v":0},{"$f":"DATAENTRY!N213","v":0},{"$f":"DATAENTRY!O213","v":0},{"$f":"DATAENTRY!P213","v":0},{"$f":"DATAENTRY!Q213","v":0},{"$f":"DATAENTRY!R213","v":0},{"$f":"DATAENTRY!S213","v":0},{"$f":"DATAENTRY!T213","v":0},{"$f":"DATAENTRY!U213","v":0},{"$f":"DATAENTRY!V213","v":0},{"$f":"DATAENTRY!W213","v":0},{"$f":"DATAENTRY!X213","v":0},{"$f":"DATAENTRY!Y213","v":0},{"$f":"DATAENTRY!Z213","v":0},{"$f":"DATAENTRY!AA213","v":0},{"$f":"DATAENTRY!AB213","v":0},{"$f":"DATAENTRY!AC213","v":0},{"$f":"DATAENTRY!AD213","v":0},{"$f":"DATAENTRY!AE213","v":0},{"$f":"DATAENTRY!AF213","v":0},{"$f":"DATAENTRY!AG213","v":0},{"$f":"DATAENTRY!AH213","v":0},{"$f":"DATAENTRY!AI213","v":0},{"$f":"DATAENTRY!AJ213","v":0},{"$f":"DATAENTRY!AK213","v":0},{"$f":"DATAENTRY!AL213","v":0},{"$f":"DATAENTRY!AM213","v":0},{"$f":"DATAENTRY!AN213","v":0},{"$f":"DATAENTRY!AO213","v":0},{"$f":"DATAENTRY!AP213","v":0},{"$f":"DATAENTRY!AQ213","v":0},{"$f":"DATAENTRY!AR213","v":0},{"$f":"DATAENTRY!AS213","v":0},{"$f":"DATAENTRY!AT213","v":0},{"$f":"DATAENTRY!AU213","v":0},{"$f":"DATAENTRY!AV213","v":0},{"$f":"DATAENTRY!AW213","v":0},{"$f":"DATAENTRY!AX213","v":0},{"$f":"DATAENTRY!AY213","v":0},{"$f":"DATAENTRY!AZ213","v":0},{"$f":"DATAENTRY!BA213","v":0},{"$f":"DATAENTRY!BB213","v":0},{"$f":"DATAENTRY!BC213","v":0},{"$f":"DATAENTRY!BD213","v":0},{"$f":"DATAENTRY!BE213","v":0},{"$f":"DATAENTRY!BF213","v":0},{"$f":"DATAENTRY!BG213","v":0},{"$f":"DATAENTRY!BH213","v":""}]
[{"$f":"DATAENTRY!C214","v":0},{"$f":"DATAENTRY!D214","v":0},{"$f":"DATAENTRY!E214","v":0},{"$f":"DATAENTRY!F214","v":0},{"$f":"DATAENTRY!G214","v":0},{"$f":"DATAENTRY!H214","v":0},{"$f":"DATAENTRY!I214","v":0},{"$f":"DATAENTRY!J214","v":0},{"$f":"DATAENTRY!K214","v":0},{"$f":"DATAENTRY!L214","v":0},{"$f":"DATAENTRY!M214","v":0},{"$f":"DATAENTRY!N214","v":0},{"$f":"DATAENTRY!O214","v":0},{"$f":"DATAENTRY!P214","v":0},{"$f":"DATAENTRY!Q214","v":0},{"$f":"DATAENTRY!R214","v":0},{"$f":"DATAENTRY!S214","v":0},{"$f":"DATAENTRY!T214","v":0},{"$f":"DATAENTRY!U214","v":0},{"$f":"DATAENTRY!V214","v":0},{"$f":"DATAENTRY!W214","v":0},{"$f":"DATAENTRY!X214","v":0},{"$f":"DATAENTRY!Y214","v":0},{"$f":"DATAENTRY!Z214","v":0},{"$f":"DATAENTRY!AA214","v":0},{"$f":"DATAENTRY!AB214","v":0},{"$f":"DATAENTRY!AC214","v":0},{"$f":"DATAENTRY!AD214","v":0},{"$f":"DATAENTRY!AE214","v":0},{"$f":"DATAENTRY!AF214","v":0},{"$f":"DATAENTRY!AG214","v":0},{"$f":"DATAENTRY!AH214","v":0},{"$f":"DATAENTRY!AI214","v":0},{"$f":"DATAENTRY!AJ214","v":0},{"$f":"DATAENTRY!AK214","v":0},{"$f":"DATAENTRY!AL214","v":0},{"$f":"DATAENTRY!AM214","v":0},{"$f":"DATAENTRY!AN214","v":0},{"$f":"DATAENTRY!AO214","v":0},{"$f":"DATAENTRY!AP214","v":0},{"$f":"DATAENTRY!AQ214","v":0},{"$f":"DATAENTRY!AR214","v":0},{"$f":"DATAENTRY!AS214","v":0},{"$f":"DATAENTRY!AT214","v":0},{"$f":"DATAENTRY!AU214","v":0},{"$f":"DATAENTRY!AV214","v":0},{"$f":"DATAENTRY!AW214","v":0},{"$f":"DATAENTRY!AX214","v":0},{"$f":"DATAENTRY!AY214","v":0},{"$f":"DATAENTRY!AZ214","v":0},{"$f":"DATAENTRY!BA214","v":0},{"$f":"DATAENTRY!BB214","v":0},{"$f":"DATAENTRY!BC214","v":0},{"$f":"DATAENTRY!BD214","v":0},{"$f":"DATAENTRY!BE214","v":0},{"$f":"DATAENTRY!BF214","v":0},{"$f":"DATAENTRY!BG214","v":0},{"$f":"DATAENTRY!BH214","v":""}]
[{"$f":"DATAENTRY!C215","v":0},{"$f":"DATAENTRY!D215","v":0},{"$f":"DATAENTRY!E215","v":0},{"$f":"DATAENTRY!F215","v":0},{"$f":"DATAENTRY!G215","v":0},{"$f":"DATAENTRY!H215","v":0},{"$f":"DATAENTRY!I215","v":0},{"$f":"DATAENTRY!J215","v":0},{"$f":"DATAENTRY!K215","v":0},{"$f":"DATAENTRY!L215","v":0},{"$f":"DATAENTRY!M215","v":0},{"$f":"DATAENTRY!N215","v":0},{"$f":"DATAENTRY!O215","v":0},{"$f":"DATAENTRY!P215","v":0},{"$f":"DATAENTRY!Q215","v":0},{"$f":"DATAENTRY!R215","v":0},{"$f":"DATAENTRY!S215","v":0},{"$f":"DATAENTRY!T215","v":0},{"$f":"DATAENTRY!U215","v":0},{"$f":"DATAENTRY!V215","v":0},{"$f":"DATAENTRY!W215","v":0},{"$f":"DATAENTRY!X215","v":0},{"$f":"DATAENTRY!Y215","v":0},{"$f":"DATAENTRY!Z215","v":0},{"$f":"DATAENTRY!AA215","v":0},{"$f":"DATAENTRY!AB215","v":0},{"$f":"DATAENTRY!AC215","v":0},{"$f":"DATAENTRY!AD215","v":0},{"$f":"DATAENTRY!AE215","v":0},{"$f":"DATAENTRY!AF215","v":0},{"$f":"DATAENTRY!AG215","v":0},{"$f":"DATAENTRY!AH215","v":0},{"$f":"DATAENTRY!AI215","v":0},{"$f":"DATAENTRY!AJ215","v":0},{"$f":"DATAENTRY!AK215","v":0},{"$f":"DATAENTRY!AL215","v":0},{"$f":"DATAENTRY!AM215","v":0},{"$f":"DATAENTRY!AN215","v":0},{"$f":"DATAENTRY!AO215","v":0},{"$f":"DATAENTRY!AP215","v":0},{"$f":"DATAENTRY!AQ215","v":0},{"$f":"DATAENTRY!AR215","v":0},{"$f":"DATAENTRY!AS215","v":0},{"$f":"DATAENTRY!AT215","v":0},{"$f":"DATAENTRY!AU215","v":0},{"$f":"DATAENTRY!AV215","v":0},{"$f":"DATAENTRY!AW215","v":0},{"$f":"DATAENTRY!AX215","v":0},{"$f":"DATAENTRY!AY215","v":0},{"$f":"DATAENTRY!AZ215","v":0},{"$f":"DATAENTRY!BA215","v":0},{"$f":"DATAENTRY!BB215","v":0},{"$f":"DATAENTRY!BC215","v":0},{"$f":"DATAENTRY!BD215","v":0},{"$f":"DATAENTRY!BE215","v":0},{"$f":"DATAENTRY!BF215","v":0},{"$f":"DATAENTRY!BG215","v":0},{"$f":"DATAENTRY!BH215","v":""}]
[{"$f":"DATAENTRY!C216","v":0},{"$f":"DATAENTRY!D216","v":0},{"$f":"DATAENTRY!E216","v":0},{"$f":"DATAENTRY!F216","v":0},{"$f":"DATAENTRY!G216","v":0},{"$f":"DATAENTRY!H216","v":0},{"$f":"DATAENTRY!I216","v":0},{"$f":"DATAENTRY!J216","v":0},{"$f":"DATAENTRY!K216","v":0},{"$f":"DATAENTRY!L216","v":0},{"$f":"DATAENTRY!M216","v":0},{"$f":"DATAENTRY!N216","v":0},{"$f":"DATAENTRY!O216","v":0},{"$f":"DATAENTRY!P216","v":0},{"$f":"DATAENTRY!Q216","v":0},{"$f":"DATAENTRY!R216","v":0},{"$f":"DATAENTRY!S216","v":0},{"$f":"DATAENTRY!T216","v":0},{"$f":"DATAENTRY!U216","v":0},{"$f":"DATAENTRY!V216","v":0},{"$f":"DATAENTRY!W216","v":0},{"$f":"DATAENTRY!X216","v":0},{"$f":"DATAENTRY!Y216","v":0},{"$f":"DATAENTRY!Z216","v":0},{"$f":"DATAENTRY!AA216","v":0},{"$f":"DATAENTRY!AB216","v":0},{"$f":"DATAENTRY!AC216","v":0},{"$f":"DATAENTRY!AD216","v":0},{"$f":"DATAENTRY!AE216","v":0},{"$f":"DATAENTRY!AF216","v":0},{"$f":"DATAENTRY!AG216","v":0},{"$f":"DATAENTRY!AH216","v":0},{"$f":"DATAENTRY!AI216","v":0},{"$f":"DATAENTRY!AJ216","v":0},{"$f":"DATAENTRY!AK216","v":0},{"$f":"DATAENTRY!AL216","v":0},{"$f":"DATAENTRY!AM216","v":0},{"$f":"DATAENTRY!AN216","v":0},{"$f":"DATAENTRY!AO216","v":0},{"$f":"DATAENTRY!AP216","v":0},{"$f":"DATAENTRY!AQ216","v":0},{"$f":"DATAENTRY!AR216","v":0},{"$f":"DATAENTRY!AS216","v":0},{"$f":"DATAENTRY!AT216","v":0},{"$f":"DATAENTRY!AU216","v":0},{"$f":"DATAENTRY!AV216","v":0},{"$f":"DATAENTRY!AW216","v":0},{"$f":"DATAENTRY!AX216","v":0},{"$f":"DATAENTRY!AY216","v":0},{"$f":"DATAENTRY!AZ216","v":0},{"$f":"DATAENTRY!BA216","v":0},{"$f":"DATAENTRY!BB216","v":0},{"$f":"DATAENTRY!BC216","v":0},{"$f":"DATAENTRY!BD216","v":0},{"$f":"DATAENTRY!BE216","v":0},{"$f":"DATAENTRY!BF216","v":0},{"$f":"DATAENTRY!BG216","v":0},{"$f":"DATAENTRY!BH216","v":""}]
[{"$f":"DATAENTRY!C217","v":0},{"$f":"DATAENTRY!D217","v":0},{"$f":"DATAENTRY!E217","v":0},{"$f":"DATAENTRY!F217","v":0},{"$f":"DATAENTRY!G217","v":0},{"$f":"DATAENTRY!H217","v":0},{"$f":"DATAENTRY!I217","v":0},{"$f":"DATAENTRY!J217","v":0},{"$f":"DATAENTRY!K217","v":0},{"$f":"DATAENTRY!L217","v":0},{"$f":"DATAENTRY!M217","v":0},{"$f":"DATAENTRY!N217","v":0},{"$f":"DATAENTRY!O217","v":0},{"$f":"DATAENTRY!P217","v":0},{"$f":"DATAENTRY!Q217","v":0},{"$f":"DATAENTRY!R217","v":0},{"$f":"DATAENTRY!S217","v":0},{"$f":"DATAENTRY!T217","v":0},{"$f":"DATAENTRY!U217","v":0},{"$f":"DATAENTRY!V217","v":0},{"$f":"DATAENTRY!W217","v":0},{"$f":"DATAENTRY!X217","v":0},{"$f":"DATAENTRY!Y217","v":0},{"$f":"DATAENTRY!Z217","v":0},{"$f":"DATAENTRY!AA217","v":0},{"$f":"DATAENTRY!AB217","v":0},{"$f":"DATAENTRY!AC217","v":0},{"$f":"DATAENTRY!AD217","v":0},{"$f":"DATAENTRY!AE217","v":0},{"$f":"DATAENTRY!AF217","v":0},{"$f":"DATAENTRY!AG217","v":0},{"$f":"DATAENTRY!AH217","v":0},{"$f":"DATAENTRY!AI217","v":0},{"$f":"DATAENTRY!AJ217","v":0},{"$f":"DATAENTRY!AK217","v":0},{"$f":"DATAENTRY!AL217","v":0},{"$f":"DATAENTRY!AM217","v":0},{"$f":"DATAENTRY!AN217","v":0},{"$f":"DATAENTRY!AO217","v":0},{"$f":"DATAENTRY!AP217","v":0},{"$f":"DATAENTRY!AQ217","v":0},{"$f":"DATAENTRY!AR217","v":0},{"$f":"DATAENTRY!AS217","v":0},{"$f":"DATAENTRY!AT217","v":0},{"$f":"DATAENTRY!AU217","v":0},{"$f":"DATAENTRY!AV217","v":0},{"$f":"DATAENTRY!AW217","v":0},{"$f":"DATAENTRY!AX217","v":0},{"$f":"DATAENTRY!AY217","v":0},{"$f":"DATAENTRY!AZ217","v":0},{"$f":"DATAENTRY!BA217","v":0},{"$f":"DATAENTRY!BB217","v":0},{"$f":"DATAENTRY!BC217","v":0},{"$f":"DATAENTRY!BD217","v":0},{"$f":"DATAENTRY!BE217","v":0},{"$f":"DATAENTRY!BF217","v":0},{"$f":"DATAENTRY!BG217","v":0},{"$f":"DATAENTRY!BH217","v":""}]
[{"$f":"DATAENTRY!C218","v":0},{"$f":"DATAENTRY!D218","v":0},{"$f":"DATAENTRY!E218","v":0},{"$f":"DATAENTRY!F218","v":0},{"$f":"DATAENTRY!G218","v":0},{"$f":"DATAENTRY!H218","v":0},{"$f":"DATAENTRY!I218","v":0},{"$f":"DATAENTRY!J218","v":0},{"$f":"DATAENTRY!K218","v":0},{"$f":"DATAENTRY!L218","v":0},{"$f":"DATAENTRY!M218","v":0},{"$f":"DATAENTRY!N218","v":0},{"$f":"DATAENTRY!O218","v":0},{"$f":"DATAENTRY!P218","v":0},{"$f":"DATAENTRY!Q218","v":0},{"$f":"DATAENTRY!R218","v":0},{"$f":"DATAENTRY!S218","v":0},{"$f":"DATAENTRY!T218","v":0},{"$f":"DATAENTRY!U218","v":0},{"$f":"DATAENTRY!V218","v":0},{"$f":"DATAENTRY!W218","v":0},{"$f":"DATAENTRY!X218","v":0},{"$f":"DATAENTRY!Y218","v":0},{"$f":"DATAENTRY!Z218","v":0},{"$f":"DATAENTRY!AA218","v":0},{"$f":"DATAENTRY!AB218","v":0},{"$f":"DATAENTRY!AC218","v":0},{"$f":"DATAENTRY!AD218","v":0},{"$f":"DATAENTRY!AE218","v":0},{"$f":"DATAENTRY!AF218","v":0},{"$f":"DATAENTRY!AG218","v":0},{"$f":"DATAENTRY!AH218","v":0},{"$f":"DATAENTRY!AI218","v":0},{"$f":"DATAENTRY!AJ218","v":0},{"$f":"DATAENTRY!AK218","v":0},{"$f":"DATAENTRY!AL218","v":0},{"$f":"DATAENTRY!AM218","v":0},{"$f":"DATAENTRY!AN218","v":0},{"$f":"DATAENTRY!AO218","v":0},{"$f":"DATAENTRY!AP218","v":0},{"$f":"DATAENTRY!AQ218","v":0},{"$f":"DATAENTRY!AR218","v":0},{"$f":"DATAENTRY!AS218","v":0},{"$f":"DATAENTRY!AT218","v":0},{"$f":"DATAENTRY!AU218","v":0},{"$f":"DATAENTRY!AV218","v":0},{"$f":"DATAENTRY!AW218","v":0},{"$f":"DATAENTRY!AX218","v":0},{"$f":"DATAENTRY!AY218","v":0},{"$f":"DATAENTRY!AZ218","v":0},{"$f":"DATAENTRY!BA218","v":0},{"$f":"DATAENTRY!BB218","v":0},{"$f":"DATAENTRY!BC218","v":0},{"$f":"DATAENTRY!BD218","v":0},{"$f":"DATAENTRY!BE218","v":0},{"$f":"DATAENTRY!BF218","v":0},{"$f":"DATAENTRY!BG218","v":0},{"$f":"DATAENTRY!BH218","v":""}]
[{"$f":"DATAENTRY!C219","v":0},{"$f":"DATAENTRY!D219","v":0},{"$f":"DATAENTRY!E219","v":0},{"$f":"DATAENTRY!F219","v":0},{"$f":"DATAENTRY!G219","v":0},{"$f":"DATAENTRY!H219","v":0},{"$f":"DATAENTRY!I219","v":0},{"$f":"DATAENTRY!J219","v":0},{"$f":"DATAENTRY!K219","v":0},{"$f":"DATAENTRY!L219","v":0},{"$f":"DATAENTRY!M219","v":0},{"$f":"DATAENTRY!N219","v":0},{"$f":"DATAENTRY!O219","v":0},{"$f":"DATAENTRY!P219","v":0},{"$f":"DATAENTRY!Q219","v":0},{"$f":"DATAENTRY!R219","v":0},{"$f":"DATAENTRY!S219","v":0},{"$f":"DATAENTRY!T219","v":0},{"$f":"DATAENTRY!U219","v":0},{"$f":"DATAENTRY!V219","v":0},{"$f":"DATAENTRY!W219","v":0},{"$f":"DATAENTRY!X219","v":0},{"$f":"DATAENTRY!Y219","v":0},{"$f":"DATAENTRY!Z219","v":0},{"$f":"DATAENTRY!AA219","v":0},{"$f":"DATAENTRY!AB219","v":0},{"$f":"DATAENTRY!AC219","v":0},{"$f":"DATAENTRY!AD219","v":0},{"$f":"DATAENTRY!AE219","v":0},{"$f":"DATAENTRY!AF219","v":0},{"$f":"DATAENTRY!AG219","v":0},{"$f":"DATAENTRY!AH219","v":0},{"$f":"DATAENTRY!AI219","v":0},{"$f":"DATAENTRY!AJ219","v":0},{"$f":"DATAENTRY!AK219","v":0},{"$f":"DATAENTRY!AL219","v":0},{"$f":"DATAENTRY!AM219","v":0},{"$f":"DATAENTRY!AN219","v":0},{"$f":"DATAENTRY!AO219","v":0},{"$f":"DATAENTRY!AP219","v":0},{"$f":"DATAENTRY!AQ219","v":0},{"$f":"DATAENTRY!AR219","v":0},{"$f":"DATAENTRY!AS219","v":0},{"$f":"DATAENTRY!AT219","v":0},{"$f":"DATAENTRY!AU219","v":0},{"$f":"DATAENTRY!AV219","v":0},{"$f":"DATAENTRY!AW219","v":0},{"$f":"DATAENTRY!AX219","v":0},{"$f":"DATAENTRY!AY219","v":0},{"$f":"DATAENTRY!AZ219","v":0},{"$f":"DATAENTRY!BA219","v":0},{"$f":"DATAENTRY!BB219","v":0},{"$f":"DATAENTRY!BC219","v":0},{"$f":"DATAENTRY!BD219","v":0},{"$f":"DATAENTRY!BE219","v":0},{"$f":"DATAENTRY!BF219","v":0},{"$f":"DATAENTRY!BG219","v":0},{"$f":"DATAENTRY!BH219","v":""}]
[{"$f":"DATAENTRY!C220","v":0},{"$f":"DATAENTRY!D220","v":0},{"$f":"DATAENTRY!E220","v":0},{"$f":"DATAENTRY!F220","v":0},{"$f":"DATAENTRY!G220","v":0},{"$f":"DATAENTRY!H220","v":0},{"$f":"DATAENTRY!I220","v":0},{"$f":"DATAENTRY!J220","v":0},{"$f":"DATAENTRY!K220","v":0},{"$f":"DATAENTRY!L220","v":0},{"$f":"DATAENTRY!M220","v":0},{"$f":"DATAENTRY!N220","v":0},{"$f":"DATAENTRY!O220","v":0},{"$f":"DATAENTRY!P220","v":0},{"$f":"DATAENTRY!Q220","v":0},{"$f":"DATAENTRY!R220","v":0},{"$f":"DATAENTRY!S220","v":0},{"$f":"DATAENTRY!T220","v":0},{"$f":"DATAENTRY!U220","v":0},{"$f":"DATAENTRY!V220","v":0},{"$f":"DATAENTRY!W220","v":0},{"$f":"DATAENTRY!X220","v":0},{"$f":"DATAENTRY!Y220","v":0},{"$f":"DATAENTRY!Z220","v":0},{"$f":"DATAENTRY!AA220","v":0},{"$f":"DATAENTRY!AB220","v":0},{"$f":"DATAENTRY!AC220","v":0},{"$f":"DATAENTRY!AD220","v":0},{"$f":"DATAENTRY!AE220","v":0},{"$f":"DATAENTRY!AF220","v":0},{"$f":"DATAENTRY!AG220","v":0},{"$f":"DATAENTRY!AH220","v":0},{"$f":"DATAENTRY!AI220","v":0},{"$f":"DATAENTRY!AJ220","v":0},{"$f":"DATAENTRY!AK220","v":0},{"$f":"DATAENTRY!AL220","v":0},{"$f":"DATAENTRY!AM220","v":0},{"$f":"DATAENTRY!AN220","v":0},{"$f":"DATAENTRY!AO220","v":0},{"$f":"DATAENTRY!AP220","v":0},{"$f":"DATAENTRY!AQ220","v":0},{"$f":"DATAENTRY!AR220","v":0},{"$f":"DATAENTRY!AS220","v":0},{"$f":"DATAENTRY!AT220","v":0},{"$f":"DATAENTRY!AU220","v":0},{"$f":"DATAENTRY!AV220","v":0},{"$f":"DATAENTRY!AW220","v":0},{"$f":"DATAENTRY!AX220","v":0},{"$f":"DATAENTRY!AY220","v":0},{"$f":"DATAENTRY!AZ220","v":0},{"$f":"DATAENTRY!BA220","v":0},{"$f":"DATAENTRY!BB220","v":0},{"$f":"DATAENTRY!BC220","v":0},{"$f":"DATAENTRY!BD220","v":0},{"$f":"DATAENTRY!BE220","v":0},{"$f":"DATAENTRY!BF220","v":0},{"$f":"DATAENTRY!BG220","v":0},{"$f":"DATAENTRY!BH220","v":""}]
[{"$f":"DATAENTRY!C221","v":0},{"$f":"DATAENTRY!D221","v":0},{"$f":"DATAENTRY!E221","v":0},{"$f":"DATAENTRY!F221","v":0},{"$f":"DATAENTRY!G221","v":0},{"$f":"DATAENTRY!H221","v":0},{"$f":"DATAENTRY!I221","v":0},{"$f":"DATAENTRY!J221","v":0},{"$f":"DATAENTRY!K221","v":0},{"$f":"DATAENTRY!L221","v":0},{"$f":"DATAENTRY!M221","v":0},{"$f":"DATAENTRY!N221","v":0},{"$f":"DATAENTRY!O221","v":0},{"$f":"DATAENTRY!P221","v":0},{"$f":"DATAENTRY!Q221","v":0},{"$f":"DATAENTRY!R221","v":0},{"$f":"DATAENTRY!S221","v":0},{"$f":"DATAENTRY!T221","v":0},{"$f":"DATAENTRY!U221","v":0},{"$f":"DATAENTRY!V221","v":0},{"$f":"DATAENTRY!W221","v":0},{"$f":"DATAENTRY!X221","v":0},{"$f":"DATAENTRY!Y221","v":0},{"$f":"DATAENTRY!Z221","v":0},{"$f":"DATAENTRY!AA221","v":0},{"$f":"DATAENTRY!AB221","v":0},{"$f":"DATAENTRY!AC221","v":0},{"$f":"DATAENTRY!AD221","v":0},{"$f":"DATAENTRY!AE221","v":0},{"$f":"DATAENTRY!AF221","v":0},{"$f":"DATAENTRY!AG221","v":0},{"$f":"DATAENTRY!AH221","v":0},{"$f":"DATAENTRY!AI221","v":0},{"$f":"DATAENTRY!AJ221","v":0},{"$f":"DATAENTRY!AK221","v":0},{"$f":"DATAENTRY!AL221","v":0},{"$f":"DATAENTRY!AM221","v":0},{"$f":"DATAENTRY!AN221","v":0},{"$f":"DATAENTRY!AO221","v":0},{"$f":"DATAENTRY!AP221","v":0},{"$f":"DATAENTRY!AQ221","v":0},{"$f":"DATAENTRY!AR221","v":0},{"$f":"DATAENTRY!AS221","v":0},{"$f":"DATAENTRY!AT221","v":0},{"$f":"DATAENTRY!AU221","v":0},{"$f":"DATAENTRY!AV221","v":0},{"$f":"DATAENTRY!AW221","v":0},{"$f":"DATAENTRY!AX221","v":0},{"$f":"DATAENTRY!AY221","v":0},{"$f":"DATAENTRY!AZ221","v":0},{"$f":"DATAENTRY!BA221","v":0},{"$f":"DATAENTRY!BB221","v":0},{"$f":"DATAENTRY!BC221","v":0},{"$f":"DATAENTRY!BD221","v":0},{"$f":"DATAENTRY!BE221","v":0},{"$f":"DATAENTRY!BF221","v":0},{"$f":"DATAENTRY!BG221","v":0},{"$f":"DATAENTRY!BH221","v":""}]
[{"$f":"DATAENTRY!C222","v":0},{"$f":"DATAENTRY!D222","v":0},{"$f":"DATAENTRY!E222","v":0},{"$f":"DATAENTRY!F222","v":0},{"$f":"DATAENTRY!G222","v":0},{"$f":"DATAENTRY!H222","v":0},{"$f":"DATAENTRY!I222","v":0},{"$f":"DATAENTRY!J222","v":0},{"$f":"DATAENTRY!K222","v":0},{"$f":"DATAENTRY!L222","v":0},{"$f":"DATAENTRY!M222","v":0},{"$f":"DATAENTRY!N222","v":0},{"$f":"DATAENTRY!O222","v":0},{"$f":"DATAENTRY!P222","v":0},{"$f":"DATAENTRY!Q222","v":0},{"$f":"DATAENTRY!R222","v":0},{"$f":"DATAENTRY!S222","v":0},{"$f":"DATAENTRY!T222","v":0},{"$f":"DATAENTRY!U222","v":0},{"$f":"DATAENTRY!V222","v":0},{"$f":"DATAENTRY!W222","v":0},{"$f":"DATAENTRY!X222","v":0},{"$f":"DATAENTRY!Y222","v":0},{"$f":"DATAENTRY!Z222","v":0},{"$f":"DATAENTRY!AA222","v":0},{"$f":"DATAENTRY!AB222","v":0},{"$f":"DATAENTRY!AC222","v":0},{"$f":"DATAENTRY!AD222","v":0},{"$f":"DATAENTRY!AE222","v":0},{"$f":"DATAENTRY!AF222","v":0},{"$f":"DATAENTRY!AG222","v":0},{"$f":"DATAENTRY!AH222","v":0},{"$f":"DATAENTRY!AI222","v":0},{"$f":"DATAENTRY!AJ222","v":0},{"$f":"DATAENTRY!AK222","v":0},{"$f":"DATAENTRY!AL222","v":0},{"$f":"DATAENTRY!AM222","v":0},{"$f":"DATAENTRY!AN222","v":0},{"$f":"DATAENTRY!AO222","v":0},{"$f":"DATAENTRY!AP222","v":0},{"$f":"DATAENTRY!AQ222","v":0},{"$f":"DATAENTRY!AR222","v":0},{"$f":"DATAENTRY!AS222","v":0},{"$f":"DATAENTRY!AT222","v":0},{"$f":"DATAENTRY!AU222","v":0},{"$f":"DATAENTRY!AV222","v":0},{"$f":"DATAENTRY!AW222","v":0},{"$f":"DATAENTRY!AX222","v":0},{"$f":"DATAENTRY!AY222","v":0},{"$f":"DATAENTRY!AZ222","v":0},{"$f":"DATAENTRY!BA222","v":0},{"$f":"DATAENTRY!BB222","v":0},{"$f":"DATAENTRY!BC222","v":0},{"$f":"DATAENTRY!BD222","v":0},{"$f":"DATAENTRY!BE222","v":0},{"$f":"DATAENTRY!BF222","v":0},{"$f":"DATAENTRY!BG222","v":0},{"$f":"DATAENTRY!BH222","v":""}]
[{"$f":"DATAENTRY!C223","v":0},{"$f":"DATAENTRY!D223","v":0},{"$f":"DATAENTRY!E223","v":0},{"$f":"DATAENTRY!F223","v":0},{"$f":"DATAENTRY!G223","v":0},{"$f":"DATAENTRY!H223","v":0},{"$f":"DATAENTRY!I223","v":0},{"$f":"DATAENTRY!J223","v":0},{"$f":"DATAENTRY!K223","v":0},{"$f":"DATAENTRY!L223","v":0},{"$f":"DATAENTRY!M223","v":0},{"$f":"DATAENTRY!N223","v":0},{"$f":"DATAENTRY!O223","v":0},{"$f":"DATAENTRY!P223","v":0},{"$f":"DATAENTRY!Q223","v":0},{"$f":"DATAENTRY!R223","v":0},{"$f":"DATAENTRY!S223","v":0},{"$f":"DATAENTRY!T223","v":0},{"$f":"DATAENTRY!U223","v":0},{"$f":"DATAENTRY!V223","v":0},{"$f":"DATAENTRY!W223","v":0},{"$f":"DATAENTRY!X223","v":0},{"$f":"DATAENTRY!Y223","v":0},{"$f":"DATAENTRY!Z223","v":0},{"$f":"DATAENTRY!AA223","v":0},{"$f":"DATAENTRY!AB223","v":0},{"$f":"DATAENTRY!AC223","v":0},{"$f":"DATAENTRY!AD223","v":0},{"$f":"DATAENTRY!AE223","v":0},{"$f":"DATAENTRY!AF223","v":0},{"$f":"DATAENTRY!AG223","v":0},{"$f":"DATAENTRY!AH223","v":0},{"$f":"DATAENTRY!AI223","v":0},{"$f":"DATAENTRY!AJ223","v":0},{"$f":"DATAENTRY!AK223","v":0},{"$f":"DATAENTRY!AL223","v":0},{"$f":"DATAENTRY!AM223","v":0},{"$f":"DATAENTRY!AN223","v":0},{"$f":"DATAENTRY!AO223","v":0},{"$f":"DATAENTRY!AP223","v":0},{"$f":"DATAENTRY!AQ223","v":0},{"$f":"DATAENTRY!AR223","v":0},{"$f":"DATAENTRY!AS223","v":0},{"$f":"DATAENTRY!AT223","v":0},{"$f":"DATAENTRY!AU223","v":0},{"$f":"DATAENTRY!AV223","v":0},{"$f":"DATAENTRY!AW223","v":0},{"$f":"DATAENTRY!AX223","v":0},{"$f":"DATAENTRY!AY223","v":0},{"$f":"DATAENTRY!AZ223","v":0},{"$f":"DATAENTRY!BA223","v":0},{"$f":"DATAENTRY!BB223","v":0},{"$f":"DATAENTRY!BC223","v":0},{"$f":"DATAENTRY!BD223","v":0},{"$f":"DATAENTRY!BE223","v":0},{"$f":"DATAENTRY!BF223","v":0},{"$f":"DATAENTRY!BG223","v":0},{"$f":"DATAENTRY!BH223","v":""}]
[{"$f":"DATAENTRY!C224","v":0},{"$f":"DATAENTRY!D224","v":0},{"$f":"DATAENTRY!E224","v":0},{"$f":"DATAENTRY!F224","v":0},{"$f":"DATAENTRY!G224","v":0},{"$f":"DATAENTRY!H224","v":0},{"$f":"DATAENTRY!I224","v":0},{"$f":"DATAENTRY!J224","v":0},{"$f":"DATAENTRY!K224","v":0},{"$f":"DATAENTRY!L224","v":0},{"$f":"DATAENTRY!M224","v":0},{"$f":"DATAENTRY!N224","v":0},{"$f":"DATAENTRY!O224","v":0},{"$f":"DATAENTRY!P224","v":0},{"$f":"DATAENTRY!Q224","v":0},{"$f":"DATAENTRY!R224","v":0},{"$f":"DATAENTRY!S224","v":0},{"$f":"DATAENTRY!T224","v":0},{"$f":"DATAENTRY!U224","v":0},{"$f":"DATAENTRY!V224","v":0},{"$f":"DATAENTRY!W224","v":0},{"$f":"DATAENTRY!X224","v":0},{"$f":"DATAENTRY!Y224","v":0},{"$f":"DATAENTRY!Z224","v":0},{"$f":"DATAENTRY!AA224","v":0},{"$f":"DATAENTRY!AB224","v":0},{"$f":"DATAENTRY!AC224","v":0},{"$f":"DATAENTRY!AD224","v":0},{"$f":"DATAENTRY!AE224","v":0},{"$f":"DATAENTRY!AF224","v":0},{"$f":"DATAENTRY!AG224","v":0},{"$f":"DATAENTRY!AH224","v":0},{"$f":"DATAENTRY!AI224","v":0},{"$f":"DATAENTRY!AJ224","v":0},{"$f":"DATAENTRY!AK224","v":0},{"$f":"DATAENTRY!AL224","v":0},{"$f":"DATAENTRY!AM224","v":0},{"$f":"DATAENTRY!AN224","v":0},{"$f":"DATAENTRY!AO224","v":0},{"$f":"DATAENTRY!AP224","v":0},{"$f":"DATAENTRY!AQ224","v":0},{"$f":"DATAENTRY!AR224","v":0},{"$f":"DATAENTRY!AS224","v":0},{"$f":"DATAENTRY!AT224","v":0},{"$f":"DATAENTRY!AU224","v":0},{"$f":"DATAENTRY!AV224","v":0},{"$f":"DATAENTRY!AW224","v":0},{"$f":"DATAENTRY!AX224","v":0},{"$f":"DATAENTRY!AY224","v":0},{"$f":"DATAENTRY!AZ224","v":0},{"$f":"DATAENTRY!BA224","v":0},{"$f":"DATAENTRY!BB224","v":0},{"$f":"DATAENTRY!BC224","v":0},{"$f":"DATAENTRY!BD224","v":0},{"$f":"DATAENTRY!BE224","v":0},{"$f":"DATAENTRY!BF224","v":0},{"$f":"DATAENTRY!BG224","v":0},{"$f":"DATAENTRY!BH224","v":""}]
[{"$f":"DATAENTRY!C225","v":0},{"$f":"DATAENTRY!D225","v":0},{"$f":"DATAENTRY!E225","v":0},{"$f":"DATAENTRY!F225","v":0},{"$f":"DATAENTRY!G225","v":0},{"$f":"DATAENTRY!H225","v":0},{"$f":"DATAENTRY!I225","v":0},{"$f":"DATAENTRY!J225","v":0},{"$f":"DATAENTRY!K225","v":0},{"$f":"DATAENTRY!L225","v":0},{"$f":"DATAENTRY!M225","v":0},{"$f":"DATAENTRY!N225","v":0},{"$f":"DATAENTRY!O225","v":0},{"$f":"DATAENTRY!P225","v":0},{"$f":"DATAENTRY!Q225","v":0},{"$f":"DATAENTRY!R225","v":0},{"$f":"DATAENTRY!S225","v":0},{"$f":"DATAENTRY!T225","v":0},{"$f":"DATAENTRY!U225","v":0},{"$f":"DATAENTRY!V225","v":0},{"$f":"DATAENTRY!W225","v":0},{"$f":"DATAENTRY!X225","v":0},{"$f":"DATAENTRY!Y225","v":0},{"$f":"DATAENTRY!Z225","v":0},{"$f":"DATAENTRY!AA225","v":0},{"$f":"DATAENTRY!AB225","v":0},{"$f":"DATAENTRY!AC225","v":0},{"$f":"DATAENTRY!AD225","v":0},{"$f":"DATAENTRY!AE225","v":0},{"$f":"DATAENTRY!AF225","v":0},{"$f":"DATAENTRY!AG225","v":0},{"$f":"DATAENTRY!AH225","v":0},{"$f":"DATAENTRY!AI225","v":0},{"$f":"DATAENTRY!AJ225","v":0},{"$f":"DATAENTRY!AK225","v":0},{"$f":"DATAENTRY!AL225","v":0},{"$f":"DATAENTRY!AM225","v":0},{"$f":"DATAENTRY!AN225","v":0},{"$f":"DATAENTRY!AO225","v":0},{"$f":"DATAENTRY!AP225","v":0},{"$f":"DATAENTRY!AQ225","v":0},{"$f":"DATAENTRY!AR225","v":0},{"$f":"DATAENTRY!AS225","v":0},{"$f":"DATAENTRY!AT225","v":0},{"$f":"DATAENTRY!AU225","v":0},{"$f":"DATAENTRY!AV225","v":0},{"$f":"DATAENTRY!AW225","v":0},{"$f":"DATAENTRY!AX225","v":0},{"$f":"DATAENTRY!AY225","v":0},{"$f":"DATAENTRY!AZ225","v":0},{"$f":"DATAENTRY!BA225","v":0},{"$f":"DATAENTRY!BB225","v":0},{"$f":"DATAENTRY!BC225","v":0},{"$f":"DATAENTRY!BD225","v":0},{"$f":"DATAENTRY!BE225","v":0},{"$f":"DATAENTRY!BF225","v":0},{"$f":"DATAENTRY!BG225","v":0},{"$f":"DATAENTRY!BH225","v":""}]
[{"$f":"DATAENTRY!C226","v":0},{"$f":"DATAENTRY!D226","v":0},{"$f":"DATAENTRY!E226","v":0},{"$f":"DATAENTRY!F226","v":0},{"$f":"DATAENTRY!G226","v":0},{"$f":"DATAENTRY!H226","v":0},{"$f":"DATAENTRY!I226","v":0},{"$f":"DATAENTRY!J226","v":0},{"$f":"DATAENTRY!K226","v":0},{"$f":"DATAENTRY!L226","v":0},{"$f":"DATAENTRY!M226","v":0},{"$f":"DATAENTRY!N226","v":0},{"$f":"DATAENTRY!O226","v":0},{"$f":"DATAENTRY!P226","v":0},{"$f":"DATAENTRY!Q226","v":0},{"$f":"DATAENTRY!R226","v":0},{"$f":"DATAENTRY!S226","v":0},{"$f":"DATAENTRY!T226","v":0},{"$f":"DATAENTRY!U226","v":0},{"$f":"DATAENTRY!V226","v":0},{"$f":"DATAENTRY!W226","v":0},{"$f":"DATAENTRY!X226","v":0},{"$f":"DATAENTRY!Y226","v":0},{"$f":"DATAENTRY!Z226","v":0},{"$f":"DATAENTRY!AA226","v":0},{"$f":"DATAENTRY!AB226","v":0},{"$f":"DATAENTRY!AC226","v":0},{"$f":"DATAENTRY!AD226","v":0},{"$f":"DATAENTRY!AE226","v":0},{"$f":"DATAENTRY!AF226","v":0},{"$f":"DATAENTRY!AG226","v":0},{"$f":"DATAENTRY!AH226","v":0},{"$f":"DATAENTRY!AI226","v":0},{"$f":"DATAENTRY!AJ226","v":0},{"$f":"DATAENTRY!AK226","v":0},{"$f":"DATAENTRY!AL226","v":0},{"$f":"DATAENTRY!AM226","v":0},{"$f":"DATAENTRY!AN226","v":0},{"$f":"DATAENTRY!AO226","v":0},{"$f":"DATAENTRY!AP226","v":0},{"$f":"DATAENTRY!AQ226","v":0},{"$f":"DATAENTRY!AR226","v":0},{"$f":"DATAENTRY!AS226","v":0},{"$f":"DATAENTRY!AT226","v":0},{"$f":"DATAENTRY!AU226","v":0},{"$f":"DATAENTRY!AV226","v":0},{"$f":"DATAENTRY!AW226","v":0},{"$f":"DATAENTRY!AX226","v":0},{"$f":"DATAENTRY!AY226","v":0},{"$f":"DATAENTRY!AZ226","v":0},{"$f":"DATAENTRY!BA226","v":0},{"$f":"DATAENTRY!BB226","v":0},{"$f":"DATAENTRY!BC226","v":0},{"$f":"DATAENTRY!BD226","v":0},{"$f":"DATAENTRY!BE226","v":0},{"$f":"DATAENTRY!BF226","v":0},{"$f":"DATAENTRY!BG226","v":0},{"$f":"DATAENTRY!BH226","v":""}]
[{"$f":"DATAENTRY!C227","v":0},{"$f":"DATAENTRY!D227","v":0},{"$f":"DATAENTRY!E227","v":0},{"$f":"DATAENTRY!F227","v":0},{"$f":"DATAENTRY!G227","v":0},{"$f":"DATAENTRY!H227","v":0},{"$f":"DATAENTRY!I227","v":0},{"$f":"DATAENTRY!J227","v":0},{"$f":"DATAENTRY!K227","v":0},{"$f":"DATAENTRY!L227","v":0},{"$f":"DATAENTRY!M227","v":0},{"$f":"DATAENTRY!N227","v":0},{"$f":"DATAENTRY!O227","v":0},{"$f":"DATAENTRY!P227","v":0},{"$f":"DATAENTRY!Q227","v":0},{"$f":"DATAENTRY!R227","v":0},{"$f":"DATAENTRY!S227","v":0},{"$f":"DATAENTRY!T227","v":0},{"$f":"DATAENTRY!U227","v":0},{"$f":"DATAENTRY!V227","v":0},{"$f":"DATAENTRY!W227","v":0},{"$f":"DATAENTRY!X227","v":0},{"$f":"DATAENTRY!Y227","v":0},{"$f":"DATAENTRY!Z227","v":0},{"$f":"DATAENTRY!AA227","v":0},{"$f":"DATAENTRY!AB227","v":0},{"$f":"DATAENTRY!AC227","v":0},{"$f":"DATAENTRY!AD227","v":0},{"$f":"DATAENTRY!AE227","v":0},{"$f":"DATAENTRY!AF227","v":0},{"$f":"DATAENTRY!AG227","v":0},{"$f":"DATAENTRY!AH227","v":0},{"$f":"DATAENTRY!AI227","v":0},{"$f":"DATAENTRY!AJ227","v":0},{"$f":"DATAENTRY!AK227","v":0},{"$f":"DATAENTRY!AL227","v":0},{"$f":"DATAENTRY!AM227","v":0},{"$f":"DATAENTRY!AN227","v":0},{"$f":"DATAENTRY!AO227","v":0},{"$f":"DATAENTRY!AP227","v":0},{"$f":"DATAENTRY!AQ227","v":0},{"$f":"DATAENTRY!AR227","v":0},{"$f":"DATAENTRY!AS227","v":0},{"$f":"DATAENTRY!AT227","v":0},{"$f":"DATAENTRY!AU227","v":0},{"$f":"DATAENTRY!AV227","v":0},{"$f":"DATAENTRY!AW227","v":0},{"$f":"DATAENTRY!AX227","v":0},{"$f":"DATAENTRY!AY227","v":0},{"$f":"DATAENTRY!AZ227","v":0},{"$f":"DATAENTRY!BA227","v":0},{"$f":"DATAENTRY!BB227","v":0},{"$f":"DATAENTRY!BC227","v":0},{"$f":"DATAENTRY!BD227","v":0},{"$f":"DATAENTRY!BE227","v":0},{"$f":"DATAENTRY!BF227","v":0},{"$f":"DATAENTRY!BG227","v":0},{"$f":"DATAENTRY!BH227","v":""}]
[{"$f":"DATAENTRY!C228","v":0},{"$f":"DATAENTRY!D228","v":0},{"$f":"DATAENTRY!E228","v":0},{"$f":"DATAENTRY!F228","v":0},{"$f":"DATAENTRY!G228","v":0},{"$f":"DATAENTRY!H228","v":0},{"$f":"DATAENTRY!I228","v":0},{"$f":"DATAENTRY!J228","v":0},{"$f":"DATAENTRY!K228","v":0},{"$f":"DATAENTRY!L228","v":0},{"$f":"DATAENTRY!M228","v":0},{"$f":"DATAENTRY!N228","v":0},{"$f":"DATAENTRY!O228","v":0},{"$f":"DATAENTRY!P228","v":0},{"$f":"DATAENTRY!Q228","v":0},{"$f":"DATAENTRY!R228","v":0},{"$f":"DATAENTRY!S228","v":0},{"$f":"DATAENTRY!T228","v":0},{"$f":"DATAENTRY!U228","v":0},{"$f":"DATAENTRY!V228","v":0},{"$f":"DATAENTRY!W228","v":0},{"$f":"DATAENTRY!X228","v":0},{"$f":"DATAENTRY!Y228","v":0},{"$f":"DATAENTRY!Z228","v":0},{"$f":"DATAENTRY!AA228","v":0},{"$f":"DATAENTRY!AB228","v":0},{"$f":"DATAENTRY!AC228","v":0},{"$f":"DATAENTRY!AD228","v":0},{"$f":"DATAENTRY!AE228","v":0},{"$f":"DATAENTRY!AF228","v":0},{"$f":"DATAENTRY!AG228","v":0},{"$f":"DATAENTRY!AH228","v":0},{"$f":"DATAENTRY!AI228","v":0},{"$f":"DATAENTRY!AJ228","v":0},{"$f":"DATAENTRY!AK228","v":0},{"$f":"DATAENTRY!AL228","v":0},{"$f":"DATAENTRY!AM228","v":0},{"$f":"DATAENTRY!AN228","v":0},{"$f":"DATAENTRY!AO228","v":0},{"$f":"DATAENTRY!AP228","v":0},{"$f":"DATAENTRY!AQ228","v":0},{"$f":"DATAENTRY!AR228","v":0},{"$f":"DATAENTRY!AS228","v":0},{"$f":"DATAENTRY!AT228","v":0},{"$f":"DATAENTRY!AU228","v":0},{"$f":"DATAENTRY!AV228","v":0},{"$f":"DATAENTRY!AW228","v":0},{"$f":"DATAENTRY!AX228","v":0},{"$f":"DATAENTRY!AY228","v":0},{"$f":"DATAENTRY!AZ228","v":0},{"$f":"DATAENTRY!BA228","v":0},{"$f":"DATAENTRY!BB228","v":0},{"$f":"DATAENTRY!BC228","v":0},{"$f":"DATAENTRY!BD228","v":0},{"$f":"DATAENTRY!BE228","v":0},{"$f":"DATAENTRY!BF228","v":0},{"$f":"DATAENTRY!BG228","v":0},{"$f":"DATAENTRY!BH228","v":""}]
[{"$f":"DATAENTRY!C229","v":0},{"$f":"DATAENTRY!D229","v":0},{"$f":"DATAENTRY!E229","v":0},{"$f":"DATAENTRY!F229","v":0},{"$f":"DATAENTRY!G229","v":0},{"$f":"DATAENTRY!H229","v":0},{"$f":"DATAENTRY!I229","v":0},{"$f":"DATAENTRY!J229","v":0},{"$f":"DATAENTRY!K229","v":0},{"$f":"DATAENTRY!L229","v":0},{"$f":"DATAENTRY!M229","v":0},{"$f":"DATAENTRY!N229","v":0},{"$f":"DATAENTRY!O229","v":0},{"$f":"DATAENTRY!P229","v":0},{"$f":"DATAENTRY!Q229","v":0},{"$f":"DATAENTRY!R229","v":0},{"$f":"DATAENTRY!S229","v":0},{"$f":"DATAENTRY!T229","v":0},{"$f":"DATAENTRY!U229","v":0},{"$f":"DATAENTRY!V229","v":0},{"$f":"DATAENTRY!W229","v":0},{"$f":"DATAENTRY!X229","v":0},{"$f":"DATAENTRY!Y229","v":0},{"$f":"DATAENTRY!Z229","v":0},{"$f":"DATAENTRY!AA229","v":0},{"$f":"DATAENTRY!AB229","v":0},{"$f":"DATAENTRY!AC229","v":0},{"$f":"DATAENTRY!AD229","v":0},{"$f":"DATAENTRY!AE229","v":0},{"$f":"DATAENTRY!AF229","v":0},{"$f":"DATAENTRY!AG229","v":0},{"$f":"DATAENTRY!AH229","v":0},{"$f":"DATAENTRY!AI229","v":0},{"$f":"DATAENTRY!AJ229","v":0},{"$f":"DATAENTRY!AK229","v":0},{"$f":"DATAENTRY!AL229","v":0},{"$f":"DATAENTRY!AM229","v":0},{"$f":"DATAENTRY!AN229","v":0},{"$f":"DATAENTRY!AO229","v":0},{"$f":"DATAENTRY!AP229","v":0},{"$f":"DATAENTRY!AQ229","v":0},{"$f":"DATAENTRY!AR229","v":0},{"$f":"DATAENTRY!AS229","v":0},{"$f":"DATAENTRY!AT229","v":0},{"$f":"DATAENTRY!AU229","v":0},{"$f":"DATAENTRY!AV229","v":0},{"$f":"DATAENTRY!AW229","v":0},{"$f":"DATAENTRY!AX229","v":0},{"$f":"DATAENTRY!AY229","v":0},{"$f":"DATAENTRY!AZ229","v":0},{"$f":"DATAENTRY!BA229","v":0},{"$f":"DATAENTRY!BB229","v":0},{"$f":"DATAENTRY!BC229","v":0},{"$f":"DATAENTRY!BD229","v":0},{"$f":"DATAENTRY!BE229","v":0},{"$f":"DATAENTRY!BF229","v":0},{"$f":"DATAENTRY!BG229","v":0},{"$f":"DATAENTRY!BH229","v":""}]
[{"$f":"DATAENTRY!C230","v":0},{"$f":"DATAENTRY!D230","v":0},{"$f":"DATAENTRY!E230","v":0},{"$f":"DATAENTRY!F230","v":0},{"$f":"DATAENTRY!G230","v":0},{"$f":"DATAENTRY!H230","v":0},{"$f":"DATAENTRY!I230","v":0},{"$f":"DATAENTRY!J230","v":0},{"$f":"DATAENTRY!K230","v":0},{"$f":"DATAENTRY!L230","v":0},{"$f":"DATAENTRY!M230","v":0},{"$f":"DATAENTRY!N230","v":0},{"$f":"DATAENTRY!O230","v":0},{"$f":"DATAENTRY!P230","v":0},{"$f":"DATAENTRY!Q230","v":0},{"$f":"DATAENTRY!R230","v":0},{"$f":"DATAENTRY!S230","v":0},{"$f":"DATAENTRY!T230","v":0},{"$f":"DATAENTRY!U230","v":0},{"$f":"DATAENTRY!V230","v":0},{"$f":"DATAENTRY!W230","v":0},{"$f":"DATAENTRY!X230","v":0},{"$f":"DATAENTRY!Y230","v":0},{"$f":"DATAENTRY!Z230","v":0},{"$f":"DATAENTRY!AA230","v":0},{"$f":"DATAENTRY!AB230","v":0},{"$f":"DATAENTRY!AC230","v":0},{"$f":"DATAENTRY!AD230","v":0},{"$f":"DATAENTRY!AE230","v":0},{"$f":"DATAENTRY!AF230","v":0},{"$f":"DATAENTRY!AG230","v":0},{"$f":"DATAENTRY!AH230","v":0},{"$f":"DATAENTRY!AI230","v":0},{"$f":"DATAENTRY!AJ230","v":0},{"$f":"DATAENTRY!AK230","v":0},{"$f":"DATAENTRY!AL230","v":0},{"$f":"DATAENTRY!AM230","v":0},{"$f":"DATAENTRY!AN230","v":0},{"$f":"DATAENTRY!AO230","v":0},{"$f":"DATAENTRY!AP230","v":0},{"$f":"DATAENTRY!AQ230","v":0},{"$f":"DATAENTRY!AR230","v":0},{"$f":"DATAENTRY!AS230","v":0},{"$f":"DATAENTRY!AT230","v":0},{"$f":"DATAENTRY!AU230","v":0},{"$f":"DATAENTRY!AV230","v":0},{"$f":"DATAENTRY!AW230","v":0},{"$f":"DATAENTRY!AX230","v":0},{"$f":"DATAENTRY!AY230","v":0},{"$f":"DATAENTRY!AZ230","v":0},{"$f":"DATAENTRY!BA230","v":0},{"$f":"DATAENTRY!BB230","v":0},{"$f":"DATAENTRY!BC230","v":0},{"$f":"DATAENTRY!BD230","v":0},{"$f":"DATAENTRY!BE230","v":0},{"$f":"DATAENTRY!BF230","v":0},{"$f":"DATAENTRY!BG230","v":0},{"$f":"DATAENTRY!BH230","v":""}]
[{"$f":"DATAENTRY!C231","v":0},{"$f":"DATAENTRY!D231","v":0},{"$f":"DATAENTRY!E231","v":0},{"$f":"DATAENTRY!F231","v":0},{"$f":"DATAENTRY!G231","v":0},{"$f":"DATAENTRY!H231","v":0},{"$f":"DATAENTRY!I231","v":0},{"$f":"DATAENTRY!J231","v":0},{"$f":"DATAENTRY!K231","v":0},{"$f":"DATAENTRY!L231","v":0},{"$f":"DATAENTRY!M231","v":0},{"$f":"DATAENTRY!N231","v":0},{"$f":"DATAENTRY!O231","v":0},{"$f":"DATAENTRY!P231","v":0},{"$f":"DATAENTRY!Q231","v":0},{"$f":"DATAENTRY!R231","v":0},{"$f":"DATAENTRY!S231","v":0},{"$f":"DATAENTRY!T231","v":0},{"$f":"DATAENTRY!U231","v":0},{"$f":"DATAENTRY!V231","v":0},{"$f":"DATAENTRY!W231","v":0},{"$f":"DATAENTRY!X231","v":0},{"$f":"DATAENTRY!Y231","v":0},{"$f":"DATAENTRY!Z231","v":0},{"$f":"DATAENTRY!AA231","v":0},{"$f":"DATAENTRY!AB231","v":0},{"$f":"DATAENTRY!AC231","v":0},{"$f":"DATAENTRY!AD231","v":0},{"$f":"DATAENTRY!AE231","v":0},{"$f":"DATAENTRY!AF231","v":0},{"$f":"DATAENTRY!AG231","v":0},{"$f":"DATAENTRY!AH231","v":0},{"$f":"DATAENTRY!AI231","v":0},{"$f":"DATAENTRY!AJ231","v":0},{"$f":"DATAENTRY!AK231","v":0},{"$f":"DATAENTRY!AL231","v":0},{"$f":"DATAENTRY!AM231","v":0},{"$f":"DATAENTRY!AN231","v":0},{"$f":"DATAENTRY!AO231","v":0},{"$f":"DATAENTRY!AP231","v":0},{"$f":"DATAENTRY!AQ231","v":0},{"$f":"DATAENTRY!AR231","v":0},{"$f":"DATAENTRY!AS231","v":0},{"$f":"DATAENTRY!AT231","v":0},{"$f":"DATAENTRY!AU231","v":0},{"$f":"DATAENTRY!AV231","v":0},{"$f":"DATAENTRY!AW231","v":0},{"$f":"DATAENTRY!AX231","v":0},{"$f":"DATAENTRY!AY231","v":0},{"$f":"DATAENTRY!AZ231","v":0},{"$f":"DATAENTRY!BA231","v":0},{"$f":"DATAENTRY!BB231","v":0},{"$f":"DATAENTRY!BC231","v":0},{"$f":"DATAENTRY!BD231","v":0},{"$f":"DATAENTRY!BE231","v":0},{"$f":"DATAENTRY!BF231","v":0},{"$f":"DATAENTRY!BG231","v":0},{"$f":"DATAENTRY!BH231","v":""}]
[{"$f":"DATAENTRY!C232","v":0},{"$f":"DATAENTRY!D232","v":0},{"$f":"DATAENTRY!E232","v":0},{"$f":"DATAENTRY!F232","v":0},{"$f":"DATAENTRY!G232","v":0},{"$f":"DATAENTRY!H232","v":0},{"$f":"DATAENTRY!I232","v":0},{"$f":"DATAENTRY!J232","v":0},{"$f":"DATAENTRY!K232","v":0},{"$f":"DATAENTRY!L232","v":0},{"$f":"DATAENTRY!M232","v":0},{"$f":"DATAENTRY!N232","v":0},{"$f":"DATAENTRY!O232","v":0},{"$f":"DATAENTRY!P232","v":0},{"$f":"DATAENTRY!Q232","v":0},{"$f":"DATAENTRY!R232","v":0},{"$f":"DATAENTRY!S232","v":0},{"$f":"DATAENTRY!T232","v":0},{"$f":"DATAENTRY!U232","v":0},{"$f":"DATAENTRY!V232","v":0},{"$f":"DATAENTRY!W232","v":0},{"$f":"DATAENTRY!X232","v":0},{"$f":"DATAENTRY!Y232","v":0},{"$f":"DATAENTRY!Z232","v":0},{"$f":"DATAENTRY!AA232","v":0},{"$f":"DATAENTRY!AB232","v":0},{"$f":"DATAENTRY!AC232","v":0},{"$f":"DATAENTRY!AD232","v":0},{"$f":"DATAENTRY!AE232","v":0},{"$f":"DATAENTRY!AF232","v":0},{"$f":"DATAENTRY!AG232","v":0},{"$f":"DATAENTRY!AH232","v":0},{"$f":"DATAENTRY!AI232","v":0},{"$f":"DATAENTRY!AJ232","v":0},{"$f":"DATAENTRY!AK232","v":0},{"$f":"DATAENTRY!AL232","v":0},{"$f":"DATAENTRY!AM232","v":0},{"$f":"DATAENTRY!AN232","v":0},{"$f":"DATAENTRY!AO232","v":0},{"$f":"DATAENTRY!AP232","v":0},{"$f":"DATAENTRY!AQ232","v":0},{"$f":"DATAENTRY!AR232","v":0},{"$f":"DATAENTRY!AS232","v":0},{"$f":"DATAENTRY!AT232","v":0},{"$f":"DATAENTRY!AU232","v":0},{"$f":"DATAENTRY!AV232","v":0},{"$f":"DATAENTRY!AW232","v":0},{"$f":"DATAENTRY!AX232","v":0},{"$f":"DATAENTRY!AY232","v":0},{"$f":"DATAENTRY!AZ232","v":0},{"$f":"DATAENTRY!BA232","v":0},{"$f":"DATAENTRY!BB232","v":0},{"$f":"DATAENTRY!BC232","v":0},{"$f":"DATAENTRY!BD232","v":0},{"$f":"DATAENTRY!BE232","v":0},{"$f":"DATAENTRY!BF232","v":0},{"$f":"DATAENTRY!BG232","v":0},{"$f":"DATAENTRY!BH232","v":""}]
[{"$f":"DATAENTRY!C233","v":0},{"$f":"DATAENTRY!D233","v":0},{"$f":"DATAENTRY!E233","v":0},{"$f":"DATAENTRY!F233","v":0},{"$f":"DATAENTRY!G233","v":0},{"$f":"DATAENTRY!H233","v":0},{"$f":"DATAENTRY!I233","v":0},{"$f":"DATAENTRY!J233","v":0},{"$f":"DATAENTRY!K233","v":0},{"$f":"DATAENTRY!L233","v":0},{"$f":"DATAENTRY!M233","v":0},{"$f":"DATAENTRY!N233","v":0},{"$f":"DATAENTRY!O233","v":0},{"$f":"DATAENTRY!P233","v":0},{"$f":"DATAENTRY!Q233","v":0},{"$f":"DATAENTRY!R233","v":0},{"$f":"DATAENTRY!S233","v":0},{"$f":"DATAENTRY!T233","v":0},{"$f":"DATAENTRY!U233","v":0},{"$f":"DATAENTRY!V233","v":0},{"$f":"DATAENTRY!W233","v":0},{"$f":"DATAENTRY!X233","v":0},{"$f":"DATAENTRY!Y233","v":0},{"$f":"DATAENTRY!Z233","v":0},{"$f":"DATAENTRY!AA233","v":0},{"$f":"DATAENTRY!AB233","v":0},{"$f":"DATAENTRY!AC233","v":0},{"$f":"DATAENTRY!AD233","v":0},{"$f":"DATAENTRY!AE233","v":0},{"$f":"DATAENTRY!AF233","v":0},{"$f":"DATAENTRY!AG233","v":0},{"$f":"DATAENTRY!AH233","v":0},{"$f":"DATAENTRY!AI233","v":0},{"$f":"DATAENTRY!AJ233","v":0},{"$f":"DATAENTRY!AK233","v":0},{"$f":"DATAENTRY!AL233","v":0},{"$f":"DATAENTRY!AM233","v":0},{"$f":"DATAENTRY!AN233","v":0},{"$f":"DATAENTRY!AO233","v":0},{"$f":"DATAENTRY!AP233","v":0},{"$f":"DATAENTRY!AQ233","v":0},{"$f":"DATAENTRY!AR233","v":0},{"$f":"DATAENTRY!AS233","v":0},{"$f":"DATAENTRY!AT233","v":0},{"$f":"DATAENTRY!AU233","v":0},{"$f":"DATAENTRY!AV233","v":0},{"$f":"DATAENTRY!AW233","v":0},{"$f":"DATAENTRY!AX233","v":0},{"$f":"DATAENTRY!AY233","v":0},{"$f":"DATAENTRY!AZ233","v":0},{"$f":"DATAENTRY!BA233","v":0},{"$f":"DATAENTRY!BB233","v":0},{"$f":"DATAENTRY!BC233","v":0},{"$f":"DATAENTRY!BD233","v":0},{"$f":"DATAENTRY!BE233","v":0},{"$f":"DATAENTRY!BF233","v":0},{"$f":"DATAENTRY!BG233","v":0},{"$f":"DATAENTRY!BH233","v":""}]
[{"$f":"DATAENTRY!C234","v":0},{"$f":"DATAENTRY!D234","v":0},{"$f":"DATAENTRY!E234","v":0},{"$f":"DATAENTRY!F234","v":0},{"$f":"DATAENTRY!G234","v":0},{"$f":"DATAENTRY!H234","v":0},{"$f":"DATAENTRY!I234","v":0},{"$f":"DATAENTRY!J234","v":0},{"$f":"DATAENTRY!K234","v":0},{"$f":"DATAENTRY!L234","v":0},{"$f":"DATAENTRY!M234","v":0},{"$f":"DATAENTRY!N234","v":0},{"$f":"DATAENTRY!O234","v":0},{"$f":"DATAENTRY!P234","v":0},{"$f":"DATAENTRY!Q234","v":0},{"$f":"DATAENTRY!R234","v":0},{"$f":"DATAENTRY!S234","v":0},{"$f":"DATAENTRY!T234","v":0},{"$f":"DATAENTRY!U234","v":0},{"$f":"DATAENTRY!V234","v":0},{"$f":"DATAENTRY!W234","v":0},{"$f":"DATAENTRY!X234","v":0},{"$f":"DATAENTRY!Y234","v":0},{"$f":"DATAENTRY!Z234","v":0},{"$f":"DATAENTRY!AA234","v":0},{"$f":"DATAENTRY!AB234","v":0},{"$f":"DATAENTRY!AC234","v":0},{"$f":"DATAENTRY!AD234","v":0},{"$f":"DATAENTRY!AE234","v":0},{"$f":"DATAENTRY!AF234","v":0},{"$f":"DATAENTRY!AG234","v":0},{"$f":"DATAENTRY!AH234","v":0},{"$f":"DATAENTRY!AI234","v":0},{"$f":"DATAENTRY!AJ234","v":0},{"$f":"DATAENTRY!AK234","v":0},{"$f":"DATAENTRY!AL234","v":0},{"$f":"DATAENTRY!AM234","v":0},{"$f":"DATAENTRY!AN234","v":0},{"$f":"DATAENTRY!AO234","v":0},{"$f":"DATAENTRY!AP234","v":0},{"$f":"DATAENTRY!AQ234","v":0},{"$f":"DATAENTRY!AR234","v":0},{"$f":"DATAENTRY!AS234","v":0},{"$f":"DATAENTRY!AT234","v":0},{"$f":"DATAENTRY!AU234","v":0},{"$f":"DATAENTRY!AV234","v":0},{"$f":"DATAENTRY!AW234","v":0},{"$f":"DATAENTRY!AX234","v":0},{"$f":"DATAENTRY!AY234","v":0},{"$f":"DATAENTRY!AZ234","v":0},{"$f":"DATAENTRY!BA234","v":0},{"$f":"DATAENTRY!BB234","v":0},{"$f":"DATAENTRY!BC234","v":0},{"$f":"DATAENTRY!BD234","v":0},{"$f":"DATAENTRY!BE234","v":0},{"$f":"DATAENTRY!BF234","v":0},{"$f":"DATAENTRY!BG234","v":0},{"$f":"DATAENTRY!BH234","v":""}]
[{"$f":"DATAENTRY!C235","v":0},{"$f":"DATAENTRY!D235","v":0},{"$f":"DATAENTRY!E235","v":0},{"$f":"DATAENTRY!F235","v":0},{"$f":"DATAENTRY!G235","v":0},{"$f":"DATAENTRY!H235","v":0},{"$f":"DATAENTRY!I235","v":0},{"$f":"DATAENTRY!J235","v":0},{"$f":"DATAENTRY!K235","v":0},{"$f":"DATAENTRY!L235","v":0},{"$f":"DATAENTRY!M235","v":0},{"$f":"DATAENTRY!N235","v":0},{"$f":"DATAENTRY!O235","v":0},{"$f":"DATAENTRY!P235","v":0},{"$f":"DATAENTRY!Q235","v":0},{"$f":"DATAENTRY!R235","v":0},{"$f":"DATAENTRY!S235","v":0},{"$f":"DATAENTRY!T235","v":0},{"$f":"DATAENTRY!U235","v":0},{"$f":"DATAENTRY!V235","v":0},{"$f":"DATAENTRY!W235","v":0},{"$f":"DATAENTRY!X235","v":0},{"$f":"DATAENTRY!Y235","v":0},{"$f":"DATAENTRY!Z235","v":0},{"$f":"DATAENTRY!AA235","v":0},{"$f":"DATAENTRY!AB235","v":0},{"$f":"DATAENTRY!AC235","v":0},{"$f":"DATAENTRY!AD235","v":0},{"$f":"DATAENTRY!AE235","v":0},{"$f":"DATAENTRY!AF235","v":0},{"$f":"DATAENTRY!AG235","v":0},{"$f":"DATAENTRY!AH235","v":0},{"$f":"DATAENTRY!AI235","v":0},{"$f":"DATAENTRY!AJ235","v":0},{"$f":"DATAENTRY!AK235","v":0},{"$f":"DATAENTRY!AL235","v":0},{"$f":"DATAENTRY!AM235","v":0},{"$f":"DATAENTRY!AN235","v":0},{"$f":"DATAENTRY!AO235","v":0},{"$f":"DATAENTRY!AP235","v":0},{"$f":"DATAENTRY!AQ235","v":0},{"$f":"DATAENTRY!AR235","v":0},{"$f":"DATAENTRY!AS235","v":0},{"$f":"DATAENTRY!AT235","v":0},{"$f":"DATAENTRY!AU235","v":0},{"$f":"DATAENTRY!AV235","v":0},{"$f":"DATAENTRY!AW235","v":0},{"$f":"DATAENTRY!AX235","v":0},{"$f":"DATAENTRY!AY235","v":0},{"$f":"DATAENTRY!AZ235","v":0},{"$f":"DATAENTRY!BA235","v":0},{"$f":"DATAENTRY!BB235","v":0},{"$f":"DATAENTRY!BC235","v":0},{"$f":"DATAENTRY!BD235","v":0},{"$f":"DATAENTRY!BE235","v":0},{"$f":"DATAENTRY!BF235","v":0},{"$f":"DATAENTRY!BG235","v":0},{"$f":"DATAENTRY!BH235","v":""}]
[{"$f":"DATAENTRY!C236","v":0},{"$f":"DATAENTRY!D236","v":0},{"$f":"DATAENTRY!E236","v":0},{"$f":"DATAENTRY!F236","v":0},{"$f":"DATAENTRY!G236","v":0},{"$f":"DATAENTRY!H236","v":0},{"$f":"DATAENTRY!I236","v":0},{"$f":"DATAENTRY!J236","v":0},{"$f":"DATAENTRY!K236","v":0},{"$f":"DATAENTRY!L236","v":0},{"$f":"DATAENTRY!M236","v":0},{"$f":"DATAENTRY!N236","v":0},{"$f":"DATAENTRY!O236","v":0},{"$f":"DATAENTRY!P236","v":0},{"$f":"DATAENTRY!Q236","v":0},{"$f":"DATAENTRY!R236","v":0},{"$f":"DATAENTRY!S236","v":0},{"$f":"DATAENTRY!T236","v":0},{"$f":"DATAENTRY!U236","v":0},{"$f":"DATAENTRY!V236","v":0},{"$f":"DATAENTRY!W236","v":0},{"$f":"DATAENTRY!X236","v":0},{"$f":"DATAENTRY!Y236","v":0},{"$f":"DATAENTRY!Z236","v":0},{"$f":"DATAENTRY!AA236","v":0},{"$f":"DATAENTRY!AB236","v":0},{"$f":"DATAENTRY!AC236","v":0},{"$f":"DATAENTRY!AD236","v":0},{"$f":"DATAENTRY!AE236","v":0},{"$f":"DATAENTRY!AF236","v":0},{"$f":"DATAENTRY!AG236","v":0},{"$f":"DATAENTRY!AH236","v":0},{"$f":"DATAENTRY!AI236","v":0},{"$f":"DATAENTRY!AJ236","v":0},{"$f":"DATAENTRY!AK236","v":0},{"$f":"DATAENTRY!AL236","v":0},{"$f":"DATAENTRY!AM236","v":0},{"$f":"DATAENTRY!AN236","v":0},{"$f":"DATAENTRY!AO236","v":0},{"$f":"DATAENTRY!AP236","v":0},{"$f":"DATAENTRY!AQ236","v":0},{"$f":"DATAENTRY!AR236","v":0},{"$f":"DATAENTRY!AS236","v":0},{"$f":"DATAENTRY!AT236","v":0},{"$f":"DATAENTRY!AU236","v":0},{"$f":"DATAENTRY!AV236","v":0},{"$f":"DATAENTRY!AW236","v":0},{"$f":"DATAENTRY!AX236","v":0},{"$f":"DATAENTRY!AY236","v":0},{"$f":"DATAENTRY!AZ236","v":0},{"$f":"DATAENTRY!BA236","v":0},{"$f":"DATAENTRY!BB236","v":0},{"$f":"DATAENTRY!BC236","v":0},{"$f":"DATAENTRY!BD236","v":0},{"$f":"DATAENTRY!BE236","v":0},{"$f":"DATAENTRY!BF236","v":0},{"$f":"DATAENTRY!BG236","v":0},{"$f":"DATAENTRY!BH236","v":""}]
[{"$f":"DATAENTRY!C237","v":0},{"$f":"DATAENTRY!D237","v":0},{"$f":"DATAENTRY!E237","v":0},{"$f":"DATAENTRY!F237","v":0},{"$f":"DATAENTRY!G237","v":0},{"$f":"DATAENTRY!H237","v":0},{"$f":"DATAENTRY!I237","v":0},{"$f":"DATAENTRY!J237","v":0},{"$f":"DATAENTRY!K237","v":0},{"$f":"DATAENTRY!L237","v":0},{"$f":"DATAENTRY!M237","v":0},{"$f":"DATAENTRY!N237","v":0},{"$f":"DATAENTRY!O237","v":0},{"$f":"DATAENTRY!P237","v":0},{"$f":"DATAENTRY!Q237","v":0},{"$f":"DATAENTRY!R237","v":0},{"$f":"DATAENTRY!S237","v":0},{"$f":"DATAENTRY!T237","v":0},{"$f":"DATAENTRY!U237","v":0},{"$f":"DATAENTRY!V237","v":0},{"$f":"DATAENTRY!W237","v":0},{"$f":"DATAENTRY!X237","v":0},{"$f":"DATAENTRY!Y237","v":0},{"$f":"DATAENTRY!Z237","v":0},{"$f":"DATAENTRY!AA237","v":0},{"$f":"DATAENTRY!AB237","v":0},{"$f":"DATAENTRY!AC237","v":0},{"$f":"DATAENTRY!AD237","v":0},{"$f":"DATAENTRY!AE237","v":0},{"$f":"DATAENTRY!AF237","v":0},{"$f":"DATAENTRY!AG237","v":0},{"$f":"DATAENTRY!AH237","v":0},{"$f":"DATAENTRY!AI237","v":0},{"$f":"DATAENTRY!AJ237","v":0},{"$f":"DATAENTRY!AK237","v":0},{"$f":"DATAENTRY!AL237","v":0},{"$f":"DATAENTRY!AM237","v":0},{"$f":"DATAENTRY!AN237","v":0},{"$f":"DATAENTRY!AO237","v":0},{"$f":"DATAENTRY!AP237","v":0},{"$f":"DATAENTRY!AQ237","v":0},{"$f":"DATAENTRY!AR237","v":0},{"$f":"DATAENTRY!AS237","v":0},{"$f":"DATAENTRY!AT237","v":0},{"$f":"DATAENTRY!AU237","v":0},{"$f":"DATAENTRY!AV237","v":0},{"$f":"DATAENTRY!AW237","v":0},{"$f":"DATAENTRY!AX237","v":0},{"$f":"DATAENTRY!AY237","v":0},{"$f":"DATAENTRY!AZ237","v":0},{"$f":"DATAENTRY!BA237","v":0},{"$f":"DATAENTRY!BB237","v":0},{"$f":"DATAENTRY!BC237","v":0},{"$f":"DATAENTRY!BD237","v":0},{"$f":"DATAENTRY!BE237","v":0},{"$f":"DATAENTRY!BF237","v":0},{"$f":"DATAENTRY!BG237","v":0},{"$f":"DATAENTRY!BH237","v":""}]
[{"$f":"DATAENTRY!C238","v":0},{"$f":"DATAENTRY!D238","v":0},{"$f":"DATAENTRY!E238","v":0},{"$f":"DATAENTRY!F238","v":0},{"$f":"DATAENTRY!G238","v":0},{"$f":"DATAENTRY!H238","v":0},{"$f":"DATAENTRY!I238","v":0},{"$f":"DATAENTRY!J238","v":0},{"$f":"DATAENTRY!K238","v":0},{"$f":"DATAENTRY!L238","v":0},{"$f":"DATAENTRY!M238","v":0},{"$f":"DATAENTRY!N238","v":0},{"$f":"DATAENTRY!O238","v":0},{"$f":"DATAENTRY!P238","v":0},{"$f":"DATAENTRY!Q238","v":0},{"$f":"DATAENTRY!R238","v":0},{"$f":"DATAENTRY!S238","v":0},{"$f":"DATAENTRY!T238","v":0},{"$f":"DATAENTRY!U238","v":0},{"$f":"DATAENTRY!V238","v":0},{"$f":"DATAENTRY!W238","v":0},{"$f":"DATAENTRY!X238","v":0},{"$f":"DATAENTRY!Y238","v":0},{"$f":"DATAENTRY!Z238","v":0},{"$f":"DATAENTRY!AA238","v":0},{"$f":"DATAENTRY!AB238","v":0},{"$f":"DATAENTRY!AC238","v":0},{"$f":"DATAENTRY!AD238","v":0},{"$f":"DATAENTRY!AE238","v":0},{"$f":"DATAENTRY!AF238","v":0},{"$f":"DATAENTRY!AG238","v":0},{"$f":"DATAENTRY!AH238","v":0},{"$f":"DATAENTRY!AI238","v":0},{"$f":"DATAENTRY!AJ238","v":0},{"$f":"DATAENTRY!AK238","v":0},{"$f":"DATAENTRY!AL238","v":0},{"$f":"DATAENTRY!AM238","v":0},{"$f":"DATAENTRY!AN238","v":0},{"$f":"DATAENTRY!AO238","v":0},{"$f":"DATAENTRY!AP238","v":0},{"$f":"DATAENTRY!AQ238","v":0},{"$f":"DATAENTRY!AR238","v":0},{"$f":"DATAENTRY!AS238","v":0},{"$f":"DATAENTRY!AT238","v":0},{"$f":"DATAENTRY!AU238","v":0},{"$f":"DATAENTRY!AV238","v":0},{"$f":"DATAENTRY!AW238","v":0},{"$f":"DATAENTRY!AX238","v":0},{"$f":"DATAENTRY!AY238","v":0},{"$f":"DATAENTRY!AZ238","v":0},{"$f":"DATAENTRY!BA238","v":0},{"$f":"DATAENTRY!BB238","v":0},{"$f":"DATAENTRY!BC238","v":0},{"$f":"DATAENTRY!BD238","v":0},{"$f":"DATAENTRY!BE238","v":0},{"$f":"DATAENTRY!BF238","v":0},{"$f":"DATAENTRY!BG238","v":0},{"$f":"DATAENTRY!BH238","v":""}]
[{"$f":"DATAENTRY!C239","v":0},{"$f":"DATAENTRY!D239","v":0},{"$f":"DATAENTRY!E239","v":0},{"$f":"DATAENTRY!F239","v":0},{"$f":"DATAENTRY!G239","v":0},{"$f":"DATAENTRY!H239","v":0},{"$f":"DATAENTRY!I239","v":0},{"$f":"DATAENTRY!J239","v":0},{"$f":"DATAENTRY!K239","v":0},{"$f":"DATAENTRY!L239","v":0},{"$f":"DATAENTRY!M239","v":0},{"$f":"DATAENTRY!N239","v":0},{"$f":"DATAENTRY!O239","v":0},{"$f":"DATAENTRY!P239","v":0},{"$f":"DATAENTRY!Q239","v":0},{"$f":"DATAENTRY!R239","v":0},{"$f":"DATAENTRY!S239","v":0},{"$f":"DATAENTRY!T239","v":0},{"$f":"DATAENTRY!U239","v":0},{"$f":"DATAENTRY!V239","v":0},{"$f":"DATAENTRY!W239","v":0},{"$f":"DATAENTRY!X239","v":0},{"$f":"DATAENTRY!Y239","v":0},{"$f":"DATAENTRY!Z239","v":0},{"$f":"DATAENTRY!AA239","v":0},{"$f":"DATAENTRY!AB239","v":0},{"$f":"DATAENTRY!AC239","v":0},{"$f":"DATAENTRY!AD239","v":0},{"$f":"DATAENTRY!AE239","v":0},{"$f":"DATAENTRY!AF239","v":0},{"$f":"DATAENTRY!AG239","v":0},{"$f":"DATAENTRY!AH239","v":0},{"$f":"DATAENTRY!AI239","v":0},{"$f":"DATAENTRY!AJ239","v":0},{"$f":"DATAENTRY!AK239","v":0},{"$f":"DATAENTRY!AL239","v":0},{"$f":"DATAENTRY!AM239","v":0},{"$f":"DATAENTRY!AN239","v":0},{"$f":"DATAENTRY!AO239","v":0},{"$f":"DATAENTRY!AP239","v":0},{"$f":"DATAENTRY!AQ239","v":0},{"$f":"DATAENTRY!AR239","v":0},{"$f":"DATAENTRY!AS239","v":0},{"$f":"DATAENTRY!AT239","v":0},{"$f":"DATAENTRY!AU239","v":0},{"$f":"DATAENTRY!AV239","v":0},{"$f":"DATAENTRY!AW239","v":0},{"$f":"DATAENTRY!AX239","v":0},{"$f":"DATAENTRY!AY239","v":0},{"$f":"DATAENTRY!AZ239","v":0},{"$f":"DATAENTRY!BA239","v":0},{"$f":"DATAENTRY!BB239","v":0},{"$f":"DATAENTRY!BC239","v":0},{"$f":"DATAENTRY!BD239","v":0},{"$f":"DATAENTRY!BE239","v":0},{"$f":"DATAENTRY!BF239","v":0},{"$f":"DATAENTRY!BG239","v":0},{"$f":"DATAENTRY!BH239","v":""}]
[{"$f":"DATAENTRY!C240","v":0},{"$f":"DATAENTRY!D240","v":0},{"$f":"DATAENTRY!E240","v":0},{"$f":"DATAENTRY!F240","v":0},{"$f":"DATAENTRY!G240","v":0},{"$f":"DATAENTRY!H240","v":0},{"$f":"DATAENTRY!I240","v":0},{"$f":"DATAENTRY!J240","v":0},{"$f":"DATAENTRY!K240","v":0},{"$f":"DATAENTRY!L240","v":0},{"$f":"DATAENTRY!M240","v":0},{"$f":"DATAENTRY!N240","v":0},{"$f":"DATAENTRY!O240","v":0},{"$f":"DATAENTRY!P240","v":0},{"$f":"DATAENTRY!Q240","v":0},{"$f":"DATAENTRY!R240","v":0},{"$f":"DATAENTRY!S240","v":0},{"$f":"DATAENTRY!T240","v":0},{"$f":"DATAENTRY!U240","v":0},{"$f":"DATAENTRY!V240","v":0},{"$f":"DATAENTRY!W240","v":0},{"$f":"DATAENTRY!X240","v":0},{"$f":"DATAENTRY!Y240","v":0},{"$f":"DATAENTRY!Z240","v":0},{"$f":"DATAENTRY!AA240","v":0},{"$f":"DATAENTRY!AB240","v":0},{"$f":"DATAENTRY!AC240","v":0},{"$f":"DATAENTRY!AD240","v":0},{"$f":"DATAENTRY!AE240","v":0},{"$f":"DATAENTRY!AF240","v":0},{"$f":"DATAENTRY!AG240","v":0},{"$f":"DATAENTRY!AH240","v":0},{"$f":"DATAENTRY!AI240","v":0},{"$f":"DATAENTRY!AJ240","v":0},{"$f":"DATAENTRY!AK240","v":0},{"$f":"DATAENTRY!AL240","v":0},{"$f":"DATAENTRY!AM240","v":0},{"$f":"DATAENTRY!AN240","v":0},{"$f":"DATAENTRY!AO240","v":0},{"$f":"DATAENTRY!AP240","v":0},{"$f":"DATAENTRY!AQ240","v":0},{"$f":"DATAENTRY!AR240","v":0},{"$f":"DATAENTRY!AS240","v":0},{"$f":"DATAENTRY!AT240","v":0},{"$f":"DATAENTRY!AU240","v":0},{"$f":"DATAENTRY!AV240","v":0},{"$f":"DATAENTRY!AW240","v":0},{"$f":"DATAENTRY!AX240","v":0},{"$f":"DATAENTRY!AY240","v":0},{"$f":"DATAENTRY!AZ240","v":0},{"$f":"DATAENTRY!BA240","v":0},{"$f":"DATAENTRY!BB240","v":0},{"$f":"DATAENTRY!BC240","v":0},{"$f":"DATAENTRY!BD240","v":0},{"$f":"DATAENTRY!BE240","v":0},{"$f":"DATAENTRY!BF240","v":0},{"$f":"DATAENTRY!BG240","v":0},{"$f":"DATAENTRY!BH240","v":""}]
[{"$f":"DATAENTRY!C241","v":0},{"$f":"DATAENTRY!D241","v":0},{"$f":"DATAENTRY!E241","v":0},{"$f":"DATAENTRY!F241","v":0},{"$f":"DATAENTRY!G241","v":0},{"$f":"DATAENTRY!H241","v":0},{"$f":"DATAENTRY!I241","v":0},{"$f":"DATAENTRY!J241","v":0},{"$f":"DATAENTRY!K241","v":0},{"$f":"DATAENTRY!L241","v":0},{"$f":"DATAENTRY!M241","v":0},{"$f":"DATAENTRY!N241","v":0},{"$f":"DATAENTRY!O241","v":0},{"$f":"DATAENTRY!P241","v":0},{"$f":"DATAENTRY!Q241","v":0},{"$f":"DATAENTRY!R241","v":0},{"$f":"DATAENTRY!S241","v":0},{"$f":"DATAENTRY!T241","v":0},{"$f":"DATAENTRY!U241","v":0},{"$f":"DATAENTRY!V241","v":0},{"$f":"DATAENTRY!W241","v":0},{"$f":"DATAENTRY!X241","v":0},{"$f":"DATAENTRY!Y241","v":0},{"$f":"DATAENTRY!Z241","v":0},{"$f":"DATAENTRY!AA241","v":0},{"$f":"DATAENTRY!AB241","v":0},{"$f":"DATAENTRY!AC241","v":0},{"$f":"DATAENTRY!AD241","v":0},{"$f":"DATAENTRY!AE241","v":0},{"$f":"DATAENTRY!AF241","v":0},{"$f":"DATAENTRY!AG241","v":0},{"$f":"DATAENTRY!AH241","v":0},{"$f":"DATAENTRY!AI241","v":0},{"$f":"DATAENTRY!AJ241","v":0},{"$f":"DATAENTRY!AK241","v":0},{"$f":"DATAENTRY!AL241","v":0},{"$f":"DATAENTRY!AM241","v":0},{"$f":"DATAENTRY!AN241","v":0},{"$f":"DATAENTRY!AO241","v":0},{"$f":"DATAENTRY!AP241","v":0},{"$f":"DATAENTRY!AQ241","v":0},{"$f":"DATAENTRY!AR241","v":0},{"$f":"DATAENTRY!AS241","v":0},{"$f":"DATAENTRY!AT241","v":0},{"$f":"DATAENTRY!AU241","v":0},{"$f":"DATAENTRY!AV241","v":0},{"$f":"DATAENTRY!AW241","v":0},{"$f":"DATAENTRY!AX241","v":0},{"$f":"DATAENTRY!AY241","v":0},{"$f":"DATAENTRY!AZ241","v":0},{"$f":"DATAENTRY!BA241","v":0},{"$f":"DATAENTRY!BB241","v":0},{"$f":"DATAENTRY!BC241","v":0},{"$f":"DATAENTRY!BD241","v":0},{"$f":"DATAENTRY!BE241","v":0},{"$f":"DATAENTRY!BF241","v":0},{"$f":"DATAENTRY!BG241","v":0},{"$f":"DATAENTRY!BH241","v":""}]
[{"$f":"DATAENTRY!C242","v":0},{"$f":"DATAENTRY!D242","v":0},{"$f":"DATAENTRY!E242","v":0},{"$f":"DATAENTRY!F242","v":0},{"$f":"DATAENTRY!G242","v":0},{"$f":"DATAENTRY!H242","v":0},{"$f":"DATAENTRY!I242","v":0},{"$f":"DATAENTRY!J242","v":0},{"$f":"DATAENTRY!K242","v":0},{"$f":"DATAENTRY!L242","v":0},{"$f":"DATAENTRY!M242","v":0},{"$f":"DATAENTRY!N242","v":0},{"$f":"DATAENTRY!O242","v":0},{"$f":"DATAENTRY!P242","v":0},{"$f":"DATAENTRY!Q242","v":0},{"$f":"DATAENTRY!R242","v":0},{"$f":"DATAENTRY!S242","v":0},{"$f":"DATAENTRY!T242","v":0},{"$f":"DATAENTRY!U242","v":0},{"$f":"DATAENTRY!V242","v":0},{"$f":"DATAENTRY!W242","v":0},{"$f":"DATAENTRY!X242","v":0},{"$f":"DATAENTRY!Y242","v":0},{"$f":"DATAENTRY!Z242","v":0},{"$f":"DATAENTRY!AA242","v":0},{"$f":"DATAENTRY!AB242","v":0},{"$f":"DATAENTRY!AC242","v":0},{"$f":"DATAENTRY!AD242","v":0},{"$f":"DATAENTRY!AE242","v":0},{"$f":"DATAENTRY!AF242","v":0},{"$f":"DATAENTRY!AG242","v":0},{"$f":"DATAENTRY!AH242","v":0},{"$f":"DATAENTRY!AI242","v":0},{"$f":"DATAENTRY!AJ242","v":0},{"$f":"DATAENTRY!AK242","v":0},{"$f":"DATAENTRY!AL242","v":0},{"$f":"DATAENTRY!AM242","v":0},{"$f":"DATAENTRY!AN242","v":0},{"$f":"DATAENTRY!AO242","v":0},{"$f":"DATAENTRY!AP242","v":0},{"$f":"DATAENTRY!AQ242","v":0},{"$f":"DATAENTRY!AR242","v":0},{"$f":"DATAENTRY!AS242","v":0},{"$f":"DATAENTRY!AT242","v":0},{"$f":"DATAENTRY!AU242","v":0},{"$f":"DATAENTRY!AV242","v":0},{"$f":"DATAENTRY!AW242","v":0},{"$f":"DATAENTRY!AX242","v":0},{"$f":"DATAENTRY!AY242","v":0},{"$f":"DATAENTRY!AZ242","v":0},{"$f":"DATAENTRY!BA242","v":0},{"$f":"DATAENTRY!BB242","v":0},{"$f":"DATAENTRY!BC242","v":0},{"$f":"DATAENTRY!BD242","v":0},{"$f":"DATAENTRY!BE242","v":0},{"$f":"DATAENTRY!BF242","v":0},{"$f":"DATAENTRY!BG242","v":0},{"$f":"DATAENTRY!BH242","v":""}]
[{"$f":"DATAENTRY!C243","v":0},{"$f":"DATAENTRY!D243","v":0},{"$f":"DATAENTRY!E243","v":0},{"$f":"DATAENTRY!F243","v":0},{"$f":"DATAENTRY!G243","v":0},{"$f":"DATAENTRY!H243","v":0},{"$f":"DATAENTRY!I243","v":0},{"$f":"DATAENTRY!J243","v":0},{"$f":"DATAENTRY!K243","v":0},{"$f":"DATAENTRY!L243","v":0},{"$f":"DATAENTRY!M243","v":0},{"$f":"DATAENTRY!N243","v":0},{"$f":"DATAENTRY!O243","v":0},{"$f":"DATAENTRY!P243","v":0},{"$f":"DATAENTRY!Q243","v":0},{"$f":"DATAENTRY!R243","v":0},{"$f":"DATAENTRY!S243","v":0},{"$f":"DATAENTRY!T243","v":0},{"$f":"DATAENTRY!U243","v":0},{"$f":"DATAENTRY!V243","v":0},{"$f":"DATAENTRY!W243","v":0},{"$f":"DATAENTRY!X243","v":0},{"$f":"DATAENTRY!Y243","v":0},{"$f":"DATAENTRY!Z243","v":0},{"$f":"DATAENTRY!AA243","v":0},{"$f":"DATAENTRY!AB243","v":0},{"$f":"DATAENTRY!AC243","v":0},{"$f":"DATAENTRY!AD243","v":0},{"$f":"DATAENTRY!AE243","v":0},{"$f":"DATAENTRY!AF243","v":0},{"$f":"DATAENTRY!AG243","v":0},{"$f":"DATAENTRY!AH243","v":0},{"$f":"DATAENTRY!AI243","v":0},{"$f":"DATAENTRY!AJ243","v":0},{"$f":"DATAENTRY!AK243","v":0},{"$f":"DATAENTRY!AL243","v":0},{"$f":"DATAENTRY!AM243","v":0},{"$f":"DATAENTRY!AN243","v":0},{"$f":"DATAENTRY!AO243","v":0},{"$f":"DATAENTRY!AP243","v":0},{"$f":"DATAENTRY!AQ243","v":0},{"$f":"DATAENTRY!AR243","v":0},{"$f":"DATAENTRY!AS243","v":0},{"$f":"DATAENTRY!AT243","v":0},{"$f":"DATAENTRY!AU243","v":0},{"$f":"DATAENTRY!AV243","v":0},{"$f":"DATAENTRY!AW243","v":0},{"$f":"DATAENTRY!AX243","v":0},{"$f":"DATAENTRY!AY243","v":0},{"$f":"DATAENTRY!AZ243","v":0},{"$f":"DATAENTRY!BA243","v":0},{"$f":"DATAENTRY!BB243","v":0},{"$f":"DATAENTRY!BC243","v":0},{"$f":"DATAENTRY!BD243","v":0},{"$f":"DATAENTRY!BE243","v":0},{"$f":"DATAENTRY!BF243","v":0},{"$f":"DATAENTRY!BG243","v":0},{"$f":"DATAENTRY!BH243","v":""}]
[{"$f":"DATAENTRY!C244","v":0},{"$f":"DATAENTRY!D244","v":0},{"$f":"DATAENTRY!E244","v":0},{"$f":"DATAENTRY!F244","v":0},{"$f":"DATAENTRY!G244","v":0},{"$f":"DATAENTRY!H244","v":0},{"$f":"DATAENTRY!I244","v":0},{"$f":"DATAENTRY!J244","v":0},{"$f":"DATAENTRY!K244","v":0},{"$f":"DATAENTRY!L244","v":0},{"$f":"DATAENTRY!M244","v":0},{"$f":"DATAENTRY!N244","v":0},{"$f":"DATAENTRY!O244","v":0},{"$f":"DATAENTRY!P244","v":0},{"$f":"DATAENTRY!Q244","v":0},{"$f":"DATAENTRY!R244","v":0},{"$f":"DATAENTRY!S244","v":0},{"$f":"DATAENTRY!T244","v":0},{"$f":"DATAENTRY!U244","v":0},{"$f":"DATAENTRY!V244","v":0},{"$f":"DATAENTRY!W244","v":0},{"$f":"DATAENTRY!X244","v":0},{"$f":"DATAENTRY!Y244","v":0},{"$f":"DATAENTRY!Z244","v":0},{"$f":"DATAENTRY!AA244","v":0},{"$f":"DATAENTRY!AB244","v":0},{"$f":"DATAENTRY!AC244","v":0},{"$f":"DATAENTRY!AD244","v":0},{"$f":"DATAENTRY!AE244","v":0},{"$f":"DATAENTRY!AF244","v":0},{"$f":"DATAENTRY!AG244","v":0},{"$f":"DATAENTRY!AH244","v":0},{"$f":"DATAENTRY!AI244","v":0},{"$f":"DATAENTRY!AJ244","v":0},{"$f":"DATAENTRY!AK244","v":0},{"$f":"DATAENTRY!AL244","v":0},{"$f":"DATAENTRY!AM244","v":0},{"$f":"DATAENTRY!AN244","v":0},{"$f":"DATAENTRY!AO244","v":0},{"$f":"DATAENTRY!AP244","v":0},{"$f":"DATAENTRY!AQ244","v":0},{"$f":"DATAENTRY!AR244","v":0},{"$f":"DATAENTRY!AS244","v":0},{"$f":"DATAENTRY!AT244","v":0},{"$f":"DATAENTRY!AU244","v":0},{"$f":"DATAENTRY!AV244","v":0},{"$f":"DATAENTRY!AW244","v":0},{"$f":"DATAENTRY!AX244","v":0},{"$f":"DATAENTRY!AY244","v":0},{"$f":"DATAENTRY!AZ244","v":0},{"$f":"DATAENTRY!BA244","v":0},{"$f":"DATAENTRY!BB244","v":0},{"$f":"DATAENTRY!BC244","v":0},{"$f":"DATAENTRY!BD244","v":0},{"$f":"DATAENTRY!BE244","v":0},{"$f":"DATAENTRY!BF244","v":0},{"$f":"DATAENTRY!BG244","v":0},{"$f":"DATAENTRY!BH244","v":""}]
[{"$f":"DATAENTRY!C245","v":0},{"$f":"DATAENTRY!D245","v":0},{"$f":"DATAENTRY!E245","v":0},{"$f":"DATAENTRY!F245","v":0},{"$f":"DATAENTRY!G245","v":0},{"$f":"DATAENTRY!H245","v":0},{"$f":"DATAENTRY!I245","v":0},{"$f":"DATAENTRY!J245","v":0},{"$f":"DATAENTRY!K245","v":0},{"$f":"DATAENTRY!L245","v":0},{"$f":"DATAENTRY!M245","v":0},{"$f":"DATAENTRY!N245","v":0},{"$f":"DATAENTRY!O245","v":0},{"$f":"DATAENTRY!P245","v":0},{"$f":"DATAENTRY!Q245","v":0},{"$f":"DATAENTRY!R245","v":0},{"$f":"DATAENTRY!S245","v":0},{"$f":"DATAENTRY!T245","v":0},{"$f":"DATAENTRY!U245","v":0},{"$f":"DATAENTRY!V245","v":0},{"$f":"DATAENTRY!W245","v":0},{"$f":"DATAENTRY!X245","v":0},{"$f":"DATAENTRY!Y245","v":0},{"$f":"DATAENTRY!Z245","v":0},{"$f":"DATAENTRY!AA245","v":0},{"$f":"DATAENTRY!AB245","v":0},{"$f":"DATAENTRY!AC245","v":0},{"$f":"DATAENTRY!AD245","v":0},{"$f":"DATAENTRY!AE245","v":0},{"$f":"DATAENTRY!AF245","v":0},{"$f":"DATAENTRY!AG245","v":0},{"$f":"DATAENTRY!AH245","v":0},{"$f":"DATAENTRY!AI245","v":0},{"$f":"DATAENTRY!AJ245","v":0},{"$f":"DATAENTRY!AK245","v":0},{"$f":"DATAENTRY!AL245","v":0},{"$f":"DATAENTRY!AM245","v":0},{"$f":"DATAENTRY!AN245","v":0},{"$f":"DATAENTRY!AO245","v":0},{"$f":"DATAENTRY!AP245","v":0},{"$f":"DATAENTRY!AQ245","v":0},{"$f":"DATAENTRY!AR245","v":0},{"$f":"DATAENTRY!AS245","v":0},{"$f":"DATAENTRY!AT245","v":0},{"$f":"DATAENTRY!AU245","v":0},{"$f":"DATAENTRY!AV245","v":0},{"$f":"DATAENTRY!AW245","v":0},{"$f":"DATAENTRY!AX245","v":0},{"$f":"DATAENTRY!AY245","v":0},{"$f":"DATAENTRY!AZ245","v":0},{"$f":"DATAENTRY!BA245","v":0},{"$f":"DATAENTRY!BB245","v":0},{"$f":"DATAENTRY!BC245","v":0},{"$f":"DATAENTRY!BD245","v":0},{"$f":"DATAENTRY!BE245","v":0},{"$f":"DATAENTRY!BF245","v":0},{"$f":"DATAENTRY!BG245","v":0},{"$f":"DATAENTRY!BH245","v":""}]
[{"$f":"DATAENTRY!C246","v":0},{"$f":"DATAENTRY!D246","v":0},{"$f":"DATAENTRY!E246","v":0},{"$f":"DATAENTRY!F246","v":0},{"$f":"DATAENTRY!G246","v":0},{"$f":"DATAENTRY!H246","v":0},{"$f":"DATAENTRY!I246","v":0},{"$f":"DATAENTRY!J246","v":0},{"$f":"DATAENTRY!K246","v":0},{"$f":"DATAENTRY!L246","v":0},{"$f":"DATAENTRY!M246","v":0},{"$f":"DATAENTRY!N246","v":0},{"$f":"DATAENTRY!O246","v":0},{"$f":"DATAENTRY!P246","v":0},{"$f":"DATAENTRY!Q246","v":0},{"$f":"DATAENTRY!R246","v":0},{"$f":"DATAENTRY!S246","v":0},{"$f":"DATAENTRY!T246","v":0},{"$f":"DATAENTRY!U246","v":0},{"$f":"DATAENTRY!V246","v":0},{"$f":"DATAENTRY!W246","v":0},{"$f":"DATAENTRY!X246","v":0},{"$f":"DATAENTRY!Y246","v":0},{"$f":"DATAENTRY!Z246","v":0},{"$f":"DATAENTRY!AA246","v":0},{"$f":"DATAENTRY!AB246","v":0},{"$f":"DATAENTRY!AC246","v":0},{"$f":"DATAENTRY!AD246","v":0},{"$f":"DATAENTRY!AE246","v":0},{"$f":"DATAENTRY!AF246","v":0},{"$f":"DATAENTRY!AG246","v":0},{"$f":"DATAENTRY!AH246","v":0},{"$f":"DATAENTRY!AI246","v":0},{"$f":"DATAENTRY!AJ246","v":0},{"$f":"DATAENTRY!AK246","v":0},{"$f":"DATAENTRY!AL246","v":0},{"$f":"DATAENTRY!AM246","v":0},{"$f":"DATAENTRY!AN246","v":0},{"$f":"DATAENTRY!AO246","v":0},{"$f":"DATAENTRY!AP246","v":0},{"$f":"DATAENTRY!AQ246","v":0},{"$f":"DATAENTRY!AR246","v":0},{"$f":"DATAENTRY!AS246","v":0},{"$f":"DATAENTRY!AT246","v":0},{"$f":"DATAENTRY!AU246","v":0},{"$f":"DATAENTRY!AV246","v":0},{"$f":"DATAENTRY!AW246","v":0},{"$f":"DATAENTRY!AX246","v":0},{"$f":"DATAENTRY!AY246","v":0},{"$f":"DATAENTRY!AZ246","v":0},{"$f":"DATAENTRY!BA246","v":0},{"$f":"DATAENTRY!BB246","v":0},{"$f":"DATAENTRY!BC246","v":0},{"$f":"DATAENTRY!BD246","v":0},{"$f":"DATAENTRY!BE246","v":0},{"$f":"DATAENTRY!BF246","v":0},{"$f":"DATAENTRY!BG246","v":0},{"$f":"DATAENTRY!BH246","v":""}]
[{"$f":"DATAENTRY!C247","v":0},{"$f":"DATAENTRY!D247","v":0},{"$f":"DATAENTRY!E247","v":0},{"$f":"DATAENTRY!F247","v":0},{"$f":"DATAENTRY!G247","v":0},{"$f":"DATAENTRY!H247","v":0},{"$f":"DATAENTRY!I247","v":0},{"$f":"DATAENTRY!J247","v":0},{"$f":"DATAENTRY!K247","v":0},{"$f":"DATAENTRY!L247","v":0},{"$f":"DATAENTRY!M247","v":0},{"$f":"DATAENTRY!N247","v":0},{"$f":"DATAENTRY!O247","v":0},{"$f":"DATAENTRY!P247","v":0},{"$f":"DATAENTRY!Q247","v":0},{"$f":"DATAENTRY!R247","v":0},{"$f":"DATAENTRY!S247","v":0},{"$f":"DATAENTRY!T247","v":0},{"$f":"DATAENTRY!U247","v":0},{"$f":"DATAENTRY!V247","v":0},{"$f":"DATAENTRY!W247","v":0},{"$f":"DATAENTRY!X247","v":0},{"$f":"DATAENTRY!Y247","v":0},{"$f":"DATAENTRY!Z247","v":0},{"$f":"DATAENTRY!AA247","v":0},{"$f":"DATAENTRY!AB247","v":0},{"$f":"DATAENTRY!AC247","v":0},{"$f":"DATAENTRY!AD247","v":0},{"$f":"DATAENTRY!AE247","v":0},{"$f":"DATAENTRY!AF247","v":0},{"$f":"DATAENTRY!AG247","v":0},{"$f":"DATAENTRY!AH247","v":0},{"$f":"DATAENTRY!AI247","v":0},{"$f":"DATAENTRY!AJ247","v":0},{"$f":"DATAENTRY!AK247","v":0},{"$f":"DATAENTRY!AL247","v":0},{"$f":"DATAENTRY!AM247","v":0},{"$f":"DATAENTRY!AN247","v":0},{"$f":"DATAENTRY!AO247","v":0},{"$f":"DATAENTRY!AP247","v":0},{"$f":"DATAENTRY!AQ247","v":0},{"$f":"DATAENTRY!AR247","v":0},{"$f":"DATAENTRY!AS247","v":0},{"$f":"DATAENTRY!AT247","v":0},{"$f":"DATAENTRY!AU247","v":0},{"$f":"DATAENTRY!AV247","v":0},{"$f":"DATAENTRY!AW247","v":0},{"$f":"DATAENTRY!AX247","v":0},{"$f":"DATAENTRY!AY247","v":0},{"$f":"DATAENTRY!AZ247","v":0},{"$f":"DATAENTRY!BA247","v":0},{"$f":"DATAENTRY!BB247","v":0},{"$f":"DATAENTRY!BC247","v":0},{"$f":"DATAENTRY!BD247","v":0},{"$f":"DATAENTRY!BE247","v":0},{"$f":"DATAENTRY!BF247","v":0},{"$f":"DATAENTRY!BG247","v":0},{"$f":"DATAENTRY!BH247","v":""}]
[{"$f":"DATAENTRY!C248","v":0},{"$f":"DATAENTRY!D248","v":0},{"$f":"DATAENTRY!E248","v":0},{"$f":"DATAENTRY!F248","v":0},{"$f":"DATAENTRY!G248","v":0},{"$f":"DATAENTRY!H248","v":0},{"$f":"DATAENTRY!I248","v":0},{"$f":"DATAENTRY!J248","v":0},{"$f":"DATAENTRY!K248","v":0},{"$f":"DATAENTRY!L248","v":0},{"$f":"DATAENTRY!M248","v":0},{"$f":"DATAENTRY!N248","v":0},{"$f":"DATAENTRY!O248","v":0},{"$f":"DATAENTRY!P248","v":0},{"$f":"DATAENTRY!Q248","v":0},{"$f":"DATAENTRY!R248","v":0},{"$f":"DATAENTRY!S248","v":0},{"$f":"DATAENTRY!T248","v":0},{"$f":"DATAENTRY!U248","v":0},{"$f":"DATAENTRY!V248","v":0},{"$f":"DATAENTRY!W248","v":0},{"$f":"DATAENTRY!X248","v":0},{"$f":"DATAENTRY!Y248","v":0},{"$f":"DATAENTRY!Z248","v":0},{"$f":"DATAENTRY!AA248","v":0},{"$f":"DATAENTRY!AB248","v":0},{"$f":"DATAENTRY!AC248","v":0},{"$f":"DATAENTRY!AD248","v":0},{"$f":"DATAENTRY!AE248","v":0},{"$f":"DATAENTRY!AF248","v":0},{"$f":"DATAENTRY!AG248","v":0},{"$f":"DATAENTRY!AH248","v":0},{"$f":"DATAENTRY!AI248","v":0},{"$f":"DATAENTRY!AJ248","v":0},{"$f":"DATAENTRY!AK248","v":0},{"$f":"DATAENTRY!AL248","v":0},{"$f":"DATAENTRY!AM248","v":0},{"$f":"DATAENTRY!AN248","v":0},{"$f":"DATAENTRY!AO248","v":0},{"$f":"DATAENTRY!AP248","v":0},{"$f":"DATAENTRY!AQ248","v":0},{"$f":"DATAENTRY!AR248","v":0},{"$f":"DATAENTRY!AS248","v":0},{"$f":"DATAENTRY!AT248","v":0},{"$f":"DATAENTRY!AU248","v":0},{"$f":"DATAENTRY!AV248","v":0},{"$f":"DATAENTRY!AW248","v":0},{"$f":"DATAENTRY!AX248","v":0},{"$f":"DATAENTRY!AY248","v":0},{"$f":"DATAENTRY!AZ248","v":0},{"$f":"DATAENTRY!BA248","v":0},{"$f":"DATAENTRY!BB248","v":0},{"$f":"DATAENTRY!BC248","v":0},{"$f":"DATAENTRY!BD248","v":0},{"$f":"DATAENTRY!BE248","v":0},{"$f":"DATAENTRY!BF248","v":0},{"$f":"DATAENTRY!BG248","v":0},{"$f":"DATAENTRY!BH248","v":""}]
[{"$f":"DATAENTRY!C249","v":0},{"$f":"DATAENTRY!D249","v":0},{"$f":"DATAENTRY!E249","v":0},{"$f":"DATAENTRY!F249","v":0},{"$f":"DATAENTRY!G249","v":0},{"$f":"DATAENTRY!H249","v":0},{"$f":"DATAENTRY!I249","v":0},{"$f":"DATAENTRY!J249","v":0},{"$f":"DATAENTRY!K249","v":0},{"$f":"DATAENTRY!L249","v":0},{"$f":"DATAENTRY!M249","v":0},{"$f":"DATAENTRY!N249","v":0},{"$f":"DATAENTRY!O249","v":0},{"$f":"DATAENTRY!P249","v":0},{"$f":"DATAENTRY!Q249","v":0},{"$f":"DATAENTRY!R249","v":0},{"$f":"DATAENTRY!S249","v":0},{"$f":"DATAENTRY!T249","v":0},{"$f":"DATAENTRY!U249","v":0},{"$f":"DATAENTRY!V249","v":0},{"$f":"DATAENTRY!W249","v":0},{"$f":"DATAENTRY!X249","v":0},{"$f":"DATAENTRY!Y249","v":0},{"$f":"DATAENTRY!Z249","v":0},{"$f":"DATAENTRY!AA249","v":0},{"$f":"DATAENTRY!AB249","v":0},{"$f":"DATAENTRY!AC249","v":0},{"$f":"DATAENTRY!AD249","v":0},{"$f":"DATAENTRY!AE249","v":0},{"$f":"DATAENTRY!AF249","v":0},{"$f":"DATAENTRY!AG249","v":0},{"$f":"DATAENTRY!AH249","v":0},{"$f":"DATAENTRY!AI249","v":0},{"$f":"DATAENTRY!AJ249","v":0},{"$f":"DATAENTRY!AK249","v":0},{"$f":"DATAENTRY!AL249","v":0},{"$f":"DATAENTRY!AM249","v":0},{"$f":"DATAENTRY!AN249","v":0},{"$f":"DATAENTRY!AO249","v":0},{"$f":"DATAENTRY!AP249","v":0},{"$f":"DATAENTRY!AQ249","v":0},{"$f":"DATAENTRY!AR249","v":0},{"$f":"DATAENTRY!AS249","v":0},{"$f":"DATAENTRY!AT249","v":0},{"$f":"DATAENTRY!AU249","v":0},{"$f":"DATAENTRY!AV249","v":0},{"$f":"DATAENTRY!AW249","v":0},{"$f":"DATAENTRY!AX249","v":0},{"$f":"DATAENTRY!AY249","v":0},{"$f":"DATAENTRY!AZ249","v":0},{"$f":"DATAENTRY!BA249","v":0},{"$f":"DATAENTRY!BB249","v":0},{"$f":"DATAENTRY!BC249","v":0},{"$f":"DATAENTRY!BD249","v":0},{"$f":"DATAENTRY!BE249","v":0},{"$f":"DATAENTRY!BF249","v":0},{"$f":"DATAENTRY!BG249","v":0},{"$f":"DATAENTRY!BH249","v":""}]
[{"$f":"DATAENTRY!C250","v":0},{"$f":"DATAENTRY!D250","v":0},{"$f":"DATAENTRY!E250","v":0},{"$f":"DATAENTRY!F250","v":0},{"$f":"DATAENTRY!G250","v":0},{"$f":"DATAENTRY!H250","v":0},{"$f":"DATAENTRY!I250","v":0},{"$f":"DATAENTRY!J250","v":0},{"$f":"DATAENTRY!K250","v":0},{"$f":"DATAENTRY!L250","v":0},{"$f":"DATAENTRY!M250","v":0},{"$f":"DATAENTRY!N250","v":0},{"$f":"DATAENTRY!O250","v":0},{"$f":"DATAENTRY!P250","v":0},{"$f":"DATAENTRY!Q250","v":0},{"$f":"DATAENTRY!R250","v":0},{"$f":"DATAENTRY!S250","v":0},{"$f":"DATAENTRY!T250","v":0},{"$f":"DATAENTRY!U250","v":0},{"$f":"DATAENTRY!V250","v":0},{"$f":"DATAENTRY!W250","v":0},{"$f":"DATAENTRY!X250","v":0},{"$f":"DATAENTRY!Y250","v":0},{"$f":"DATAENTRY!Z250","v":0},{"$f":"DATAENTRY!AA250","v":0},{"$f":"DATAENTRY!AB250","v":0},{"$f":"DATAENTRY!AC250","v":0},{"$f":"DATAENTRY!AD250","v":0},{"$f":"DATAENTRY!AE250","v":0},{"$f":"DATAENTRY!AF250","v":0},{"$f":"DATAENTRY!AG250","v":0},{"$f":"DATAENTRY!AH250","v":0},{"$f":"DATAENTRY!AI250","v":0},{"$f":"DATAENTRY!AJ250","v":0},{"$f":"DATAENTRY!AK250","v":0},{"$f":"DATAENTRY!AL250","v":0},{"$f":"DATAENTRY!AM250","v":0},{"$f":"DATAENTRY!AN250","v":0},{"$f":"DATAENTRY!AO250","v":0},{"$f":"DATAENTRY!AP250","v":0},{"$f":"DATAENTRY!AQ250","v":0},{"$f":"DATAENTRY!AR250","v":0},{"$f":"DATAENTRY!AS250","v":0},{"$f":"DATAENTRY!AT250","v":0},{"$f":"DATAENTRY!AU250","v":0},{"$f":"DATAENTRY!AV250","v":0},{"$f":"DATAENTRY!AW250","v":0},{"$f":"DATAENTRY!AX250","v":0},{"$f":"DATAENTRY!AY250","v":0},{"$f":"DATAENTRY!AZ250","v":0},{"$f":"DATAENTRY!BA250","v":0},{"$f":"DATAENTRY!BB250","v":0},{"$f":"DATAENTRY!BC250","v":0},{"$f":"DATAENTRY!BD250","v":0},{"$f":"DATAENTRY!BE250","v":0},{"$f":"DATAENTRY!BF250","v":0},{"$f":"DATAENTRY!BG250","v":0},{"$f":"DATAENTRY!BH250","v":""}]
[{"$f":"DATAENTRY!C251","v":0},{"$f":"DATAENTRY!D251","v":0},{"$f":"DATAENTRY!E251","v":0},{"$f":"DATAENTRY!F251","v":0},{"$f":"DATAENTRY!G251","v":0},{"$f":"DATAENTRY!H251","v":0},{"$f":"DATAENTRY!I251","v":0},{"$f":"DATAENTRY!J251","v":0},{"$f":"DATAENTRY!K251","v":0},{"$f":"DATAENTRY!L251","v":0},{"$f":"DATAENTRY!M251","v":0},{"$f":"DATAENTRY!N251","v":0},{"$f":"DATAENTRY!O251","v":0},{"$f":"DATAENTRY!P251","v":0},{"$f":"DATAENTRY!Q251","v":0},{"$f":"DATAENTRY!R251","v":0},{"$f":"DATAENTRY!S251","v":0},{"$f":"DATAENTRY!T251","v":0},{"$f":"DATAENTRY!U251","v":0},{"$f":"DATAENTRY!V251","v":0},{"$f":"DATAENTRY!W251","v":0},{"$f":"DATAENTRY!X251","v":0},{"$f":"DATAENTRY!Y251","v":0},{"$f":"DATAENTRY!Z251","v":0},{"$f":"DATAENTRY!AA251","v":0},{"$f":"DATAENTRY!AB251","v":0},{"$f":"DATAENTRY!AC251","v":0},{"$f":"DATAENTRY!AD251","v":0},{"$f":"DATAENTRY!AE251","v":0},{"$f":"DATAENTRY!AF251","v":0},{"$f":"DATAENTRY!AG251","v":0},{"$f":"DATAENTRY!AH251","v":0},{"$f":"DATAENTRY!AI251","v":0},{"$f":"DATAENTRY!AJ251","v":0},{"$f":"DATAENTRY!AK251","v":0},{"$f":"DATAENTRY!AL251","v":0},{"$f":"DATAENTRY!AM251","v":0},{"$f":"DATAENTRY!AN251","v":0},{"$f":"DATAENTRY!AO251","v":0},{"$f":"DATAENTRY!AP251","v":0},{"$f":"DATAENTRY!AQ251","v":0},{"$f":"DATAENTRY!AR251","v":0},{"$f":"DATAENTRY!AS251","v":0},{"$f":"DATAENTRY!AT251","v":0},{"$f":"DATAENTRY!AU251","v":0},{"$f":"DATAENTRY!AV251","v":0},{"$f":"DATAENTRY!AW251","v":0},{"$f":"DATAENTRY!AX251","v":0},{"$f":"DATAENTRY!AY251","v":0},{"$f":"DATAENTRY!AZ251","v":0},{"$f":"DATAENTRY!BA251","v":0},{"$f":"DATAENTRY!BB251","v":0},{"$f":"DATAENTRY!BC251","v":0},{"$f":"DATAENTRY!BD251","v":0},{"$f":"DATAENTRY!BE251","v":0},{"$f":"DATAENTRY!BF251","v":0},{"$f":"DATAENTRY!BG251","v":0},{"$f":"DATAENTRY!BH251","v":""}]
[{"$f":"DATAENTRY!C252","v":0},{"$f":"DATAENTRY!D252","v":0},{"$f":"DATAENTRY!E252","v":0},{"$f":"DATAENTRY!F252","v":0},{"$f":"DATAENTRY!G252","v":0},{"$f":"DATAENTRY!H252","v":0},{"$f":"DATAENTRY!I252","v":0},{"$f":"DATAENTRY!J252","v":0},{"$f":"DATAENTRY!K252","v":0},{"$f":"DATAENTRY!L252","v":0},{"$f":"DATAENTRY!M252","v":0},{"$f":"DATAENTRY!N252","v":0},{"$f":"DATAENTRY!O252","v":0},{"$f":"DATAENTRY!P252","v":0},{"$f":"DATAENTRY!Q252","v":0},{"$f":"DATAENTRY!R252","v":0},{"$f":"DATAENTRY!S252","v":0},{"$f":"DATAENTRY!T252","v":0},{"$f":"DATAENTRY!U252","v":0},{"$f":"DATAENTRY!V252","v":0},{"$f":"DATAENTRY!W252","v":0},{"$f":"DATAENTRY!X252","v":0},{"$f":"DATAENTRY!Y252","v":0},{"$f":"DATAENTRY!Z252","v":0},{"$f":"DATAENTRY!AA252","v":0},{"$f":"DATAENTRY!AB252","v":0},{"$f":"DATAENTRY!AC252","v":0},{"$f":"DATAENTRY!AD252","v":0},{"$f":"DATAENTRY!AE252","v":0},{"$f":"DATAENTRY!AF252","v":0},{"$f":"DATAENTRY!AG252","v":0},{"$f":"DATAENTRY!AH252","v":0},{"$f":"DATAENTRY!AI252","v":0},{"$f":"DATAENTRY!AJ252","v":0},{"$f":"DATAENTRY!AK252","v":0},{"$f":"DATAENTRY!AL252","v":0},{"$f":"DATAENTRY!AM252","v":0},{"$f":"DATAENTRY!AN252","v":0},{"$f":"DATAENTRY!AO252","v":0},{"$f":"DATAENTRY!AP252","v":0},{"$f":"DATAENTRY!AQ252","v":0},{"$f":"DATAENTRY!AR252","v":0},{"$f":"DATAENTRY!AS252","v":0},{"$f":"DATAENTRY!AT252","v":0},{"$f":"DATAENTRY!AU252","v":0},{"$f":"DATAENTRY!AV252","v":0},{"$f":"DATAENTRY!AW252","v":0},{"$f":"DATAENTRY!AX252","v":0},{"$f":"DATAENTRY!AY252","v":0},{"$f":"DATAENTRY!AZ252","v":0},{"$f":"DATAENTRY!BA252","v":0},{"$f":"DATAENTRY!BB252","v":0},{"$f":"DATAENTRY!BC252","v":0},{"$f":"DATAENTRY!BD252","v":0},{"$f":"DATAENTRY!BE252","v":0},{"$f":"DATAENTRY!BF252","v":0},{"$f":"DATAENTRY!BG252","v":0},{"$f":"DATAENTRY!BH252","v":""}]
[{"$f":"DATAENTRY!C253","v":0},{"$f":"DATAENTRY!D253","v":0},{"$f":"DATAENTRY!E253","v":0},{"$f":"DATAENTRY!F253","v":0},{"$f":"DATAENTRY!G253","v":0},{"$f":"DATAENTRY!H253","v":0},{"$f":"DATAENTRY!I253","v":0},{"$f":"DATAENTRY!J253","v":0},{"$f":"DATAENTRY!K253","v":0},{"$f":"DATAENTRY!L253","v":0},{"$f":"DATAENTRY!M253","v":0},{"$f":"DATAENTRY!N253","v":0},{"$f":"DATAENTRY!O253","v":0},{"$f":"DATAENTRY!P253","v":0},{"$f":"DATAENTRY!Q253","v":0},{"$f":"DATAENTRY!R253","v":0},{"$f":"DATAENTRY!S253","v":0},{"$f":"DATAENTRY!T253","v":0},{"$f":"DATAENTRY!U253","v":0},{"$f":"DATAENTRY!V253","v":0},{"$f":"DATAENTRY!W253","v":0},{"$f":"DATAENTRY!X253","v":0},{"$f":"DATAENTRY!Y253","v":0},{"$f":"DATAENTRY!Z253","v":0},{"$f":"DATAENTRY!AA253","v":0},{"$f":"DATAENTRY!AB253","v":0},{"$f":"DATAENTRY!AC253","v":0},{"$f":"DATAENTRY!AD253","v":0},{"$f":"DATAENTRY!AE253","v":0},{"$f":"DATAENTRY!AF253","v":0},{"$f":"DATAENTRY!AG253","v":0},{"$f":"DATAENTRY!AH253","v":0},{"$f":"DATAENTRY!AI253","v":0},{"$f":"DATAENTRY!AJ253","v":0},{"$f":"DATAENTRY!AK253","v":0},{"$f":"DATAENTRY!AL253","v":0},{"$f":"DATAENTRY!AM253","v":0},{"$f":"DATAENTRY!AN253","v":0},{"$f":"DATAENTRY!AO253","v":0},{"$f":"DATAENTRY!AP253","v":0},{"$f":"DATAENTRY!AQ253","v":0},{"$f":"DATAENTRY!AR253","v":0},{"$f":"DATAENTRY!AS253","v":0},{"$f":"DATAENTRY!AT253","v":0},{"$f":"DATAENTRY!AU253","v":0},{"$f":"DATAENTRY!AV253","v":0},{"$f":"DATAENTRY!AW253","v":0},{"$f":"DATAENTRY!AX253","v":0},{"$f":"DATAENTRY!AY253","v":0},{"$f":"DATAENTRY!AZ253","v":0},{"$f":"DATAENTRY!BA253","v":0},{"$f":"DATAENTRY!BB253","v":0},{"$f":"DATAENTRY!BC253","v":0},{"$f":"DATAENTRY!BD253","v":0},{"$f":"DATAENTRY!BE253","v":0},{"$f":"DATAENTRY!BF253","v":0},{"$f":"DATAENTRY!BG253","v":0},{"$f":"DATAENTRY!BH253","v":""}]
[{"$f":"DATAENTRY!C254","v":0},{"$f":"DATAENTRY!D254","v":0},{"$f":"DATAENTRY!E254","v":0},{"$f":"DATAENTRY!F254","v":0},{"$f":"DATAENTRY!G254","v":0},{"$f":"DATAENTRY!H254","v":0},{"$f":"DATAENTRY!I254","v":0},{"$f":"DATAENTRY!J254","v":0},{"$f":"DATAENTRY!K254","v":0},{"$f":"DATAENTRY!L254","v":0},{"$f":"DATAENTRY!M254","v":0},{"$f":"DATAENTRY!N254","v":0},{"$f":"DATAENTRY!O254","v":0},{"$f":"DATAENTRY!P254","v":0},{"$f":"DATAENTRY!Q254","v":0},{"$f":"DATAENTRY!R254","v":0},{"$f":"DATAENTRY!S254","v":0},{"$f":"DATAENTRY!T254","v":0},{"$f":"DATAENTRY!U254","v":0},{"$f":"DATAENTRY!V254","v":0},{"$f":"DATAENTRY!W254","v":0},{"$f":"DATAENTRY!X254","v":0},{"$f":"DATAENTRY!Y254","v":0},{"$f":"DATAENTRY!Z254","v":0},{"$f":"DATAENTRY!AA254","v":0},{"$f":"DATAENTRY!AB254","v":0},{"$f":"DATAENTRY!AC254","v":0},{"$f":"DATAENTRY!AD254","v":0},{"$f":"DATAENTRY!AE254","v":0},{"$f":"DATAENTRY!AF254","v":0},{"$f":"DATAENTRY!AG254","v":0},{"$f":"DATAENTRY!AH254","v":0},{"$f":"DATAENTRY!AI254","v":0},{"$f":"DATAENTRY!AJ254","v":0},{"$f":"DATAENTRY!AK254","v":0},{"$f":"DATAENTRY!AL254","v":0},{"$f":"DATAENTRY!AM254","v":0},{"$f":"DATAENTRY!AN254","v":0},{"$f":"DATAENTRY!AO254","v":0},{"$f":"DATAENTRY!AP254","v":0},{"$f":"DATAENTRY!AQ254","v":0},{"$f":"DATAENTRY!AR254","v":0},{"$f":"DATAENTRY!AS254","v":0},{"$f":"DATAENTRY!AT254","v":0},{"$f":"DATAENTRY!AU254","v":0},{"$f":"DATAENTRY!AV254","v":0},{"$f":"DATAENTRY!AW254","v":0},{"$f":"DATAENTRY!AX254","v":0},{"$f":"DATAENTRY!AY254","v":0},{"$f":"DATAENTRY!AZ254","v":0},{"$f":"DATAENTRY!BA254","v":0},{"$f":"DATAENTRY!BB254","v":0},{"$f":"DATAENTRY!BC254","v":0},{"$f":"DATAENTRY!BD254","v":0},{"$f":"DATAENTRY!BE254","v":0},{"$f":"DATAENTRY!BF254","v":0},{"$f":"DATAENTRY!BG254","v":0},{"$f":"DATAENTRY!BH254","v":""}]
[{"$f":"DATAENTRY!C255","v":0},{"$f":"DATAENTRY!D255","v":0},{"$f":"DATAENTRY!E255","v":0},{"$f":"DATAENTRY!F255","v":0},{"$f":"DATAENTRY!G255","v":0},{"$f":"DATAENTRY!H255","v":0},{"$f":"DATAENTRY!I255","v":0},{"$f":"DATAENTRY!J255","v":0},{"$f":"DATAENTRY!K255","v":0},{"$f":"DATAENTRY!L255","v":0},{"$f":"DATAENTRY!M255","v":0},{"$f":"DATAENTRY!N255","v":0},{"$f":"DATAENTRY!O255","v":0},{"$f":"DATAENTRY!P255","v":0},{"$f":"DATAENTRY!Q255","v":0},{"$f":"DATAENTRY!R255","v":0},{"$f":"DATAENTRY!S255","v":0},{"$f":"DATAENTRY!T255","v":0},{"$f":"DATAENTRY!U255","v":0},{"$f":"DATAENTRY!V255","v":0},{"$f":"DATAENTRY!W255","v":0},{"$f":"DATAENTRY!X255","v":0},{"$f":"DATAENTRY!Y255","v":0},{"$f":"DATAENTRY!Z255","v":0},{"$f":"DATAENTRY!AA255","v":0},{"$f":"DATAENTRY!AB255","v":0},{"$f":"DATAENTRY!AC255","v":0},{"$f":"DATAENTRY!AD255","v":0},{"$f":"DATAENTRY!AE255","v":0},{"$f":"DATAENTRY!AF255","v":0},{"$f":"DATAENTRY!AG255","v":0},{"$f":"DATAENTRY!AH255","v":0},{"$f":"DATAENTRY!AI255","v":0},{"$f":"DATAENTRY!AJ255","v":0},{"$f":"DATAENTRY!AK255","v":0},{"$f":"DATAENTRY!AL255","v":0},{"$f":"DATAENTRY!AM255","v":0},{"$f":"DATAENTRY!AN255","v":0},{"$f":"DATAENTRY!AO255","v":0},{"$f":"DATAENTRY!AP255","v":0},{"$f":"DATAENTRY!AQ255","v":0},{"$f":"DATAENTRY!AR255","v":0},{"$f":"DATAENTRY!AS255","v":0},{"$f":"DATAENTRY!AT255","v":0},{"$f":"DATAENTRY!AU255","v":0},{"$f":"DATAENTRY!AV255","v":0},{"$f":"DATAENTRY!AW255","v":0},{"$f":"DATAENTRY!AX255","v":0},{"$f":"DATAENTRY!AY255","v":0},{"$f":"DATAENTRY!AZ255","v":0},{"$f":"DATAENTRY!BA255","v":0},{"$f":"DATAENTRY!BB255","v":0},{"$f":"DATAENTRY!BC255","v":0},{"$f":"DATAENTRY!BD255","v":0},{"$f":"DATAENTRY!BE255","v":0},{"$f":"DATAENTRY!BF255","v":0},{"$f":"DATAENTRY!BG255","v":0},{"$f":"DATAENTRY!BH255","v":""}]
[{"$f":"DATAENTRY!C256","v":0},{"$f":"DATAENTRY!D256","v":0},{"$f":"DATAENTRY!E256","v":0},{"$f":"DATAENTRY!F256","v":0},{"$f":"DATAENTRY!G256","v":0},{"$f":"DATAENTRY!H256","v":0},{"$f":"DATAENTRY!I256","v":0},{"$f":"DATAENTRY!J256","v":0},{"$f":"DATAENTRY!K256","v":0},{"$f":"DATAENTRY!L256","v":0},{"$f":"DATAENTRY!M256","v":0},{"$f":"DATAENTRY!N256","v":0},{"$f":"DATAENTRY!O256","v":0},{"$f":"DATAENTRY!P256","v":0},{"$f":"DATAENTRY!Q256","v":0},{"$f":"DATAENTRY!R256","v":0},{"$f":"DATAENTRY!S256","v":0},{"$f":"DATAENTRY!T256","v":0},{"$f":"DATAENTRY!U256","v":0},{"$f":"DATAENTRY!V256","v":0},{"$f":"DATAENTRY!W256","v":0},{"$f":"DATAENTRY!X256","v":0},{"$f":"DATAENTRY!Y256","v":0},{"$f":"DATAENTRY!Z256","v":0},{"$f":"DATAENTRY!AA256","v":0},{"$f":"DATAENTRY!AB256","v":0},{"$f":"DATAENTRY!AC256","v":0},{"$f":"DATAENTRY!AD256","v":0},{"$f":"DATAENTRY!AE256","v":0},{"$f":"DATAENTRY!AF256","v":0},{"$f":"DATAENTRY!AG256","v":0},{"$f":"DATAENTRY!AH256","v":0},{"$f":"DATAENTRY!AI256","v":0},{"$f":"DATAENTRY!AJ256","v":0},{"$f":"DATAENTRY!AK256","v":0},{"$f":"DATAENTRY!AL256","v":0},{"$f":"DATAENTRY!AM256","v":0},{"$f":"DATAENTRY!AN256","v":0},{"$f":"DATAENTRY!AO256","v":0},{"$f":"DATAENTRY!AP256","v":0},{"$f":"DATAENTRY!AQ256","v":0},{"$f":"DATAENTRY!AR256","v":0},{"$f":"DATAENTRY!AS256","v":0},{"$f":"DATAENTRY!AT256","v":0},{"$f":"DATAENTRY!AU256","v":0},{"$f":"DATAENTRY!AV256","v":0},{"$f":"DATAENTRY!AW256","v":0},{"$f":"DATAENTRY!AX256","v":0},{"$f":"DATAENTRY!AY256","v":0},{"$f":"DATAENTRY!AZ256","v":0},{"$f":"DATAENTRY!BA256","v":0},{"$f":"DATAENTRY!BB256","v":0},{"$f":"DATAENTRY!BC256","v":0},{"$f":"DATAENTRY!BD256","v":0},{"$f":"DATAENTRY!BE256","v":0},{"$f":"DATAENTRY!BF256","v":0},{"$f":"DATAENTRY!BG256","v":0},{"$f":"DATAENTRY!BH256","v":""}]
[{"$f":"DATAENTRY!C257","v":0},{"$f":"DATAENTRY!D257","v":0},{"$f":"DATAENTRY!E257","v":0},{"$f":"DATAENTRY!F257","v":0},{"$f":"DATAENTRY!G257","v":0},{"$f":"DATAENTRY!H257","v":0},{"$f":"DATAENTRY!I257","v":0},{"$f":"DATAENTRY!J257","v":0},{"$f":"DATAENTRY!K257","v":0},{"$f":"DATAENTRY!L257","v":0},{"$f":"DATAENTRY!M257","v":0},{"$f":"DATAENTRY!N257","v":0},{"$f":"DATAENTRY!O257","v":0},{"$f":"DATAENTRY!P257","v":0},{"$f":"DATAENTRY!Q257","v":0},{"$f":"DATAENTRY!R257","v":0},{"$f":"DATAENTRY!S257","v":0},{"$f":"DATAENTRY!T257","v":0},{"$f":"DATAENTRY!U257","v":0},{"$f":"DATAENTRY!V257","v":0},{"$f":"DATAENTRY!W257","v":0},{"$f":"DATAENTRY!X257","v":0},{"$f":"DATAENTRY!Y257","v":0},{"$f":"DATAENTRY!Z257","v":0},{"$f":"DATAENTRY!AA257","v":0},{"$f":"DATAENTRY!AB257","v":0},{"$f":"DATAENTRY!AC257","v":0},{"$f":"DATAENTRY!AD257","v":0},{"$f":"DATAENTRY!AE257","v":0},{"$f":"DATAENTRY!AF257","v":0},{"$f":"DATAENTRY!AG257","v":0},{"$f":"DATAENTRY!AH257","v":0},{"$f":"DATAENTRY!AI257","v":0},{"$f":"DATAENTRY!AJ257","v":0},{"$f":"DATAENTRY!AK257","v":0},{"$f":"DATAENTRY!AL257","v":0},{"$f":"DATAENTRY!AM257","v":0},{"$f":"DATAENTRY!AN257","v":0},{"$f":"DATAENTRY!AO257","v":0},{"$f":"DATAENTRY!AP257","v":0},{"$f":"DATAENTRY!AQ257","v":0},{"$f":"DATAENTRY!AR257","v":0},{"$f":"DATAENTRY!AS257","v":0},{"$f":"DATAENTRY!AT257","v":0},{"$f":"DATAENTRY!AU257","v":0},{"$f":"DATAENTRY!AV257","v":0},{"$f":"DATAENTRY!AW257","v":0},{"$f":"DATAENTRY!AX257","v":0},{"$f":"DATAENTRY!AY257","v":0},{"$f":"DATAENTRY!AZ257","v":0},{"$f":"DATAENTRY!BA257","v":0},{"$f":"DATAENTRY!BB257","v":0},{"$f":"DATAENTRY!BC257","v":0},{"$f":"DATAENTRY!BD257","v":0},{"$f":"DATAENTRY!BE257","v":0},{"$f":"DATAENTRY!BF257","v":0},{"$f":"DATAENTRY!BG257","v":0},{"$f":"DATAENTRY!BH257","v":""}]
[{"$f":"DATAENTRY!C258","v":0},{"$f":"DATAENTRY!D258","v":0},{"$f":"DATAENTRY!E258","v":0},{"$f":"DATAENTRY!F258","v":0},{"$f":"DATAENTRY!G258","v":0},{"$f":"DATAENTRY!H258","v":0},{"$f":"DATAENTRY!I258","v":0},{"$f":"DATAENTRY!J258","v":0},{"$f":"DATAENTRY!K258","v":0},{"$f":"DATAENTRY!L258","v":0},{"$f":"DATAENTRY!M258","v":0},{"$f":"DATAENTRY!N258","v":0},{"$f":"DATAENTRY!O258","v":0},{"$f":"DATAENTRY!P258","v":0},{"$f":"DATAENTRY!Q258","v":0},{"$f":"DATAENTRY!R258","v":0},{"$f":"DATAENTRY!S258","v":0},{"$f":"DATAENTRY!T258","v":0},{"$f":"DATAENTRY!U258","v":0},{"$f":"DATAENTRY!V258","v":0},{"$f":"DATAENTRY!W258","v":0},{"$f":"DATAENTRY!X258","v":0},{"$f":"DATAENTRY!Y258","v":0},{"$f":"DATAENTRY!Z258","v":0},{"$f":"DATAENTRY!AA258","v":0},{"$f":"DATAENTRY!AB258","v":0},{"$f":"DATAENTRY!AC258","v":0},{"$f":"DATAENTRY!AD258","v":0},{"$f":"DATAENTRY!AE258","v":0},{"$f":"DATAENTRY!AF258","v":0},{"$f":"DATAENTRY!AG258","v":0},{"$f":"DATAENTRY!AH258","v":0},{"$f":"DATAENTRY!AI258","v":0},{"$f":"DATAENTRY!AJ258","v":0},{"$f":"DATAENTRY!AK258","v":0},{"$f":"DATAENTRY!AL258","v":0},{"$f":"DATAENTRY!AM258","v":0},{"$f":"DATAENTRY!AN258","v":0},{"$f":"DATAENTRY!AO258","v":0},{"$f":"DATAENTRY!AP258","v":0},{"$f":"DATAENTRY!AQ258","v":0},{"$f":"DATAENTRY!AR258","v":0},{"$f":"DATAENTRY!AS258","v":0},{"$f":"DATAENTRY!AT258","v":0},{"$f":"DATAENTRY!AU258","v":0},{"$f":"DATAENTRY!AV258","v":0},{"$f":"DATAENTRY!AW258","v":0},{"$f":"DATAENTRY!AX258","v":0},{"$f":"DATAENTRY!AY258","v":0},{"$f":"DATAENTRY!AZ258","v":0},{"$f":"DATAENTRY!BA258","v":0},{"$f":"DATAENTRY!BB258","v":0},{"$f":"DATAENTRY!BC258","v":0},{"$f":"DATAENTRY!BD258","v":0},{"$f":"DATAENTRY!BE258","v":0},{"$f":"DATAENTRY!BF258","v":0},{"$f":"DATAENTRY!BG258","v":0},{"$f":"DATAENTRY!BH258","v":""}]
[{"$f":"DATAENTRY!C259","v":0},{"$f":"DATAENTRY!D259","v":0},{"$f":"DATAENTRY!E259","v":0},{"$f":"DATAENTRY!F259","v":0},{"$f":"DATAENTRY!G259","v":0},{"$f":"DATAENTRY!H259","v":0},{"$f":"DATAENTRY!I259","v":0},{"$f":"DATAENTRY!J259","v":0},{"$f":"DATAENTRY!K259","v":0},{"$f":"DATAENTRY!L259","v":0},{"$f":"DATAENTRY!M259","v":0},{"$f":"DATAENTRY!N259","v":0},{"$f":"DATAENTRY!O259","v":0},{"$f":"DATAENTRY!P259","v":0},{"$f":"DATAENTRY!Q259","v":0},{"$f":"DATAENTRY!R259","v":0},{"$f":"DATAENTRY!S259","v":0},{"$f":"DATAENTRY!T259","v":0},{"$f":"DATAENTRY!U259","v":0},{"$f":"DATAENTRY!V259","v":0},{"$f":"DATAENTRY!W259","v":0},{"$f":"DATAENTRY!X259","v":0},{"$f":"DATAENTRY!Y259","v":0},{"$f":"DATAENTRY!Z259","v":0},{"$f":"DATAENTRY!AA259","v":0},{"$f":"DATAENTRY!AB259","v":0},{"$f":"DATAENTRY!AC259","v":0},{"$f":"DATAENTRY!AD259","v":0},{"$f":"DATAENTRY!AE259","v":0},{"$f":"DATAENTRY!AF259","v":0},{"$f":"DATAENTRY!AG259","v":0},{"$f":"DATAENTRY!AH259","v":0},{"$f":"DATAENTRY!AI259","v":0},{"$f":"DATAENTRY!AJ259","v":0},{"$f":"DATAENTRY!AK259","v":0},{"$f":"DATAENTRY!AL259","v":0},{"$f":"DATAENTRY!AM259","v":0},{"$f":"DATAENTRY!AN259","v":0},{"$f":"DATAENTRY!AO259","v":0},{"$f":"DATAENTRY!AP259","v":0},{"$f":"DATAENTRY!AQ259","v":0},{"$f":"DATAENTRY!AR259","v":0},{"$f":"DATAENTRY!AS259","v":0},{"$f":"DATAENTRY!AT259","v":0},{"$f":"DATAENTRY!AU259","v":0},{"$f":"DATAENTRY!AV259","v":0},{"$f":"DATAENTRY!AW259","v":0},{"$f":"DATAENTRY!AX259","v":0},{"$f":"DATAENTRY!AY259","v":0},{"$f":"DATAENTRY!AZ259","v":0},{"$f":"DATAENTRY!BA259","v":0},{"$f":"DATAENTRY!BB259","v":0},{"$f":"DATAENTRY!BC259","v":0},{"$f":"DATAENTRY!BD259","v":0},{"$f":"DATAENTRY!BE259","v":0},{"$f":"DATAENTRY!BF259","v":0},{"$f":"DATAENTRY!BG259","v":0},{"$f":"DATAENTRY!BH259","v":""}]
[{"$f":"DATAENTRY!C260","v":0},{"$f":"DATAENTRY!D260","v":0},{"$f":"DATAENTRY!E260","v":0},{"$f":"DATAENTRY!F260","v":0},{"$f":"DATAENTRY!G260","v":0},{"$f":"DATAENTRY!H260","v":0},{"$f":"DATAENTRY!I260","v":0},{"$f":"DATAENTRY!J260","v":0},{"$f":"DATAENTRY!K260","v":0},{"$f":"DATAENTRY!L260","v":0},{"$f":"DATAENTRY!M260","v":0},{"$f":"DATAENTRY!N260","v":0},{"$f":"DATAENTRY!O260","v":0},{"$f":"DATAENTRY!P260","v":0},{"$f":"DATAENTRY!Q260","v":0},{"$f":"DATAENTRY!R260","v":0},{"$f":"DATAENTRY!S260","v":0},{"$f":"DATAENTRY!T260","v":0},{"$f":"DATAENTRY!U260","v":0},{"$f":"DATAENTRY!V260","v":0},{"$f":"DATAENTRY!W260","v":0},{"$f":"DATAENTRY!X260","v":0},{"$f":"DATAENTRY!Y260","v":0},{"$f":"DATAENTRY!Z260","v":0},{"$f":"DATAENTRY!AA260","v":0},{"$f":"DATAENTRY!AB260","v":0},{"$f":"DATAENTRY!AC260","v":0},{"$f":"DATAENTRY!AD260","v":0},{"$f":"DATAENTRY!AE260","v":0},{"$f":"DATAENTRY!AF260","v":0},{"$f":"DATAENTRY!AG260","v":0},{"$f":"DATAENTRY!AH260","v":0},{"$f":"DATAENTRY!AI260","v":0},{"$f":"DATAENTRY!AJ260","v":0},{"$f":"DATAENTRY!AK260","v":0},{"$f":"DATAENTRY!AL260","v":0},{"$f":"DATAENTRY!AM260","v":0},{"$f":"DATAENTRY!AN260","v":0},{"$f":"DATAENTRY!AO260","v":0},{"$f":"DATAENTRY!AP260","v":0},{"$f":"DATAENTRY!AQ260","v":0},{"$f":"DATAENTRY!AR260","v":0},{"$f":"DATAENTRY!AS260","v":0},{"$f":"DATAENTRY!AT260","v":0},{"$f":"DATAENTRY!AU260","v":0},{"$f":"DATAENTRY!AV260","v":0},{"$f":"DATAENTRY!AW260","v":0},{"$f":"DATAENTRY!AX260","v":0},{"$f":"DATAENTRY!AY260","v":0},{"$f":"DATAENTRY!AZ260","v":0},{"$f":"DATAENTRY!BA260","v":0},{"$f":"DATAENTRY!BB260","v":0},{"$f":"DATAENTRY!BC260","v":0},{"$f":"DATAENTRY!BD260","v":0},{"$f":"DATAENTRY!BE260","v":0},{"$f":"DATAENTRY!BF260","v":0},{"$f":"DATAENTRY!BG260","v":0},{"$f":"DATAENTRY!BH260","v":""}]
[{"$f":"DATAENTRY!C261","v":0},{"$f":"DATAENTRY!D261","v":0},{"$f":"DATAENTRY!E261","v":0},{"$f":"DATAENTRY!F261","v":0},{"$f":"DATAENTRY!G261","v":0},{"$f":"DATAENTRY!H261","v":0},{"$f":"DATAENTRY!I261","v":0},{"$f":"DATAENTRY!J261","v":0},{"$f":"DATAENTRY!K261","v":0},{"$f":"DATAENTRY!L261","v":0},{"$f":"DATAENTRY!M261","v":0},{"$f":"DATAENTRY!N261","v":0},{"$f":"DATAENTRY!O261","v":0},{"$f":"DATAENTRY!P261","v":0},{"$f":"DATAENTRY!Q261","v":0},{"$f":"DATAENTRY!R261","v":0},{"$f":"DATAENTRY!S261","v":0},{"$f":"DATAENTRY!T261","v":0},{"$f":"DATAENTRY!U261","v":0},{"$f":"DATAENTRY!V261","v":0},{"$f":"DATAENTRY!W261","v":0},{"$f":"DATAENTRY!X261","v":0},{"$f":"DATAENTRY!Y261","v":0},{"$f":"DATAENTRY!Z261","v":0},{"$f":"DATAENTRY!AA261","v":0},{"$f":"DATAENTRY!AB261","v":0},{"$f":"DATAENTRY!AC261","v":0},{"$f":"DATAENTRY!AD261","v":0},{"$f":"DATAENTRY!AE261","v":0},{"$f":"DATAENTRY!AF261","v":0},{"$f":"DATAENTRY!AG261","v":0},{"$f":"DATAENTRY!AH261","v":0},{"$f":"DATAENTRY!AI261","v":0},{"$f":"DATAENTRY!AJ261","v":0},{"$f":"DATAENTRY!AK261","v":0},{"$f":"DATAENTRY!AL261","v":0},{"$f":"DATAENTRY!AM261","v":0},{"$f":"DATAENTRY!AN261","v":0},{"$f":"DATAENTRY!AO261","v":0},{"$f":"DATAENTRY!AP261","v":0},{"$f":"DATAENTRY!AQ261","v":0},{"$f":"DATAENTRY!AR261","v":0},{"$f":"DATAENTRY!AS261","v":0},{"$f":"DATAENTRY!AT261","v":0},{"$f":"DATAENTRY!AU261","v":0},{"$f":"DATAENTRY!AV261","v":0},{"$f":"DATAENTRY!AW261","v":0},{"$f":"DATAENTRY!AX261","v":0},{"$f":"DATAENTRY!AY261","v":0},{"$f":"DATAENTRY!AZ261","v":0},{"$f":"DATAENTRY!BA261","v":0},{"$f":"DATAENTRY!BB261","v":0},{"$f":"DATAENTRY!BC261","v":0},{"$f":"DATAENTRY!BD261","v":0},{"$f":"DATAENTRY!BE261","v":0},{"$f":"DATAENTRY!BF261","v":0},{"$f":"DATAENTRY!BG261","v":0},{"$f":"DATAENTRY!BH261","v":""}]
[{"$f":"DATAENTRY!C262","v":0},{"$f":"DATAENTRY!D262","v":0},{"$f":"DATAENTRY!E262","v":0},{"$f":"DATAENTRY!F262","v":0},{"$f":"DATAENTRY!G262","v":0},{"$f":"DATAENTRY!H262","v":0},{"$f":"DATAENTRY!I262","v":0},{"$f":"DATAENTRY!J262","v":0},{"$f":"DATAENTRY!K262","v":0},{"$f":"DATAENTRY!L262","v":0},{"$f":"DATAENTRY!M262","v":0},{"$f":"DATAENTRY!N262","v":0},{"$f":"DATAENTRY!O262","v":0},{"$f":"DATAENTRY!P262","v":0},{"$f":"DATAENTRY!Q262","v":0},{"$f":"DATAENTRY!R262","v":0},{"$f":"DATAENTRY!S262","v":0},{"$f":"DATAENTRY!T262","v":0},{"$f":"DATAENTRY!U262","v":0},{"$f":"DATAENTRY!V262","v":0},{"$f":"DATAENTRY!W262","v":0},{"$f":"DATAENTRY!X262","v":0},{"$f":"DATAENTRY!Y262","v":0},{"$f":"DATAENTRY!Z262","v":0},{"$f":"DATAENTRY!AA262","v":0},{"$f":"DATAENTRY!AB262","v":0},{"$f":"DATAENTRY!AC262","v":0},{"$f":"DATAENTRY!AD262","v":0},{"$f":"DATAENTRY!AE262","v":0},{"$f":"DATAENTRY!AF262","v":0},{"$f":"DATAENTRY!AG262","v":0},{"$f":"DATAENTRY!AH262","v":0},{"$f":"DATAENTRY!AI262","v":0},{"$f":"DATAENTRY!AJ262","v":0},{"$f":"DATAENTRY!AK262","v":0},{"$f":"DATAENTRY!AL262","v":0},{"$f":"DATAENTRY!AM262","v":0},{"$f":"DATAENTRY!AN262","v":0},{"$f":"DATAENTRY!AO262","v":0},{"$f":"DATAENTRY!AP262","v":0},{"$f":"DATAENTRY!AQ262","v":0},{"$f":"DATAENTRY!AR262","v":0},{"$f":"DATAENTRY!AS262","v":0},{"$f":"DATAENTRY!AT262","v":0},{"$f":"DATAENTRY!AU262","v":0},{"$f":"DATAENTRY!AV262","v":0},{"$f":"DATAENTRY!AW262","v":0},{"$f":"DATAENTRY!AX262","v":0},{"$f":"DATAENTRY!AY262","v":0},{"$f":"DATAENTRY!AZ262","v":0},{"$f":"DATAENTRY!BA262","v":0},{"$f":"DATAENTRY!BB262","v":0},{"$f":"DATAENTRY!BC262","v":0},{"$f":"DATAENTRY!BD262","v":0},{"$f":"DATAENTRY!BE262","v":0},{"$f":"DATAENTRY!BF262","v":0},{"$f":"DATAENTRY!BG262","v":0},{"$f":"DATAENTRY!BH262","v":""}]
[{"$f":"DATAENTRY!C263","v":0},{"$f":"DATAENTRY!D263","v":0},{"$f":"DATAENTRY!E263","v":0},{"$f":"DATAENTRY!F263","v":0},{"$f":"DATAENTRY!G263","v":0},{"$f":"DATAENTRY!H263","v":0},{"$f":"DATAENTRY!I263","v":0},{"$f":"DATAENTRY!J263","v":0},{"$f":"DATAENTRY!K263","v":0},{"$f":"DATAENTRY!L263","v":0},{"$f":"DATAENTRY!M263","v":0},{"$f":"DATAENTRY!N263","v":0},{"$f":"DATAENTRY!O263","v":0},{"$f":"DATAENTRY!P263","v":0},{"$f":"DATAENTRY!Q263","v":0},{"$f":"DATAENTRY!R263","v":0},{"$f":"DATAENTRY!S263","v":0},{"$f":"DATAENTRY!T263","v":0},{"$f":"DATAENTRY!U263","v":0},{"$f":"DATAENTRY!V263","v":0},{"$f":"DATAENTRY!W263","v":0},{"$f":"DATAENTRY!X263","v":0},{"$f":"DATAENTRY!Y263","v":0},{"$f":"DATAENTRY!Z263","v":0},{"$f":"DATAENTRY!AA263","v":0},{"$f":"DATAENTRY!AB263","v":0},{"$f":"DATAENTRY!AC263","v":0},{"$f":"DATAENTRY!AD263","v":0},{"$f":"DATAENTRY!AE263","v":0},{"$f":"DATAENTRY!AF263","v":0},{"$f":"DATAENTRY!AG263","v":0},{"$f":"DATAENTRY!AH263","v":0},{"$f":"DATAENTRY!AI263","v":0},{"$f":"DATAENTRY!AJ263","v":0},{"$f":"DATAENTRY!AK263","v":0},{"$f":"DATAENTRY!AL263","v":0},{"$f":"DATAENTRY!AM263","v":0},{"$f":"DATAENTRY!AN263","v":0},{"$f":"DATAENTRY!AO263","v":0},{"$f":"DATAENTRY!AP263","v":0},{"$f":"DATAENTRY!AQ263","v":0},{"$f":"DATAENTRY!AR263","v":0},{"$f":"DATAENTRY!AS263","v":0},{"$f":"DATAENTRY!AT263","v":0},{"$f":"DATAENTRY!AU263","v":0},{"$f":"DATAENTRY!AV263","v":0},{"$f":"DATAENTRY!AW263","v":0},{"$f":"DATAENTRY!AX263","v":0},{"$f":"DATAENTRY!AY263","v":0},{"$f":"DATAENTRY!AZ263","v":0},{"$f":"DATAENTRY!BA263","v":0},{"$f":"DATAENTRY!BB263","v":0},{"$f":"DATAENTRY!BC263","v":0},{"$f":"DATAENTRY!BD263","v":0},{"$f":"DATAENTRY!BE263","v":0},{"$f":"DATAENTRY!BF263","v":0},{"$f":"DATAENTRY!BG263","v":0},{"$f":"DATAENTRY!BH263","v":""}]
[{"$f":"DATAENTRY!C264","v":0},{"$f":"DATAENTRY!D264","v":0},{"$f":"DATAENTRY!E264","v":0},{"$f":"DATAENTRY!F264","v":0},{"$f":"DATAENTRY!G264","v":0},{"$f":"DATAENTRY!H264","v":0},{"$f":"DATAENTRY!I264","v":0},{"$f":"DATAENTRY!J264","v":0},{"$f":"DATAENTRY!K264","v":0},{"$f":"DATAENTRY!L264","v":0},{"$f":"DATAENTRY!M264","v":0},{"$f":"DATAENTRY!N264","v":0},{"$f":"DATAENTRY!O264","v":0},{"$f":"DATAENTRY!P264","v":0},{"$f":"DATAENTRY!Q264","v":0},{"$f":"DATAENTRY!R264","v":0},{"$f":"DATAENTRY!S264","v":0},{"$f":"DATAENTRY!T264","v":0},{"$f":"DATAENTRY!U264","v":0},{"$f":"DATAENTRY!V264","v":0},{"$f":"DATAENTRY!W264","v":0},{"$f":"DATAENTRY!X264","v":0},{"$f":"DATAENTRY!Y264","v":0},{"$f":"DATAENTRY!Z264","v":0},{"$f":"DATAENTRY!AA264","v":0},{"$f":"DATAENTRY!AB264","v":0},{"$f":"DATAENTRY!AC264","v":0},{"$f":"DATAENTRY!AD264","v":0},{"$f":"DATAENTRY!AE264","v":0},{"$f":"DATAENTRY!AF264","v":0},{"$f":"DATAENTRY!AG264","v":0},{"$f":"DATAENTRY!AH264","v":0},{"$f":"DATAENTRY!AI264","v":0},{"$f":"DATAENTRY!AJ264","v":0},{"$f":"DATAENTRY!AK264","v":0},{"$f":"DATAENTRY!AL264","v":0},{"$f":"DATAENTRY!AM264","v":0},{"$f":"DATAENTRY!AN264","v":0},{"$f":"DATAENTRY!AO264","v":0},{"$f":"DATAENTRY!AP264","v":0},{"$f":"DATAENTRY!AQ264","v":0},{"$f":"DATAENTRY!AR264","v":0},{"$f":"DATAENTRY!AS264","v":0},{"$f":"DATAENTRY!AT264","v":0},{"$f":"DATAENTRY!AU264","v":0},{"$f":"DATAENTRY!AV264","v":0},{"$f":"DATAENTRY!AW264","v":0},{"$f":"DATAENTRY!AX264","v":0},{"$f":"DATAENTRY!AY264","v":0},{"$f":"DATAENTRY!AZ264","v":0},{"$f":"DATAENTRY!BA264","v":0},{"$f":"DATAENTRY!BB264","v":0},{"$f":"DATAENTRY!BC264","v":0},{"$f":"DATAENTRY!BD264","v":0},{"$f":"DATAENTRY!BE264","v":0},{"$f":"DATAENTRY!BF264","v":0},{"$f":"DATAENTRY!BG264","v":0},{"$f":"DATAENTRY!BH264","v":""}]
[{"$f":"DATAENTRY!C265","v":0},{"$f":"DATAENTRY!D265","v":0},{"$f":"DATAENTRY!E265","v":0},{"$f":"DATAENTRY!F265","v":0},{"$f":"DATAENTRY!G265","v":0},{"$f":"DATAENTRY!H265","v":0},{"$f":"DATAENTRY!I265","v":0},{"$f":"DATAENTRY!J265","v":0},{"$f":"DATAENTRY!K265","v":0},{"$f":"DATAENTRY!L265","v":0},{"$f":"DATAENTRY!M265","v":0},{"$f":"DATAENTRY!N265","v":0},{"$f":"DATAENTRY!O265","v":0},{"$f":"DATAENTRY!P265","v":0},{"$f":"DATAENTRY!Q265","v":0},{"$f":"DATAENTRY!R265","v":0},{"$f":"DATAENTRY!S265","v":0},{"$f":"DATAENTRY!T265","v":0},{"$f":"DATAENTRY!U265","v":0},{"$f":"DATAENTRY!V265","v":0},{"$f":"DATAENTRY!W265","v":0},{"$f":"DATAENTRY!X265","v":0},{"$f":"DATAENTRY!Y265","v":0},{"$f":"DATAENTRY!Z265","v":0},{"$f":"DATAENTRY!AA265","v":0},{"$f":"DATAENTRY!AB265","v":0},{"$f":"DATAENTRY!AC265","v":0},{"$f":"DATAENTRY!AD265","v":0},{"$f":"DATAENTRY!AE265","v":0},{"$f":"DATAENTRY!AF265","v":0},{"$f":"DATAENTRY!AG265","v":0},{"$f":"DATAENTRY!AH265","v":0},{"$f":"DATAENTRY!AI265","v":0},{"$f":"DATAENTRY!AJ265","v":0},{"$f":"DATAENTRY!AK265","v":0},{"$f":"DATAENTRY!AL265","v":0},{"$f":"DATAENTRY!AM265","v":0},{"$f":"DATAENTRY!AN265","v":0},{"$f":"DATAENTRY!AO265","v":0},{"$f":"DATAENTRY!AP265","v":0},{"$f":"DATAENTRY!AQ265","v":0},{"$f":"DATAENTRY!AR265","v":0},{"$f":"DATAENTRY!AS265","v":0},{"$f":"DATAENTRY!AT265","v":0},{"$f":"DATAENTRY!AU265","v":0},{"$f":"DATAENTRY!AV265","v":0},{"$f":"DATAENTRY!AW265","v":0},{"$f":"DATAENTRY!AX265","v":0},{"$f":"DATAENTRY!AY265","v":0},{"$f":"DATAENTRY!AZ265","v":0},{"$f":"DATAENTRY!BA265","v":0},{"$f":"DATAENTRY!BB265","v":0},{"$f":"DATAENTRY!BC265","v":0},{"$f":"DATAENTRY!BD265","v":0},{"$f":"DATAENTRY!BE265","v":0},{"$f":"DATAENTRY!BF265","v":0},{"$f":"DATAENTRY!BG265","v":0},{"$f":"DATAENTRY!BH265","v":""}]
[{"$f":"DATAENTRY!C266","v":0},{"$f":"DATAENTRY!D266","v":0},{"$f":"DATAENTRY!E266","v":0},{"$f":"DATAENTRY!F266","v":0},{"$f":"DATAENTRY!G266","v":0},{"$f":"DATAENTRY!H266","v":0},{"$f":"DATAENTRY!I266","v":0},{"$f":"DATAENTRY!J266","v":0},{"$f":"DATAENTRY!K266","v":0},{"$f":"DATAENTRY!L266","v":0},{"$f":"DATAENTRY!M266","v":0},{"$f":"DATAENTRY!N266","v":0},{"$f":"DATAENTRY!O266","v":0},{"$f":"DATAENTRY!P266","v":0},{"$f":"DATAENTRY!Q266","v":0},{"$f":"DATAENTRY!R266","v":0},{"$f":"DATAENTRY!S266","v":0},{"$f":"DATAENTRY!T266","v":0},{"$f":"DATAENTRY!U266","v":0},{"$f":"DATAENTRY!V266","v":0},{"$f":"DATAENTRY!W266","v":0},{"$f":"DATAENTRY!X266","v":0},{"$f":"DATAENTRY!Y266","v":0},{"$f":"DATAENTRY!Z266","v":0},{"$f":"DATAENTRY!AA266","v":0},{"$f":"DATAENTRY!AB266","v":0},{"$f":"DATAENTRY!AC266","v":0},{"$f":"DATAENTRY!AD266","v":0},{"$f":"DATAENTRY!AE266","v":0},{"$f":"DATAENTRY!AF266","v":0},{"$f":"DATAENTRY!AG266","v":0},{"$f":"DATAENTRY!AH266","v":0},{"$f":"DATAENTRY!AI266","v":0},{"$f":"DATAENTRY!AJ266","v":0},{"$f":"DATAENTRY!AK266","v":0},{"$f":"DATAENTRY!AL266","v":0},{"$f":"DATAENTRY!AM266","v":0},{"$f":"DATAENTRY!AN266","v":0},{"$f":"DATAENTRY!AO266","v":0},{"$f":"DATAENTRY!AP266","v":0},{"$f":"DATAENTRY!AQ266","v":0},{"$f":"DATAENTRY!AR266","v":0},{"$f":"DATAENTRY!AS266","v":0},{"$f":"DATAENTRY!AT266","v":0},{"$f":"DATAENTRY!AU266","v":0},{"$f":"DATAENTRY!AV266","v":0},{"$f":"DATAENTRY!AW266","v":0},{"$f":"DATAENTRY!AX266","v":0},{"$f":"DATAENTRY!AY266","v":0},{"$f":"DATAENTRY!AZ266","v":0},{"$f":"DATAENTRY!BA266","v":0},{"$f":"DATAENTRY!BB266","v":0},{"$f":"DATAENTRY!BC266","v":0},{"$f":"DATAENTRY!BD266","v":0},{"$f":"DATAENTRY!BE266","v":0},{"$f":"DATAENTRY!BF266","v":0},{"$f":"DATAENTRY!BG266","v":0},{"$f":"DATAENTRY!BH266","v":""}]
[{"$f":"DATAENTRY!C267","v":0},{"$f":"DATAENTRY!D267","v":0},{"$f":"DATAENTRY!E267","v":0},{"$f":"DATAENTRY!F267","v":0},{"$f":"DATAENTRY!G267","v":0},{"$f":"DATAENTRY!H267","v":0},{"$f":"DATAENTRY!I267","v":0},{"$f":"DATAENTRY!J267","v":0},{"$f":"DATAENTRY!K267","v":0},{"$f":"DATAENTRY!L267","v":0},{"$f":"DATAENTRY!M267","v":0},{"$f":"DATAENTRY!N267","v":0},{"$f":"DATAENTRY!O267","v":0},{"$f":"DATAENTRY!P267","v":0},{"$f":"DATAENTRY!Q267","v":0},{"$f":"DATAENTRY!R267","v":0},{"$f":"DATAENTRY!S267","v":0},{"$f":"DATAENTRY!T267","v":0},{"$f":"DATAENTRY!U267","v":0},{"$f":"DATAENTRY!V267","v":0},{"$f":"DATAENTRY!W267","v":0},{"$f":"DATAENTRY!X267","v":0},{"$f":"DATAENTRY!Y267","v":0},{"$f":"DATAENTRY!Z267","v":0},{"$f":"DATAENTRY!AA267","v":0},{"$f":"DATAENTRY!AB267","v":0},{"$f":"DATAENTRY!AC267","v":0},{"$f":"DATAENTRY!AD267","v":0},{"$f":"DATAENTRY!AE267","v":0},{"$f":"DATAENTRY!AF267","v":0},{"$f":"DATAENTRY!AG267","v":0},{"$f":"DATAENTRY!AH267","v":0},{"$f":"DATAENTRY!AI267","v":0},{"$f":"DATAENTRY!AJ267","v":0},{"$f":"DATAENTRY!AK267","v":0},{"$f":"DATAENTRY!AL267","v":0},{"$f":"DATAENTRY!AM267","v":0},{"$f":"DATAENTRY!AN267","v":0},{"$f":"DATAENTRY!AO267","v":0},{"$f":"DATAENTRY!AP267","v":0},{"$f":"DATAENTRY!AQ267","v":0},{"$f":"DATAENTRY!AR267","v":0},{"$f":"DATAENTRY!AS267","v":0},{"$f":"DATAENTRY!AT267","v":0},{"$f":"DATAENTRY!AU267","v":0},{"$f":"DATAENTRY!AV267","v":0},{"$f":"DATAENTRY!AW267","v":0},{"$f":"DATAENTRY!AX267","v":0},{"$f":"DATAENTRY!AY267","v":0},{"$f":"DATAENTRY!AZ267","v":0},{"$f":"DATAENTRY!BA267","v":0},{"$f":"DATAENTRY!BB267","v":0},{"$f":"DATAENTRY!BC267","v":0},{"$f":"DATAENTRY!BD267","v":0},{"$f":"DATAENTRY!BE267","v":0},{"$f":"DATAENTRY!BF267","v":0},{"$f":"DATAENTRY!BG267","v":0},{"$f":"DATAENTRY!BH267","v":""}]
[{"$f":"DATAENTRY!C268","v":0},{"$f":"DATAENTRY!D268","v":0},{"$f":"DATAENTRY!E268","v":0},{"$f":"DATAENTRY!F268","v":0},{"$f":"DATAENTRY!G268","v":0},{"$f":"DATAENTRY!H268","v":0},{"$f":"DATAENTRY!I268","v":0},{"$f":"DATAENTRY!J268","v":0},{"$f":"DATAENTRY!K268","v":0},{"$f":"DATAENTRY!L268","v":0},{"$f":"DATAENTRY!M268","v":0},{"$f":"DATAENTRY!N268","v":0},{"$f":"DATAENTRY!O268","v":0},{"$f":"DATAENTRY!P268","v":0},{"$f":"DATAENTRY!Q268","v":0},{"$f":"DATAENTRY!R268","v":0},{"$f":"DATAENTRY!S268","v":0},{"$f":"DATAENTRY!T268","v":0},{"$f":"DATAENTRY!U268","v":0},{"$f":"DATAENTRY!V268","v":0},{"$f":"DATAENTRY!W268","v":0},{"$f":"DATAENTRY!X268","v":0},{"$f":"DATAENTRY!Y268","v":0},{"$f":"DATAENTRY!Z268","v":0},{"$f":"DATAENTRY!AA268","v":0},{"$f":"DATAENTRY!AB268","v":0},{"$f":"DATAENTRY!AC268","v":0},{"$f":"DATAENTRY!AD268","v":0},{"$f":"DATAENTRY!AE268","v":0},{"$f":"DATAENTRY!AF268","v":0},{"$f":"DATAENTRY!AG268","v":0},{"$f":"DATAENTRY!AH268","v":0},{"$f":"DATAENTRY!AI268","v":0},{"$f":"DATAENTRY!AJ268","v":0},{"$f":"DATAENTRY!AK268","v":0},{"$f":"DATAENTRY!AL268","v":0},{"$f":"DATAENTRY!AM268","v":0},{"$f":"DATAENTRY!AN268","v":0},{"$f":"DATAENTRY!AO268","v":0},{"$f":"DATAENTRY!AP268","v":0},{"$f":"DATAENTRY!AQ268","v":0},{"$f":"DATAENTRY!AR268","v":0},{"$f":"DATAENTRY!AS268","v":0},{"$f":"DATAENTRY!AT268","v":0},{"$f":"DATAENTRY!AU268","v":0},{"$f":"DATAENTRY!AV268","v":0},{"$f":"DATAENTRY!AW268","v":0},{"$f":"DATAENTRY!AX268","v":0},{"$f":"DATAENTRY!AY268","v":0},{"$f":"DATAENTRY!AZ268","v":0},{"$f":"DATAENTRY!BA268","v":0},{"$f":"DATAENTRY!BB268","v":0},{"$f":"DATAENTRY!BC268","v":0},{"$f":"DATAENTRY!BD268","v":0},{"$f":"DATAENTRY!BE268","v":0},{"$f":"DATAENTRY!BF268","v":0},{"$f":"DATAENTRY!BG268","v":0},{"$f":"DATAENTRY!BH268","v":""}]
[{"$f":"DATAENTRY!C269","v":0},{"$f":"DATAENTRY!D269","v":0},{"$f":"DATAENTRY!E269","v":0},{"$f":"DATAENTRY!F269","v":0},{"$f":"DATAENTRY!G269","v":0},{"$f":"DATAENTRY!H269","v":0},{"$f":"DATAENTRY!I269","v":0},{"$f":"DATAENTRY!J269","v":0},{"$f":"DATAENTRY!K269","v":0},{"$f":"DATAENTRY!L269","v":0},{"$f":"DATAENTRY!M269","v":0},{"$f":"DATAENTRY!N269","v":0},{"$f":"DATAENTRY!O269","v":0},{"$f":"DATAENTRY!P269","v":0},{"$f":"DATAENTRY!Q269","v":0},{"$f":"DATAENTRY!R269","v":0},{"$f":"DATAENTRY!S269","v":0},{"$f":"DATAENTRY!T269","v":0},{"$f":"DATAENTRY!U269","v":0},{"$f":"DATAENTRY!V269","v":0},{"$f":"DATAENTRY!W269","v":0},{"$f":"DATAENTRY!X269","v":0},{"$f":"DATAENTRY!Y269","v":0},{"$f":"DATAENTRY!Z269","v":0},{"$f":"DATAENTRY!AA269","v":0},{"$f":"DATAENTRY!AB269","v":0},{"$f":"DATAENTRY!AC269","v":0},{"$f":"DATAENTRY!AD269","v":0},{"$f":"DATAENTRY!AE269","v":0},{"$f":"DATAENTRY!AF269","v":0},{"$f":"DATAENTRY!AG269","v":0},{"$f":"DATAENTRY!AH269","v":0},{"$f":"DATAENTRY!AI269","v":0},{"$f":"DATAENTRY!AJ269","v":0},{"$f":"DATAENTRY!AK269","v":0},{"$f":"DATAENTRY!AL269","v":0},{"$f":"DATAENTRY!AM269","v":0},{"$f":"DATAENTRY!AN269","v":0},{"$f":"DATAENTRY!AO269","v":0},{"$f":"DATAENTRY!AP269","v":0},{"$f":"DATAENTRY!AQ269","v":0},{"$f":"DATAENTRY!AR269","v":0},{"$f":"DATAENTRY!AS269","v":0},{"$f":"DATAENTRY!AT269","v":0},{"$f":"DATAENTRY!AU269","v":0},{"$f":"DATAENTRY!AV269","v":0},{"$f":"DATAENTRY!AW269","v":0},{"$f":"DATAENTRY!AX269","v":0},{"$f":"DATAENTRY!AY269","v":0},{"$f":"DATAENTRY!AZ269","v":0},{"$f":"DATAENTRY!BA269","v":0},{"$f":"DATAENTRY!BB269","v":0},{"$f":"DATAENTRY!BC269","v":0},{"$f":"DATAENTRY!BD269","v":0},{"$f":"DATAENTRY!BE269","v":0},{"$f":"DATAENTRY!BF269","v":0},{"$f":"DATAENTRY!BG269","v":0},{"$f":"DATAENTRY!BH269","v":""}]
[{"$f":"DATAENTRY!C270","v":0},{"$f":"DATAENTRY!D270","v":0},{"$f":"DATAENTRY!E270","v":0},{"$f":"DATAENTRY!F270","v":0},{"$f":"DATAENTRY!G270","v":0},{"$f":"DATAENTRY!H270","v":0},{"$f":"DATAENTRY!I270","v":0},{"$f":"DATAENTRY!J270","v":0},{"$f":"DATAENTRY!K270","v":0},{"$f":"DATAENTRY!L270","v":0},{"$f":"DATAENTRY!M270","v":0},{"$f":"DATAENTRY!N270","v":0},{"$f":"DATAENTRY!O270","v":0},{"$f":"DATAENTRY!P270","v":0},{"$f":"DATAENTRY!Q270","v":0},{"$f":"DATAENTRY!R270","v":0},{"$f":"DATAENTRY!S270","v":0},{"$f":"DATAENTRY!T270","v":0},{"$f":"DATAENTRY!U270","v":0},{"$f":"DATAENTRY!V270","v":0},{"$f":"DATAENTRY!W270","v":0},{"$f":"DATAENTRY!X270","v":0},{"$f":"DATAENTRY!Y270","v":0},{"$f":"DATAENTRY!Z270","v":0},{"$f":"DATAENTRY!AA270","v":0},{"$f":"DATAENTRY!AB270","v":0},{"$f":"DATAENTRY!AC270","v":0},{"$f":"DATAENTRY!AD270","v":0},{"$f":"DATAENTRY!AE270","v":0},{"$f":"DATAENTRY!AF270","v":0},{"$f":"DATAENTRY!AG270","v":0},{"$f":"DATAENTRY!AH270","v":0},{"$f":"DATAENTRY!AI270","v":0},{"$f":"DATAENTRY!AJ270","v":0},{"$f":"DATAENTRY!AK270","v":0},{"$f":"DATAENTRY!AL270","v":0},{"$f":"DATAENTRY!AM270","v":0},{"$f":"DATAENTRY!AN270","v":0},{"$f":"DATAENTRY!AO270","v":0},{"$f":"DATAENTRY!AP270","v":0},{"$f":"DATAENTRY!AQ270","v":0},{"$f":"DATAENTRY!AR270","v":0},{"$f":"DATAENTRY!AS270","v":0},{"$f":"DATAENTRY!AT270","v":0},{"$f":"DATAENTRY!AU270","v":0},{"$f":"DATAENTRY!AV270","v":0},{"$f":"DATAENTRY!AW270","v":0},{"$f":"DATAENTRY!AX270","v":0},{"$f":"DATAENTRY!AY270","v":0},{"$f":"DATAENTRY!AZ270","v":0},{"$f":"DATAENTRY!BA270","v":0},{"$f":"DATAENTRY!BB270","v":0},{"$f":"DATAENTRY!BC270","v":0},{"$f":"DATAENTRY!BD270","v":0},{"$f":"DATAENTRY!BE270","v":0},{"$f":"DATAENTRY!BF270","v":0},{"$f":"DATAENTRY!BG270","v":0},{"$f":"DATAENTRY!BH270","v":""}]
[{"$f":"DATAENTRY!C271","v":0},{"$f":"DATAENTRY!D271","v":0},{"$f":"DATAENTRY!E271","v":0},{"$f":"DATAENTRY!F271","v":0},{"$f":"DATAENTRY!G271","v":0},{"$f":"DATAENTRY!H271","v":0},{"$f":"DATAENTRY!I271","v":0},{"$f":"DATAENTRY!J271","v":0},{"$f":"DATAENTRY!K271","v":0},{"$f":"DATAENTRY!L271","v":0},{"$f":"DATAENTRY!M271","v":0},{"$f":"DATAENTRY!N271","v":0},{"$f":"DATAENTRY!O271","v":0},{"$f":"DATAENTRY!P271","v":0},{"$f":"DATAENTRY!Q271","v":0},{"$f":"DATAENTRY!R271","v":0},{"$f":"DATAENTRY!S271","v":0},{"$f":"DATAENTRY!T271","v":0},{"$f":"DATAENTRY!U271","v":0},{"$f":"DATAENTRY!V271","v":0},{"$f":"DATAENTRY!W271","v":0},{"$f":"DATAENTRY!X271","v":0},{"$f":"DATAENTRY!Y271","v":0},{"$f":"DATAENTRY!Z271","v":0},{"$f":"DATAENTRY!AA271","v":0},{"$f":"DATAENTRY!AB271","v":0},{"$f":"DATAENTRY!AC271","v":0},{"$f":"DATAENTRY!AD271","v":0},{"$f":"DATAENTRY!AE271","v":0},{"$f":"DATAENTRY!AF271","v":0},{"$f":"DATAENTRY!AG271","v":0},{"$f":"DATAENTRY!AH271","v":0},{"$f":"DATAENTRY!AI271","v":0},{"$f":"DATAENTRY!AJ271","v":0},{"$f":"DATAENTRY!AK271","v":0},{"$f":"DATAENTRY!AL271","v":0},{"$f":"DATAENTRY!AM271","v":0},{"$f":"DATAENTRY!AN271","v":0},{"$f":"DATAENTRY!AO271","v":0},{"$f":"DATAENTRY!AP271","v":0},{"$f":"DATAENTRY!AQ271","v":0},{"$f":"DATAENTRY!AR271","v":0},{"$f":"DATAENTRY!AS271","v":0},{"$f":"DATAENTRY!AT271","v":0},{"$f":"DATAENTRY!AU271","v":0},{"$f":"DATAENTRY!AV271","v":0},{"$f":"DATAENTRY!AW271","v":0},{"$f":"DATAENTRY!AX271","v":0},{"$f":"DATAENTRY!AY271","v":0},{"$f":"DATAENTRY!AZ271","v":0},{"$f":"DATAENTRY!BA271","v":0},{"$f":"DATAENTRY!BB271","v":0},{"$f":"DATAENTRY!BC271","v":0},{"$f":"DATAENTRY!BD271","v":0},{"$f":"DATAENTRY!BE271","v":0},{"$f":"DATAENTRY!BF271","v":0},{"$f":"DATAENTRY!BG271","v":0},{"$f":"DATAENTRY!BH271","v":""}]
[{"$f":"DATAENTRY!C272","v":0},{"$f":"DATAENTRY!D272","v":0},{"$f":"DATAENTRY!E272","v":0},{"$f":"DATAENTRY!F272","v":0},{"$f":"DATAENTRY!G272","v":0},{"$f":"DATAENTRY!H272","v":0},{"$f":"DATAENTRY!I272","v":0},{"$f":"DATAENTRY!J272","v":0},{"$f":"DATAENTRY!K272","v":0},{"$f":"DATAENTRY!L272","v":0},{"$f":"DATAENTRY!M272","v":0},{"$f":"DATAENTRY!N272","v":0},{"$f":"DATAENTRY!O272","v":0},{"$f":"DATAENTRY!P272","v":0},{"$f":"DATAENTRY!Q272","v":0},{"$f":"DATAENTRY!R272","v":0},{"$f":"DATAENTRY!S272","v":0},{"$f":"DATAENTRY!T272","v":0},{"$f":"DATAENTRY!U272","v":0},{"$f":"DATAENTRY!V272","v":0},{"$f":"DATAENTRY!W272","v":0},{"$f":"DATAENTRY!X272","v":0},{"$f":"DATAENTRY!Y272","v":0},{"$f":"DATAENTRY!Z272","v":0},{"$f":"DATAENTRY!AA272","v":0},{"$f":"DATAENTRY!AB272","v":0},{"$f":"DATAENTRY!AC272","v":0},{"$f":"DATAENTRY!AD272","v":0},{"$f":"DATAENTRY!AE272","v":0},{"$f":"DATAENTRY!AF272","v":0},{"$f":"DATAENTRY!AG272","v":0},{"$f":"DATAENTRY!AH272","v":0},{"$f":"DATAENTRY!AI272","v":0},{"$f":"DATAENTRY!AJ272","v":0},{"$f":"DATAENTRY!AK272","v":0},{"$f":"DATAENTRY!AL272","v":0},{"$f":"DATAENTRY!AM272","v":0},{"$f":"DATAENTRY!AN272","v":0},{"$f":"DATAENTRY!AO272","v":0},{"$f":"DATAENTRY!AP272","v":0},{"$f":"DATAENTRY!AQ272","v":0},{"$f":"DATAENTRY!AR272","v":0},{"$f":"DATAENTRY!AS272","v":0},{"$f":"DATAENTRY!AT272","v":0},{"$f":"DATAENTRY!AU272","v":0},{"$f":"DATAENTRY!AV272","v":0},{"$f":"DATAENTRY!AW272","v":0},{"$f":"DATAENTRY!AX272","v":0},{"$f":"DATAENTRY!AY272","v":0},{"$f":"DATAENTRY!AZ272","v":0},{"$f":"DATAENTRY!BA272","v":0},{"$f":"DATAENTRY!BB272","v":0},{"$f":"DATAENTRY!BC272","v":0},{"$f":"DATAENTRY!BD272","v":0},{"$f":"DATAENTRY!BE272","v":0},{"$f":"DATAENTRY!BF272","v":0},{"$f":"DATAENTRY!BG272","v":0},{"$f":"DATAENTRY!BH272","v":""}]
[{"$f":"DATAENTRY!C273","v":0},{"$f":"DATAENTRY!D273","v":0},{"$f":"DATAENTRY!E273","v":0},{"$f":"DATAENTRY!F273","v":0},{"$f":"DATAENTRY!G273","v":0},{"$f":"DATAENTRY!H273","v":0},{"$f":"DATAENTRY!I273","v":0},{"$f":"DATAENTRY!J273","v":0},{"$f":"DATAENTRY!K273","v":0},{"$f":"DATAENTRY!L273","v":0},{"$f":"DATAENTRY!M273","v":0},{"$f":"DATAENTRY!N273","v":0},{"$f":"DATAENTRY!O273","v":0},{"$f":"DATAENTRY!P273","v":0},{"$f":"DATAENTRY!Q273","v":0},{"$f":"DATAENTRY!R273","v":0},{"$f":"DATAENTRY!S273","v":0},{"$f":"DATAENTRY!T273","v":0},{"$f":"DATAENTRY!U273","v":0},{"$f":"DATAENTRY!V273","v":0},{"$f":"DATAENTRY!W273","v":0},{"$f":"DATAENTRY!X273","v":0},{"$f":"DATAENTRY!Y273","v":0},{"$f":"DATAENTRY!Z273","v":0},{"$f":"DATAENTRY!AA273","v":0},{"$f":"DATAENTRY!AB273","v":0},{"$f":"DATAENTRY!AC273","v":0},{"$f":"DATAENTRY!AD273","v":0},{"$f":"DATAENTRY!AE273","v":0},{"$f":"DATAENTRY!AF273","v":0},{"$f":"DATAENTRY!AG273","v":0},{"$f":"DATAENTRY!AH273","v":0},{"$f":"DATAENTRY!AI273","v":0},{"$f":"DATAENTRY!AJ273","v":0},{"$f":"DATAENTRY!AK273","v":0},{"$f":"DATAENTRY!AL273","v":0},{"$f":"DATAENTRY!AM273","v":0},{"$f":"DATAENTRY!AN273","v":0},{"$f":"DATAENTRY!AO273","v":0},{"$f":"DATAENTRY!AP273","v":0},{"$f":"DATAENTRY!AQ273","v":0},{"$f":"DATAENTRY!AR273","v":0},{"$f":"DATAENTRY!AS273","v":0},{"$f":"DATAENTRY!AT273","v":0},{"$f":"DATAENTRY!AU273","v":0},{"$f":"DATAENTRY!AV273","v":0},{"$f":"DATAENTRY!AW273","v":0},{"$f":"DATAENTRY!AX273","v":0},{"$f":"DATAENTRY!AY273","v":0},{"$f":"DATAENTRY!AZ273","v":0},{"$f":"DATAENTRY!BA273","v":0},{"$f":"DATAENTRY!BB273","v":0},{"$f":"DATAENTRY!BC273","v":0},{"$f":"DATAENTRY!BD273","v":0},{"$f":"DATAENTRY!BE273","v":0},{"$f":"DATAENTRY!BF273","v":0},{"$f":"DATAENTRY!BG273","v":0},{"$f":"DATAENTRY!BH273","v":""}]
[{"$f":"DATAENTRY!C274","v":0},{"$f":"DATAENTRY!D274","v":0},{"$f":"DATAENTRY!E274","v":0},{"$f":"DATAENTRY!F274","v":0},{"$f":"DATAENTRY!G274","v":0},{"$f":"DATAENTRY!H274","v":0},{"$f":"DATAENTRY!I274","v":0},{"$f":"DATAENTRY!J274","v":0},{"$f":"DATAENTRY!K274","v":0},{"$f":"DATAENTRY!L274","v":0},{"$f":"DATAENTRY!M274","v":0},{"$f":"DATAENTRY!N274","v":0},{"$f":"DATAENTRY!O274","v":0},{"$f":"DATAENTRY!P274","v":0},{"$f":"DATAENTRY!Q274","v":0},{"$f":"DATAENTRY!R274","v":0},{"$f":"DATAENTRY!S274","v":0},{"$f":"DATAENTRY!T274","v":0},{"$f":"DATAENTRY!U274","v":0},{"$f":"DATAENTRY!V274","v":0},{"$f":"DATAENTRY!W274","v":0},{"$f":"DATAENTRY!X274","v":0},{"$f":"DATAENTRY!Y274","v":0},{"$f":"DATAENTRY!Z274","v":0},{"$f":"DATAENTRY!AA274","v":0},{"$f":"DATAENTRY!AB274","v":0},{"$f":"DATAENTRY!AC274","v":0},{"$f":"DATAENTRY!AD274","v":0},{"$f":"DATAENTRY!AE274","v":0},{"$f":"DATAENTRY!AF274","v":0},{"$f":"DATAENTRY!AG274","v":0},{"$f":"DATAENTRY!AH274","v":0},{"$f":"DATAENTRY!AI274","v":0},{"$f":"DATAENTRY!AJ274","v":0},{"$f":"DATAENTRY!AK274","v":0},{"$f":"DATAENTRY!AL274","v":0},{"$f":"DATAENTRY!AM274","v":0},{"$f":"DATAENTRY!AN274","v":0},{"$f":"DATAENTRY!AO274","v":0},{"$f":"DATAENTRY!AP274","v":0},{"$f":"DATAENTRY!AQ274","v":0},{"$f":"DATAENTRY!AR274","v":0},{"$f":"DATAENTRY!AS274","v":0},{"$f":"DATAENTRY!AT274","v":0},{"$f":"DATAENTRY!AU274","v":0},{"$f":"DATAENTRY!AV274","v":0},{"$f":"DATAENTRY!AW274","v":0},{"$f":"DATAENTRY!AX274","v":0},{"$f":"DATAENTRY!AY274","v":0},{"$f":"DATAENTRY!AZ274","v":0},{"$f":"DATAENTRY!BA274","v":0},{"$f":"DATAENTRY!BB274","v":0},{"$f":"DATAENTRY!BC274","v":0},{"$f":"DATAENTRY!BD274","v":0},{"$f":"DATAENTRY!BE274","v":0},{"$f":"DATAENTRY!BF274","v":0},{"$f":"DATAENTRY!BG274","v":0},{"$f":"DATAENTRY!BH274","v":""}]
[{"$f":"DATAENTRY!C275","v":0},{"$f":"DATAENTRY!D275","v":0},{"$f":"DATAENTRY!E275","v":0},{"$f":"DATAENTRY!F275","v":0},{"$f":"DATAENTRY!G275","v":0},{"$f":"DATAENTRY!H275","v":0},{"$f":"DATAENTRY!I275","v":0},{"$f":"DATAENTRY!J275","v":0},{"$f":"DATAENTRY!K275","v":0},{"$f":"DATAENTRY!L275","v":0},{"$f":"DATAENTRY!M275","v":0},{"$f":"DATAENTRY!N275","v":0},{"$f":"DATAENTRY!O275","v":0},{"$f":"DATAENTRY!P275","v":0},{"$f":"DATAENTRY!Q275","v":0},{"$f":"DATAENTRY!R275","v":0},{"$f":"DATAENTRY!S275","v":0},{"$f":"DATAENTRY!T275","v":0},{"$f":"DATAENTRY!U275","v":0},{"$f":"DATAENTRY!V275","v":0},{"$f":"DATAENTRY!W275","v":0},{"$f":"DATAENTRY!X275","v":0},{"$f":"DATAENTRY!Y275","v":0},{"$f":"DATAENTRY!Z275","v":0},{"$f":"DATAENTRY!AA275","v":0},{"$f":"DATAENTRY!AB275","v":0},{"$f":"DATAENTRY!AC275","v":0},{"$f":"DATAENTRY!AD275","v":0},{"$f":"DATAENTRY!AE275","v":0},{"$f":"DATAENTRY!AF275","v":0},{"$f":"DATAENTRY!AG275","v":0},{"$f":"DATAENTRY!AH275","v":0},{"$f":"DATAENTRY!AI275","v":0},{"$f":"DATAENTRY!AJ275","v":0},{"$f":"DATAENTRY!AK275","v":0},{"$f":"DATAENTRY!AL275","v":0},{"$f":"DATAENTRY!AM275","v":0},{"$f":"DATAENTRY!AN275","v":0},{"$f":"DATAENTRY!AO275","v":0},{"$f":"DATAENTRY!AP275","v":0},{"$f":"DATAENTRY!AQ275","v":0},{"$f":"DATAENTRY!AR275","v":0},{"$f":"DATAENTRY!AS275","v":0},{"$f":"DATAENTRY!AT275","v":0},{"$f":"DATAENTRY!AU275","v":0},{"$f":"DATAENTRY!AV275","v":0},{"$f":"DATAENTRY!AW275","v":0},{"$f":"DATAENTRY!AX275","v":0},{"$f":"DATAENTRY!AY275","v":0},{"$f":"DATAENTRY!AZ275","v":0},{"$f":"DATAENTRY!BA275","v":0},{"$f":"DATAENTRY!BB275","v":0},{"$f":"DATAENTRY!BC275","v":0},{"$f":"DATAENTRY!BD275","v":0},{"$f":"DATAENTRY!BE275","v":0},{"$f":"DATAENTRY!BF275","v":0},{"$f":"DATAENTRY!BG275","v":0},{"$f":"DATAENTRY!BH275","v":""}]
[{"$f":"DATAENTRY!C276","v":0},{"$f":"DATAENTRY!D276","v":0},{"$f":"DATAENTRY!E276","v":0},{"$f":"DATAENTRY!F276","v":0},{"$f":"DATAENTRY!G276","v":0},{"$f":"DATAENTRY!H276","v":0},{"$f":"DATAENTRY!I276","v":0},{"$f":"DATAENTRY!J276","v":0},{"$f":"DATAENTRY!K276","v":0},{"$f":"DATAENTRY!L276","v":0},{"$f":"DATAENTRY!M276","v":0},{"$f":"DATAENTRY!N276","v":0},{"$f":"DATAENTRY!O276","v":0},{"$f":"DATAENTRY!P276","v":0},{"$f":"DATAENTRY!Q276","v":0},{"$f":"DATAENTRY!R276","v":0},{"$f":"DATAENTRY!S276","v":0},{"$f":"DATAENTRY!T276","v":0},{"$f":"DATAENTRY!U276","v":0},{"$f":"DATAENTRY!V276","v":0},{"$f":"DATAENTRY!W276","v":0},{"$f":"DATAENTRY!X276","v":0},{"$f":"DATAENTRY!Y276","v":0},{"$f":"DATAENTRY!Z276","v":0},{"$f":"DATAENTRY!AA276","v":0},{"$f":"DATAENTRY!AB276","v":0},{"$f":"DATAENTRY!AC276","v":0},{"$f":"DATAENTRY!AD276","v":0},{"$f":"DATAENTRY!AE276","v":0},{"$f":"DATAENTRY!AF276","v":0},{"$f":"DATAENTRY!AG276","v":0},{"$f":"DATAENTRY!AH276","v":0},{"$f":"DATAENTRY!AI276","v":0},{"$f":"DATAENTRY!AJ276","v":0},{"$f":"DATAENTRY!AK276","v":0},{"$f":"DATAENTRY!AL276","v":0},{"$f":"DATAENTRY!AM276","v":0},{"$f":"DATAENTRY!AN276","v":0},{"$f":"DATAENTRY!AO276","v":0},{"$f":"DATAENTRY!AP276","v":0},{"$f":"DATAENTRY!AQ276","v":0},{"$f":"DATAENTRY!AR276","v":0},{"$f":"DATAENTRY!AS276","v":0},{"$f":"DATAENTRY!AT276","v":0},{"$f":"DATAENTRY!AU276","v":0},{"$f":"DATAENTRY!AV276","v":0},{"$f":"DATAENTRY!AW276","v":0},{"$f":"DATAENTRY!AX276","v":0},{"$f":"DATAENTRY!AY276","v":0},{"$f":"DATAENTRY!AZ276","v":0},{"$f":"DATAENTRY!BA276","v":0},{"$f":"DATAENTRY!BB276","v":0},{"$f":"DATAENTRY!BC276","v":0},{"$f":"DATAENTRY!BD276","v":0},{"$f":"DATAENTRY!BE276","v":0},{"$f":"DATAENTRY!BF276","v":0},{"$f":"DATAENTRY!BG276","v":0},{"$f":"DATAENTRY!BH276","v":""}]
[{"$f":"DATAENTRY!C277","v":0},{"$f":"DATAENTRY!D277","v":0},{"$f":"DATAENTRY!E277","v":0},{"$f":"DATAENTRY!F277","v":0},{"$f":"DATAENTRY!G277","v":0},{"$f":"DATAENTRY!H277","v":0},{"$f":"DATAENTRY!I277","v":0},{"$f":"DATAENTRY!J277","v":0},{"$f":"DATAENTRY!K277","v":0},{"$f":"DATAENTRY!L277","v":0},{"$f":"DATAENTRY!M277","v":0},{"$f":"DATAENTRY!N277","v":0},{"$f":"DATAENTRY!O277","v":0},{"$f":"DATAENTRY!P277","v":0},{"$f":"DATAENTRY!Q277","v":0},{"$f":"DATAENTRY!R277","v":0},{"$f":"DATAENTRY!S277","v":0},{"$f":"DATAENTRY!T277","v":0},{"$f":"DATAENTRY!U277","v":0},{"$f":"DATAENTRY!V277","v":0},{"$f":"DATAENTRY!W277","v":0},{"$f":"DATAENTRY!X277","v":0},{"$f":"DATAENTRY!Y277","v":0},{"$f":"DATAENTRY!Z277","v":0},{"$f":"DATAENTRY!AA277","v":0},{"$f":"DATAENTRY!AB277","v":0},{"$f":"DATAENTRY!AC277","v":0},{"$f":"DATAENTRY!AD277","v":0},{"$f":"DATAENTRY!AE277","v":0},{"$f":"DATAENTRY!AF277","v":0},{"$f":"DATAENTRY!AG277","v":0},{"$f":"DATAENTRY!AH277","v":0},{"$f":"DATAENTRY!AI277","v":0},{"$f":"DATAENTRY!AJ277","v":0},{"$f":"DATAENTRY!AK277","v":0},{"$f":"DATAENTRY!AL277","v":0},{"$f":"DATAENTRY!AM277","v":0},{"$f":"DATAENTRY!AN277","v":0},{"$f":"DATAENTRY!AO277","v":0},{"$f":"DATAENTRY!AP277","v":0},{"$f":"DATAENTRY!AQ277","v":0},{"$f":"DATAENTRY!AR277","v":0},{"$f":"DATAENTRY!AS277","v":0},{"$f":"DATAENTRY!AT277","v":0},{"$f":"DATAENTRY!AU277","v":0},{"$f":"DATAENTRY!AV277","v":0},{"$f":"DATAENTRY!AW277","v":0},{"$f":"DATAENTRY!AX277","v":0},{"$f":"DATAENTRY!AY277","v":0},{"$f":"DATAENTRY!AZ277","v":0},{"$f":"DATAENTRY!BA277","v":0},{"$f":"DATAENTRY!BB277","v":0},{"$f":"DATAENTRY!BC277","v":0},{"$f":"DATAENTRY!BD277","v":0},{"$f":"DATAENTRY!BE277","v":0},{"$f":"DATAENTRY!BF277","v":0},{"$f":"DATAENTRY!BG277","v":0},{"$f":"DATAENTRY!BH277","v":""}]
[{"$f":"DATAENTRY!C278","v":0},{"$f":"DATAENTRY!D278","v":0},{"$f":"DATAENTRY!E278","v":0},{"$f":"DATAENTRY!F278","v":0},{"$f":"DATAENTRY!G278","v":0},{"$f":"DATAENTRY!H278","v":0},{"$f":"DATAENTRY!I278","v":0},{"$f":"DATAENTRY!J278","v":0},{"$f":"DATAENTRY!K278","v":0},{"$f":"DATAENTRY!L278","v":0},{"$f":"DATAENTRY!M278","v":0},{"$f":"DATAENTRY!N278","v":0},{"$f":"DATAENTRY!O278","v":0},{"$f":"DATAENTRY!P278","v":0},{"$f":"DATAENTRY!Q278","v":0},{"$f":"DATAENTRY!R278","v":0},{"$f":"DATAENTRY!S278","v":0},{"$f":"DATAENTRY!T278","v":0},{"$f":"DATAENTRY!U278","v":0},{"$f":"DATAENTRY!V278","v":0},{"$f":"DATAENTRY!W278","v":0},{"$f":"DATAENTRY!X278","v":0},{"$f":"DATAENTRY!Y278","v":0},{"$f":"DATAENTRY!Z278","v":0},{"$f":"DATAENTRY!AA278","v":0},{"$f":"DATAENTRY!AB278","v":0},{"$f":"DATAENTRY!AC278","v":0},{"$f":"DATAENTRY!AD278","v":0},{"$f":"DATAENTRY!AE278","v":0},{"$f":"DATAENTRY!AF278","v":0},{"$f":"DATAENTRY!AG278","v":0},{"$f":"DATAENTRY!AH278","v":0},{"$f":"DATAENTRY!AI278","v":0},{"$f":"DATAENTRY!AJ278","v":0},{"$f":"DATAENTRY!AK278","v":0},{"$f":"DATAENTRY!AL278","v":0},{"$f":"DATAENTRY!AM278","v":0},{"$f":"DATAENTRY!AN278","v":0},{"$f":"DATAENTRY!AO278","v":0},{"$f":"DATAENTRY!AP278","v":0},{"$f":"DATAENTRY!AQ278","v":0},{"$f":"DATAENTRY!AR278","v":0},{"$f":"DATAENTRY!AS278","v":0},{"$f":"DATAENTRY!AT278","v":0},{"$f":"DATAENTRY!AU278","v":0},{"$f":"DATAENTRY!AV278","v":0},{"$f":"DATAENTRY!AW278","v":0},{"$f":"DATAENTRY!AX278","v":0},{"$f":"DATAENTRY!AY278","v":0},{"$f":"DATAENTRY!AZ278","v":0},{"$f":"DATAENTRY!BA278","v":0},{"$f":"DATAENTRY!BB278","v":0},{"$f":"DATAENTRY!BC278","v":0},{"$f":"DATAENTRY!BD278","v":0},{"$f":"DATAENTRY!BE278","v":0},{"$f":"DATAENTRY!BF278","v":0},{"$f":"DATAENTRY!BG278","v":0},{"$f":"DATAENTRY!BH278","v":""}]
[{"$f":"DATAENTRY!C279","v":0},{"$f":"DATAENTRY!D279","v":0},{"$f":"DATAENTRY!E279","v":0},{"$f":"DATAENTRY!F279","v":0},{"$f":"DATAENTRY!G279","v":0},{"$f":"DATAENTRY!H279","v":0},{"$f":"DATAENTRY!I279","v":0},{"$f":"DATAENTRY!J279","v":0},{"$f":"DATAENTRY!K279","v":0},{"$f":"DATAENTRY!L279","v":0},{"$f":"DATAENTRY!M279","v":0},{"$f":"DATAENTRY!N279","v":0},{"$f":"DATAENTRY!O279","v":0},{"$f":"DATAENTRY!P279","v":0},{"$f":"DATAENTRY!Q279","v":0},{"$f":"DATAENTRY!R279","v":0},{"$f":"DATAENTRY!S279","v":0},{"$f":"DATAENTRY!T279","v":0},{"$f":"DATAENTRY!U279","v":0},{"$f":"DATAENTRY!V279","v":0},{"$f":"DATAENTRY!W279","v":0},{"$f":"DATAENTRY!X279","v":0},{"$f":"DATAENTRY!Y279","v":0},{"$f":"DATAENTRY!Z279","v":0},{"$f":"DATAENTRY!AA279","v":0},{"$f":"DATAENTRY!AB279","v":0},{"$f":"DATAENTRY!AC279","v":0},{"$f":"DATAENTRY!AD279","v":0},{"$f":"DATAENTRY!AE279","v":0},{"$f":"DATAENTRY!AF279","v":0},{"$f":"DATAENTRY!AG279","v":0},{"$f":"DATAENTRY!AH279","v":0},{"$f":"DATAENTRY!AI279","v":0},{"$f":"DATAENTRY!AJ279","v":0},{"$f":"DATAENTRY!AK279","v":0},{"$f":"DATAENTRY!AL279","v":0},{"$f":"DATAENTRY!AM279","v":0},{"$f":"DATAENTRY!AN279","v":0},{"$f":"DATAENTRY!AO279","v":0},{"$f":"DATAENTRY!AP279","v":0},{"$f":"DATAENTRY!AQ279","v":0},{"$f":"DATAENTRY!AR279","v":0},{"$f":"DATAENTRY!AS279","v":0},{"$f":"DATAENTRY!AT279","v":0},{"$f":"DATAENTRY!AU279","v":0},{"$f":"DATAENTRY!AV279","v":0},{"$f":"DATAENTRY!AW279","v":0},{"$f":"DATAENTRY!AX279","v":0},{"$f":"DATAENTRY!AY279","v":0},{"$f":"DATAENTRY!AZ279","v":0},{"$f":"DATAENTRY!BA279","v":0},{"$f":"DATAENTRY!BB279","v":0},{"$f":"DATAENTRY!BC279","v":0},{"$f":"DATAENTRY!BD279","v":0},{"$f":"DATAENTRY!BE279","v":0},{"$f":"DATAENTRY!BF279","v":0},{"$f":"DATAENTRY!BG279","v":0},{"$f":"DATAENTRY!BH279","v":""}]
[{"$f":"DATAENTRY!C280","v":0},{"$f":"DATAENTRY!D280","v":0},{"$f":"DATAENTRY!E280","v":0},{"$f":"DATAENTRY!F280","v":0},{"$f":"DATAENTRY!G280","v":0},{"$f":"DATAENTRY!H280","v":0},{"$f":"DATAENTRY!I280","v":0},{"$f":"DATAENTRY!J280","v":0},{"$f":"DATAENTRY!K280","v":0},{"$f":"DATAENTRY!L280","v":0},{"$f":"DATAENTRY!M280","v":0},{"$f":"DATAENTRY!N280","v":0},{"$f":"DATAENTRY!O280","v":0},{"$f":"DATAENTRY!P280","v":0},{"$f":"DATAENTRY!Q280","v":0},{"$f":"DATAENTRY!R280","v":0},{"$f":"DATAENTRY!S280","v":0},{"$f":"DATAENTRY!T280","v":0},{"$f":"DATAENTRY!U280","v":0},{"$f":"DATAENTRY!V280","v":0},{"$f":"DATAENTRY!W280","v":0},{"$f":"DATAENTRY!X280","v":0},{"$f":"DATAENTRY!Y280","v":0},{"$f":"DATAENTRY!Z280","v":0},{"$f":"DATAENTRY!AA280","v":0},{"$f":"DATAENTRY!AB280","v":0},{"$f":"DATAENTRY!AC280","v":0},{"$f":"DATAENTRY!AD280","v":0},{"$f":"DATAENTRY!AE280","v":0},{"$f":"DATAENTRY!AF280","v":0},{"$f":"DATAENTRY!AG280","v":0},{"$f":"DATAENTRY!AH280","v":0},{"$f":"DATAENTRY!AI280","v":0},{"$f":"DATAENTRY!AJ280","v":0},{"$f":"DATAENTRY!AK280","v":0},{"$f":"DATAENTRY!AL280","v":0},{"$f":"DATAENTRY!AM280","v":0},{"$f":"DATAENTRY!AN280","v":0},{"$f":"DATAENTRY!AO280","v":0},{"$f":"DATAENTRY!AP280","v":0},{"$f":"DATAENTRY!AQ280","v":0},{"$f":"DATAENTRY!AR280","v":0},{"$f":"DATAENTRY!AS280","v":0},{"$f":"DATAENTRY!AT280","v":0},{"$f":"DATAENTRY!AU280","v":0},{"$f":"DATAENTRY!AV280","v":0},{"$f":"DATAENTRY!AW280","v":0},{"$f":"DATAENTRY!AX280","v":0},{"$f":"DATAENTRY!AY280","v":0},{"$f":"DATAENTRY!AZ280","v":0},{"$f":"DATAENTRY!BA280","v":0},{"$f":"DATAENTRY!BB280","v":0},{"$f":"DATAENTRY!BC280","v":0},{"$f":"DATAENTRY!BD280","v":0},{"$f":"DATAENTRY!BE280","v":0},{"$f":"DATAENTRY!BF280","v":0},{"$f":"DATAENTRY!BG280","v":0},{"$f":"DATAENTRY!BH280","v":""}]
[{"$f":"DATAENTRY!C281","v":0},{"$f":"DATAENTRY!D281","v":0},{"$f":"DATAENTRY!E281","v":0},{"$f":"DATAENTRY!F281","v":0},{"$f":"DATAENTRY!G281","v":0},{"$f":"DATAENTRY!H281","v":0},{"$f":"DATAENTRY!I281","v":0},{"$f":"DATAENTRY!J281","v":0},{"$f":"DATAENTRY!K281","v":0},{"$f":"DATAENTRY!L281","v":0},{"$f":"DATAENTRY!M281","v":0},{"$f":"DATAENTRY!N281","v":0},{"$f":"DATAENTRY!O281","v":0},{"$f":"DATAENTRY!P281","v":0},{"$f":"DATAENTRY!Q281","v":0},{"$f":"DATAENTRY!R281","v":0},{"$f":"DATAENTRY!S281","v":0},{"$f":"DATAENTRY!T281","v":0},{"$f":"DATAENTRY!U281","v":0},{"$f":"DATAENTRY!V281","v":0},{"$f":"DATAENTRY!W281","v":0},{"$f":"DATAENTRY!X281","v":0},{"$f":"DATAENTRY!Y281","v":0},{"$f":"DATAENTRY!Z281","v":0},{"$f":"DATAENTRY!AA281","v":0},{"$f":"DATAENTRY!AB281","v":0},{"$f":"DATAENTRY!AC281","v":0},{"$f":"DATAENTRY!AD281","v":0},{"$f":"DATAENTRY!AE281","v":0},{"$f":"DATAENTRY!AF281","v":0},{"$f":"DATAENTRY!AG281","v":0},{"$f":"DATAENTRY!AH281","v":0},{"$f":"DATAENTRY!AI281","v":0},{"$f":"DATAENTRY!AJ281","v":0},{"$f":"DATAENTRY!AK281","v":0},{"$f":"DATAENTRY!AL281","v":0},{"$f":"DATAENTRY!AM281","v":0},{"$f":"DATAENTRY!AN281","v":0},{"$f":"DATAENTRY!AO281","v":0},{"$f":"DATAENTRY!AP281","v":0},{"$f":"DATAENTRY!AQ281","v":0},{"$f":"DATAENTRY!AR281","v":0},{"$f":"DATAENTRY!AS281","v":0},{"$f":"DATAENTRY!AT281","v":0},{"$f":"DATAENTRY!AU281","v":0},{"$f":"DATAENTRY!AV281","v":0},{"$f":"DATAENTRY!AW281","v":0},{"$f":"DATAENTRY!AX281","v":0},{"$f":"DATAENTRY!AY281","v":0},{"$f":"DATAENTRY!AZ281","v":0},{"$f":"DATAENTRY!BA281","v":0},{"$f":"DATAENTRY!BB281","v":0},{"$f":"DATAENTRY!BC281","v":0},{"$f":"DATAENTRY!BD281","v":0},{"$f":"DATAENTRY!BE281","v":0},{"$f":"DATAENTRY!BF281","v":0},{"$f":"DATAENTRY!BG281","v":0},{"$f":"DATAENTRY!BH281","v":""}]
[{"$f":"DATAENTRY!C282","v":0},{"$f":"DATAENTRY!D282","v":0},{"$f":"DATAENTRY!E282","v":0},{"$f":"DATAENTRY!F282","v":0},{"$f":"DATAENTRY!G282","v":0},{"$f":"DATAENTRY!H282","v":0},{"$f":"DATAENTRY!I282","v":0},{"$f":"DATAENTRY!J282","v":0},{"$f":"DATAENTRY!K282","v":0},{"$f":"DATAENTRY!L282","v":0},{"$f":"DATAENTRY!M282","v":0},{"$f":"DATAENTRY!N282","v":0},{"$f":"DATAENTRY!O282","v":0},{"$f":"DATAENTRY!P282","v":0},{"$f":"DATAENTRY!Q282","v":0},{"$f":"DATAENTRY!R282","v":0},{"$f":"DATAENTRY!S282","v":0},{"$f":"DATAENTRY!T282","v":0},{"$f":"DATAENTRY!U282","v":0},{"$f":"DATAENTRY!V282","v":0},{"$f":"DATAENTRY!W282","v":0},{"$f":"DATAENTRY!X282","v":0},{"$f":"DATAENTRY!Y282","v":0},{"$f":"DATAENTRY!Z282","v":0},{"$f":"DATAENTRY!AA282","v":0},{"$f":"DATAENTRY!AB282","v":0},{"$f":"DATAENTRY!AC282","v":0},{"$f":"DATAENTRY!AD282","v":0},{"$f":"DATAENTRY!AE282","v":0},{"$f":"DATAENTRY!AF282","v":0},{"$f":"DATAENTRY!AG282","v":0},{"$f":"DATAENTRY!AH282","v":0},{"$f":"DATAENTRY!AI282","v":0},{"$f":"DATAENTRY!AJ282","v":0},{"$f":"DATAENTRY!AK282","v":0},{"$f":"DATAENTRY!AL282","v":0},{"$f":"DATAENTRY!AM282","v":0},{"$f":"DATAENTRY!AN282","v":0},{"$f":"DATAENTRY!AO282","v":0},{"$f":"DATAENTRY!AP282","v":0},{"$f":"DATAENTRY!AQ282","v":0},{"$f":"DATAENTRY!AR282","v":0},{"$f":"DATAENTRY!AS282","v":0},{"$f":"DATAENTRY!AT282","v":0},{"$f":"DATAENTRY!AU282","v":0},{"$f":"DATAENTRY!AV282","v":0},{"$f":"DATAENTRY!AW282","v":0},{"$f":"DATAENTRY!AX282","v":0},{"$f":"DATAENTRY!AY282","v":0},{"$f":"DATAENTRY!AZ282","v":0},{"$f":"DATAENTRY!BA282","v":0},{"$f":"DATAENTRY!BB282","v":0},{"$f":"DATAENTRY!BC282","v":0},{"$f":"DATAENTRY!BD282","v":0},{"$f":"DATAENTRY!BE282","v":0},{"$f":"DATAENTRY!BF282","v":0},{"$f":"DATAENTRY!BG282","v":0},{"$f":"DATAENTRY!BH282","v":""}]
[{"$f":"DATAENTRY!C283","v":0},{"$f":"DATAENTRY!D283","v":0},{"$f":"DATAENTRY!E283","v":0},{"$f":"DATAENTRY!F283","v":0},{"$f":"DATAENTRY!G283","v":0},{"$f":"DATAENTRY!H283","v":0},{"$f":"DATAENTRY!I283","v":0},{"$f":"DATAENTRY!J283","v":0},{"$f":"DATAENTRY!K283","v":0},{"$f":"DATAENTRY!L283","v":0},{"$f":"DATAENTRY!M283","v":0},{"$f":"DATAENTRY!N283","v":0},{"$f":"DATAENTRY!O283","v":0},{"$f":"DATAENTRY!P283","v":0},{"$f":"DATAENTRY!Q283","v":0},{"$f":"DATAENTRY!R283","v":0},{"$f":"DATAENTRY!S283","v":0},{"$f":"DATAENTRY!T283","v":0},{"$f":"DATAENTRY!U283","v":0},{"$f":"DATAENTRY!V283","v":0},{"$f":"DATAENTRY!W283","v":0},{"$f":"DATAENTRY!X283","v":0},{"$f":"DATAENTRY!Y283","v":0},{"$f":"DATAENTRY!Z283","v":0},{"$f":"DATAENTRY!AA283","v":0},{"$f":"DATAENTRY!AB283","v":0},{"$f":"DATAENTRY!AC283","v":0},{"$f":"DATAENTRY!AD283","v":0},{"$f":"DATAENTRY!AE283","v":0},{"$f":"DATAENTRY!AF283","v":0},{"$f":"DATAENTRY!AG283","v":0},{"$f":"DATAENTRY!AH283","v":0},{"$f":"DATAENTRY!AI283","v":0},{"$f":"DATAENTRY!AJ283","v":0},{"$f":"DATAENTRY!AK283","v":0},{"$f":"DATAENTRY!AL283","v":0},{"$f":"DATAENTRY!AM283","v":0},{"$f":"DATAENTRY!AN283","v":0},{"$f":"DATAENTRY!AO283","v":0},{"$f":"DATAENTRY!AP283","v":0},{"$f":"DATAENTRY!AQ283","v":0},{"$f":"DATAENTRY!AR283","v":0},{"$f":"DATAENTRY!AS283","v":0},{"$f":"DATAENTRY!AT283","v":0},{"$f":"DATAENTRY!AU283","v":0},{"$f":"DATAENTRY!AV283","v":0},{"$f":"DATAENTRY!AW283","v":0},{"$f":"DATAENTRY!AX283","v":0},{"$f":"DATAENTRY!AY283","v":0},{"$f":"DATAENTRY!AZ283","v":0},{"$f":"DATAENTRY!BA283","v":0},{"$f":"DATAENTRY!BB283","v":0},{"$f":"DATAENTRY!BC283","v":0},{"$f":"DATAENTRY!BD283","v":0},{"$f":"DATAENTRY!BE283","v":0},{"$f":"DATAENTRY!BF283","v":0},{"$f":"DATAENTRY!BG283","v":0},{"$f":"DATAENTRY!BH283","v":""}]
[{"$f":"DATAENTRY!C284","v":0},{"$f":"DATAENTRY!D284","v":0},{"$f":"DATAENTRY!E284","v":0},{"$f":"DATAENTRY!F284","v":0},{"$f":"DATAENTRY!G284","v":0},{"$f":"DATAENTRY!H284","v":0},{"$f":"DATAENTRY!I284","v":0},{"$f":"DATAENTRY!J284","v":0},{"$f":"DATAENTRY!K284","v":0},{"$f":"DATAENTRY!L284","v":0},{"$f":"DATAENTRY!M284","v":0},{"$f":"DATAENTRY!N284","v":0},{"$f":"DATAENTRY!O284","v":0},{"$f":"DATAENTRY!P284","v":0},{"$f":"DATAENTRY!Q284","v":0},{"$f":"DATAENTRY!R284","v":0},{"$f":"DATAENTRY!S284","v":0},{"$f":"DATAENTRY!T284","v":0},{"$f":"DATAENTRY!U284","v":0},{"$f":"DATAENTRY!V284","v":0},{"$f":"DATAENTRY!W284","v":0},{"$f":"DATAENTRY!X284","v":0},{"$f":"DATAENTRY!Y284","v":0},{"$f":"DATAENTRY!Z284","v":0},{"$f":"DATAENTRY!AA284","v":0},{"$f":"DATAENTRY!AB284","v":0},{"$f":"DATAENTRY!AC284","v":0},{"$f":"DATAENTRY!AD284","v":0},{"$f":"DATAENTRY!AE284","v":0},{"$f":"DATAENTRY!AF284","v":0},{"$f":"DATAENTRY!AG284","v":0},{"$f":"DATAENTRY!AH284","v":0},{"$f":"DATAENTRY!AI284","v":0},{"$f":"DATAENTRY!AJ284","v":0},{"$f":"DATAENTRY!AK284","v":0},{"$f":"DATAENTRY!AL284","v":0},{"$f":"DATAENTRY!AM284","v":0},{"$f":"DATAENTRY!AN284","v":0},{"$f":"DATAENTRY!AO284","v":0},{"$f":"DATAENTRY!AP284","v":0},{"$f":"DATAENTRY!AQ284","v":0},{"$f":"DATAENTRY!AR284","v":0},{"$f":"DATAENTRY!AS284","v":0},{"$f":"DATAENTRY!AT284","v":0},{"$f":"DATAENTRY!AU284","v":0},{"$f":"DATAENTRY!AV284","v":0},{"$f":"DATAENTRY!AW284","v":0},{"$f":"DATAENTRY!AX284","v":0},{"$f":"DATAENTRY!AY284","v":0},{"$f":"DATAENTRY!AZ284","v":0},{"$f":"DATAENTRY!BA284","v":0},{"$f":"DATAENTRY!BB284","v":0},{"$f":"DATAENTRY!BC284","v":0},{"$f":"DATAENTRY!BD284","v":0},{"$f":"DATAENTRY!BE284","v":0},{"$f":"DATAENTRY!BF284","v":0},{"$f":"DATAENTRY!BG284","v":0},{"$f":"DATAENTRY!BH284","v":""}]
[{"$f":"DATAENTRY!C285","v":0},{"$f":"DATAENTRY!D285","v":0},{"$f":"DATAENTRY!E285","v":0},{"$f":"DATAENTRY!F285","v":0},{"$f":"DATAENTRY!G285","v":0},{"$f":"DATAENTRY!H285","v":0},{"$f":"DATAENTRY!I285","v":0},{"$f":"DATAENTRY!J285","v":0},{"$f":"DATAENTRY!K285","v":0},{"$f":"DATAENTRY!L285","v":0},{"$f":"DATAENTRY!M285","v":0},{"$f":"DATAENTRY!N285","v":0},{"$f":"DATAENTRY!O285","v":0},{"$f":"DATAENTRY!P285","v":0},{"$f":"DATAENTRY!Q285","v":0},{"$f":"DATAENTRY!R285","v":0},{"$f":"DATAENTRY!S285","v":0},{"$f":"DATAENTRY!T285","v":0},{"$f":"DATAENTRY!U285","v":0},{"$f":"DATAENTRY!V285","v":0},{"$f":"DATAENTRY!W285","v":0},{"$f":"DATAENTRY!X285","v":0},{"$f":"DATAENTRY!Y285","v":0},{"$f":"DATAENTRY!Z285","v":0},{"$f":"DATAENTRY!AA285","v":0},{"$f":"DATAENTRY!AB285","v":0},{"$f":"DATAENTRY!AC285","v":0},{"$f":"DATAENTRY!AD285","v":0},{"$f":"DATAENTRY!AE285","v":0},{"$f":"DATAENTRY!AF285","v":0},{"$f":"DATAENTRY!AG285","v":0},{"$f":"DATAENTRY!AH285","v":0},{"$f":"DATAENTRY!AI285","v":0},{"$f":"DATAENTRY!AJ285","v":0},{"$f":"DATAENTRY!AK285","v":0},{"$f":"DATAENTRY!AL285","v":0},{"$f":"DATAENTRY!AM285","v":0},{"$f":"DATAENTRY!AN285","v":0},{"$f":"DATAENTRY!AO285","v":0},{"$f":"DATAENTRY!AP285","v":0},{"$f":"DATAENTRY!AQ285","v":0},{"$f":"DATAENTRY!AR285","v":0},{"$f":"DATAENTRY!AS285","v":0},{"$f":"DATAENTRY!AT285","v":0},{"$f":"DATAENTRY!AU285","v":0},{"$f":"DATAENTRY!AV285","v":0},{"$f":"DATAENTRY!AW285","v":0},{"$f":"DATAENTRY!AX285","v":0},{"$f":"DATAENTRY!AY285","v":0},{"$f":"DATAENTRY!AZ285","v":0},{"$f":"DATAENTRY!BA285","v":0},{"$f":"DATAENTRY!BB285","v":0},{"$f":"DATAENTRY!BC285","v":0},{"$f":"DATAENTRY!BD285","v":0},{"$f":"DATAENTRY!BE285","v":0},{"$f":"DATAENTRY!BF285","v":0},{"$f":"DATAENTRY!BG285","v":0},{"$f":"DATAENTRY!BH285","v":""}]
[{"$f":"DATAENTRY!C286","v":0},{"$f":"DATAENTRY!D286","v":0},{"$f":"DATAENTRY!E286","v":0},{"$f":"DATAENTRY!F286","v":0},{"$f":"DATAENTRY!G286","v":0},{"$f":"DATAENTRY!H286","v":0},{"$f":"DATAENTRY!I286","v":0},{"$f":"DATAENTRY!J286","v":0},{"$f":"DATAENTRY!K286","v":0},{"$f":"DATAENTRY!L286","v":0},{"$f":"DATAENTRY!M286","v":0},{"$f":"DATAENTRY!N286","v":0},{"$f":"DATAENTRY!O286","v":0},{"$f":"DATAENTRY!P286","v":0},{"$f":"DATAENTRY!Q286","v":0},{"$f":"DATAENTRY!R286","v":0},{"$f":"DATAENTRY!S286","v":0},{"$f":"DATAENTRY!T286","v":0},{"$f":"DATAENTRY!U286","v":0},{"$f":"DATAENTRY!V286","v":0},{"$f":"DATAENTRY!W286","v":0},{"$f":"DATAENTRY!X286","v":0},{"$f":"DATAENTRY!Y286","v":0},{"$f":"DATAENTRY!Z286","v":0},{"$f":"DATAENTRY!AA286","v":0},{"$f":"DATAENTRY!AB286","v":0},{"$f":"DATAENTRY!AC286","v":0},{"$f":"DATAENTRY!AD286","v":0},{"$f":"DATAENTRY!AE286","v":0},{"$f":"DATAENTRY!AF286","v":0},{"$f":"DATAENTRY!AG286","v":0},{"$f":"DATAENTRY!AH286","v":0},{"$f":"DATAENTRY!AI286","v":0},{"$f":"DATAENTRY!AJ286","v":0},{"$f":"DATAENTRY!AK286","v":0},{"$f":"DATAENTRY!AL286","v":0},{"$f":"DATAENTRY!AM286","v":0},{"$f":"DATAENTRY!AN286","v":0},{"$f":"DATAENTRY!AO286","v":0},{"$f":"DATAENTRY!AP286","v":0},{"$f":"DATAENTRY!AQ286","v":0},{"$f":"DATAENTRY!AR286","v":0},{"$f":"DATAENTRY!AS286","v":0},{"$f":"DATAENTRY!AT286","v":0},{"$f":"DATAENTRY!AU286","v":0},{"$f":"DATAENTRY!AV286","v":0},{"$f":"DATAENTRY!AW286","v":0},{"$f":"DATAENTRY!AX286","v":0},{"$f":"DATAENTRY!AY286","v":0},{"$f":"DATAENTRY!AZ286","v":0},{"$f":"DATAENTRY!BA286","v":0},{"$f":"DATAENTRY!BB286","v":0},{"$f":"DATAENTRY!BC286","v":0},{"$f":"DATAENTRY!BD286","v":0},{"$f":"DATAENTRY!BE286","v":0},{"$f":"DATAENTRY!BF286","v":0},{"$f":"DATAENTRY!BG286","v":0},{"$f":"DATAENTRY!BH286","v":""}]
[{"$f":"DATAENTRY!C287","v":0},{"$f":"DATAENTRY!D287","v":0},{"$f":"DATAENTRY!E287","v":0},{"$f":"DATAENTRY!F287","v":0},{"$f":"DATAENTRY!G287","v":0},{"$f":"DATAENTRY!H287","v":0},{"$f":"DATAENTRY!I287","v":0},{"$f":"DATAENTRY!J287","v":0},{"$f":"DATAENTRY!K287","v":0},{"$f":"DATAENTRY!L287","v":0},{"$f":"DATAENTRY!M287","v":0},{"$f":"DATAENTRY!N287","v":0},{"$f":"DATAENTRY!O287","v":0},{"$f":"DATAENTRY!P287","v":0},{"$f":"DATAENTRY!Q287","v":0},{"$f":"DATAENTRY!R287","v":0},{"$f":"DATAENTRY!S287","v":0},{"$f":"DATAENTRY!T287","v":0},{"$f":"DATAENTRY!U287","v":0},{"$f":"DATAENTRY!V287","v":0},{"$f":"DATAENTRY!W287","v":0},{"$f":"DATAENTRY!X287","v":0},{"$f":"DATAENTRY!Y287","v":0},{"$f":"DATAENTRY!Z287","v":0},{"$f":"DATAENTRY!AA287","v":0},{"$f":"DATAENTRY!AB287","v":0},{"$f":"DATAENTRY!AC287","v":0},{"$f":"DATAENTRY!AD287","v":0},{"$f":"DATAENTRY!AE287","v":0},{"$f":"DATAENTRY!AF287","v":0},{"$f":"DATAENTRY!AG287","v":0},{"$f":"DATAENTRY!AH287","v":0},{"$f":"DATAENTRY!AI287","v":0},{"$f":"DATAENTRY!AJ287","v":0},{"$f":"DATAENTRY!AK287","v":0},{"$f":"DATAENTRY!AL287","v":0},{"$f":"DATAENTRY!AM287","v":0},{"$f":"DATAENTRY!AN287","v":0},{"$f":"DATAENTRY!AO287","v":0},{"$f":"DATAENTRY!AP287","v":0},{"$f":"DATAENTRY!AQ287","v":0},{"$f":"DATAENTRY!AR287","v":0},{"$f":"DATAENTRY!AS287","v":0},{"$f":"DATAENTRY!AT287","v":0},{"$f":"DATAENTRY!AU287","v":0},{"$f":"DATAENTRY!AV287","v":0},{"$f":"DATAENTRY!AW287","v":0},{"$f":"DATAENTRY!AX287","v":0},{"$f":"DATAENTRY!AY287","v":0},{"$f":"DATAENTRY!AZ287","v":0},{"$f":"DATAENTRY!BA287","v":0},{"$f":"DATAENTRY!BB287","v":0},{"$f":"DATAENTRY!BC287","v":0},{"$f":"DATAENTRY!BD287","v":0},{"$f":"DATAENTRY!BE287","v":0},{"$f":"DATAENTRY!BF287","v":0},{"$f":"DATAENTRY!BG287","v":0},{"$f":"DATAENTRY!BH287","v":""}]
[{"$f":"DATAENTRY!C288","v":0},{"$f":"DATAENTRY!D288","v":0},{"$f":"DATAENTRY!E288","v":0},{"$f":"DATAENTRY!F288","v":0},{"$f":"DATAENTRY!G288","v":0},{"$f":"DATAENTRY!H288","v":0},{"$f":"DATAENTRY!I288","v":0},{"$f":"DATAENTRY!J288","v":0},{"$f":"DATAENTRY!K288","v":0},{"$f":"DATAENTRY!L288","v":0},{"$f":"DATAENTRY!M288","v":0},{"$f":"DATAENTRY!N288","v":0},{"$f":"DATAENTRY!O288","v":0},{"$f":"DATAENTRY!P288","v":0},{"$f":"DATAENTRY!Q288","v":0},{"$f":"DATAENTRY!R288","v":0},{"$f":"DATAENTRY!S288","v":0},{"$f":"DATAENTRY!T288","v":0},{"$f":"DATAENTRY!U288","v":0},{"$f":"DATAENTRY!V288","v":0},{"$f":"DATAENTRY!W288","v":0},{"$f":"DATAENTRY!X288","v":0},{"$f":"DATAENTRY!Y288","v":0},{"$f":"DATAENTRY!Z288","v":0},{"$f":"DATAENTRY!AA288","v":0},{"$f":"DATAENTRY!AB288","v":0},{"$f":"DATAENTRY!AC288","v":0},{"$f":"DATAENTRY!AD288","v":0},{"$f":"DATAENTRY!AE288","v":0},{"$f":"DATAENTRY!AF288","v":0},{"$f":"DATAENTRY!AG288","v":0},{"$f":"DATAENTRY!AH288","v":0},{"$f":"DATAENTRY!AI288","v":0},{"$f":"DATAENTRY!AJ288","v":0},{"$f":"DATAENTRY!AK288","v":0},{"$f":"DATAENTRY!AL288","v":0},{"$f":"DATAENTRY!AM288","v":0},{"$f":"DATAENTRY!AN288","v":0},{"$f":"DATAENTRY!AO288","v":0},{"$f":"DATAENTRY!AP288","v":0},{"$f":"DATAENTRY!AQ288","v":0},{"$f":"DATAENTRY!AR288","v":0},{"$f":"DATAENTRY!AS288","v":0},{"$f":"DATAENTRY!AT288","v":0},{"$f":"DATAENTRY!AU288","v":0},{"$f":"DATAENTRY!AV288","v":0},{"$f":"DATAENTRY!AW288","v":0},{"$f":"DATAENTRY!AX288","v":0},{"$f":"DATAENTRY!AY288","v":0},{"$f":"DATAENTRY!AZ288","v":0},{"$f":"DATAENTRY!BA288","v":0},{"$f":"DATAENTRY!BB288","v":0},{"$f":"DATAENTRY!BC288","v":0},{"$f":"DATAENTRY!BD288","v":0},{"$f":"DATAENTRY!BE288","v":0},{"$f":"DATAENTRY!BF288","v":0},{"$f":"DATAENTRY!BG288","v":0},{"$f":"DATAENTRY!BH288","v":""}]
[{"$f":"DATAENTRY!C289","v":0},{"$f":"DATAENTRY!D289","v":0},{"$f":"DATAENTRY!E289","v":0},{"$f":"DATAENTRY!F289","v":0},{"$f":"DATAENTRY!G289","v":0},{"$f":"DATAENTRY!H289","v":0},{"$f":"DATAENTRY!I289","v":0},{"$f":"DATAENTRY!J289","v":0},{"$f":"DATAENTRY!K289","v":0},{"$f":"DATAENTRY!L289","v":0},{"$f":"DATAENTRY!M289","v":0},{"$f":"DATAENTRY!N289","v":0},{"$f":"DATAENTRY!O289","v":0},{"$f":"DATAENTRY!P289","v":0},{"$f":"DATAENTRY!Q289","v":0},{"$f":"DATAENTRY!R289","v":0},{"$f":"DATAENTRY!S289","v":0},{"$f":"DATAENTRY!T289","v":0},{"$f":"DATAENTRY!U289","v":0},{"$f":"DATAENTRY!V289","v":0},{"$f":"DATAENTRY!W289","v":0},{"$f":"DATAENTRY!X289","v":0},{"$f":"DATAENTRY!Y289","v":0},{"$f":"DATAENTRY!Z289","v":0},{"$f":"DATAENTRY!AA289","v":0},{"$f":"DATAENTRY!AB289","v":0},{"$f":"DATAENTRY!AC289","v":0},{"$f":"DATAENTRY!AD289","v":0},{"$f":"DATAENTRY!AE289","v":0},{"$f":"DATAENTRY!AF289","v":0},{"$f":"DATAENTRY!AG289","v":0},{"$f":"DATAENTRY!AH289","v":0},{"$f":"DATAENTRY!AI289","v":0},{"$f":"DATAENTRY!AJ289","v":0},{"$f":"DATAENTRY!AK289","v":0},{"$f":"DATAENTRY!AL289","v":0},{"$f":"DATAENTRY!AM289","v":0},{"$f":"DATAENTRY!AN289","v":0},{"$f":"DATAENTRY!AO289","v":0},{"$f":"DATAENTRY!AP289","v":0},{"$f":"DATAENTRY!AQ289","v":0},{"$f":"DATAENTRY!AR289","v":0},{"$f":"DATAENTRY!AS289","v":0},{"$f":"DATAENTRY!AT289","v":0},{"$f":"DATAENTRY!AU289","v":0},{"$f":"DATAENTRY!AV289","v":0},{"$f":"DATAENTRY!AW289","v":0},{"$f":"DATAENTRY!AX289","v":0},{"$f":"DATAENTRY!AY289","v":0},{"$f":"DATAENTRY!AZ289","v":0},{"$f":"DATAENTRY!BA289","v":0},{"$f":"DATAENTRY!BB289","v":0},{"$f":"DATAENTRY!BC289","v":0},{"$f":"DATAENTRY!BD289","v":0},{"$f":"DATAENTRY!BE289","v":0},{"$f":"DATAENTRY!BF289","v":0},{"$f":"DATAENTRY!BG289","v":0},{"$f":"DATAENTRY!BH289","v":""}]
[{"$f":"DATAENTRY!C290","v":0},{"$f":"DATAENTRY!D290","v":0},{"$f":"DATAENTRY!E290","v":0},{"$f":"DATAENTRY!F290","v":0},{"$f":"DATAENTRY!G290","v":0},{"$f":"DATAENTRY!H290","v":0},{"$f":"DATAENTRY!I290","v":0},{"$f":"DATAENTRY!J290","v":0},{"$f":"DATAENTRY!K290","v":0},{"$f":"DATAENTRY!L290","v":0},{"$f":"DATAENTRY!M290","v":0},{"$f":"DATAENTRY!N290","v":0},{"$f":"DATAENTRY!O290","v":0},{"$f":"DATAENTRY!P290","v":0},{"$f":"DATAENTRY!Q290","v":0},{"$f":"DATAENTRY!R290","v":0},{"$f":"DATAENTRY!S290","v":0},{"$f":"DATAENTRY!T290","v":0},{"$f":"DATAENTRY!U290","v":0},{"$f":"DATAENTRY!V290","v":0},{"$f":"DATAENTRY!W290","v":0},{"$f":"DATAENTRY!X290","v":0},{"$f":"DATAENTRY!Y290","v":0},{"$f":"DATAENTRY!Z290","v":0},{"$f":"DATAENTRY!AA290","v":0},{"$f":"DATAENTRY!AB290","v":0},{"$f":"DATAENTRY!AC290","v":0},{"$f":"DATAENTRY!AD290","v":0},{"$f":"DATAENTRY!AE290","v":0},{"$f":"DATAENTRY!AF290","v":0},{"$f":"DATAENTRY!AG290","v":0},{"$f":"DATAENTRY!AH290","v":0},{"$f":"DATAENTRY!AI290","v":0},{"$f":"DATAENTRY!AJ290","v":0},{"$f":"DATAENTRY!AK290","v":0},{"$f":"DATAENTRY!AL290","v":0},{"$f":"DATAENTRY!AM290","v":0},{"$f":"DATAENTRY!AN290","v":0},{"$f":"DATAENTRY!AO290","v":0},{"$f":"DATAENTRY!AP290","v":0},{"$f":"DATAENTRY!AQ290","v":0},{"$f":"DATAENTRY!AR290","v":0},{"$f":"DATAENTRY!AS290","v":0},{"$f":"DATAENTRY!AT290","v":0},{"$f":"DATAENTRY!AU290","v":0},{"$f":"DATAENTRY!AV290","v":0},{"$f":"DATAENTRY!AW290","v":0},{"$f":"DATAENTRY!AX290","v":0},{"$f":"DATAENTRY!AY290","v":0},{"$f":"DATAENTRY!AZ290","v":0},{"$f":"DATAENTRY!BA290","v":0},{"$f":"DATAENTRY!BB290","v":0},{"$f":"DATAENTRY!BC290","v":0},{"$f":"DATAENTRY!BD290","v":0},{"$f":"DATAENTRY!BE290","v":0},{"$f":"DATAENTRY!BF290","v":0},{"$f":"DATAENTRY!BG290","v":0},{"$f":"DATAENTRY!BH290","v":""}]
[{"$f":"DATAENTRY!C291","v":0},{"$f":"DATAENTRY!D291","v":0},{"$f":"DATAENTRY!E291","v":0},{"$f":"DATAENTRY!F291","v":0},{"$f":"DATAENTRY!G291","v":0},{"$f":"DATAENTRY!H291","v":0},{"$f":"DATAENTRY!I291","v":0},{"$f":"DATAENTRY!J291","v":0},{"$f":"DATAENTRY!K291","v":0},{"$f":"DATAENTRY!L291","v":0},{"$f":"DATAENTRY!M291","v":0},{"$f":"DATAENTRY!N291","v":0},{"$f":"DATAENTRY!O291","v":0},{"$f":"DATAENTRY!P291","v":0},{"$f":"DATAENTRY!Q291","v":0},{"$f":"DATAENTRY!R291","v":0},{"$f":"DATAENTRY!S291","v":0},{"$f":"DATAENTRY!T291","v":0},{"$f":"DATAENTRY!U291","v":0},{"$f":"DATAENTRY!V291","v":0},{"$f":"DATAENTRY!W291","v":0},{"$f":"DATAENTRY!X291","v":0},{"$f":"DATAENTRY!Y291","v":0},{"$f":"DATAENTRY!Z291","v":0},{"$f":"DATAENTRY!AA291","v":0},{"$f":"DATAENTRY!AB291","v":0},{"$f":"DATAENTRY!AC291","v":0},{"$f":"DATAENTRY!AD291","v":0},{"$f":"DATAENTRY!AE291","v":0},{"$f":"DATAENTRY!AF291","v":0},{"$f":"DATAENTRY!AG291","v":0},{"$f":"DATAENTRY!AH291","v":0},{"$f":"DATAENTRY!AI291","v":0},{"$f":"DATAENTRY!AJ291","v":0},{"$f":"DATAENTRY!AK291","v":0},{"$f":"DATAENTRY!AL291","v":0},{"$f":"DATAENTRY!AM291","v":0},{"$f":"DATAENTRY!AN291","v":0},{"$f":"DATAENTRY!AO291","v":0},{"$f":"DATAENTRY!AP291","v":0},{"$f":"DATAENTRY!AQ291","v":0},{"$f":"DATAENTRY!AR291","v":0},{"$f":"DATAENTRY!AS291","v":0},{"$f":"DATAENTRY!AT291","v":0},{"$f":"DATAENTRY!AU291","v":0},{"$f":"DATAENTRY!AV291","v":0},{"$f":"DATAENTRY!AW291","v":0},{"$f":"DATAENTRY!AX291","v":0},{"$f":"DATAENTRY!AY291","v":0},{"$f":"DATAENTRY!AZ291","v":0},{"$f":"DATAENTRY!BA291","v":0},{"$f":"DATAENTRY!BB291","v":0},{"$f":"DATAENTRY!BC291","v":0},{"$f":"DATAENTRY!BD291","v":0},{"$f":"DATAENTRY!BE291","v":0},{"$f":"DATAENTRY!BF291","v":0},{"$f":"DATAENTRY!BG291","v":0},{"$f":"DATAENTRY!BH291","v":""}]
[{"$f":"DATAENTRY!C292","v":0},{"$f":"DATAENTRY!D292","v":0},{"$f":"DATAENTRY!E292","v":0},{"$f":"DATAENTRY!F292","v":0},{"$f":"DATAENTRY!G292","v":0},{"$f":"DATAENTRY!H292","v":0},{"$f":"DATAENTRY!I292","v":0},{"$f":"DATAENTRY!J292","v":0},{"$f":"DATAENTRY!K292","v":0},{"$f":"DATAENTRY!L292","v":0},{"$f":"DATAENTRY!M292","v":0},{"$f":"DATAENTRY!N292","v":0},{"$f":"DATAENTRY!O292","v":0},{"$f":"DATAENTRY!P292","v":0},{"$f":"DATAENTRY!Q292","v":0},{"$f":"DATAENTRY!R292","v":0},{"$f":"DATAENTRY!S292","v":0},{"$f":"DATAENTRY!T292","v":0},{"$f":"DATAENTRY!U292","v":0},{"$f":"DATAENTRY!V292","v":0},{"$f":"DATAENTRY!W292","v":0},{"$f":"DATAENTRY!X292","v":0},{"$f":"DATAENTRY!Y292","v":0},{"$f":"DATAENTRY!Z292","v":0},{"$f":"DATAENTRY!AA292","v":0},{"$f":"DATAENTRY!AB292","v":0},{"$f":"DATAENTRY!AC292","v":0},{"$f":"DATAENTRY!AD292","v":0},{"$f":"DATAENTRY!AE292","v":0},{"$f":"DATAENTRY!AF292","v":0},{"$f":"DATAENTRY!AG292","v":0},{"$f":"DATAENTRY!AH292","v":0},{"$f":"DATAENTRY!AI292","v":0},{"$f":"DATAENTRY!AJ292","v":0},{"$f":"DATAENTRY!AK292","v":0},{"$f":"DATAENTRY!AL292","v":0},{"$f":"DATAENTRY!AM292","v":0},{"$f":"DATAENTRY!AN292","v":0},{"$f":"DATAENTRY!AO292","v":0},{"$f":"DATAENTRY!AP292","v":0},{"$f":"DATAENTRY!AQ292","v":0},{"$f":"DATAENTRY!AR292","v":0},{"$f":"DATAENTRY!AS292","v":0},{"$f":"DATAENTRY!AT292","v":0},{"$f":"DATAENTRY!AU292","v":0},{"$f":"DATAENTRY!AV292","v":0},{"$f":"DATAENTRY!AW292","v":0},{"$f":"DATAENTRY!AX292","v":0},{"$f":"DATAENTRY!AY292","v":0},{"$f":"DATAENTRY!AZ292","v":0},{"$f":"DATAENTRY!BA292","v":0},{"$f":"DATAENTRY!BB292","v":0},{"$f":"DATAENTRY!BC292","v":0},{"$f":"DATAENTRY!BD292","v":0},{"$f":"DATAENTRY!BE292","v":0},{"$f":"DATAENTRY!BF292","v":0},{"$f":"DATAENTRY!BG292","v":0},{"$f":"DATAENTRY!BH292","v":""}]
[{"$f":"DATAENTRY!C293","v":0},{"$f":"DATAENTRY!D293","v":0},{"$f":"DATAENTRY!E293","v":0},{"$f":"DATAENTRY!F293","v":0},{"$f":"DATAENTRY!G293","v":0},{"$f":"DATAENTRY!H293","v":0},{"$f":"DATAENTRY!I293","v":0},{"$f":"DATAENTRY!J293","v":0},{"$f":"DATAENTRY!K293","v":0},{"$f":"DATAENTRY!L293","v":0},{"$f":"DATAENTRY!M293","v":0},{"$f":"DATAENTRY!N293","v":0},{"$f":"DATAENTRY!O293","v":0},{"$f":"DATAENTRY!P293","v":0},{"$f":"DATAENTRY!Q293","v":0},{"$f":"DATAENTRY!R293","v":0},{"$f":"DATAENTRY!S293","v":0},{"$f":"DATAENTRY!T293","v":0},{"$f":"DATAENTRY!U293","v":0},{"$f":"DATAENTRY!V293","v":0},{"$f":"DATAENTRY!W293","v":0},{"$f":"DATAENTRY!X293","v":0},{"$f":"DATAENTRY!Y293","v":0},{"$f":"DATAENTRY!Z293","v":0},{"$f":"DATAENTRY!AA293","v":0},{"$f":"DATAENTRY!AB293","v":0},{"$f":"DATAENTRY!AC293","v":0},{"$f":"DATAENTRY!AD293","v":0},{"$f":"DATAENTRY!AE293","v":0},{"$f":"DATAENTRY!AF293","v":0},{"$f":"DATAENTRY!AG293","v":0},{"$f":"DATAENTRY!AH293","v":0},{"$f":"DATAENTRY!AI293","v":0},{"$f":"DATAENTRY!AJ293","v":0},{"$f":"DATAENTRY!AK293","v":0},{"$f":"DATAENTRY!AL293","v":0},{"$f":"DATAENTRY!AM293","v":0},{"$f":"DATAENTRY!AN293","v":0},{"$f":"DATAENTRY!AO293","v":0},{"$f":"DATAENTRY!AP293","v":0},{"$f":"DATAENTRY!AQ293","v":0},{"$f":"DATAENTRY!AR293","v":0},{"$f":"DATAENTRY!AS293","v":0},{"$f":"DATAENTRY!AT293","v":0},{"$f":"DATAENTRY!AU293","v":0},{"$f":"DATAENTRY!AV293","v":0},{"$f":"DATAENTRY!AW293","v":0},{"$f":"DATAENTRY!AX293","v":0},{"$f":"DATAENTRY!AY293","v":0},{"$f":"DATAENTRY!AZ293","v":0},{"$f":"DATAENTRY!BA293","v":0},{"$f":"DATAENTRY!BB293","v":0},{"$f":"DATAENTRY!BC293","v":0},{"$f":"DATAENTRY!BD293","v":0},{"$f":"DATAENTRY!BE293","v":0},{"$f":"DATAENTRY!BF293","v":0},{"$f":"DATAENTRY!BG293","v":0},{"$f":"DATAENTRY!BH293","v":""}]
[{"$f":"DATAENTRY!C294","v":0},{"$f":"DATAENTRY!D294","v":0},{"$f":"DATAENTRY!E294","v":0},{"$f":"DATAENTRY!F294","v":0},{"$f":"DATAENTRY!G294","v":0},{"$f":"DATAENTRY!H294","v":0},{"$f":"DATAENTRY!I294","v":0},{"$f":"DATAENTRY!J294","v":0},{"$f":"DATAENTRY!K294","v":0},{"$f":"DATAENTRY!L294","v":0},{"$f":"DATAENTRY!M294","v":0},{"$f":"DATAENTRY!N294","v":0},{"$f":"DATAENTRY!O294","v":0},{"$f":"DATAENTRY!P294","v":0},{"$f":"DATAENTRY!Q294","v":0},{"$f":"DATAENTRY!R294","v":0},{"$f":"DATAENTRY!S294","v":0},{"$f":"DATAENTRY!T294","v":0},{"$f":"DATAENTRY!U294","v":0},{"$f":"DATAENTRY!V294","v":0},{"$f":"DATAENTRY!W294","v":0},{"$f":"DATAENTRY!X294","v":0},{"$f":"DATAENTRY!Y294","v":0},{"$f":"DATAENTRY!Z294","v":0},{"$f":"DATAENTRY!AA294","v":0},{"$f":"DATAENTRY!AB294","v":0},{"$f":"DATAENTRY!AC294","v":0},{"$f":"DATAENTRY!AD294","v":0},{"$f":"DATAENTRY!AE294","v":0},{"$f":"DATAENTRY!AF294","v":0},{"$f":"DATAENTRY!AG294","v":0},{"$f":"DATAENTRY!AH294","v":0},{"$f":"DATAENTRY!AI294","v":0},{"$f":"DATAENTRY!AJ294","v":0},{"$f":"DATAENTRY!AK294","v":0},{"$f":"DATAENTRY!AL294","v":0},{"$f":"DATAENTRY!AM294","v":0},{"$f":"DATAENTRY!AN294","v":0},{"$f":"DATAENTRY!AO294","v":0},{"$f":"DATAENTRY!AP294","v":0},{"$f":"DATAENTRY!AQ294","v":0},{"$f":"DATAENTRY!AR294","v":0},{"$f":"DATAENTRY!AS294","v":0},{"$f":"DATAENTRY!AT294","v":0},{"$f":"DATAENTRY!AU294","v":0},{"$f":"DATAENTRY!AV294","v":0},{"$f":"DATAENTRY!AW294","v":0},{"$f":"DATAENTRY!AX294","v":0},{"$f":"DATAENTRY!AY294","v":0},{"$f":"DATAENTRY!AZ294","v":0},{"$f":"DATAENTRY!BA294","v":0},{"$f":"DATAENTRY!BB294","v":0},{"$f":"DATAENTRY!BC294","v":0},{"$f":"DATAENTRY!BD294","v":0},{"$f":"DATAENTRY!BE294","v":0},{"$f":"DATAENTRY!BF294","v":0},{"$f":"DATAENTRY!BG294","v":0},{"$f":"DATAENTRY!BH294","v":""}]
[{"$f":"DATAENTRY!C295","v":0},{"$f":"DATAENTRY!D295","v":0},{"$f":"DATAENTRY!E295","v":0},{"$f":"DATAENTRY!F295","v":0},{"$f":"DATAENTRY!G295","v":0},{"$f":"DATAENTRY!H295","v":0},{"$f":"DATAENTRY!I295","v":0},{"$f":"DATAENTRY!J295","v":0},{"$f":"DATAENTRY!K295","v":0},{"$f":"DATAENTRY!L295","v":0},{"$f":"DATAENTRY!M295","v":0},{"$f":"DATAENTRY!N295","v":0},{"$f":"DATAENTRY!O295","v":0},{"$f":"DATAENTRY!P295","v":0},{"$f":"DATAENTRY!Q295","v":0},{"$f":"DATAENTRY!R295","v":0},{"$f":"DATAENTRY!S295","v":0},{"$f":"DATAENTRY!T295","v":0},{"$f":"DATAENTRY!U295","v":0},{"$f":"DATAENTRY!V295","v":0},{"$f":"DATAENTRY!W295","v":0},{"$f":"DATAENTRY!X295","v":0},{"$f":"DATAENTRY!Y295","v":0},{"$f":"DATAENTRY!Z295","v":0},{"$f":"DATAENTRY!AA295","v":0},{"$f":"DATAENTRY!AB295","v":0},{"$f":"DATAENTRY!AC295","v":0},{"$f":"DATAENTRY!AD295","v":0},{"$f":"DATAENTRY!AE295","v":0},{"$f":"DATAENTRY!AF295","v":0},{"$f":"DATAENTRY!AG295","v":0},{"$f":"DATAENTRY!AH295","v":0},{"$f":"DATAENTRY!AI295","v":0},{"$f":"DATAENTRY!AJ295","v":0},{"$f":"DATAENTRY!AK295","v":0},{"$f":"DATAENTRY!AL295","v":0},{"$f":"DATAENTRY!AM295","v":0},{"$f":"DATAENTRY!AN295","v":0},{"$f":"DATAENTRY!AO295","v":0},{"$f":"DATAENTRY!AP295","v":0},{"$f":"DATAENTRY!AQ295","v":0},{"$f":"DATAENTRY!AR295","v":0},{"$f":"DATAENTRY!AS295","v":0},{"$f":"DATAENTRY!AT295","v":0},{"$f":"DATAENTRY!AU295","v":0},{"$f":"DATAENTRY!AV295","v":0},{"$f":"DATAENTRY!AW295","v":0},{"$f":"DATAENTRY!AX295","v":0},{"$f":"DATAENTRY!AY295","v":0},{"$f":"DATAENTRY!AZ295","v":0},{"$f":"DATAENTRY!BA295","v":0},{"$f":"DATAENTRY!BB295","v":0},{"$f":"DATAENTRY!BC295","v":0},{"$f":"DATAENTRY!BD295","v":0},{"$f":"DATAENTRY!BE295","v":0},{"$f":"DATAENTRY!BF295","v":0},{"$f":"DATAENTRY!BG295","v":0},{"$f":"DATAENTRY!BH295","v":""}]
[{"$f":"DATAENTRY!C296","v":0},{"$f":"DATAENTRY!D296","v":0},{"$f":"DATAENTRY!E296","v":0},{"$f":"DATAENTRY!F296","v":0},{"$f":"DATAENTRY!G296","v":0},{"$f":"DATAENTRY!H296","v":0},{"$f":"DATAENTRY!I296","v":0},{"$f":"DATAENTRY!J296","v":0},{"$f":"DATAENTRY!K296","v":0},{"$f":"DATAENTRY!L296","v":0},{"$f":"DATAENTRY!M296","v":0},{"$f":"DATAENTRY!N296","v":0},{"$f":"DATAENTRY!O296","v":0},{"$f":"DATAENTRY!P296","v":0},{"$f":"DATAENTRY!Q296","v":0},{"$f":"DATAENTRY!R296","v":0},{"$f":"DATAENTRY!S296","v":0},{"$f":"DATAENTRY!T296","v":0},{"$f":"DATAENTRY!U296","v":0},{"$f":"DATAENTRY!V296","v":0},{"$f":"DATAENTRY!W296","v":0},{"$f":"DATAENTRY!X296","v":0},{"$f":"DATAENTRY!Y296","v":0},{"$f":"DATAENTRY!Z296","v":0},{"$f":"DATAENTRY!AA296","v":0},{"$f":"DATAENTRY!AB296","v":0},{"$f":"DATAENTRY!AC296","v":0},{"$f":"DATAENTRY!AD296","v":0},{"$f":"DATAENTRY!AE296","v":0},{"$f":"DATAENTRY!AF296","v":0},{"$f":"DATAENTRY!AG296","v":0},{"$f":"DATAENTRY!AH296","v":0},{"$f":"DATAENTRY!AI296","v":0},{"$f":"DATAENTRY!AJ296","v":0},{"$f":"DATAENTRY!AK296","v":0},{"$f":"DATAENTRY!AL296","v":0},{"$f":"DATAENTRY!AM296","v":0},{"$f":"DATAENTRY!AN296","v":0},{"$f":"DATAENTRY!AO296","v":0},{"$f":"DATAENTRY!AP296","v":0},{"$f":"DATAENTRY!AQ296","v":0},{"$f":"DATAENTRY!AR296","v":0},{"$f":"DATAENTRY!AS296","v":0},{"$f":"DATAENTRY!AT296","v":0},{"$f":"DATAENTRY!AU296","v":0},{"$f":"DATAENTRY!AV296","v":0},{"$f":"DATAENTRY!AW296","v":0},{"$f":"DATAENTRY!AX296","v":0},{"$f":"DATAENTRY!AY296","v":0},{"$f":"DATAENTRY!AZ296","v":0},{"$f":"DATAENTRY!BA296","v":0},{"$f":"DATAENTRY!BB296","v":0},{"$f":"DATAENTRY!BC296","v":0},{"$f":"DATAENTRY!BD296","v":0},{"$f":"DATAENTRY!BE296","v":0},{"$f":"DATAENTRY!BF296","v":0},{"$f":"DATAENTRY!BG296","v":0},{"$f":"DATAENTRY!BH296","v":""}]
[{"$f":"DATAENTRY!C297","v":0},{"$f":"DATAENTRY!D297","v":0},{"$f":"DATAENTRY!E297","v":0},{"$f":"DATAENTRY!F297","v":0},{"$f":"DATAENTRY!G297","v":0},{"$f":"DATAENTRY!H297","v":0},{"$f":"DATAENTRY!I297","v":0},{"$f":"DATAENTRY!J297","v":0},{"$f":"DATAENTRY!K297","v":0},{"$f":"DATAENTRY!L297","v":0},{"$f":"DATAENTRY!M297","v":0},{"$f":"DATAENTRY!N297","v":0},{"$f":"DATAENTRY!O297","v":0},{"$f":"DATAENTRY!P297","v":0},{"$f":"DATAENTRY!Q297","v":0},{"$f":"DATAENTRY!R297","v":0},{"$f":"DATAENTRY!S297","v":0},{"$f":"DATAENTRY!T297","v":0},{"$f":"DATAENTRY!U297","v":0},{"$f":"DATAENTRY!V297","v":0},{"$f":"DATAENTRY!W297","v":0},{"$f":"DATAENTRY!X297","v":0},{"$f":"DATAENTRY!Y297","v":0},{"$f":"DATAENTRY!Z297","v":0},{"$f":"DATAENTRY!AA297","v":0},{"$f":"DATAENTRY!AB297","v":0},{"$f":"DATAENTRY!AC297","v":0},{"$f":"DATAENTRY!AD297","v":0},{"$f":"DATAENTRY!AE297","v":0},{"$f":"DATAENTRY!AF297","v":0},{"$f":"DATAENTRY!AG297","v":0},{"$f":"DATAENTRY!AH297","v":0},{"$f":"DATAENTRY!AI297","v":0},{"$f":"DATAENTRY!AJ297","v":0},{"$f":"DATAENTRY!AK297","v":0},{"$f":"DATAENTRY!AL297","v":0},{"$f":"DATAENTRY!AM297","v":0},{"$f":"DATAENTRY!AN297","v":0},{"$f":"DATAENTRY!AO297","v":0},{"$f":"DATAENTRY!AP297","v":0},{"$f":"DATAENTRY!AQ297","v":0},{"$f":"DATAENTRY!AR297","v":0},{"$f":"DATAENTRY!AS297","v":0},{"$f":"DATAENTRY!AT297","v":0},{"$f":"DATAENTRY!AU297","v":0},{"$f":"DATAENTRY!AV297","v":0},{"$f":"DATAENTRY!AW297","v":0},{"$f":"DATAENTRY!AX297","v":0},{"$f":"DATAENTRY!AY297","v":0},{"$f":"DATAENTRY!AZ297","v":0},{"$f":"DATAENTRY!BA297","v":0},{"$f":"DATAENTRY!BB297","v":0},{"$f":"DATAENTRY!BC297","v":0},{"$f":"DATAENTRY!BD297","v":0},{"$f":"DATAENTRY!BE297","v":0},{"$f":"DATAENTRY!BF297","v":0},{"$f":"DATAENTRY!BG297","v":0},{"$f":"DATAENTRY!BH297","v":""}]
[{"$f":"DATAENTRY!C298","v":0},{"$f":"DATAENTRY!D298","v":0},{"$f":"DATAENTRY!E298","v":0},{"$f":"DATAENTRY!F298","v":0},{"$f":"DATAENTRY!G298","v":0},{"$f":"DATAENTRY!H298","v":0},{"$f":"DATAENTRY!I298","v":0},{"$f":"DATAENTRY!J298","v":0},{"$f":"DATAENTRY!K298","v":0},{"$f":"DATAENTRY!L298","v":0},{"$f":"DATAENTRY!M298","v":0},{"$f":"DATAENTRY!N298","v":0},{"$f":"DATAENTRY!O298","v":0},{"$f":"DATAENTRY!P298","v":0},{"$f":"DATAENTRY!Q298","v":0},{"$f":"DATAENTRY!R298","v":0},{"$f":"DATAENTRY!S298","v":0},{"$f":"DATAENTRY!T298","v":0},{"$f":"DATAENTRY!U298","v":0},{"$f":"DATAENTRY!V298","v":0},{"$f":"DATAENTRY!W298","v":0},{"$f":"DATAENTRY!X298","v":0},{"$f":"DATAENTRY!Y298","v":0},{"$f":"DATAENTRY!Z298","v":0},{"$f":"DATAENTRY!AA298","v":0},{"$f":"DATAENTRY!AB298","v":0},{"$f":"DATAENTRY!AC298","v":0},{"$f":"DATAENTRY!AD298","v":0},{"$f":"DATAENTRY!AE298","v":0},{"$f":"DATAENTRY!AF298","v":0},{"$f":"DATAENTRY!AG298","v":0},{"$f":"DATAENTRY!AH298","v":0},{"$f":"DATAENTRY!AI298","v":0},{"$f":"DATAENTRY!AJ298","v":0},{"$f":"DATAENTRY!AK298","v":0},{"$f":"DATAENTRY!AL298","v":0},{"$f":"DATAENTRY!AM298","v":0},{"$f":"DATAENTRY!AN298","v":0},{"$f":"DATAENTRY!AO298","v":0},{"$f":"DATAENTRY!AP298","v":0},{"$f":"DATAENTRY!AQ298","v":0},{"$f":"DATAENTRY!AR298","v":0},{"$f":"DATAENTRY!AS298","v":0},{"$f":"DATAENTRY!AT298","v":0},{"$f":"DATAENTRY!AU298","v":0},{"$f":"DATAENTRY!AV298","v":0},{"$f":"DATAENTRY!AW298","v":0},{"$f":"DATAENTRY!AX298","v":0},{"$f":"DATAENTRY!AY298","v":0},{"$f":"DATAENTRY!AZ298","v":0},{"$f":"DATAENTRY!BA298","v":0},{"$f":"DATAENTRY!BB298","v":0},{"$f":"DATAENTRY!BC298","v":0},{"$f":"DATAENTRY!BD298","v":0},{"$f":"DATAENTRY!BE298","v":0},{"$f":"DATAENTRY!BF298","v":0},{"$f":"DATAENTRY!BG298","v":0},{"$f":"DATAENTRY!BH298","v":""}]
[{"$f":"DATAENTRY!C299","v":0},{"$f":"DATAENTRY!D299","v":0},{"$f":"DATAENTRY!E299","v":0},{"$f":"DATAENTRY!F299","v":0},{"$f":"DATAENTRY!G299","v":0},{"$f":"DATAENTRY!H299","v":0},{"$f":"DATAENTRY!I299","v":0},{"$f":"DATAENTRY!J299","v":0},{"$f":"DATAENTRY!K299","v":0},{"$f":"DATAENTRY!L299","v":0},{"$f":"DATAENTRY!M299","v":0},{"$f":"DATAENTRY!N299","v":0},{"$f":"DATAENTRY!O299","v":0},{"$f":"DATAENTRY!P299","v":0},{"$f":"DATAENTRY!Q299","v":0},{"$f":"DATAENTRY!R299","v":0},{"$f":"DATAENTRY!S299","v":0},{"$f":"DATAENTRY!T299","v":0},{"$f":"DATAENTRY!U299","v":0},{"$f":"DATAENTRY!V299","v":0},{"$f":"DATAENTRY!W299","v":0},{"$f":"DATAENTRY!X299","v":0},{"$f":"DATAENTRY!Y299","v":0},{"$f":"DATAENTRY!Z299","v":0},{"$f":"DATAENTRY!AA299","v":0},{"$f":"DATAENTRY!AB299","v":0},{"$f":"DATAENTRY!AC299","v":0},{"$f":"DATAENTRY!AD299","v":0},{"$f":"DATAENTRY!AE299","v":0},{"$f":"DATAENTRY!AF299","v":0},{"$f":"DATAENTRY!AG299","v":0},{"$f":"DATAENTRY!AH299","v":0},{"$f":"DATAENTRY!AI299","v":0},{"$f":"DATAENTRY!AJ299","v":0},{"$f":"DATAENTRY!AK299","v":0},{"$f":"DATAENTRY!AL299","v":0},{"$f":"DATAENTRY!AM299","v":0},{"$f":"DATAENTRY!AN299","v":0},{"$f":"DATAENTRY!AO299","v":0},{"$f":"DATAENTRY!AP299","v":0},{"$f":"DATAENTRY!AQ299","v":0},{"$f":"DATAENTRY!AR299","v":0},{"$f":"DATAENTRY!AS299","v":0},{"$f":"DATAENTRY!AT299","v":0},{"$f":"DATAENTRY!AU299","v":0},{"$f":"DATAENTRY!AV299","v":0},{"$f":"DATAENTRY!AW299","v":0},{"$f":"DATAENTRY!AX299","v":0},{"$f":"DATAENTRY!AY299","v":0},{"$f":"DATAENTRY!AZ299","v":0},{"$f":"DATAENTRY!BA299","v":0},{"$f":"DATAENTRY!BB299","v":0},{"$f":"DATAENTRY!BC299","v":0},{"$f":"DATAENTRY!BD299","v":0},{"$f":"DATAENTRY!BE299","v":0},{"$f":"DATAENTRY!BF299","v":0},{"$f":"DATAENTRY!BG299","v":0},{"$f":"DATAENTRY!BH299","v":""}]
[{"$f":"DATAENTRY!C300","v":0},{"$f":"DATAENTRY!D300","v":0},{"$f":"DATAENTRY!E300","v":0},{"$f":"DATAENTRY!F300","v":0},{"$f":"DATAENTRY!G300","v":0},{"$f":"DATAENTRY!H300","v":0},{"$f":"DATAENTRY!I300","v":0},{"$f":"DATAENTRY!J300","v":0},{"$f":"DATAENTRY!K300","v":0},{"$f":"DATAENTRY!L300","v":0},{"$f":"DATAENTRY!M300","v":0},{"$f":"DATAENTRY!N300","v":0},{"$f":"DATAENTRY!O300","v":0},{"$f":"DATAENTRY!P300","v":0},{"$f":"DATAENTRY!Q300","v":0},{"$f":"DATAENTRY!R300","v":0},{"$f":"DATAENTRY!S300","v":0},{"$f":"DATAENTRY!T300","v":0},{"$f":"DATAENTRY!U300","v":0},{"$f":"DATAENTRY!V300","v":0},{"$f":"DATAENTRY!W300","v":0},{"$f":"DATAENTRY!X300","v":0},{"$f":"DATAENTRY!Y300","v":0},{"$f":"DATAENTRY!Z300","v":0},{"$f":"DATAENTRY!AA300","v":0},{"$f":"DATAENTRY!AB300","v":0},{"$f":"DATAENTRY!AC300","v":0},{"$f":"DATAENTRY!AD300","v":0},{"$f":"DATAENTRY!AE300","v":0},{"$f":"DATAENTRY!AF300","v":0},{"$f":"DATAENTRY!AG300","v":0},{"$f":"DATAENTRY!AH300","v":0},{"$f":"DATAENTRY!AI300","v":0},{"$f":"DATAENTRY!AJ300","v":0},{"$f":"DATAENTRY!AK300","v":0},{"$f":"DATAENTRY!AL300","v":0},{"$f":"DATAENTRY!AM300","v":0},{"$f":"DATAENTRY!AN300","v":0},{"$f":"DATAENTRY!AO300","v":0},{"$f":"DATAENTRY!AP300","v":0},{"$f":"DATAENTRY!AQ300","v":0},{"$f":"DATAENTRY!AR300","v":0},{"$f":"DATAENTRY!AS300","v":0},{"$f":"DATAENTRY!AT300","v":0},{"$f":"DATAENTRY!AU300","v":0},{"$f":"DATAENTRY!AV300","v":0},{"$f":"DATAENTRY!AW300","v":0},{"$f":"DATAENTRY!AX300","v":0},{"$f":"DATAENTRY!AY300","v":0},{"$f":"DATAENTRY!AZ300","v":0},{"$f":"DATAENTRY!BA300","v":0},{"$f":"DATAENTRY!BB300","v":0},{"$f":"DATAENTRY!BC300","v":0},{"$f":"DATAENTRY!BD300","v":0},{"$f":"DATAENTRY!BE300","v":0},{"$f":"DATAENTRY!BF300","v":0},{"$f":"DATAENTRY!BG300","v":0},{"$f":"DATAENTRY!BH300","v":""}]
[{"$f":"DATAENTRY!C301","v":0},{"$f":"DATAENTRY!D301","v":0},{"$f":"DATAENTRY!E301","v":0},{"$f":"DATAENTRY!F301","v":0},{"$f":"DATAENTRY!G301","v":0},{"$f":"DATAENTRY!H301","v":0},{"$f":"DATAENTRY!I301","v":0},{"$f":"DATAENTRY!J301","v":0},{"$f":"DATAENTRY!K301","v":0},{"$f":"DATAENTRY!L301","v":0},{"$f":"DATAENTRY!M301","v":0},{"$f":"DATAENTRY!N301","v":0},{"$f":"DATAENTRY!O301","v":0},{"$f":"DATAENTRY!P301","v":0},{"$f":"DATAENTRY!Q301","v":0},{"$f":"DATAENTRY!R301","v":0},{"$f":"DATAENTRY!S301","v":0},{"$f":"DATAENTRY!T301","v":0},{"$f":"DATAENTRY!U301","v":0},{"$f":"DATAENTRY!V301","v":0},{"$f":"DATAENTRY!W301","v":0},{"$f":"DATAENTRY!X301","v":0},{"$f":"DATAENTRY!Y301","v":0},{"$f":"DATAENTRY!Z301","v":0},{"$f":"DATAENTRY!AA301","v":0},{"$f":"DATAENTRY!AB301","v":0},{"$f":"DATAENTRY!AC301","v":0},{"$f":"DATAENTRY!AD301","v":0},{"$f":"DATAENTRY!AE301","v":0},{"$f":"DATAENTRY!AF301","v":0},{"$f":"DATAENTRY!AG301","v":0},{"$f":"DATAENTRY!AH301","v":0},{"$f":"DATAENTRY!AI301","v":0},{"$f":"DATAENTRY!AJ301","v":0},{"$f":"DATAENTRY!AK301","v":0},{"$f":"DATAENTRY!AL301","v":0},{"$f":"DATAENTRY!AM301","v":0},{"$f":"DATAENTRY!AN301","v":0},{"$f":"DATAENTRY!AO301","v":0},{"$f":"DATAENTRY!AP301","v":0},{"$f":"DATAENTRY!AQ301","v":0},{"$f":"DATAENTRY!AR301","v":0},{"$f":"DATAENTRY!AS301","v":0},{"$f":"DATAENTRY!AT301","v":0},{"$f":"DATAENTRY!AU301","v":0},{"$f":"DATAENTRY!AV301","v":0},{"$f":"DATAENTRY!AW301","v":0},{"$f":"DATAENTRY!AX301","v":0},{"$f":"DATAENTRY!AY301","v":0},{"$f":"DATAENTRY!AZ301","v":0},{"$f":"DATAENTRY!BA301","v":0},{"$f":"DATAENTRY!BB301","v":0},{"$f":"DATAENTRY!BC301","v":0},{"$f":"DATAENTRY!BD301","v":0},{"$f":"DATAENTRY!BE301","v":0},{"$f":"DATAENTRY!BF301","v":0},{"$f":"DATAENTRY!BG301","v":0},{"$f":"DATAENTRY!BH301","v":""}]
[{"$f":"DATAENTRY!C302","v":0},{"$f":"DATAENTRY!D302","v":0},{"$f":"DATAENTRY!E302","v":0},{"$f":"DATAENTRY!F302","v":0},{"$f":"DATAENTRY!G302","v":0},{"$f":"DATAENTRY!H302","v":0},{"$f":"DATAENTRY!I302","v":0},{"$f":"DATAENTRY!J302","v":0},{"$f":"DATAENTRY!K302","v":0},{"$f":"DATAENTRY!L302","v":0},{"$f":"DATAENTRY!M302","v":0},{"$f":"DATAENTRY!N302","v":0},{"$f":"DATAENTRY!O302","v":0},{"$f":"DATAENTRY!P302","v":0},{"$f":"DATAENTRY!Q302","v":0},{"$f":"DATAENTRY!R302","v":0},{"$f":"DATAENTRY!S302","v":0},{"$f":"DATAENTRY!T302","v":0},{"$f":"DATAENTRY!U302","v":0},{"$f":"DATAENTRY!V302","v":0},{"$f":"DATAENTRY!W302","v":0},{"$f":"DATAENTRY!X302","v":0},{"$f":"DATAENTRY!Y302","v":0},{"$f":"DATAENTRY!Z302","v":0},{"$f":"DATAENTRY!AA302","v":0},{"$f":"DATAENTRY!AB302","v":0},{"$f":"DATAENTRY!AC302","v":0},{"$f":"DATAENTRY!AD302","v":0},{"$f":"DATAENTRY!AE302","v":0},{"$f":"DATAENTRY!AF302","v":0},{"$f":"DATAENTRY!AG302","v":0},{"$f":"DATAENTRY!AH302","v":0},{"$f":"DATAENTRY!AI302","v":0},{"$f":"DATAENTRY!AJ302","v":0},{"$f":"DATAENTRY!AK302","v":0},{"$f":"DATAENTRY!AL302","v":0},{"$f":"DATAENTRY!AM302","v":0},{"$f":"DATAENTRY!AN302","v":0},{"$f":"DATAENTRY!AO302","v":0},{"$f":"DATAENTRY!AP302","v":0},{"$f":"DATAENTRY!AQ302","v":0},{"$f":"DATAENTRY!AR302","v":0},{"$f":"DATAENTRY!AS302","v":0},{"$f":"DATAENTRY!AT302","v":0},{"$f":"DATAENTRY!AU302","v":0},{"$f":"DATAENTRY!AV302","v":0},{"$f":"DATAENTRY!AW302","v":0},{"$f":"DATAENTRY!AX302","v":0},{"$f":"DATAENTRY!AY302","v":0},{"$f":"DATAENTRY!AZ302","v":0},{"$f":"DATAENTRY!BA302","v":0},{"$f":"DATAENTRY!BB302","v":0},{"$f":"DATAENTRY!BC302","v":0},{"$f":"DATAENTRY!BD302","v":0},{"$f":"DATAENTRY!BE302","v":0},{"$f":"DATAENTRY!BF302","v":0},{"$f":"DATAENTRY!BG302","v":0},{"$f":"DATAENTRY!BH302","v":""}]
[{"$f":"DATAENTRY!C303","v":0},{"$f":"DATAENTRY!D303","v":0},{"$f":"DATAENTRY!E303","v":0},{"$f":"DATAENTRY!F303","v":0},{"$f":"DATAENTRY!G303","v":0},{"$f":"DATAENTRY!H303","v":0},{"$f":"DATAENTRY!I303","v":0},{"$f":"DATAENTRY!J303","v":0},{"$f":"DATAENTRY!K303","v":0},{"$f":"DATAENTRY!L303","v":0},{"$f":"DATAENTRY!M303","v":0},{"$f":"DATAENTRY!N303","v":0},{"$f":"DATAENTRY!O303","v":0},{"$f":"DATAENTRY!P303","v":0},{"$f":"DATAENTRY!Q303","v":0},{"$f":"DATAENTRY!R303","v":0},{"$f":"DATAENTRY!S303","v":0},{"$f":"DATAENTRY!T303","v":0},{"$f":"DATAENTRY!U303","v":0},{"$f":"DATAENTRY!V303","v":0},{"$f":"DATAENTRY!W303","v":0},{"$f":"DATAENTRY!X303","v":0},{"$f":"DATAENTRY!Y303","v":0},{"$f":"DATAENTRY!Z303","v":0},{"$f":"DATAENTRY!AA303","v":0},{"$f":"DATAENTRY!AB303","v":0},{"$f":"DATAENTRY!AC303","v":0},{"$f":"DATAENTRY!AD303","v":0},{"$f":"DATAENTRY!AE303","v":0},{"$f":"DATAENTRY!AF303","v":0},{"$f":"DATAENTRY!AG303","v":0},{"$f":"DATAENTRY!AH303","v":0},{"$f":"DATAENTRY!AI303","v":0},{"$f":"DATAENTRY!AJ303","v":0},{"$f":"DATAENTRY!AK303","v":0},{"$f":"DATAENTRY!AL303","v":0},{"$f":"DATAENTRY!AM303","v":0},{"$f":"DATAENTRY!AN303","v":0},{"$f":"DATAENTRY!AO303","v":0},{"$f":"DATAENTRY!AP303","v":0},{"$f":"DATAENTRY!AQ303","v":0},{"$f":"DATAENTRY!AR303","v":0},{"$f":"DATAENTRY!AS303","v":0},{"$f":"DATAENTRY!AT303","v":0},{"$f":"DATAENTRY!AU303","v":0},{"$f":"DATAENTRY!AV303","v":0},{"$f":"DATAENTRY!AW303","v":0},{"$f":"DATAENTRY!AX303","v":0},{"$f":"DATAENTRY!AY303","v":0},{"$f":"DATAENTRY!AZ303","v":0},{"$f":"DATAENTRY!BA303","v":0},{"$f":"DATAENTRY!BB303","v":0},{"$f":"DATAENTRY!BC303","v":0},{"$f":"DATAENTRY!BD303","v":0},{"$f":"DATAENTRY!BE303","v":0},{"$f":"DATAENTRY!BF303","v":0},{"$f":"DATAENTRY!BG303","v":0},{"$f":"DATAENTRY!BH303","v":""}]
[{"$f":"DATAENTRY!C304","v":0},{"$f":"DATAENTRY!D304","v":0},{"$f":"DATAENTRY!E304","v":0},{"$f":"DATAENTRY!F304","v":0},{"$f":"DATAENTRY!G304","v":0},{"$f":"DATAENTRY!H304","v":0},{"$f":"DATAENTRY!I304","v":0},{"$f":"DATAENTRY!J304","v":0},{"$f":"DATAENTRY!K304","v":0},{"$f":"DATAENTRY!L304","v":0},{"$f":"DATAENTRY!M304","v":0},{"$f":"DATAENTRY!N304","v":0},{"$f":"DATAENTRY!O304","v":0},{"$f":"DATAENTRY!P304","v":0},{"$f":"DATAENTRY!Q304","v":0},{"$f":"DATAENTRY!R304","v":0},{"$f":"DATAENTRY!S304","v":0},{"$f":"DATAENTRY!T304","v":0},{"$f":"DATAENTRY!U304","v":0},{"$f":"DATAENTRY!V304","v":0},{"$f":"DATAENTRY!W304","v":0},{"$f":"DATAENTRY!X304","v":0},{"$f":"DATAENTRY!Y304","v":0},{"$f":"DATAENTRY!Z304","v":0},{"$f":"DATAENTRY!AA304","v":0},{"$f":"DATAENTRY!AB304","v":0},{"$f":"DATAENTRY!AC304","v":0},{"$f":"DATAENTRY!AD304","v":0},{"$f":"DATAENTRY!AE304","v":0},{"$f":"DATAENTRY!AF304","v":0},{"$f":"DATAENTRY!AG304","v":0},{"$f":"DATAENTRY!AH304","v":0},{"$f":"DATAENTRY!AI304","v":0},{"$f":"DATAENTRY!AJ304","v":0},{"$f":"DATAENTRY!AK304","v":0},{"$f":"DATAENTRY!AL304","v":0},{"$f":"DATAENTRY!AM304","v":0},{"$f":"DATAENTRY!AN304","v":0},{"$f":"DATAENTRY!AO304","v":0},{"$f":"DATAENTRY!AP304","v":0},{"$f":"DATAENTRY!AQ304","v":0},{"$f":"DATAENTRY!AR304","v":0},{"$f":"DATAENTRY!AS304","v":0},{"$f":"DATAENTRY!AT304","v":0},{"$f":"DATAENTRY!AU304","v":0},{"$f":"DATAENTRY!AV304","v":0},{"$f":"DATAENTRY!AW304","v":0},{"$f":"DATAENTRY!AX304","v":0},{"$f":"DATAENTRY!AY304","v":0},{"$f":"DATAENTRY!AZ304","v":0},{"$f":"DATAENTRY!BA304","v":0},{"$f":"DATAENTRY!BB304","v":0},{"$f":"DATAENTRY!BC304","v":0},{"$f":"DATAENTRY!BD304","v":0},{"$f":"DATAENTRY!BE304","v":0},{"$f":"DATAENTRY!BF304","v":0},{"$f":"DATAENTRY!BG304","v":0},{"$f":"DATAENTRY!BH304","v":""}]
[{"$f":"DATAENTRY!C305","v":0},{"$f":"DATAENTRY!D305","v":0},{"$f":"DATAENTRY!E305","v":0},{"$f":"DATAENTRY!F305","v":0},{"$f":"DATAENTRY!G305","v":0},{"$f":"DATAENTRY!H305","v":0},{"$f":"DATAENTRY!I305","v":0},{"$f":"DATAENTRY!J305","v":0},{"$f":"DATAENTRY!K305","v":0},{"$f":"DATAENTRY!L305","v":0},{"$f":"DATAENTRY!M305","v":0},{"$f":"DATAENTRY!N305","v":0},{"$f":"DATAENTRY!O305","v":0},{"$f":"DATAENTRY!P305","v":0},{"$f":"DATAENTRY!Q305","v":0},{"$f":"DATAENTRY!R305","v":0},{"$f":"DATAENTRY!S305","v":0},{"$f":"DATAENTRY!T305","v":0},{"$f":"DATAENTRY!U305","v":0},{"$f":"DATAENTRY!V305","v":0},{"$f":"DATAENTRY!W305","v":0},{"$f":"DATAENTRY!X305","v":0},{"$f":"DATAENTRY!Y305","v":0},{"$f":"DATAENTRY!Z305","v":0},{"$f":"DATAENTRY!AA305","v":0},{"$f":"DATAENTRY!AB305","v":0},{"$f":"DATAENTRY!AC305","v":0},{"$f":"DATAENTRY!AD305","v":0},{"$f":"DATAENTRY!AE305","v":0},{"$f":"DATAENTRY!AF305","v":0},{"$f":"DATAENTRY!AG305","v":0},{"$f":"DATAENTRY!AH305","v":0},{"$f":"DATAENTRY!AI305","v":0},{"$f":"DATAENTRY!AJ305","v":0},{"$f":"DATAENTRY!AK305","v":0},{"$f":"DATAENTRY!AL305","v":0},{"$f":"DATAENTRY!AM305","v":0},{"$f":"DATAENTRY!AN305","v":0},{"$f":"DATAENTRY!AO305","v":0},{"$f":"DATAENTRY!AP305","v":0},{"$f":"DATAENTRY!AQ305","v":0},{"$f":"DATAENTRY!AR305","v":0},{"$f":"DATAENTRY!AS305","v":0},{"$f":"DATAENTRY!AT305","v":0},{"$f":"DATAENTRY!AU305","v":0},{"$f":"DATAENTRY!AV305","v":0},{"$f":"DATAENTRY!AW305","v":0},{"$f":"DATAENTRY!AX305","v":0},{"$f":"DATAENTRY!AY305","v":0},{"$f":"DATAENTRY!AZ305","v":0},{"$f":"DATAENTRY!BA305","v":0},{"$f":"DATAENTRY!BB305","v":0},{"$f":"DATAENTRY!BC305","v":0},{"$f":"DATAENTRY!BD305","v":0},{"$f":"DATAENTRY!BE305","v":0},{"$f":"DATAENTRY!BF305","v":0},{"$f":"DATAENTRY!BG305","v":0},{"$f":"DATAENTRY!BH305","v":""}]
[{"$f":"DATAENTRY!C306","v":0},{"$f":"DATAENTRY!D306","v":0},{"$f":"DATAENTRY!E306","v":0},{"$f":"DATAENTRY!F306","v":0},{"$f":"DATAENTRY!G306","v":0},{"$f":"DATAENTRY!H306","v":0},{"$f":"DATAENTRY!I306","v":0},{"$f":"DATAENTRY!J306","v":0},{"$f":"DATAENTRY!K306","v":0},{"$f":"DATAENTRY!L306","v":0},{"$f":"DATAENTRY!M306","v":0},{"$f":"DATAENTRY!N306","v":0},{"$f":"DATAENTRY!O306","v":0},{"$f":"DATAENTRY!P306","v":0},{"$f":"DATAENTRY!Q306","v":0},{"$f":"DATAENTRY!R306","v":0},{"$f":"DATAENTRY!S306","v":0},{"$f":"DATAENTRY!T306","v":0},{"$f":"DATAENTRY!U306","v":0},{"$f":"DATAENTRY!V306","v":0},{"$f":"DATAENTRY!W306","v":0},{"$f":"DATAENTRY!X306","v":0},{"$f":"DATAENTRY!Y306","v":0},{"$f":"DATAENTRY!Z306","v":0},{"$f":"DATAENTRY!AA306","v":0},{"$f":"DATAENTRY!AB306","v":0},{"$f":"DATAENTRY!AC306","v":0},{"$f":"DATAENTRY!AD306","v":0},{"$f":"DATAENTRY!AE306","v":0},{"$f":"DATAENTRY!AF306","v":0},{"$f":"DATAENTRY!AG306","v":0},{"$f":"DATAENTRY!AH306","v":0},{"$f":"DATAENTRY!AI306","v":0},{"$f":"DATAENTRY!AJ306","v":0},{"$f":"DATAENTRY!AK306","v":0},{"$f":"DATAENTRY!AL306","v":0},{"$f":"DATAENTRY!AM306","v":0},{"$f":"DATAENTRY!AN306","v":0},{"$f":"DATAENTRY!AO306","v":0},{"$f":"DATAENTRY!AP306","v":0},{"$f":"DATAENTRY!AQ306","v":0},{"$f":"DATAENTRY!AR306","v":0},{"$f":"DATAENTRY!AS306","v":0},{"$f":"DATAENTRY!AT306","v":0},{"$f":"DATAENTRY!AU306","v":0},{"$f":"DATAENTRY!AV306","v":0},{"$f":"DATAENTRY!AW306","v":0},{"$f":"DATAENTRY!AX306","v":0},{"$f":"DATAENTRY!AY306","v":0},{"$f":"DATAENTRY!AZ306","v":0},{"$f":"DATAENTRY!BA306","v":0},{"$f":"DATAENTRY!BB306","v":0},{"$f":"DATAENTRY!BC306","v":0},{"$f":"DATAENTRY!BD306","v":0},{"$f":"DATAENTRY!BE306","v":0},{"$f":"DATAENTRY!BF306","v":0},{"$f":"DATAENTRY!BG306","v":0},{"$f":"DATAENTRY!BH306","v":""}]
[{"$f":"DATAENTRY!C307","v":0},{"$f":"DATAENTRY!D307","v":0},{"$f":"DATAENTRY!E307","v":0},{"$f":"DATAENTRY!F307","v":0},{"$f":"DATAENTRY!G307","v":0},{"$f":"DATAENTRY!H307","v":0},{"$f":"DATAENTRY!I307","v":0},{"$f":"DATAENTRY!J307","v":0},{"$f":"DATAENTRY!K307","v":0},{"$f":"DATAENTRY!L307","v":0},{"$f":"DATAENTRY!M307","v":0},{"$f":"DATAENTRY!N307","v":0},{"$f":"DATAENTRY!O307","v":0},{"$f":"DATAENTRY!P307","v":0},{"$f":"DATAENTRY!Q307","v":0},{"$f":"DATAENTRY!R307","v":0},{"$f":"DATAENTRY!S307","v":0},{"$f":"DATAENTRY!T307","v":0},{"$f":"DATAENTRY!U307","v":0},{"$f":"DATAENTRY!V307","v":0},{"$f":"DATAENTRY!W307","v":0},{"$f":"DATAENTRY!X307","v":0},{"$f":"DATAENTRY!Y307","v":0},{"$f":"DATAENTRY!Z307","v":0},{"$f":"DATAENTRY!AA307","v":0},{"$f":"DATAENTRY!AB307","v":0},{"$f":"DATAENTRY!AC307","v":0},{"$f":"DATAENTRY!AD307","v":0},{"$f":"DATAENTRY!AE307","v":0},{"$f":"DATAENTRY!AF307","v":0},{"$f":"DATAENTRY!AG307","v":0},{"$f":"DATAENTRY!AH307","v":0},{"$f":"DATAENTRY!AI307","v":0},{"$f":"DATAENTRY!AJ307","v":0},{"$f":"DATAENTRY!AK307","v":0},{"$f":"DATAENTRY!AL307","v":0},{"$f":"DATAENTRY!AM307","v":0},{"$f":"DATAENTRY!AN307","v":0},{"$f":"DATAENTRY!AO307","v":0},{"$f":"DATAENTRY!AP307","v":0},{"$f":"DATAENTRY!AQ307","v":0},{"$f":"DATAENTRY!AR307","v":0},{"$f":"DATAENTRY!AS307","v":0},{"$f":"DATAENTRY!AT307","v":0},{"$f":"DATAENTRY!AU307","v":0},{"$f":"DATAENTRY!AV307","v":0},{"$f":"DATAENTRY!AW307","v":0},{"$f":"DATAENTRY!AX307","v":0},{"$f":"DATAENTRY!AY307","v":0},{"$f":"DATAENTRY!AZ307","v":0},{"$f":"DATAENTRY!BA307","v":0},{"$f":"DATAENTRY!BB307","v":0},{"$f":"DATAENTRY!BC307","v":0},{"$f":"DATAENTRY!BD307","v":0},{"$f":"DATAENTRY!BE307","v":0},{"$f":"DATAENTRY!BF307","v":0},{"$f":"DATAENTRY!BG307","v":0},{"$f":"DATAENTRY!BH307","v":""}]
[{"$f":"DATAENTRY!C308","v":0},{"$f":"DATAENTRY!D308","v":0},{"$f":"DATAENTRY!E308","v":0},{"$f":"DATAENTRY!F308","v":0},{"$f":"DATAENTRY!G308","v":0},{"$f":"DATAENTRY!H308","v":0},{"$f":"DATAENTRY!I308","v":0},{"$f":"DATAENTRY!J308","v":0},{"$f":"DATAENTRY!K308","v":0},{"$f":"DATAENTRY!L308","v":0},{"$f":"DATAENTRY!M308","v":0},{"$f":"DATAENTRY!N308","v":0},{"$f":"DATAENTRY!O308","v":0},{"$f":"DATAENTRY!P308","v":0},{"$f":"DATAENTRY!Q308","v":0},{"$f":"DATAENTRY!R308","v":0},{"$f":"DATAENTRY!S308","v":0},{"$f":"DATAENTRY!T308","v":0},{"$f":"DATAENTRY!U308","v":0},{"$f":"DATAENTRY!V308","v":0},{"$f":"DATAENTRY!W308","v":0},{"$f":"DATAENTRY!X308","v":0},{"$f":"DATAENTRY!Y308","v":0},{"$f":"DATAENTRY!Z308","v":0},{"$f":"DATAENTRY!AA308","v":0},{"$f":"DATAENTRY!AB308","v":0},{"$f":"DATAENTRY!AC308","v":0},{"$f":"DATAENTRY!AD308","v":0},{"$f":"DATAENTRY!AE308","v":0},{"$f":"DATAENTRY!AF308","v":0},{"$f":"DATAENTRY!AG308","v":0},{"$f":"DATAENTRY!AH308","v":0},{"$f":"DATAENTRY!AI308","v":0},{"$f":"DATAENTRY!AJ308","v":0},{"$f":"DATAENTRY!AK308","v":0},{"$f":"DATAENTRY!AL308","v":0},{"$f":"DATAENTRY!AM308","v":0},{"$f":"DATAENTRY!AN308","v":0},{"$f":"DATAENTRY!AO308","v":0},{"$f":"DATAENTRY!AP308","v":0},{"$f":"DATAENTRY!AQ308","v":0},{"$f":"DATAENTRY!AR308","v":0},{"$f":"DATAENTRY!AS308","v":0},{"$f":"DATAENTRY!AT308","v":0},{"$f":"DATAENTRY!AU308","v":0},{"$f":"DATAENTRY!AV308","v":0},{"$f":"DATAENTRY!AW308","v":0},{"$f":"DATAENTRY!AX308","v":0},{"$f":"DATAENTRY!AY308","v":0},{"$f":"DATAENTRY!AZ308","v":0},{"$f":"DATAENTRY!BA308","v":0},{"$f":"DATAENTRY!BB308","v":0},{"$f":"DATAENTRY!BC308","v":0},{"$f":"DATAENTRY!BD308","v":0},{"$f":"DATAENTRY!BE308","v":0},{"$f":"DATAENTRY!BF308","v":0},{"$f":"DATAENTRY!BG308","v":0},{"$f":"DATAENTRY!BH308","v":""}]
[{"$f":"DATAENTRY!C309","v":0},{"$f":"DATAENTRY!D309","v":0},{"$f":"DATAENTRY!E309","v":0},{"$f":"DATAENTRY!F309","v":0},{"$f":"DATAENTRY!G309","v":0},{"$f":"DATAENTRY!H309","v":0},{"$f":"DATAENTRY!I309","v":0},{"$f":"DATAENTRY!J309","v":0},{"$f":"DATAENTRY!K309","v":0},{"$f":"DATAENTRY!L309","v":0},{"$f":"DATAENTRY!M309","v":0},{"$f":"DATAENTRY!N309","v":0},{"$f":"DATAENTRY!O309","v":0},{"$f":"DATAENTRY!P309","v":0},{"$f":"DATAENTRY!Q309","v":0},{"$f":"DATAENTRY!R309","v":0},{"$f":"DATAENTRY!S309","v":0},{"$f":"DATAENTRY!T309","v":0},{"$f":"DATAENTRY!U309","v":0},{"$f":"DATAENTRY!V309","v":0},{"$f":"DATAENTRY!W309","v":0},{"$f":"DATAENTRY!X309","v":0},{"$f":"DATAENTRY!Y309","v":0},{"$f":"DATAENTRY!Z309","v":0},{"$f":"DATAENTRY!AA309","v":0},{"$f":"DATAENTRY!AB309","v":0},{"$f":"DATAENTRY!AC309","v":0},{"$f":"DATAENTRY!AD309","v":0},{"$f":"DATAENTRY!AE309","v":0},{"$f":"DATAENTRY!AF309","v":0},{"$f":"DATAENTRY!AG309","v":0},{"$f":"DATAENTRY!AH309","v":0},{"$f":"DATAENTRY!AI309","v":0},{"$f":"DATAENTRY!AJ309","v":0},{"$f":"DATAENTRY!AK309","v":0},{"$f":"DATAENTRY!AL309","v":0},{"$f":"DATAENTRY!AM309","v":0},{"$f":"DATAENTRY!AN309","v":0},{"$f":"DATAENTRY!AO309","v":0},{"$f":"DATAENTRY!AP309","v":0},{"$f":"DATAENTRY!AQ309","v":0},{"$f":"DATAENTRY!AR309","v":0},{"$f":"DATAENTRY!AS309","v":0},{"$f":"DATAENTRY!AT309","v":0},{"$f":"DATAENTRY!AU309","v":0},{"$f":"DATAENTRY!AV309","v":0},{"$f":"DATAENTRY!AW309","v":0},{"$f":"DATAENTRY!AX309","v":0},{"$f":"DATAENTRY!AY309","v":0},{"$f":"DATAENTRY!AZ309","v":0},{"$f":"DATAENTRY!BA309","v":0},{"$f":"DATAENTRY!BB309","v":0},{"$f":"DATAENTRY!BC309","v":0},{"$f":"DATAENTRY!BD309","v":0},{"$f":"DATAENTRY!BE309","v":0},{"$f":"DATAENTRY!BF309","v":0},{"$f":"DATAENTRY!BG309","v":0},{"$f":"DATAENTRY!BH309","v":""}]
[{"$f":"DATAENTRY!C310","v":0},{"$f":"DATAENTRY!D310","v":0},{"$f":"DATAENTRY!E310","v":0},{"$f":"DATAENTRY!F310","v":0},{"$f":"DATAENTRY!G310","v":0},{"$f":"DATAENTRY!H310","v":0},{"$f":"DATAENTRY!I310","v":0},{"$f":"DATAENTRY!J310","v":0},{"$f":"DATAENTRY!K310","v":0},{"$f":"DATAENTRY!L310","v":0},{"$f":"DATAENTRY!M310","v":0},{"$f":"DATAENTRY!N310","v":0},{"$f":"DATAENTRY!O310","v":0},{"$f":"DATAENTRY!P310","v":0},{"$f":"DATAENTRY!Q310","v":0},{"$f":"DATAENTRY!R310","v":0},{"$f":"DATAENTRY!S310","v":0},{"$f":"DATAENTRY!T310","v":0},{"$f":"DATAENTRY!U310","v":0},{"$f":"DATAENTRY!V310","v":0},{"$f":"DATAENTRY!W310","v":0},{"$f":"DATAENTRY!X310","v":0},{"$f":"DATAENTRY!Y310","v":0},{"$f":"DATAENTRY!Z310","v":0},{"$f":"DATAENTRY!AA310","v":0},{"$f":"DATAENTRY!AB310","v":0},{"$f":"DATAENTRY!AC310","v":0},{"$f":"DATAENTRY!AD310","v":0},{"$f":"DATAENTRY!AE310","v":0},{"$f":"DATAENTRY!AF310","v":0},{"$f":"DATAENTRY!AG310","v":0},{"$f":"DATAENTRY!AH310","v":0},{"$f":"DATAENTRY!AI310","v":0},{"$f":"DATAENTRY!AJ310","v":0},{"$f":"DATAENTRY!AK310","v":0},{"$f":"DATAENTRY!AL310","v":0},{"$f":"DATAENTRY!AM310","v":0},{"$f":"DATAENTRY!AN310","v":0},{"$f":"DATAENTRY!AO310","v":0},{"$f":"DATAENTRY!AP310","v":0},{"$f":"DATAENTRY!AQ310","v":0},{"$f":"DATAENTRY!AR310","v":0},{"$f":"DATAENTRY!AS310","v":0},{"$f":"DATAENTRY!AT310","v":0},{"$f":"DATAENTRY!AU310","v":0},{"$f":"DATAENTRY!AV310","v":0},{"$f":"DATAENTRY!AW310","v":0},{"$f":"DATAENTRY!AX310","v":0},{"$f":"DATAENTRY!AY310","v":0},{"$f":"DATAENTRY!AZ310","v":0},{"$f":"DATAENTRY!BA310","v":0},{"$f":"DATAENTRY!BB310","v":0},{"$f":"DATAENTRY!BC310","v":0},{"$f":"DATAENTRY!BD310","v":0},{"$f":"DATAENTRY!BE310","v":0},{"$f":"DATAENTRY!BF310","v":0},{"$f":"DATAENTRY!BG310","v":0},{"$f":"DATAENTRY!BH310","v":""}]
[{"$f":"DATAENTRY!C311","v":0},{"$f":"DATAENTRY!D311","v":0},{"$f":"DATAENTRY!E311","v":0},{"$f":"DATAENTRY!F311","v":0},{"$f":"DATAENTRY!G311","v":0},{"$f":"DATAENTRY!H311","v":0},{"$f":"DATAENTRY!I311","v":0},{"$f":"DATAENTRY!J311","v":0},{"$f":"DATAENTRY!K311","v":0},{"$f":"DATAENTRY!L311","v":0},{"$f":"DATAENTRY!M311","v":0},{"$f":"DATAENTRY!N311","v":0},{"$f":"DATAENTRY!O311","v":0},{"$f":"DATAENTRY!P311","v":0},{"$f":"DATAENTRY!Q311","v":0},{"$f":"DATAENTRY!R311","v":0},{"$f":"DATAENTRY!S311","v":0},{"$f":"DATAENTRY!T311","v":0},{"$f":"DATAENTRY!U311","v":0},{"$f":"DATAENTRY!V311","v":0},{"$f":"DATAENTRY!W311","v":0},{"$f":"DATAENTRY!X311","v":0},{"$f":"DATAENTRY!Y311","v":0},{"$f":"DATAENTRY!Z311","v":0},{"$f":"DATAENTRY!AA311","v":0},{"$f":"DATAENTRY!AB311","v":0},{"$f":"DATAENTRY!AC311","v":0},{"$f":"DATAENTRY!AD311","v":0},{"$f":"DATAENTRY!AE311","v":0},{"$f":"DATAENTRY!AF311","v":0},{"$f":"DATAENTRY!AG311","v":0},{"$f":"DATAENTRY!AH311","v":0},{"$f":"DATAENTRY!AI311","v":0},{"$f":"DATAENTRY!AJ311","v":0},{"$f":"DATAENTRY!AK311","v":0},{"$f":"DATAENTRY!AL311","v":0},{"$f":"DATAENTRY!AM311","v":0},{"$f":"DATAENTRY!AN311","v":0},{"$f":"DATAENTRY!AO311","v":0},{"$f":"DATAENTRY!AP311","v":0},{"$f":"DATAENTRY!AQ311","v":0},{"$f":"DATAENTRY!AR311","v":0},{"$f":"DATAENTRY!AS311","v":0},{"$f":"DATAENTRY!AT311","v":0},{"$f":"DATAENTRY!AU311","v":0},{"$f":"DATAENTRY!AV311","v":0},{"$f":"DATAENTRY!AW311","v":0},{"$f":"DATAENTRY!AX311","v":0},{"$f":"DATAENTRY!AY311","v":0},{"$f":"DATAENTRY!AZ311","v":0},{"$f":"DATAENTRY!BA311","v":0},{"$f":"DATAENTRY!BB311","v":0},{"$f":"DATAENTRY!BC311","v":0},{"$f":"DATAENTRY!BD311","v":0},{"$f":"DATAENTRY!BE311","v":0},{"$f":"DATAENTRY!BF311","v":0},{"$f":"DATAENTRY!BG311","v":0},{"$f":"DATAENTRY!BH311","v":""}]
[{"$f":"DATAENTRY!C312","v":0},{"$f":"DATAENTRY!D312","v":0},{"$f":"DATAENTRY!E312","v":0},{"$f":"DATAENTRY!F312","v":0},{"$f":"DATAENTRY!G312","v":0},{"$f":"DATAENTRY!H312","v":0},{"$f":"DATAENTRY!I312","v":0},{"$f":"DATAENTRY!J312","v":0},{"$f":"DATAENTRY!K312","v":0},{"$f":"DATAENTRY!L312","v":0},{"$f":"DATAENTRY!M312","v":0},{"$f":"DATAENTRY!N312","v":0},{"$f":"DATAENTRY!O312","v":0},{"$f":"DATAENTRY!P312","v":0},{"$f":"DATAENTRY!Q312","v":0},{"$f":"DATAENTRY!R312","v":0},{"$f":"DATAENTRY!S312","v":0},{"$f":"DATAENTRY!T312","v":0},{"$f":"DATAENTRY!U312","v":0},{"$f":"DATAENTRY!V312","v":0},{"$f":"DATAENTRY!W312","v":0},{"$f":"DATAENTRY!X312","v":0},{"$f":"DATAENTRY!Y312","v":0},{"$f":"DATAENTRY!Z312","v":0},{"$f":"DATAENTRY!AA312","v":0},{"$f":"DATAENTRY!AB312","v":0},{"$f":"DATAENTRY!AC312","v":0},{"$f":"DATAENTRY!AD312","v":0},{"$f":"DATAENTRY!AE312","v":0},{"$f":"DATAENTRY!AF312","v":0},{"$f":"DATAENTRY!AG312","v":0},{"$f":"DATAENTRY!AH312","v":0},{"$f":"DATAENTRY!AI312","v":0},{"$f":"DATAENTRY!AJ312","v":0},{"$f":"DATAENTRY!AK312","v":0},{"$f":"DATAENTRY!AL312","v":0},{"$f":"DATAENTRY!AM312","v":0},{"$f":"DATAENTRY!AN312","v":0},{"$f":"DATAENTRY!AO312","v":0},{"$f":"DATAENTRY!AP312","v":0},{"$f":"DATAENTRY!AQ312","v":0},{"$f":"DATAENTRY!AR312","v":0},{"$f":"DATAENTRY!AS312","v":0},{"$f":"DATAENTRY!AT312","v":0},{"$f":"DATAENTRY!AU312","v":0},{"$f":"DATAENTRY!AV312","v":0},{"$f":"DATAENTRY!AW312","v":0},{"$f":"DATAENTRY!AX312","v":0},{"$f":"DATAENTRY!AY312","v":0},{"$f":"DATAENTRY!AZ312","v":0},{"$f":"DATAENTRY!BA312","v":0},{"$f":"DATAENTRY!BB312","v":0},{"$f":"DATAENTRY!BC312","v":0},{"$f":"DATAENTRY!BD312","v":0},{"$f":"DATAENTRY!BE312","v":0},{"$f":"DATAENTRY!BF312","v":0},{"$f":"DATAENTRY!BG312","v":0},{"$f":"DATAENTRY!BH312","v":""}]
[{"$f":"DATAENTRY!C313","v":0},{"$f":"DATAENTRY!D313","v":0},{"$f":"DATAENTRY!E313","v":0},{"$f":"DATAENTRY!F313","v":0},{"$f":"DATAENTRY!G313","v":0},{"$f":"DATAENTRY!H313","v":0},{"$f":"DATAENTRY!I313","v":0},{"$f":"DATAENTRY!J313","v":0},{"$f":"DATAENTRY!K313","v":0},{"$f":"DATAENTRY!L313","v":0},{"$f":"DATAENTRY!M313","v":0},{"$f":"DATAENTRY!N313","v":0},{"$f":"DATAENTRY!O313","v":0},{"$f":"DATAENTRY!P313","v":0},{"$f":"DATAENTRY!Q313","v":0},{"$f":"DATAENTRY!R313","v":0},{"$f":"DATAENTRY!S313","v":0},{"$f":"DATAENTRY!T313","v":0},{"$f":"DATAENTRY!U313","v":0},{"$f":"DATAENTRY!V313","v":0},{"$f":"DATAENTRY!W313","v":0},{"$f":"DATAENTRY!X313","v":0},{"$f":"DATAENTRY!Y313","v":0},{"$f":"DATAENTRY!Z313","v":0},{"$f":"DATAENTRY!AA313","v":0},{"$f":"DATAENTRY!AB313","v":0},{"$f":"DATAENTRY!AC313","v":0},{"$f":"DATAENTRY!AD313","v":0},{"$f":"DATAENTRY!AE313","v":0},{"$f":"DATAENTRY!AF313","v":0},{"$f":"DATAENTRY!AG313","v":0},{"$f":"DATAENTRY!AH313","v":0},{"$f":"DATAENTRY!AI313","v":0},{"$f":"DATAENTRY!AJ313","v":0},{"$f":"DATAENTRY!AK313","v":0},{"$f":"DATAENTRY!AL313","v":0},{"$f":"DATAENTRY!AM313","v":0},{"$f":"DATAENTRY!AN313","v":0},{"$f":"DATAENTRY!AO313","v":0},{"$f":"DATAENTRY!AP313","v":0},{"$f":"DATAENTRY!AQ313","v":0},{"$f":"DATAENTRY!AR313","v":0},{"$f":"DATAENTRY!AS313","v":0},{"$f":"DATAENTRY!AT313","v":0},{"$f":"DATAENTRY!AU313","v":0},{"$f":"DATAENTRY!AV313","v":0},{"$f":"DATAENTRY!AW313","v":0},{"$f":"DATAENTRY!AX313","v":0},{"$f":"DATAENTRY!AY313","v":0},{"$f":"DATAENTRY!AZ313","v":0},{"$f":"DATAENTRY!BA313","v":0},{"$f":"DATAENTRY!BB313","v":0},{"$f":"DATAENTRY!BC313","v":0},{"$f":"DATAENTRY!BD313","v":0},{"$f":"DATAENTRY!BE313","v":0},{"$f":"DATAENTRY!BF313","v":0},{"$f":"DATAENTRY!BG313","v":0},{"$f":"DATAENTRY!BH313","v":""}]
[{"$f":"DATAENTRY!C314","v":0},{"$f":"DATAENTRY!D314","v":0},{"$f":"DATAENTRY!E314","v":0},{"$f":"DATAENTRY!F314","v":0},{"$f":"DATAENTRY!G314","v":0},{"$f":"DATAENTRY!H314","v":0},{"$f":"DATAENTRY!I314","v":0},{"$f":"DATAENTRY!J314","v":0},{"$f":"DATAENTRY!K314","v":0},{"$f":"DATAENTRY!L314","v":0},{"$f":"DATAENTRY!M314","v":0},{"$f":"DATAENTRY!N314","v":0},{"$f":"DATAENTRY!O314","v":0},{"$f":"DATAENTRY!P314","v":0},{"$f":"DATAENTRY!Q314","v":0},{"$f":"DATAENTRY!R314","v":0},{"$f":"DATAENTRY!S314","v":0},{"$f":"DATAENTRY!T314","v":0},{"$f":"DATAENTRY!U314","v":0},{"$f":"DATAENTRY!V314","v":0},{"$f":"DATAENTRY!W314","v":0},{"$f":"DATAENTRY!X314","v":0},{"$f":"DATAENTRY!Y314","v":0},{"$f":"DATAENTRY!Z314","v":0},{"$f":"DATAENTRY!AA314","v":0},{"$f":"DATAENTRY!AB314","v":0},{"$f":"DATAENTRY!AC314","v":0},{"$f":"DATAENTRY!AD314","v":0},{"$f":"DATAENTRY!AE314","v":0},{"$f":"DATAENTRY!AF314","v":0},{"$f":"DATAENTRY!AG314","v":0},{"$f":"DATAENTRY!AH314","v":0},{"$f":"DATAENTRY!AI314","v":0},{"$f":"DATAENTRY!AJ314","v":0},{"$f":"DATAENTRY!AK314","v":0},{"$f":"DATAENTRY!AL314","v":0},{"$f":"DATAENTRY!AM314","v":0},{"$f":"DATAENTRY!AN314","v":0},{"$f":"DATAENTRY!AO314","v":0},{"$f":"DATAENTRY!AP314","v":0},{"$f":"DATAENTRY!AQ314","v":0},{"$f":"DATAENTRY!AR314","v":0},{"$f":"DATAENTRY!AS314","v":0},{"$f":"DATAENTRY!AT314","v":0},{"$f":"DATAENTRY!AU314","v":0},{"$f":"DATAENTRY!AV314","v":0},{"$f":"DATAENTRY!AW314","v":0},{"$f":"DATAENTRY!AX314","v":0},{"$f":"DATAENTRY!AY314","v":0},{"$f":"DATAENTRY!AZ314","v":0},{"$f":"DATAENTRY!BA314","v":0},{"$f":"DATAENTRY!BB314","v":0},{"$f":"DATAENTRY!BC314","v":0},{"$f":"DATAENTRY!BD314","v":0},{"$f":"DATAENTRY!BE314","v":0},{"$f":"DATAENTRY!BF314","v":0},{"$f":"DATAENTRY!BG314","v":0},{"$f":"DATAENTRY!BH314","v":""}]
[{"$f":"DATAENTRY!C315","v":0},{"$f":"DATAENTRY!D315","v":0},{"$f":"DATAENTRY!E315","v":0},{"$f":"DATAENTRY!F315","v":0},{"$f":"DATAENTRY!G315","v":0},{"$f":"DATAENTRY!H315","v":0},{"$f":"DATAENTRY!I315","v":0},{"$f":"DATAENTRY!J315","v":0},{"$f":"DATAENTRY!K315","v":0},{"$f":"DATAENTRY!L315","v":0},{"$f":"DATAENTRY!M315","v":0},{"$f":"DATAENTRY!N315","v":0},{"$f":"DATAENTRY!O315","v":0},{"$f":"DATAENTRY!P315","v":0},{"$f":"DATAENTRY!Q315","v":0},{"$f":"DATAENTRY!R315","v":0},{"$f":"DATAENTRY!S315","v":0},{"$f":"DATAENTRY!T315","v":0},{"$f":"DATAENTRY!U315","v":0},{"$f":"DATAENTRY!V315","v":0},{"$f":"DATAENTRY!W315","v":0},{"$f":"DATAENTRY!X315","v":0},{"$f":"DATAENTRY!Y315","v":0},{"$f":"DATAENTRY!Z315","v":0},{"$f":"DATAENTRY!AA315","v":0},{"$f":"DATAENTRY!AB315","v":0},{"$f":"DATAENTRY!AC315","v":0},{"$f":"DATAENTRY!AD315","v":0},{"$f":"DATAENTRY!AE315","v":0},{"$f":"DATAENTRY!AF315","v":0},{"$f":"DATAENTRY!AG315","v":0},{"$f":"DATAENTRY!AH315","v":0},{"$f":"DATAENTRY!AI315","v":0},{"$f":"DATAENTRY!AJ315","v":0},{"$f":"DATAENTRY!AK315","v":0},{"$f":"DATAENTRY!AL315","v":0},{"$f":"DATAENTRY!AM315","v":0},{"$f":"DATAENTRY!AN315","v":0},{"$f":"DATAENTRY!AO315","v":0},{"$f":"DATAENTRY!AP315","v":0},{"$f":"DATAENTRY!AQ315","v":0},{"$f":"DATAENTRY!AR315","v":0},{"$f":"DATAENTRY!AS315","v":0},{"$f":"DATAENTRY!AT315","v":0},{"$f":"DATAENTRY!AU315","v":0},{"$f":"DATAENTRY!AV315","v":0},{"$f":"DATAENTRY!AW315","v":0},{"$f":"DATAENTRY!AX315","v":0},{"$f":"DATAENTRY!AY315","v":0},{"$f":"DATAENTRY!AZ315","v":0},{"$f":"DATAENTRY!BA315","v":0},{"$f":"DATAENTRY!BB315","v":0},{"$f":"DATAENTRY!BC315","v":0},{"$f":"DATAENTRY!BD315","v":0},{"$f":"DATAENTRY!BE315","v":0},{"$f":"DATAENTRY!BF315","v":0},{"$f":"DATAENTRY!BG315","v":0},{"$f":"DATAENTRY!BH315","v":""}]
[{"$f":"DATAENTRY!C316","v":0},{"$f":"DATAENTRY!D316","v":0},{"$f":"DATAENTRY!E316","v":0},{"$f":"DATAENTRY!F316","v":0},{"$f":"DATAENTRY!G316","v":0},{"$f":"DATAENTRY!H316","v":0},{"$f":"DATAENTRY!I316","v":0},{"$f":"DATAENTRY!J316","v":0},{"$f":"DATAENTRY!K316","v":0},{"$f":"DATAENTRY!L316","v":0},{"$f":"DATAENTRY!M316","v":0},{"$f":"DATAENTRY!N316","v":0},{"$f":"DATAENTRY!O316","v":0},{"$f":"DATAENTRY!P316","v":0},{"$f":"DATAENTRY!Q316","v":0},{"$f":"DATAENTRY!R316","v":0},{"$f":"DATAENTRY!S316","v":0},{"$f":"DATAENTRY!T316","v":0},{"$f":"DATAENTRY!U316","v":0},{"$f":"DATAENTRY!V316","v":0},{"$f":"DATAENTRY!W316","v":0},{"$f":"DATAENTRY!X316","v":0},{"$f":"DATAENTRY!Y316","v":0},{"$f":"DATAENTRY!Z316","v":0},{"$f":"DATAENTRY!AA316","v":0},{"$f":"DATAENTRY!AB316","v":0},{"$f":"DATAENTRY!AC316","v":0},{"$f":"DATAENTRY!AD316","v":0},{"$f":"DATAENTRY!AE316","v":0},{"$f":"DATAENTRY!AF316","v":0},{"$f":"DATAENTRY!AG316","v":0},{"$f":"DATAENTRY!AH316","v":0},{"$f":"DATAENTRY!AI316","v":0},{"$f":"DATAENTRY!AJ316","v":0},{"$f":"DATAENTRY!AK316","v":0},{"$f":"DATAENTRY!AL316","v":0},{"$f":"DATAENTRY!AM316","v":0},{"$f":"DATAENTRY!AN316","v":0},{"$f":"DATAENTRY!AO316","v":0},{"$f":"DATAENTRY!AP316","v":0},{"$f":"DATAENTRY!AQ316","v":0},{"$f":"DATAENTRY!AR316","v":0},{"$f":"DATAENTRY!AS316","v":0},{"$f":"DATAENTRY!AT316","v":0},{"$f":"DATAENTRY!AU316","v":0},{"$f":"DATAENTRY!AV316","v":0},{"$f":"DATAENTRY!AW316","v":0},{"$f":"DATAENTRY!AX316","v":0},{"$f":"DATAENTRY!AY316","v":0},{"$f":"DATAENTRY!AZ316","v":0},{"$f":"DATAENTRY!BA316","v":0},{"$f":"DATAENTRY!BB316","v":0},{"$f":"DATAENTRY!BC316","v":0},{"$f":"DATAENTRY!BD316","v":0},{"$f":"DATAENTRY!BE316","v":0},{"$f":"DATAENTRY!BF316","v":0},{"$f":"DATAENTRY!BG316","v":0},{"$f":"DATAENTRY!BH316","v":""}]
[{"$f":"DATAENTRY!C317","v":0},{"$f":"DATAENTRY!D317","v":0},{"$f":"DATAENTRY!E317","v":0},{"$f":"DATAENTRY!F317","v":0},{"$f":"DATAENTRY!G317","v":0},{"$f":"DATAENTRY!H317","v":0},{"$f":"DATAENTRY!I317","v":0},{"$f":"DATAENTRY!J317","v":0},{"$f":"DATAENTRY!K317","v":0},{"$f":"DATAENTRY!L317","v":0},{"$f":"DATAENTRY!M317","v":0},{"$f":"DATAENTRY!N317","v":0},{"$f":"DATAENTRY!O317","v":0},{"$f":"DATAENTRY!P317","v":0},{"$f":"DATAENTRY!Q317","v":0},{"$f":"DATAENTRY!R317","v":0},{"$f":"DATAENTRY!S317","v":0},{"$f":"DATAENTRY!T317","v":0},{"$f":"DATAENTRY!U317","v":0},{"$f":"DATAENTRY!V317","v":0},{"$f":"DATAENTRY!W317","v":0},{"$f":"DATAENTRY!X317","v":0},{"$f":"DATAENTRY!Y317","v":0},{"$f":"DATAENTRY!Z317","v":0},{"$f":"DATAENTRY!AA317","v":0},{"$f":"DATAENTRY!AB317","v":0},{"$f":"DATAENTRY!AC317","v":0},{"$f":"DATAENTRY!AD317","v":0},{"$f":"DATAENTRY!AE317","v":0},{"$f":"DATAENTRY!AF317","v":0},{"$f":"DATAENTRY!AG317","v":0},{"$f":"DATAENTRY!AH317","v":0},{"$f":"DATAENTRY!AI317","v":0},{"$f":"DATAENTRY!AJ317","v":0},{"$f":"DATAENTRY!AK317","v":0},{"$f":"DATAENTRY!AL317","v":0},{"$f":"DATAENTRY!AM317","v":0},{"$f":"DATAENTRY!AN317","v":0},{"$f":"DATAENTRY!AO317","v":0},{"$f":"DATAENTRY!AP317","v":0},{"$f":"DATAENTRY!AQ317","v":0},{"$f":"DATAENTRY!AR317","v":0},{"$f":"DATAENTRY!AS317","v":0},{"$f":"DATAENTRY!AT317","v":0},{"$f":"DATAENTRY!AU317","v":0},{"$f":"DATAENTRY!AV317","v":0},{"$f":"DATAENTRY!AW317","v":0},{"$f":"DATAENTRY!AX317","v":0},{"$f":"DATAENTRY!AY317","v":0},{"$f":"DATAENTRY!AZ317","v":0},{"$f":"DATAENTRY!BA317","v":0},{"$f":"DATAENTRY!BB317","v":0},{"$f":"DATAENTRY!BC317","v":0},{"$f":"DATAENTRY!BD317","v":0},{"$f":"DATAENTRY!BE317","v":0},{"$f":"DATAENTRY!BF317","v":0},{"$f":"DATAENTRY!BG317","v":0},{"$f":"DATAENTRY!BH317","v":""}]
[{"$f":"DATAENTRY!C318","v":0},{"$f":"DATAENTRY!D318","v":0},{"$f":"DATAENTRY!E318","v":0},{"$f":"DATAENTRY!F318","v":0},{"$f":"DATAENTRY!G318","v":0},{"$f":"DATAENTRY!H318","v":0},{"$f":"DATAENTRY!I318","v":0},{"$f":"DATAENTRY!J318","v":0},{"$f":"DATAENTRY!K318","v":0},{"$f":"DATAENTRY!L318","v":0},{"$f":"DATAENTRY!M318","v":0},{"$f":"DATAENTRY!N318","v":0},{"$f":"DATAENTRY!O318","v":0},{"$f":"DATAENTRY!P318","v":0},{"$f":"DATAENTRY!Q318","v":0},{"$f":"DATAENTRY!R318","v":0},{"$f":"DATAENTRY!S318","v":0},{"$f":"DATAENTRY!T318","v":0},{"$f":"DATAENTRY!U318","v":0},{"$f":"DATAENTRY!V318","v":0},{"$f":"DATAENTRY!W318","v":0},{"$f":"DATAENTRY!X318","v":0},{"$f":"DATAENTRY!Y318","v":0},{"$f":"DATAENTRY!Z318","v":0},{"$f":"DATAENTRY!AA318","v":0},{"$f":"DATAENTRY!AB318","v":0},{"$f":"DATAENTRY!AC318","v":0},{"$f":"DATAENTRY!AD318","v":0},{"$f":"DATAENTRY!AE318","v":0},{"$f":"DATAENTRY!AF318","v":0},{"$f":"DATAENTRY!AG318","v":0},{"$f":"DATAENTRY!AH318","v":0},{"$f":"DATAENTRY!AI318","v":0},{"$f":"DATAENTRY!AJ318","v":0},{"$f":"DATAENTRY!AK318","v":0},{"$f":"DATAENTRY!AL318","v":0},{"$f":"DATAENTRY!AM318","v":0},{"$f":"DATAENTRY!AN318","v":0},{"$f":"DATAENTRY!AO318","v":0},{"$f":"DATAENTRY!AP318","v":0},{"$f":"DATAENTRY!AQ318","v":0},{"$f":"DATAENTRY!AR318","v":0},{"$f":"DATAENTRY!AS318","v":0},{"$f":"DATAENTRY!AT318","v":0},{"$f":"DATAENTRY!AU318","v":0},{"$f":"DATAENTRY!AV318","v":0},{"$f":"DATAENTRY!AW318","v":0},{"$f":"DATAENTRY!AX318","v":0},{"$f":"DATAENTRY!AY318","v":0},{"$f":"DATAENTRY!AZ318","v":0},{"$f":"DATAENTRY!BA318","v":0},{"$f":"DATAENTRY!BB318","v":0},{"$f":"DATAENTRY!BC318","v":0},{"$f":"DATAENTRY!BD318","v":0},{"$f":"DATAENTRY!BE318","v":0},{"$f":"DATAENTRY!BF318","v":0},{"$f":"DATAENTRY!BG318","v":0},{"$f":"DATAENTRY!BH318","v":""}]
[{"$f":"DATAENTRY!C319","v":0},{"$f":"DATAENTRY!D319","v":0},{"$f":"DATAENTRY!E319","v":0},{"$f":"DATAENTRY!F319","v":0},{"$f":"DATAENTRY!G319","v":0},{"$f":"DATAENTRY!H319","v":0},{"$f":"DATAENTRY!I319","v":0},{"$f":"DATAENTRY!J319","v":0},{"$f":"DATAENTRY!K319","v":0},{"$f":"DATAENTRY!L319","v":0},{"$f":"DATAENTRY!M319","v":0},{"$f":"DATAENTRY!N319","v":0},{"$f":"DATAENTRY!O319","v":0},{"$f":"DATAENTRY!P319","v":0},{"$f":"DATAENTRY!Q319","v":0},{"$f":"DATAENTRY!R319","v":0},{"$f":"DATAENTRY!S319","v":0},{"$f":"DATAENTRY!T319","v":0},{"$f":"DATAENTRY!U319","v":0},{"$f":"DATAENTRY!V319","v":0},{"$f":"DATAENTRY!W319","v":0},{"$f":"DATAENTRY!X319","v":0},{"$f":"DATAENTRY!Y319","v":0},{"$f":"DATAENTRY!Z319","v":0},{"$f":"DATAENTRY!AA319","v":0},{"$f":"DATAENTRY!AB319","v":0},{"$f":"DATAENTRY!AC319","v":0},{"$f":"DATAENTRY!AD319","v":0},{"$f":"DATAENTRY!AE319","v":0},{"$f":"DATAENTRY!AF319","v":0},{"$f":"DATAENTRY!AG319","v":0},{"$f":"DATAENTRY!AH319","v":0},{"$f":"DATAENTRY!AI319","v":0},{"$f":"DATAENTRY!AJ319","v":0},{"$f":"DATAENTRY!AK319","v":0},{"$f":"DATAENTRY!AL319","v":0},{"$f":"DATAENTRY!AM319","v":0},{"$f":"DATAENTRY!AN319","v":0},{"$f":"DATAENTRY!AO319","v":0},{"$f":"DATAENTRY!AP319","v":0},{"$f":"DATAENTRY!AQ319","v":0},{"$f":"DATAENTRY!AR319","v":0},{"$f":"DATAENTRY!AS319","v":0},{"$f":"DATAENTRY!AT319","v":0},{"$f":"DATAENTRY!AU319","v":0},{"$f":"DATAENTRY!AV319","v":0},{"$f":"DATAENTRY!AW319","v":0},{"$f":"DATAENTRY!AX319","v":0},{"$f":"DATAENTRY!AY319","v":0},{"$f":"DATAENTRY!AZ319","v":0},{"$f":"DATAENTRY!BA319","v":0},{"$f":"DATAENTRY!BB319","v":0},{"$f":"DATAENTRY!BC319","v":0},{"$f":"DATAENTRY!BD319","v":0},{"$f":"DATAENTRY!BE319","v":0},{"$f":"DATAENTRY!BF319","v":0},{"$f":"DATAENTRY!BG319","v":0},{"$f":"DATAENTRY!BH319","v":""}]
[{"$f":"DATAENTRY!C320","v":0},{"$f":"DATAENTRY!D320","v":0},{"$f":"DATAENTRY!E320","v":0},{"$f":"DATAENTRY!F320","v":0},{"$f":"DATAENTRY!G320","v":0},{"$f":"DATAENTRY!H320","v":0},{"$f":"DATAENTRY!I320","v":0},{"$f":"DATAENTRY!J320","v":0},{"$f":"DATAENTRY!K320","v":0},{"$f":"DATAENTRY!L320","v":0},{"$f":"DATAENTRY!M320","v":0},{"$f":"DATAENTRY!N320","v":0},{"$f":"DATAENTRY!O320","v":0},{"$f":"DATAENTRY!P320","v":0},{"$f":"DATAENTRY!Q320","v":0},{"$f":"DATAENTRY!R320","v":0},{"$f":"DATAENTRY!S320","v":0},{"$f":"DATAENTRY!T320","v":0},{"$f":"DATAENTRY!U320","v":0},{"$f":"DATAENTRY!V320","v":0},{"$f":"DATAENTRY!W320","v":0},{"$f":"DATAENTRY!X320","v":0},{"$f":"DATAENTRY!Y320","v":0},{"$f":"DATAENTRY!Z320","v":0},{"$f":"DATAENTRY!AA320","v":0},{"$f":"DATAENTRY!AB320","v":0},{"$f":"DATAENTRY!AC320","v":0},{"$f":"DATAENTRY!AD320","v":0},{"$f":"DATAENTRY!AE320","v":0},{"$f":"DATAENTRY!AF320","v":0},{"$f":"DATAENTRY!AG320","v":0},{"$f":"DATAENTRY!AH320","v":0},{"$f":"DATAENTRY!AI320","v":0},{"$f":"DATAENTRY!AJ320","v":0},{"$f":"DATAENTRY!AK320","v":0},{"$f":"DATAENTRY!AL320","v":0},{"$f":"DATAENTRY!AM320","v":0},{"$f":"DATAENTRY!AN320","v":0},{"$f":"DATAENTRY!AO320","v":0},{"$f":"DATAENTRY!AP320","v":0},{"$f":"DATAENTRY!AQ320","v":0},{"$f":"DATAENTRY!AR320","v":0},{"$f":"DATAENTRY!AS320","v":0},{"$f":"DATAENTRY!AT320","v":0},{"$f":"DATAENTRY!AU320","v":0},{"$f":"DATAENTRY!AV320","v":0},{"$f":"DATAENTRY!AW320","v":0},{"$f":"DATAENTRY!AX320","v":0},{"$f":"DATAENTRY!AY320","v":0},{"$f":"DATAENTRY!AZ320","v":0},{"$f":"DATAENTRY!BA320","v":0},{"$f":"DATAENTRY!BB320","v":0},{"$f":"DATAENTRY!BC320","v":0},{"$f":"DATAENTRY!BD320","v":0},{"$f":"DATAENTRY!BE320","v":0},{"$f":"DATAENTRY!BF320","v":0},{"$f":"DATAENTRY!BG320","v":0},{"$f":"DATAENTRY!BH320","v":""}]
[{"$f":"DATAENTRY!C321","v":0},{"$f":"DATAENTRY!D321","v":0},{"$f":"DATAENTRY!E321","v":0},{"$f":"DATAENTRY!F321","v":0},{"$f":"DATAENTRY!G321","v":0},{"$f":"DATAENTRY!H321","v":0},{"$f":"DATAENTRY!I321","v":0},{"$f":"DATAENTRY!J321","v":0},{"$f":"DATAENTRY!K321","v":0},{"$f":"DATAENTRY!L321","v":0},{"$f":"DATAENTRY!M321","v":0},{"$f":"DATAENTRY!N321","v":0},{"$f":"DATAENTRY!O321","v":0},{"$f":"DATAENTRY!P321","v":0},{"$f":"DATAENTRY!Q321","v":0},{"$f":"DATAENTRY!R321","v":0},{"$f":"DATAENTRY!S321","v":0},{"$f":"DATAENTRY!T321","v":0},{"$f":"DATAENTRY!U321","v":0},{"$f":"DATAENTRY!V321","v":0},{"$f":"DATAENTRY!W321","v":0},{"$f":"DATAENTRY!X321","v":0},{"$f":"DATAENTRY!Y321","v":0},{"$f":"DATAENTRY!Z321","v":0},{"$f":"DATAENTRY!AA321","v":0},{"$f":"DATAENTRY!AB321","v":0},{"$f":"DATAENTRY!AC321","v":0},{"$f":"DATAENTRY!AD321","v":0},{"$f":"DATAENTRY!AE321","v":0},{"$f":"DATAENTRY!AF321","v":0},{"$f":"DATAENTRY!AG321","v":0},{"$f":"DATAENTRY!AH321","v":0},{"$f":"DATAENTRY!AI321","v":0},{"$f":"DATAENTRY!AJ321","v":0},{"$f":"DATAENTRY!AK321","v":0},{"$f":"DATAENTRY!AL321","v":0},{"$f":"DATAENTRY!AM321","v":0},{"$f":"DATAENTRY!AN321","v":0},{"$f":"DATAENTRY!AO321","v":0},{"$f":"DATAENTRY!AP321","v":0},{"$f":"DATAENTRY!AQ321","v":0},{"$f":"DATAENTRY!AR321","v":0},{"$f":"DATAENTRY!AS321","v":0},{"$f":"DATAENTRY!AT321","v":0},{"$f":"DATAENTRY!AU321","v":0},{"$f":"DATAENTRY!AV321","v":0},{"$f":"DATAENTRY!AW321","v":0},{"$f":"DATAENTRY!AX321","v":0},{"$f":"DATAENTRY!AY321","v":0},{"$f":"DATAENTRY!AZ321","v":0},{"$f":"DATAENTRY!BA321","v":0},{"$f":"DATAENTRY!BB321","v":0},{"$f":"DATAENTRY!BC321","v":0},{"$f":"DATAENTRY!BD321","v":0},{"$f":"DATAENTRY!BE321","v":0},{"$f":"DATAENTRY!BF321","v":0},{"$f":"DATAENTRY!BG321","v":0},{"$f":"DATAENTRY!BH321","v":""}]
[{"$f":"DATAENTRY!C322","v":0},{"$f":"DATAENTRY!D322","v":0},{"$f":"DATAENTRY!E322","v":0},{"$f":"DATAENTRY!F322","v":0},{"$f":"DATAENTRY!G322","v":0},{"$f":"DATAENTRY!H322","v":0},{"$f":"DATAENTRY!I322","v":0},{"$f":"DATAENTRY!J322","v":0},{"$f":"DATAENTRY!K322","v":0},{"$f":"DATAENTRY!L322","v":0},{"$f":"DATAENTRY!M322","v":0},{"$f":"DATAENTRY!N322","v":0},{"$f":"DATAENTRY!O322","v":0},{"$f":"DATAENTRY!P322","v":0},{"$f":"DATAENTRY!Q322","v":0},{"$f":"DATAENTRY!R322","v":0},{"$f":"DATAENTRY!S322","v":0},{"$f":"DATAENTRY!T322","v":0},{"$f":"DATAENTRY!U322","v":0},{"$f":"DATAENTRY!V322","v":0},{"$f":"DATAENTRY!W322","v":0},{"$f":"DATAENTRY!X322","v":0},{"$f":"DATAENTRY!Y322","v":0},{"$f":"DATAENTRY!Z322","v":0},{"$f":"DATAENTRY!AA322","v":0},{"$f":"DATAENTRY!AB322","v":0},{"$f":"DATAENTRY!AC322","v":0},{"$f":"DATAENTRY!AD322","v":0},{"$f":"DATAENTRY!AE322","v":0},{"$f":"DATAENTRY!AF322","v":0},{"$f":"DATAENTRY!AG322","v":0},{"$f":"DATAENTRY!AH322","v":0},{"$f":"DATAENTRY!AI322","v":0},{"$f":"DATAENTRY!AJ322","v":0},{"$f":"DATAENTRY!AK322","v":0},{"$f":"DATAENTRY!AL322","v":0},{"$f":"DATAENTRY!AM322","v":0},{"$f":"DATAENTRY!AN322","v":0},{"$f":"DATAENTRY!AO322","v":0},{"$f":"DATAENTRY!AP322","v":0},{"$f":"DATAENTRY!AQ322","v":0},{"$f":"DATAENTRY!AR322","v":0},{"$f":"DATAENTRY!AS322","v":0},{"$f":"DATAENTRY!AT322","v":0},{"$f":"DATAENTRY!AU322","v":0},{"$f":"DATAENTRY!AV322","v":0},{"$f":"DATAENTRY!AW322","v":0},{"$f":"DATAENTRY!AX322","v":0},{"$f":"DATAENTRY!AY322","v":0},{"$f":"DATAENTRY!AZ322","v":0},{"$f":"DATAENTRY!BA322","v":0},{"$f":"DATAENTRY!BB322","v":0},{"$f":"DATAENTRY!BC322","v":0},{"$f":"DATAENTRY!BD322","v":0},{"$f":"DATAENTRY!BE322","v":0},{"$f":"DATAENTRY!BF322","v":0},{"$f":"DATAENTRY!BG322","v":0},{"$f":"DATAENTRY!BH322","v":0}]

{"sheet":"DROPDOWNS","index":2,"n_rows":30,"n_cols":26,"rows_kept":30,"cut":false,"hidden":false,"merged":[]}
[]
[null,"ABV","BIKE",null,"ABV","COURSE",null,"ABV","CLUB",null,"ABV","CLASS",null,"VENUES",null,"TRIAL NAME","TYPE",null,"ROUND / YEAR / OTHER",null,"KEY MEMBERS",null,"POS","PNTS",null,"Round Type"]
[null,315,"Montesa",null,"HARD","Main Course",null,"BN","Barnsley",null,"A","Youth A",null,"Cowling Cragg Cowling",null,"Allan Jefferies Trial","S3",null,2015,null,"Carina Carter",null,1,20,null,"Center None Championship"]
[null,"4RT","Montesa",null,"CLB A","Clubman A",null,"WF","Batley",null,"B","Youth B",null,"Deepcliff Farm Harden",null,"Davy Cup Trial","CEN",null,2016,null,"Dave Pickles (145515)",null,2,17,null,"Charity Trial"]
[null,"BET","Beta",null,"CLB B","Clubman B",null,"BD","Bradford",null,"C","Youth C",null,"Deer Park Bingley",null,"E S Myers Trophy Trial","WYC",null,2017,null,"Jason Dunning (145307)",null,3,15,null,"Close To Club"]
[null,"GAS","GAS GAS",null,"BEG","Beginner",null,"BU","Bumpy",null,"D","Youth D",null,"Howden Woods Silsden",null,"John Metcalfe Trophy Trial","CEN",null,2018,null,"Kath Eddings",null,4,13,null,"Club Restricted"]
[null,"OSA","Ossa",null,null,null,null,"HI ","Hillsborough",null,"E ","Youth E",null,"Lumb Waterfalls Cowling",null,"Manywells Winter Series","BEG",null,2019,null,"Nathan Wrigglesworth (28520)",null,5,11,null,"National"]
[null,"OST","Osset",null,null,null,null,"HO","Horsforth",null,"EXP","EXPERT",null,"Manor Farm, Thorlby, Skipton",null,"Royal Enfield Trophy Trial","OC",null,2020,null,"Penny Hutchinson",null,6,10,null,"Novice Beginners"]
[null,"PR6","Pre 65 ",null,null,null,null,"FA","Huddersfield Falcons",null,"INT","INTERMEDIATE",null,"Manor House Farm Glusburn",null,"Timperley Cup Trial","YC",null,"Charity Trial",null,"Richard Midgley (12672)",null,7,9,null,"West Yorkshire Championship"]
[null,"SCO","Scorpa",null,null,null,null,"IL","Ilkley",null,"NOV","NOVICE",null,"Park Rash Kettlewell",null,"WBS Summer Series","BEG",null,"Fun Trial",null,"Richard Taylor (65359)",null,8,8,null,"Yorkshire Championship"]
[null,"SHE","Sherco",null,null,null,null,"NR","North Riding Enduro",null,"O40","Over 40'S",null,"Rough Holden Farm Silsden",null,null,null,null,"RD 1",null,"Ron Eddings (63452)",null,9,7]
[null,"TRS","TRS",null,null,null,null,"RI","Richmond",null,"O50","Over 50'S",null,"Skyrake Skipton",null,null,null,null,"RD 2",null,"Sam Boocock (88036)",null,10,6]
[null,"TY","YAMAHA",null,null,null,null,"RP","Ripon",null,"PRE","Pre 65",null,"Town End Farm Cowling",null,null,null,null,"RD 3",null,null,null,11,5]
[null,"VER","Vertigo",null,null,null,null,"SV","Spen Valley",null,null,null,null,"Wilks Halton Gill",null,null,null,null,"RD 4",null,null,null,12,4]
[null,null,null,null,null,null,null,"ST","Stocksbridge",null,null,null,null,null,null,null,null,null,"RD 5",null,null,null,13,3]
[null,null,null,null,null,null,null,"WL","West Leeds",null,null,null,null,null,null,null,null,null,"RD 6",null,null,null,14,2]
[null,null,null,null,null,null,null,"WE","Wetherby",null,null,null,null,null,null,null,null,null,"RD 7",null,null,null,15,1]
[null,null,null,null,null,null,null,"YG","Yeadon  Guisley",null,null,null,null,null,null,null,null,null,"RD 8"]
[null,null,null,null,null,null,null,"YL","Yorkshire Classic"]
[null,null,null,null,null,null,null,"YE","Yorkshire Enduro"]
[]
[]
[]
[]
[]
[]
[]
[]
[]
[null,null,null,null,"Sort Order Manual will display in results as set here, also how you set the colors will display on results "]